{"text_format":"1","workbook":"xlsx","n_sheets":3,"sheets":["REST MEGA-SENA","Planilha1","TABELA MEGA-SENA"],"not_rendered":{"charts":0,"images":0,"macros":1,"external_links":3,"defined_names":128,"comments":0,"pivot_tables":0},"unopened":[],"bounds":{"document_bytes":16777216,"sheet_cells":100000,"rows_first":2000,"rows_last":500,"rows_between":2000,"halvings":0,"cell_chars":16384,"cell_head_chars":4096},"cells_cut":0,"cells_raw":0,"read":"whole","date_system":"1900"}

{"sheet":"REST MEGA-SENA","index":0,"n_rows":4096,"n_cols":130,"rows_kept":562,"cut":true,"hidden":false,"merged":[[1,2,1,7]],"bounds":{"rows_first":250,"rows_last":62,"rows_between":250,"halvings":3}}
[]
["CONCURSO","DATA","mega-sena",null,null,null,null,null,1,2,3,4,5,6,7,8,9,10,11,12,13,14,15,16,17,18,19,20,21,22,23,24,25,26,27,28,29,30,31,32,33,34,35,36,37,38,39,40,41,42,43,44,45,46,47,48,49,50,51,52,53,54,55,56,57,58,59,60,null,{"$f":"'TABELA MEGA-SENA'!N29","v":0},{"$f":"'TABELA MEGA-SENA'!O29","v":0},{"$f":"'TABELA MEGA-SENA'!P29","v":0},{"$f":"'TABELA MEGA-SENA'!Q29","v":0},{"$f":"'TABELA MEGA-SENA'!R29","v":0},{"$f":"'TABELA MEGA-SENA'!S29","v":0},{"$f":"'TABELA MEGA-SENA'!T29","v":0},{"$f":"'TABELA MEGA-SENA'!U29","v":0},{"$f":"'TABELA MEGA-SENA'!V29","v":0},{"$f":"'TABELA MEGA-SENA'!W29","v":0},{"$f":"'TABELA MEGA-SENA'!X29","v":0},{"$f":"'TABELA MEGA-SENA'!Y29","v":0},{"$f":"'TABELA MEGA-SENA'!Z29","v":0},{"$f":"'TABELA MEGA-SENA'!AA29","v":0},{"$f":"'TABELA MEGA-SENA'!AB29","v":0},{"$f":"'TABELA MEGA-SENA'!AC29","v":0},{"$f":"'TABELA MEGA-SENA'!AD29","v":0},{"$f":"'TABELA MEGA-SENA'!AE29","v":0},{"$f":"'TABELA MEGA-SENA'!AF29","v":0},{"$f":"'TABELA MEGA-SENA'!AG29","v":0},{"$f":"'TABELA MEGA-SENA'!N30","v":0},{"$f":"'TABELA MEGA-SENA'!O30","v":0},{"$f":"'TABELA MEGA-SENA'!P30","v":0},{"$f":"'TABELA MEGA-SENA'!Q30","v":0},{"$f":"'TABELA MEGA-SENA'!R30","v":0},{"$f":"'TABELA MEGA-SENA'!S30","v":0},{"$f":"'TABELA MEGA-SENA'!T30","v":0},{"$f":"'TABELA MEGA-SENA'!U30","v":0},{"$f":"'TABELA MEGA-SENA'!V30","v":0},{"$f":"'TABELA MEGA-SENA'!W30","v":0},{"$f":"'TABELA MEGA-SENA'!X30","v":0},{"$f":"'TABELA MEGA-SENA'!Y30","v":0},{"$f":"'TABELA MEGA-SENA'!Z30","v":0},{"$f":"'TABELA MEGA-SENA'!AA30","v":0},{"$f":"'TABELA MEGA-SENA'!AB30","v":0},{"$f":"'TABELA MEGA-SENA'!AC30","v":0},{"$f":"'TABELA MEGA-SENA'!AD30","v":0},{"$f":"'TABELA MEGA-SENA'!AE30","v":0},{"$f":"'TABELA MEGA-SENA'!AF30","v":0},{"$f":"'TABELA MEGA-SENA'!AG30","v":0},{"$f":"'TABELA MEGA-SENA'!N31","v":0},{"$f":"'TABELA MEGA-SENA'!O31","v":0},{"$f":"'TABELA MEGA-SENA'!P31","v":0},{"$f":"'TABELA MEGA-SENA'!Q31","v":0},{"$f":"'TABELA MEGA-SENA'!R31","v":0},{"$f":"'TABELA MEGA-SENA'!S31","v":0},{"$f":"'TABELA MEGA-SENA'!T31","v":0},{"$f":"'TABELA MEGA-SENA'!U31","v":0},{"$f":"'TABELA MEGA-SENA'!V31","v":0},{"$f":"'TABELA MEGA-SENA'!W31","v":0},{"$f":"'TABELA MEGA-SENA'!X31","v":0},{"$f":"'TABELA MEGA-SENA'!Y31","v":0},{"$f":"'TABELA MEGA-SENA'!Z31","v":0},{"$f":"'TABELA MEGA-SENA'!AA31","v":0},{"$f":"'TABELA MEGA-SENA'!AB31","v":0},{"$f":"'TABELA MEGA-SENA'!AC31","v":0},{"$f":"'TABELA MEGA-SENA'!AD31","v":0},{"$f":"'TABELA MEGA-SENA'!AE31","v":0},{"$f":"'TABELA MEGA-SENA'!AF31","v":0},{"$f":"'TABELA MEGA-SENA'!AG31","v":0}]
[1,"(11/03/1996)",4,5,30,33,41,52,{"$f":"IF(COUNTIF($C3:$H3,I$2)>0,0,1)","v":1},{"$f":"IF(COUNTIF($C3:$H3,J$2)>0,0,1)","v":1},1,0,0,1,1,1,1,1,1,1,1,1,1,1,1,1,1,1,1,1,1,1,1,1,1,1,1,0,1,1,{"$f":"IF(COUNTIF($C3:$H3,AO$2)>0,0,1)","v":0},1,1,1,1,1,1,1,0,1,1,1,1,1,1,1,1,1,1,0,1,1,1,1,1,1,1,1,null,{"$f":"IF(COUNTIF(C3:H3,$BR$2)>0,$BR$2,\"\")","v":""},{"$f":"IF(COUNTIF(C3:H3,$BS$2)>0,$BS$2,\"\")","v":""},{"$f":"IF(COUNTIF(C3:H3,$BT$2)>0,$BT$2,\"\")","v":""},{"$f":"IF(COUNTIF(C3:H3,$BU$2)>0,$BU$2,\"\")","v":""},{"$f":"IF(COUNTIF(C3:H3,$BV$2)>0,$BV$2,\"\")","v":""},{"$f":"IF(COUNTIF(C3:H3,$BW$2)>0,$BW$2,\"\")","v":""},{"$f":"IF(COUNTIF(C3:H3,$BX$2)>0,$BX$2,\"\")","v":""},{"$f":"IF(COUNTIF(C3:H3,$BY$2)>0,$BY$2,\"\")","v":""},{"$f":"IF(COUNTIF(C3:H3,$BZ$2)>0,$BZ$2,\"\")","v":""},{"$f":"IF(COUNTIF(C3:H3,$CA$2)>0,$CA$2,\"\")","v":""},{"$f":"IF(COUNTIF(C3:H3,$CB$2)>0,$CB$2,\"\")","v":""},{"$f":"IF(COUNTIF(C3:H3,$CC$2)>0,$CC$2,\"\")","v":""},{"$f":"IF(COUNTIF(C3:H3,$CD$2)>0,$CD$2,\"\")","v":""},{"$f":"IF(COUNTIF(C3:H3,$CE$2)>0,$CE$2,\"\")","v":""},{"$f":"IF(COUNTIF(C3:H3,$CF$2)>0,$CF$2,\"\")","v":""},{"$f":"IF(COUNTIF(C3:H3,$CG$2)>0,$CG$2,\"\")","v":""},{"$f":"IF(COUNTIF(C3:H3,$CH$2)>0,$CH$2,\"\")","v":""},{"$f":"IF(COUNTIF(C3:H3,$CI$2)>0,$CI$2,\"\")","v":""},{"$f":"IF(COUNTIF(C3:H3,$CJ$2)>0,$CJ$2,\"\")","v":""},{"$f":"IF(COUNTIF(C3:H3,$CK$2)>0,$CK$2,\"\")","v":""},{"$f":"IF(COUNTIF(C3:H3,$CL$2)>0,$CL$2,\"\")","v":""},{"$f":"IF(COUNTIF(C3:H3,$CM$2)>0,$CM$2,\"\")","v":""},{"$f":"IF(COUNTIF(C3:H3,$CN$2)>0,$CN$2,\"\")","v":""},{"$f":"IF(COUNTIF(C3:H3,$CO$2)>0,$CO$2,\"\")","v":""},{"$f":"IF(COUNTIF(C3:H3,$CP$2)>0,$CP$2,\"\")","v":""},{"$f":"IF(COUNTIF(C3:H3,$CQ$2)>0,$CQ$2,\"\")","v":""},{"$f":"IF(COUNTIF(C3:H3,$CR$2)>0,$CR$2,\"\")","v":""},{"$f":"IF(COUNTIF(C3:H3,$CS$2)>0,$CS$2,\"\")","v":""},{"$f":"IF(COUNTIF(C3:H3,$CT$2)>0,$CT$2,\"\")","v":""},{"$f":"IF(COUNTIF(C3:H3,$CU$2)>0,$CU$2,\"\")","v":""},{"$f":"IF(COUNTIF(C3:H3,$CV$2)>0,$CV$2,\"\")","v":""},{"$f":"IF(COUNTIF(C3:H3,$CW$2)>0,$CW$2,\"\")","v":""},{"$f":"IF(COUNTIF(C3:H3,$CX$2)>0,$CX$2,\"\")","v":""},{"$f":"IF(COUNTIF(C3:H3,$CY$2)>0,$CY$2,\"\")","v":""},{"$f":"IF(COUNTIF(C3:H3,$CZ$2)>0,$CZ$2,\"\")","v":""},{"$f":"IF(COUNTIF(C3:H3,$DA$2)>0,$DA$2,\"\")","v":""},{"$f":"IF(COUNTIF(C3:H3,$DB$2)>0,$DB$2,\"\")","v":""},{"$f":"IF(COUNTIF(C3:H3,$DC$2)>0,$DC$2,\"\")","v":""},{"$f":"IF(COUNTIF(C3:H3,$DD$2)>0,$DD$2,\"\")","v":""},{"$f":"IF(COUNTIF(C3:H3,$DE$2)>0,$DE$2,\"\")","v":""},{"$f":"IF(COUNTIF(C3:H3,$DF$2)>0,$DF$2,\"\")","v":""},{"$f":"IF(COUNTIF(C3:H3,$DG$2)>0,$DG$2,\"\")","v":""},{"$f":"IF(COUNTIF(C3:H3,$DH$2)>0,$DH$2,\"\")","v":""},{"$f":"IF(COUNTIF(C3:H3,$DI$2)>0,$DI$2,\"\")","v":""},{"$f":"IF(COUNTIF(C3:H3,$DJ$2)>0,$DJ$2,\"\")","v":""},{"$f":"IF(COUNTIF(C3:H3,$DK$2)>0,$DK$2,\"\")","v":""},{"$f":"IF(COUNTIF(C3:H3,$DL$2)>0,$DL$2,\"\")","v":""},{"$f":"IF(COUNTIF(C3:H3,$DM$2)>0,$DM$2,\"\")","v":""},{"$f":"IF(COUNTIF(C3:H3,$DN$2)>0,$DN$2,\"\")","v":""},{"$f":"IF(COUNTIF(C3:H3,$DO$2)>0,$DO$2,\"\")","v":""},{"$f":"IF(COUNTIF(C3:H3,$DP$2)>0,$DP$2,\"\")","v":""},{"$f":"IF(COUNTIF(C3:H3,$DQ$2)>0,$DQ$2,\"\")","v":""},{"$f":"IF(COUNTIF(C3:H3,$DR$2)>0,$DR$2,\"\")","v":""},{"$f":"IF(COUNTIF(C3:H3,$DS$2)>0,$DS$2,\"\")","v":""},{"$f":"IF(COUNTIF(C3:H3,$DT$2)>0,$DT$2,\"\")","v":""},{"$f":"IF(COUNTIF(C3:H3,$DU$2)>0,$DU$2,\"\")","v":""},{"$f":"IF(COUNTIF(C3:H3,$DV$2)>0,$DV$2,\"\")","v":""},{"$f":"IF(COUNTIF(C3:H3,$DW$2)>0,$DW$2,\"\")","v":""},{"$f":"IF(COUNTIF(C3:H3,$DX$2)>0,$DX$2,\"\")","v":""},{"$f":"IF(COUNTIF(C3:H3,$DY$2)>0,$DY$2,\"\")","v":""},{"$f":"COUNT(BR3:DY3)","v":0}]
[2,"(18/03/1996)",9,37,39,41,43,49,{"$f":"IF($A4=\"\",\"\",IF(COUNTIF($C4:$H4,I$2)>0,0,1+I3))","v":2},{"$f":"IF($A4=\"\",\"\",IF(COUNTIF($C4:$H4,J$2)>0,0,1+J3))","v":2},{"$f":"IF($A4=\"\",\"\",IF(COUNTIF($C4:$H4,K$2)>0,0,1+K3))","v":2},{"$f":"IF($A4=\"\",\"\",IF(COUNTIF($C4:$H4,L$2)>0,0,1+L3))","v":1},{"$f":"IF($A4=\"\",\"\",IF(COUNTIF($C4:$H4,M$2)>0,0,1+M3))","v":1},{"$f":"IF($A4=\"\",\"\",IF(COUNTIF($C4:$H4,N$2)>0,0,1+N3))","v":2},{"$f":"IF($A4=\"\",\"\",IF(COUNTIF($C4:$H4,O$2)>0,0,1+O3))","v":2},{"$f":"IF($A4=\"\",\"\",IF(COUNTIF($C4:$H4,P$2)>0,0,1+P3))","v":2},{"$f":"IF($A4=\"\",\"\",IF(COUNTIF($C4:$H4,Q$2)>0,0,1+Q3))","v":0},{"$f":"IF($A4=\"\",\"\",IF(COUNTIF($C4:$H4,R$2)>0,0,1+R3))","v":2},{"$f":"IF($A4=\"\",\"\",IF(COUNTIF($C4:$H4,S$2)>0,0,1+S3))","v":2},{"$f":"IF($A4=\"\",\"\",IF(COUNTIF($C4:$H4,T$2)>0,0,1+T3))","v":2},{"$f":"IF($A4=\"\",\"\",IF(COUNTIF($C4:$H4,U$2)>0,0,1+U3))","v":2},{"$f":"IF($A4=\"\",\"\",IF(COUNTIF($C4:$H4,V$2)>0,0,1+V3))","v":2},{"$f":"IF($A4=\"\",\"\",IF(COUNTIF($C4:$H4,W$2)>0,0,1+W3))","v":2},{"$f":"IF($A4=\"\",\"\",IF(COUNTIF($C4:$H4,X$2)>0,0,1+X3))","v":2},{"$f":"IF($A4=\"\",\"\",IF(COUNTIF($C4:$H4,Y$2)>0,0,1+Y3))","v":2},{"$f":"IF($A4=\"\",\"\",IF(COUNTIF($C4:$H4,Z$2)>0,0,1+Z3))","v":2},{"$f":"IF($A4=\"\",\"\",IF(COUNTIF($C4:$H4,AA$2)>0,0,1+AA3))","v":2},{"$f":"IF($A4=\"\",\"\",IF(COUNTIF($C4:$H4,AB$2)>0,0,1+AB3))","v":2},{"$f":"IF($A4=\"\",\"\",IF(COUNTIF($C4:$H4,AC$2)>0,0,1+AC3))","v":2},{"$f":"IF($A4=\"\",\"\",IF(COUNTIF($C4:$H4,AD$2)>0,0,1+AD3))","v":2},{"$f":"IF($A4=\"\",\"\",IF(COUNTIF($C4:$H4,AE$2)>0,0,1+AE3))","v":2},{"$f":"IF($A4=\"\",\"\",IF(COUNTIF($C4:$H4,AF$2)>0,0,1+AF3))","v":2},{"$f":"IF($A4=\"\",\"\",IF(COUNTIF($C4:$H4,AG$2)>0,0,1+AG3))","v":2},{"$f":"IF($A4=\"\",\"\",IF(COUNTIF($C4:$H4,AH$2)>0,0,1+AH3))","v":2},{"$f":"IF($A4=\"\",\"\",IF(COUNTIF($C4:$H4,AI$2)>0,0,1+AI3))","v":2},{"$f":"IF($A4=\"\",\"\",IF(COUNTIF($C4:$H4,AJ$2)>0,0,1+AJ3))","v":2},{"$f":"IF($A4=\"\",\"\",IF(COUNTIF($C4:$H4,AK$2)>0,0,1+AK3))","v":2},{"$f":"IF($A4=\"\",\"\",IF(COUNTIF($C4:$H4,AL$2)>0,0,1+AL3))","v":1},{"$f":"IF($A4=\"\",\"\",IF(COUNTIF($C4:$H4,AM$2)>0,0,1+AM3))","v":2},{"$f":"IF($A4=\"\",\"\",IF(COUNTIF($C4:$H4,AN$2)>0,0,1+AN3))","v":2},{"$f":"IF($A4=\"\",\"\",IF(COUNTIF($C4:$H4,AO$2)>0,0,1+AO3))","v":1},{"$f":"IF($A4=\"\",\"\",IF(COUNTIF($C4:$H4,AP$2)>0,0,1+AP3))","v":2},{"$f":"IF($A4=\"\",\"\",IF(COUNTIF($C4:$H4,AQ$2)>0,0,1+AQ3))","v":2},{"$f":"IF($A4=\"\",\"\",IF(COUNTIF($C4:$H4,AR$2)>0,0,1+AR3))","v":2},{"$f":"IF($A4=\"\",\"\",IF(COUNTIF($C4:$H4,AS$2)>0,0,1+AS3))","v":0},{"$f":"IF($A4=\"\",\"\",IF(COUNTIF($C4:$H4,AT$2)>0,0,1+AT3))","v":2},{"$f":"IF($A4=\"\",\"\",IF(COUNTIF($C4:$H4,AU$2)>0,0,1+AU3))","v":0},{"$f":"IF($A4=\"\",\"\",IF(COUNTIF($C4:$H4,AV$2)>0,0,1+AV3))","v":2},{"$f":"IF($A4=\"\",\"\",IF(COUNTIF($C4:$H4,AW$2)>0,0,1+AW3))","v":0},{"$f":"IF($A4=\"\",\"\",IF(COUNTIF($C4:$H4,AX$2)>0,0,1+AX3))","v":2},{"$f":"IF($A4=\"\",\"\",IF(COUNTIF($C4:$H4,AY$2)>0,0,1+AY3))","v":0},{"$f":"IF($A4=\"\",\"\",IF(COUNTIF($C4:$H4,AZ$2)>0,0,1+AZ3))","v":2},{"$f":"IF($A4=\"\",\"\",IF(COUNTIF($C4:$H4,BA$2)>0,0,1+BA3))","v":2},{"$f":"IF($A4=\"\",\"\",IF(COUNTIF($C4:$H4,BB$2)>0,0,1+BB3))","v":2},{"$f":"IF($A4=\"\",\"\",IF(COUNTIF($C4:$H4,BC$2)>0,0,1+BC3))","v":2},{"$f":"IF($A4=\"\",\"\",IF(COUNTIF($C4:$H4,BD$2)>0,0,1+BD3))","v":2},{"$f":"IF($A4=\"\",\"\",IF(COUNTIF($C4:$H4,BE$2)>0,0,1+BE3))","v":0},{"$f":"IF($A4=\"\",\"\",IF(COUNTIF($C4:$H4,BF$2)>0,0,1+BF3))","v":2},{"$f":"IF($A4=\"\",\"\",IF(COUNTIF($C4:$H4,BG$2)>0,0,1+BG3))","v":2},{"$f":"IF($A4=\"\",\"\",IF(COUNTIF($C4:$H4,BH$2)>0,0,1+BH3))","v":1},{"$f":"IF($A4=\"\",\"\",IF(COUNTIF($C4:$H4,BI$2)>0,0,1+BI3))","v":2},{"$f":"IF($A4=\"\",\"\",IF(COUNTIF($C4:$H4,BJ$2)>0,0,1+BJ3))","v":2},{"$f":"IF($A4=\"\",\"\",IF(COUNTIF($C4:$H4,BK$2)>0,0,1+BK3))","v":2},{"$f":"IF($A4=\"\",\"\",IF(COUNTIF($C4:$H4,BL$2)>0,0,1+BL3))","v":2},{"$f":"IF($A4=\"\",\"\",IF(COUNTIF($C4:$H4,BM$2)>0,0,1+BM3))","v":2},{"$f":"IF($A4=\"\",\"\",IF(COUNTIF($C4:$H4,BN$2)>0,0,1+BN3))","v":2},{"$f":"IF($A4=\"\",\"\",IF(COUNTIF($C4:$H4,BO$2)>0,0,1+BO3))","v":2},{"$f":"IF($A4=\"\",\"\",IF(COUNTIF($C4:$H4,BP$2)>0,0,1+BP3))","v":2},null,{"$f":"IF(COUNTIF(C4:H4,$BR$2)>0,$BR$2,\"\")","v":""},{"$f":"IF(COUNTIF(C4:H4,$BS$2)>0,$BS$2,\"\")","v":""},{"$f":"IF(COUNTIF(C4:H4,$BT$2)>0,$BT$2,\"\")","v":""},{"$f":"IF(COUNTIF(C4:H4,$BU$2)>0,$BU$2,\"\")","v":""},{"$f":"IF(COUNTIF(C4:H4,$BV$2)>0,$BV$2,\"\")","v":""},{"$f":"IF(COUNTIF(C4:H4,$BW$2)>0,$BW$2,\"\")","v":""},{"$f":"IF(COUNTIF(C4:H4,$BX$2)>0,$BX$2,\"\")","v":""},{"$f":"IF(COUNTIF(C4:H4,$BY$2)>0,$BY$2,\"\")","v":""},{"$f":"IF(COUNTIF(C4:H4,$BZ$2)>0,$BZ$2,\"\")","v":""},{"$f":"IF(COUNTIF(C4:H4,$CA$2)>0,$CA$2,\"\")","v":""},{"$f":"IF(COUNTIF(C4:H4,$CB$2)>0,$CB$2,\"\")","v":""},{"$f":"IF(COUNTIF(C4:H4,$CC$2)>0,$CC$2,\"\")","v":""},{"$f":"IF(COUNTIF(C4:H4,$CD$2)>0,$CD$2,\"\")","v":""},{"$f":"IF(COUNTIF(C4:H4,$CE$2)>0,$CE$2,\"\")","v":""},{"$f":"IF(COUNTIF(C4:H4,$CF$2)>0,$CF$2,\"\")","v":""},{"$f":"IF(COUNTIF(C4:H4,$CG$2)>0,$CG$2,\"\")","v":""},{"$f":"IF(COUNTIF(C4:H4,$CH$2)>0,$CH$2,\"\")","v":""},{"$f":"IF(COUNTIF(C4:H4,$CI$2)>0,$CI$2,\"\")","v":""},{"$f":"IF(COUNTIF(C4:H4,$CJ$2)>0,$CJ$2,\"\")","v":""},{"$f":"IF(COUNTIF(C4:H4,$CK$2)>0,$CK$2,\"\")","v":""},{"$f":"IF(COUNTIF(C4:H4,$CL$2)>0,$CL$2,\"\")","v":""},{"$f":"IF(COUNTIF(C4:H4,$CM$2)>0,$CM$2,\"\")","v":""},{"$f":"IF(COUNTIF(C4:H4,$CN$2)>0,$CN$2,\"\")","v":""},{"$f":"IF(COUNTIF(C4:H4,$CO$2)>0,$CO$2,\"\")","v":""},{"$f":"IF(COUNTIF(C4:H4,$CP$2)>0,$CP$2,\"\")","v":""},{"$f":"IF(COUNTIF(C4:H4,$CQ$2)>0,$CQ$2,\"\")","v":""},{"$f":"IF(COUNTIF(C4:H4,$CR$2)>0,$CR$2,\"\")","v":""},{"$f":"IF(COUNTIF(C4:H4,$CS$2)>0,$CS$2,\"\")","v":""},{"$f":"IF(COUNTIF(C4:H4,$CT$2)>0,$CT$2,\"\")","v":""},{"$f":"IF(COUNTIF(C4:H4,$CU$2)>0,$CU$2,\"\")","v":""},{"$f":"IF(COUNTIF(C4:H4,$CV$2)>0,$CV$2,\"\")","v":""},{"$f":"IF(COUNTIF(C4:H4,$CW$2)>0,$CW$2,\"\")","v":""},{"$f":"IF(COUNTIF(C4:H4,$CX$2)>0,$CX$2,\"\")","v":""},{"$f":"IF(COUNTIF(C4:H4,$CY$2)>0,$CY$2,\"\")","v":""},{"$f":"IF(COUNTIF(C4:H4,$CZ$2)>0,$CZ$2,\"\")","v":""},{"$f":"IF(COUNTIF(C4:H4,$DA$2)>0,$DA$2,\"\")","v":""},{"$f":"IF(COUNTIF(C4:H4,$DB$2)>0,$DB$2,\"\")","v":""},{"$f":"IF(COUNTIF(C4:H4,$DC$2)>0,$DC$2,\"\")","v":""},{"$f":"IF(COUNTIF(C4:H4,$DD$2)>0,$DD$2,\"\")","v":""},{"$f":"IF(COUNTIF(C4:H4,$DE$2)>0,$DE$2,\"\")","v":""},{"$f":"IF(COUNTIF(C4:H4,$DF$2)>0,$DF$2,\"\")","v":""},{"$f":"IF(COUNTIF(C4:H4,$DG$2)>0,$DG$2,\"\")","v":""},{"$f":"IF(COUNTIF(C4:H4,$DH$2)>0,$DH$2,\"\")","v":""},{"$f":"IF(COUNTIF(C4:H4,$DI$2)>0,$DI$2,\"\")","v":""},{"$f":"IF(COUNTIF(C4:H4,$DJ$2)>0,$DJ$2,\"\")","v":""},{"$f":"IF(COUNTIF(C4:H4,$DK$2)>0,$DK$2,\"\")","v":""},{"$f":"IF(COUNTIF(C4:H4,$DL$2)>0,$DL$2,\"\")","v":""},{"$f":"IF(COUNTIF(C4:H4,$DM$2)>0,$DM$2,\"\")","v":""},{"$f":"IF(COUNTIF(C4:H4,$DN$2)>0,$DN$2,\"\")","v":""},{"$f":"IF(COUNTIF(C4:H4,$DO$2)>0,$DO$2,\"\")","v":""},{"$f":"IF(COUNTIF(C4:H4,$DP$2)>0,$DP$2,\"\")","v":""},{"$f":"IF(COUNTIF(C4:H4,$DQ$2)>0,$DQ$2,\"\")","v":""},{"$f":"IF(COUNTIF(C4:H4,$DR$2)>0,$DR$2,\"\")","v":""},{"$f":"IF(COUNTIF(C4:H4,$DS$2)>0,$DS$2,\"\")","v":""},{"$f":"IF(COUNTIF(C4:H4,$DT$2)>0,$DT$2,\"\")","v":""},{"$f":"IF(COUNTIF(C4:H4,$DU$2)>0,$DU$2,\"\")","v":""},{"$f":"IF(COUNTIF(C4:H4,$DV$2)>0,$DV$2,\"\")","v":""},{"$f":"IF(COUNTIF(C4:H4,$DW$2)>0,$DW$2,\"\")","v":""},{"$f":"IF(COUNTIF(C4:H4,$DX$2)>0,$DX$2,\"\")","v":""},{"$f":"IF(COUNTIF(C4:H4,$DY$2)>0,$DY$2,\"\")","v":""},{"$f":"COUNT(BR4:DY4)","v":0}]
[3,"(25/03/1996)",10,11,29,30,36,47,{"$f":"IF($A5=\"\",\"\",IF(COUNTIF($C5:$H5,I$2)>0,0,1+I4))","v":3},3,3,2,2,3,3,3,1,0,0,3,3,3,3,3,3,3,3,3,3,3,3,3,3,3,3,3,0,0,3,3,2,3,3,0,1,3,1,3,1,3,1,3,3,3,0,3,1,3,3,2,3,3,3,3,3,3,3,3,null,"","","","","","","","","","","","","","","","","","","","","","","","","","","","","","","","","","","","","","","","","","","","","","","","","","","","","","","","","","","","",0]
[4,"(01/04/1996)",1,5,6,27,42,59,{"$f":"IF($A6=\"\",\"\",IF(COUNTIF($C6:$H6,I$2)>0,0,1+I5))","v":0},4,4,3,0,0,4,4,2,1,1,4,4,4,4,4,4,4,4,4,4,4,4,4,4,4,0,4,1,1,4,4,3,4,4,1,2,4,2,4,2,0,2,4,4,4,1,4,2,4,4,3,4,4,4,4,4,4,0,4,null,"","","","","","","","","","","","","","","","","","","","","","","","","","","","","","","","","","","","","","","","","","","","","","","","","","","","","","","","","","","","",0]
[5,"(08/04/1996)",1,2,6,16,19,46,0,0,5,4,1,0,5,5,3,2,2,5,5,5,5,0,5,5,0,5,5,5,5,5,5,5,1,5,2,2,5,5,4,5,5,2,3,5,3,5,3,1,3,5,5,0,2,5,3,5,5,4,5,5,5,5,5,5,1,5,null,"","","","","","","","","","","","","","","","","","","","","","","","","","","","","","","","","","","","","","","","","","","","","","","","","","","","","","","","","","","","",0]
[6,"(15/04/1996)",7,13,19,22,40,47,1,1,6,5,2,1,0,6,4,3,3,6,0,6,6,1,6,6,0,6,6,0,6,6,6,6,2,6,3,3,6,6,5,6,6,3,4,6,4,0,4,2,4,6,6,1,0,6,4,6,6,5,6,6,6,6,6,6,2,6,null,"","","","","","","","","","","","","","","","","","","","","","","","","","","","","","","","","","","","","","","","","","","","","","","","","","","","","","","","","","","","",0]
[7,"(22/04/1996)",3,5,20,21,38,56,2,2,0,6,0,2,1,7,5,4,4,7,1,7,7,2,7,7,1,0,0,1,7,7,7,7,3,7,4,4,7,7,6,7,7,4,5,0,5,1,5,3,5,7,7,2,1,7,5,7,7,6,7,7,7,0,7,7,3,7,null,"","","","","","","","","","","","","","","","","","","","","","","","","","","","","","","","","","","","","","","","","","","","","","","","","","","","","","","","","","","","",0]
[8,"(29/04/1996)",4,17,37,38,47,53,3,3,1,0,1,3,2,8,6,5,5,8,2,8,8,3,0,8,2,1,1,2,8,8,8,8,4,8,5,5,8,8,7,8,8,5,0,0,6,2,6,4,6,8,8,3,0,8,6,8,8,7,0,8,8,1,8,8,4,8,null,"","","","","","","","","","","","","","","","","","","","","","","","","","","","","","","","","","","","","","","","","","","","","","","","","","","","","","","","","","","","",0]
[9,"(06/05/1996)",8,43,54,55,56,60,4,4,2,1,2,4,3,0,7,6,6,9,3,9,9,4,1,9,3,2,2,3,9,9,9,9,5,9,6,6,9,9,8,9,9,6,1,1,7,3,7,5,0,9,9,4,1,9,7,9,9,8,1,0,0,0,9,9,5,0,null,"","","","","","","","","","","","","","","","","","","","","","","","","","","","","","","","","","","","","","","","","","","","","","","","","","","","","","","","","","","","",0]
[10,"(13/05/1996)",4,18,21,25,38,57,5,5,3,0,3,5,4,1,8,7,7,10,4,10,10,5,2,0,4,3,0,4,10,10,0,10,6,10,7,7,10,10,9,10,10,7,2,0,8,4,8,6,1,10,10,5,2,10,8,10,10,9,2,1,1,1,0,10,6,1,null,"","","","","","","","","","","","","","","","","","","","","","","","","","","","","","","","","","","","","","","","","","","","","","","","","","","","","","","","","","","","",0]
[11,"(20/05/1996)",15,25,37,38,58,59,6,6,4,1,4,6,5,2,9,8,8,11,5,11,0,6,3,1,5,4,1,5,11,11,0,11,7,11,8,8,11,11,10,11,11,8,0,0,9,5,9,7,2,11,11,6,3,11,9,11,11,10,3,2,2,2,1,0,0,2,null,"","","","","","","","","","","","","","","","","","","","","","","","","","","","","","","","","","","","","","","","","","","","","","","","","","","","","","","","","","","","",0]
[12,"(27/05/1996)",4,16,19,20,27,43,7,7,5,0,5,7,6,3,10,9,9,12,6,12,1,0,4,2,0,0,2,6,12,12,1,12,0,12,9,9,12,12,11,12,12,9,1,1,10,6,10,8,0,12,12,7,4,12,10,12,12,11,4,3,3,3,2,1,1,3,null,"","","","","","","","","","","","","","","","","","","","","","","","","","","","","","","","","","","","","","","","","","","","","","","","","","","","","","","","","","","","",0]
[13,"(03/06/1996)",18,32,47,50,54,56,8,8,6,1,6,8,7,4,11,10,10,13,7,13,2,1,5,0,1,1,3,7,13,13,2,13,1,13,10,10,13,0,12,13,13,10,2,2,11,7,11,9,1,13,13,8,0,13,11,0,13,12,5,0,4,0,3,2,2,4,null,"","","","","","","","","","","","","","","","","","","","","","","","","","","","","","","","","","","","","","","","","","","","","","","","","","","","","","","","","","","","",0]
[14,"(10/06/1996)",2,16,23,27,47,53,9,0,7,2,7,9,8,5,12,11,11,14,8,14,3,0,6,1,2,2,4,8,0,14,3,14,0,14,11,11,14,1,13,14,14,11,3,3,12,8,12,10,2,14,14,9,0,14,12,1,14,13,0,1,5,1,4,3,3,5,null,"","","","","","","","","","","","","","","","","","","","","","","","","","","","","","","","","","","","","","","","","","","","","","","","","","","","","","","","","","","","",0]
[15,"(17/06/1996)",12,33,35,51,52,60,10,1,8,3,8,10,9,6,13,12,12,0,9,15,4,1,7,2,3,3,5,9,1,15,4,15,1,15,12,12,15,2,0,15,0,12,4,4,13,9,13,11,3,15,15,10,1,15,13,2,0,0,1,2,6,2,5,4,4,0,null,"","","","","","","","","","","","","","","","","","","","","","","","","","","","","","","","","","","","","","","","","","","","","","","","","","","","","","","","","","","","",0]
[16,"(24/06/1996)",20,32,34,49,58,60,11,2,9,4,9,11,10,7,14,13,13,1,10,16,5,2,8,3,4,0,6,10,2,16,5,16,2,16,13,13,16,0,1,0,1,13,5,5,14,10,14,12,4,16,16,11,2,16,0,3,1,1,2,3,7,3,6,0,5,0,null,"","","","","","","","","","","","","","","","","","","","","","","","","","","","","","","","","","","","","","","","","","","","","","","","","","","","","","","","","","","","",0]
[17,"(01/07/1996)",6,10,13,19,20,51,12,3,10,5,10,0,11,8,15,0,14,2,0,17,6,3,9,4,0,0,7,11,3,17,6,17,3,17,14,14,17,1,2,1,2,14,6,6,15,11,15,13,5,17,17,12,3,17,1,4,0,2,3,4,8,4,7,1,6,1,null,"","","","","","","","","","","","","","","","","","","","","","","","","","","","","","","","","","","","","","","","","","","","","","","","","","","","","","","","","","","","",0]
[18,"(08/07/1996)",23,27,36,37,42,56,13,4,11,6,11,1,12,9,16,1,15,3,1,18,7,4,10,5,1,1,8,12,0,18,7,18,0,18,15,15,18,2,3,2,3,0,0,7,16,12,16,0,6,18,18,13,4,18,2,5,1,3,4,5,9,0,8,2,7,2,null,"","","","","","","","","","","","","","","","","","","","","","","","","","","","","","","","","","","","","","","","","","","","","","","","","","","","","","","","","","","","",0]
[19,"(15/07/1996)",5,10,12,24,25,60,14,5,12,7,0,2,13,10,17,0,16,0,2,19,8,5,11,6,2,2,9,13,1,0,0,19,1,19,16,16,19,3,4,3,4,1,1,8,17,13,17,1,7,19,19,14,5,19,3,6,2,4,5,6,10,1,9,3,8,0,null,"","","","","","","","","","","","","","","","","","","","","","","","","","","","","","","","","","","","","","","","","","","","","","","","","","","","","","","","","","","","",0]
[20,"(22/07/1996)",11,25,28,30,33,51,15,6,13,8,1,3,14,11,18,1,0,1,3,20,9,6,12,7,3,3,10,14,2,1,0,20,2,0,17,0,20,4,0,4,5,2,2,9,18,14,18,2,8,20,20,15,6,20,4,7,0,5,6,7,11,2,10,4,9,1,null,"","","","","","","","","","","","","","","","","","","","","","","","","","","","","","","","","","","","","","","","","","","","","","","","","","","","","","","","","","","","",0]
[21,"(29/07/1996)",6,33,36,46,49,53,16,7,14,9,2,0,15,12,19,2,1,2,4,21,10,7,13,8,4,4,11,15,3,2,1,21,3,1,18,1,21,5,0,5,6,0,3,10,19,15,19,3,9,21,21,0,7,21,0,8,1,6,0,8,12,3,11,5,10,2,null,"","","","","","","","","","","","","","","","","","","","","","","","","","","","","","","","","","","","","","","","","","","","","","","","","","","","","","","","","","","","",0]
[22,"(05/08/1996)",1,9,31,38,46,56,0,8,15,10,3,1,16,13,0,3,2,3,5,22,11,8,14,9,5,5,12,16,4,3,2,22,4,2,19,2,0,6,1,6,7,1,4,0,20,16,20,4,10,22,22,0,8,22,1,9,2,7,1,9,13,0,12,6,11,3,null,"","","","","","","","","","","","","","","","","","","","","","","","","","","","","","","","","","","","","","","","","","","","","","","","","","","","","","","","","","","","",0]
[23,"(12/08/1996)",17,37,39,51,52,59,1,9,16,11,4,2,17,14,1,4,3,4,6,23,12,9,0,10,6,6,13,17,5,4,3,23,5,3,20,3,1,7,2,7,8,2,0,1,0,17,21,5,11,23,23,1,9,23,2,10,0,0,2,10,14,1,13,7,0,4,null,"","","","","","","","","","","","","","","","","","","","","","","","","","","","","","","","","","","","","","","","","","","","","","","","","","","","","","","","","","","","",0]
[24,"(19/08/1996)",1,8,14,28,33,43,0,10,17,12,5,3,18,0,2,5,4,5,7,0,13,10,1,11,7,7,14,18,6,5,4,24,6,0,21,4,2,8,0,8,9,3,1,2,1,18,22,6,0,24,24,2,10,24,3,11,1,1,3,11,15,2,14,8,1,5,null,"","","","","","","","","","","","","","","","","","","","","","","","","","","","","","","","","","","","","","","","","","","","","","","","","","","","","","","","","","","","",0]
[25,"(25/08/1996)",24,43,50,54,55,56,1,11,18,13,6,4,19,1,3,6,5,6,8,1,14,11,2,12,8,8,15,19,7,0,5,25,7,1,22,5,3,9,1,9,10,4,2,3,2,19,23,7,0,25,25,3,11,25,4,0,2,2,4,0,0,0,15,9,2,6,null,"","","","","","","","","","","","","","","","","","","","","","","","","","","","","","","","","","","","","","","","","","","","","","","","","","","","","","","","","","","","",0]
[26,"(01/09/1996)",10,22,50,53,57,58,2,12,19,14,7,5,20,2,4,0,6,7,9,2,15,12,3,13,9,9,16,0,8,1,6,26,8,2,23,6,4,10,2,10,11,5,3,4,3,20,24,8,1,26,26,4,12,26,5,0,3,3,0,1,1,1,0,0,3,7,null,"","","","","","","","","","","","","","","","","","","","","","","","","","","","","","","","","","","","","","","","","","","","","","","","","","","","","","","","","","","","",0]
[27,"(08/09/1996)",13,17,20,33,44,51,3,13,20,15,8,6,21,3,5,1,7,8,0,3,16,13,0,14,10,0,17,1,9,2,7,27,9,3,24,7,5,11,0,11,12,6,4,5,4,21,25,9,2,0,27,5,13,27,6,1,0,4,1,2,2,2,1,1,4,8,null,"","","","","","","","","","","","","","","","","","","","","","","","","","","","","","","","","","","","","","","","","","","","","","","","","","","","","","","","","","","","",0]
[28,"(15/09/1996)",3,6,22,24,54,60,4,14,0,16,9,0,22,4,6,2,8,9,1,4,17,14,1,15,11,1,18,0,10,0,8,28,10,4,25,8,6,12,1,12,13,7,5,6,5,22,26,10,3,1,28,6,14,28,7,2,1,5,2,0,3,3,2,2,5,0,null,"","","","","","","","","","","","","","","","","","","","","","","","","","","","","","","","","","","","","","","","","","","","","","","","","","","","","","","","","","","","",0]
[29,"(22/09/1996)",3,8,14,43,56,58,5,15,0,17,10,1,23,0,7,3,9,10,2,0,18,15,2,16,12,2,19,1,11,1,9,29,11,5,26,9,7,13,2,13,14,8,6,7,6,23,27,11,0,2,29,7,15,29,8,3,2,6,3,1,4,0,3,0,6,1,null,"","","","","","","","","","","","","","","","","","","","","","","","","","","","","","","","","","","","","","","","","","","","","","","","","","","","","","","","","","","","",0]
[30,"(29/09/1996)",7,14,15,29,38,50,6,16,1,18,11,2,0,1,8,4,10,11,3,0,0,16,3,17,13,3,20,2,12,2,10,30,12,6,0,10,8,14,3,14,15,9,7,0,7,24,28,12,1,3,30,8,16,30,9,0,3,7,4,2,5,1,4,1,7,2,null,"","","","","","","","","","","","","","","","","","","","","","","","","","","","","","","","","","","","","","","","","","","","","","","","","","","","","","","","","","","","",0]
[31,"(06/10/1996)",17,19,28,45,48,56,7,17,2,19,12,3,1,2,9,5,11,12,4,1,1,17,0,18,0,4,21,3,13,3,11,31,13,0,1,11,9,15,4,15,16,10,8,1,8,25,29,13,2,4,0,9,17,0,10,1,4,8,5,3,6,0,5,2,8,3,null,"","","","","","","","","","","","","","","","","","","","","","","","","","","","","","","","","","","","","","","","","","","","","","","","","","","","","","","","","","","","",0]
[32,"(13/10/1996)",5,14,33,36,43,44,8,18,3,20,0,4,2,3,10,6,12,13,5,0,2,18,1,19,1,5,22,4,14,4,12,32,14,1,2,12,10,16,0,16,17,0,9,2,9,26,30,14,0,0,1,10,18,1,11,2,5,9,6,4,7,1,6,3,9,4,null,"","","","","","","","","","","","","","","","","","","","","","","","","","","","","","","","","","","","","","","","","","","","","","","","","","","","","","","","","","","","",0]
[33,"(20/10/1996)",5,17,33,39,42,49,9,19,4,21,0,5,3,4,11,7,13,14,6,1,3,19,0,20,2,6,23,5,15,5,13,33,15,2,3,13,11,17,0,17,18,1,10,3,0,27,31,0,1,1,2,11,19,2,0,3,6,10,7,5,8,2,7,4,10,5,null,"","","","","","","","","","","","","","","","","","","","","","","","","","","","","","","","","","","","","","","","","","","","","","","","","","","","","","","","","","","","",0]
[34,"(27/10/1996)",13,15,17,40,53,57,10,20,5,22,1,6,4,5,12,8,14,15,0,2,0,20,0,21,3,7,24,6,16,6,14,34,16,3,4,14,12,18,1,18,19,2,11,4,1,0,32,1,2,2,3,12,20,3,1,4,7,11,0,6,9,3,0,5,11,6,null,"","","","","","","","","","","","","","","","","","","","","","","","","","","","","","","","","","","","","","","","","","","","","","","","","","","","","","","","","","","","",0]
[35,"(03/11/1996)",4,16,21,23,54,57,11,21,6,0,2,7,5,6,13,9,15,16,1,3,1,0,1,22,4,8,0,7,0,7,15,35,17,4,5,15,13,19,2,19,20,3,12,5,2,1,33,2,3,3,4,13,21,4,2,5,8,12,1,0,10,4,0,6,12,7,null,"","","","","","","","","","","","","","","","","","","","","","","","","","","","","","","","","","","","","","","","","","","","","","","","","","","","","","","","","","","","",0]
[36,"(10/11/1996)",3,13,17,25,29,51,12,22,0,1,3,8,6,7,14,10,16,17,0,4,2,1,0,23,5,9,1,8,1,8,0,36,18,5,0,16,14,20,3,20,21,4,13,6,3,2,34,3,4,4,5,14,22,5,3,6,0,13,2,1,11,5,1,7,13,8,null,"","","","","","","","","","","","","","","","","","","","","","","","","","","","","","","","","","","","","","","","","","","","","","","","","","","","","","","","","","","","",0]
[37,"(17/11/1996)",6,7,22,38,52,60,13,23,1,2,4,0,0,8,15,11,17,18,1,5,3,2,1,24,6,10,2,0,2,9,1,37,19,6,1,17,15,21,4,21,22,5,14,0,4,3,35,4,5,5,6,15,23,6,4,7,1,0,3,2,12,6,2,8,14,0,null,"","","","","","","","","","","","","","","","","","","","","","","","","","","","","","","","","","","","","","","","","","","","","","","","","","","","","","","","","","","","",0]
[38,"(24/11/1996)",10,42,43,45,54,55,14,24,2,3,5,1,1,9,16,0,18,19,2,6,4,3,2,25,7,11,3,1,3,10,2,38,20,7,2,18,16,22,5,22,23,6,15,1,5,4,36,0,0,6,0,16,24,7,5,8,2,1,4,0,0,7,3,9,15,1,null,"","","","","","","","","","","","","","","","","","","","","","","","","","","","","","","","","","","","","","","","","","","","","","","","","","","","","","","","","","","","",0]
[39,"(01/12/1996)",12,16,37,45,52,56,15,25,3,4,6,2,2,10,17,1,19,0,3,7,5,0,3,26,8,12,4,2,4,11,3,39,21,8,3,19,17,23,6,23,24,7,0,2,6,5,37,1,1,7,0,17,25,8,6,9,3,0,5,1,1,0,4,10,16,2,null,"","","","","","","","","","","","","","","","","","","","","","","","","","","","","","","","","","","","","","","","","","","","","","","","","","","","","","","","","","","","",0]
[40,"(08/12/1996)",3,5,8,12,46,47,16,26,0,5,0,3,3,0,18,2,20,0,4,8,6,1,4,27,9,13,5,3,5,12,4,40,22,9,4,20,18,24,7,24,25,8,1,3,7,6,38,2,2,8,1,0,0,9,7,10,4,1,6,2,2,1,5,11,17,3,null,"","","","","","","","","","","","","","","","","","","","","","","","","","","","","","","","","","","","","","","","","","","","","","","","","","","","","","","","","","","","",0]
[41,"(15/12/1996)",12,26,35,38,39,47,17,27,1,6,1,4,4,1,19,3,21,0,5,9,7,2,5,28,10,14,6,4,6,13,5,0,23,10,5,21,19,25,8,25,0,9,2,0,0,7,39,3,3,9,2,1,0,10,8,11,5,2,7,3,3,2,6,12,18,4,null,"","","","","","","","","","","","","","","","","","","","","","","","","","","","","","","","","","","","","","","","","","","","","","","","","","","","","","","","","","","","",0]
[42,"(22/12/1996)",7,11,19,24,33,36,18,28,2,7,2,5,0,2,20,4,0,1,6,10,8,3,6,29,0,15,7,5,7,0,6,1,24,11,6,22,20,26,0,26,1,0,3,1,1,8,40,4,4,10,3,2,1,11,9,12,6,3,8,4,4,3,7,13,19,5,null,"","","","","","","","","","","","","","","","","","","","","","","","","","","","","","","","","","","","","","","","","","","","","","","","","","","","","","","","","","","","",0]
[43,"(29/12/1996)",2,6,17,25,26,58,19,0,3,8,3,0,1,3,21,5,1,2,7,11,9,4,0,30,1,16,8,6,8,1,0,0,25,12,7,23,21,27,1,27,2,1,4,2,2,9,41,5,5,11,4,3,2,12,10,13,7,4,9,5,5,4,8,0,20,6,null,"","","","","","","","","","","","","","","","","","","","","","","","","","","","","","","","","","","","","","","","","","","","","","","","","","","","","","","","","","","","",0]
[44,"(05/01/1997)",14,18,29,38,44,47,20,1,4,9,4,1,2,4,22,6,2,3,8,0,10,5,1,0,2,17,9,7,9,2,1,1,26,13,0,24,22,28,2,28,3,2,5,0,3,10,42,6,6,0,5,4,0,13,11,14,8,5,10,6,6,5,9,1,21,7,null,"","","","","","","","","","","","","","","","","","","","","","","","","","","","","","","","","","","","","","","","","","","","","","","","","","","","","","","","","","","","",0]
[45,"(12/01/1997)",7,30,37,44,53,55,21,2,5,10,5,2,0,5,23,7,3,4,9,1,11,6,2,1,3,18,10,8,10,3,2,2,27,14,1,0,23,29,3,29,4,3,0,1,4,11,43,7,7,0,6,5,1,14,12,15,9,6,0,7,0,6,10,2,22,8,null,"","","","","","","","","","","","","","","","","","","","","","","","","","","","","","","","","","","","","","","","","","","","","","","","","","","","","","","","","","","","",0]
[46,"(19/01/1997)",1,23,24,32,46,60,0,3,6,11,6,3,1,6,24,8,4,5,10,2,12,7,3,2,4,19,11,9,0,0,3,3,28,15,2,1,24,0,4,30,5,4,1,2,5,12,44,8,8,1,7,0,2,15,13,16,10,7,1,8,1,7,11,3,23,0,null,"","","","","","","","","","","","","","","","","","","","","","","","","","","","","","","","","","","","","","","","","","","","","","","","","","","","","","","","","","","","",0]
[47,"(26/01/1997)",3,17,25,35,48,56,1,4,0,12,7,4,2,7,25,9,5,6,11,3,13,8,0,3,5,20,12,10,1,1,0,4,29,16,3,2,25,1,5,31,0,5,2,3,6,13,45,9,9,2,8,1,3,0,14,17,11,8,2,9,2,0,12,4,24,1,null,"","","","","","","","","","","","","","","","","","","","","","","","","","","","","","","","","","","","","","","","","","","","","","","","","","","","","","","","","","","","",0]
[48,"(02/02/1997)",2,5,28,34,47,50,2,0,1,13,0,5,3,8,26,10,6,7,12,4,14,9,1,4,6,21,13,11,2,2,1,5,30,0,4,3,26,2,6,0,1,6,3,4,7,14,46,10,10,3,9,2,0,1,15,0,12,9,3,10,3,1,13,5,25,2,null,"","","","","","","","","","","","","","","","","","","","","","","","","","","","","","","","","","","","","","","","","","","","","","","","","","","","","","","","","","","","",0]
[49,"(09/02/1997)",7,13,33,35,43,55,3,1,2,14,1,6,0,9,27,11,7,8,0,5,15,10,2,5,7,22,14,12,3,3,2,6,31,1,5,4,27,3,0,1,0,7,4,5,8,15,47,11,0,4,10,3,1,2,16,1,13,10,4,11,0,2,14,6,26,3,null,"","","","","","","","","","","","","","","","","","","","","","","","","","","","","","","","","","","","","","","","","","","","","","","","","","","","","","","","","","","","",0]
[50,"(16/02/1997)",6,16,21,44,57,58,4,2,3,15,2,0,1,10,28,12,8,9,1,6,16,0,3,6,8,23,0,13,4,4,3,7,32,2,6,5,28,4,1,2,1,8,5,6,9,16,48,12,1,0,11,4,2,3,17,2,14,11,5,12,1,3,0,0,27,4,null,"","","","","","","","","","","","","","","","","","","","","","","","","","","","","","","","","","","","","","","","","","","","","","","","","","","","","","","","","","","","",0]
[51,"(23/02/1997)",17,23,24,25,42,47,5,3,4,16,3,1,2,11,29,13,9,10,2,7,17,1,0,7,9,24,1,14,0,0,0,8,33,3,7,6,29,5,2,3,2,9,6,7,10,17,49,0,2,1,12,5,0,4,18,3,15,12,6,13,2,4,1,1,28,5,null,"","","","","","","","","","","","","","","","","","","","","","","","","","","","","","","","","","","","","","","","","","","","","","","","","","","","","","","","","","","","",0]
[52,"(02/03/1997)",15,30,38,46,58,59,6,4,5,17,4,2,3,12,30,14,10,11,3,8,0,2,1,8,10,25,2,15,1,1,1,9,34,4,8,0,30,6,3,4,3,10,7,0,11,18,50,1,3,2,13,0,1,5,19,4,16,13,7,14,3,5,2,0,0,6,null,"","","","","","","","","","","","","","","","","","","","","","","","","","","","","","","","","","","","","","","","","","","","","","","","","","","","","","","","","","","","",0]
[53,"(09/03/1997)",3,13,16,38,42,46,7,5,0,18,5,3,4,13,31,15,11,12,0,9,1,0,2,9,11,26,3,16,2,2,2,10,35,5,9,1,31,7,4,5,4,11,8,0,12,19,51,0,4,3,14,0,2,6,20,5,17,14,8,15,4,6,3,1,1,7,null,"","","","","","","","","","","","","","","","","","","","","","","","","","","","","","","","","","","","","","","","","","","","","","","","","","","","","","","","","","","","",0]
[54,"(16/03/1997)",5,9,18,21,36,56,8,6,1,19,0,4,5,14,0,16,12,13,1,10,2,1,3,0,12,27,0,17,3,3,3,11,36,6,10,2,32,8,5,6,5,0,9,1,13,20,52,1,5,4,15,1,3,7,21,6,18,15,9,16,5,0,4,2,2,8,null,"","","","","","","","","","","","","","","","","","","","","","","","","","","","","","","","","","","","","","","","","","","","","","","","","","","","","","","","","","","","",0]
[55,"(23/03/1997)",2,14,23,29,38,52,9,0,2,20,1,5,6,15,1,17,13,14,2,0,3,2,4,1,13,28,1,18,0,4,4,12,37,7,0,3,33,9,6,7,6,1,10,0,14,21,53,2,6,5,16,2,4,8,22,7,19,0,10,17,6,1,5,3,3,9,null,"","","","","","","","","","","","","","","","","","","","","","","","","","","","","","","","","","","","","","","","","","","","","","","","","","","","","","","","","","","","",0]
[56,"(30/03/1997)",2,7,20,35,51,59,10,0,3,21,2,6,0,16,2,18,14,15,3,1,4,3,5,2,14,0,2,19,1,5,5,13,38,8,1,4,34,10,7,8,0,2,11,1,15,22,54,3,7,6,17,3,5,9,23,8,0,1,11,18,7,2,6,4,0,10,null,"","","","","","","","","","","","","","","","","","","","","","","","","","","","","","","","","","","","","","","","","","","","","","","","","","","","","","","","","","","","",0]
[57,"(06/04/1997)",7,16,17,27,34,59,11,1,4,22,3,7,0,17,3,19,15,16,4,2,5,0,0,3,15,1,3,20,2,6,6,14,0,9,2,5,35,11,8,0,1,3,12,2,16,23,55,4,8,7,18,4,6,10,24,9,1,2,12,19,8,3,7,5,0,11,null,"","","","","","","","","","","","","","","","","","","","","","","","","","","","","","","","","","","","","","","","","","","","","","","","","","","","","","","","","","","","",0]
[58,"(13/04/1997)",12,27,30,37,44,49,12,2,5,23,4,8,1,18,4,20,16,0,5,3,6,1,1,4,16,2,4,21,3,7,7,15,0,10,3,0,36,12,9,1,2,4,0,3,17,24,56,5,9,0,19,5,7,11,0,10,2,3,13,20,9,4,8,6,1,12,null,"","","","","","","","","","","","","","","","","","","","","","","","","","","","","","","","","","","","","","","","","","","","","","","","","","","","","","","","","","","","",0]
[59,"(20/04/1997)",2,8,13,28,34,54,13,0,6,24,5,9,2,0,5,21,17,1,0,4,7,2,2,5,17,3,5,22,4,8,8,16,1,0,4,1,37,13,10,0,3,5,1,4,18,25,57,6,10,1,20,6,8,12,1,11,3,4,14,0,10,5,9,7,2,13,null,"","","","","","","","","","","","","","","","","","","","","","","","","","","","","","","","","","","","","","","","","","","","","","","","","","","","","","","","","","","","",0]
[60,"(27/04/1997)",3,14,15,20,21,38,14,1,0,25,6,10,3,1,6,22,18,2,1,0,0,3,3,6,18,0,0,23,5,9,9,17,2,1,5,2,38,14,11,1,4,6,2,0,19,26,58,7,11,2,21,7,9,13,2,12,4,5,15,1,11,6,10,8,3,14,null,"","","","","","","","","","","","","","","","","","","","","","","","","","","","","","","","","","","","","","","","","","","","","","","","","","","","","","","","","","","","",0]
[61,"(04/05/1997)",8,18,29,42,44,59,15,2,1,26,7,11,4,0,7,23,19,3,2,1,1,4,4,0,19,1,1,24,6,10,10,18,3,2,0,3,39,15,12,2,5,7,3,1,20,27,59,0,12,0,22,8,10,14,3,13,5,6,16,2,12,7,11,9,0,15,null,"","","","","","","","","","","","","","","","","","","","","","","","","","","","","","","","","","","","","","","","","","","","","","","","","","","","","","","","","","","","",0]
[62,"(11/05/1997)",6,8,13,24,31,52,16,3,2,27,8,0,5,0,8,24,20,4,0,2,2,5,5,1,20,2,2,25,7,0,11,19,4,3,1,4,0,16,13,3,6,8,4,2,21,28,60,1,13,1,23,9,11,15,4,14,6,0,17,3,13,8,12,10,1,16,null,"","","","","","","","","","","","","","","","","","","","","","","","","","","","","","","","","","","","","","","","","","","","","","","","","","","","","","","","","","","","",0]
[63,"(18/05/1997)",9,25,26,40,41,49,17,4,3,28,9,1,6,1,0,25,21,5,1,3,3,6,6,2,21,3,3,26,8,1,0,0,5,4,2,5,1,17,14,4,7,9,5,3,22,0,0,2,14,2,24,10,12,16,0,15,7,1,18,4,14,9,13,11,2,17,null,"","","","","","","","","","","","","","","","","","","","","","","","","","","","","","","","","","","","","","","","","","","","","","","","","","","","","","","","","","","","",0]
[64,"(25/05/1997)",8,12,23,50,54,60,18,5,4,29,10,2,7,0,1,26,22,0,2,4,4,7,7,3,22,4,4,27,0,2,1,1,6,5,3,6,2,18,15,5,8,10,6,4,23,1,1,3,15,3,25,11,13,17,1,0,8,2,19,0,15,10,14,12,3,0,null,"","","","","","","","","","","","","","","","","","","","","","","","","","","","","","","","","","","","","","","","","","","","","","","","","","","","","","","","","","","","",0]
[65,"(01/06/1997)",1,5,20,25,32,34,0,6,5,30,0,3,8,1,2,27,23,1,3,5,5,8,8,4,23,0,5,28,1,3,0,2,7,6,4,7,3,0,16,0,9,11,7,5,24,2,2,4,16,4,26,12,14,18,2,1,9,3,20,1,16,11,15,13,4,1,null,"","","","","","","","","","","","","","","","","","","","","","","","","","","","","","","","","","","","","","","","","","","","","","","","","","","","","","","","","","","","",0]
[66,"(08/06/1997)",12,13,15,26,33,48,{"$f":"IF($A68=\"\",\"\",IF(COUNTIF($C68:$H68,I$2)>0,0,1+I67))","v":1},{"$f":"IF($A68=\"\",\"\",IF(COUNTIF($C68:$H68,J$2)>0,0,1+J67))","v":7},{"$f":"IF($A68=\"\",\"\",IF(COUNTIF($C68:$H68,K$2)>0,0,1+K67))","v":6},{"$f":"IF($A68=\"\",\"\",IF(COUNTIF($C68:$H68,L$2)>0,0,1+L67))","v":31},{"$f":"IF($A68=\"\",\"\",IF(COUNTIF($C68:$H68,M$2)>0,0,1+M67))","v":1},{"$f":"IF($A68=\"\",\"\",IF(COUNTIF($C68:$H68,N$2)>0,0,1+N67))","v":4},{"$f":"IF($A68=\"\",\"\",IF(COUNTIF($C68:$H68,O$2)>0,0,1+O67))","v":9},{"$f":"IF($A68=\"\",\"\",IF(COUNTIF($C68:$H68,P$2)>0,0,1+P67))","v":2},{"$f":"IF($A68=\"\",\"\",IF(COUNTIF($C68:$H68,Q$2)>0,0,1+Q67))","v":3},{"$f":"IF($A68=\"\",\"\",IF(COUNTIF($C68:$H68,R$2)>0,0,1+R67))","v":28},{"$f":"IF($A68=\"\",\"\",IF(COUNTIF($C68:$H68,S$2)>0,0,1+S67))","v":24},{"$f":"IF($A68=\"\",\"\",IF(COUNTIF($C68:$H68,T$2)>0,0,1+T67))","v":0},{"$f":"IF($A68=\"\",\"\",IF(COUNTIF($C68:$H68,U$2)>0,0,1+U67))","v":0},{"$f":"IF($A68=\"\",\"\",IF(COUNTIF($C68:$H68,V$2)>0,0,1+V67))","v":6},{"$f":"IF($A68=\"\",\"\",IF(COUNTIF($C68:$H68,W$2)>0,0,1+W67))","v":0},{"$f":"IF($A68=\"\",\"\",IF(COUNTIF($C68:$H68,X$2)>0,0,1+X67))","v":9},{"$f":"IF($A68=\"\",\"\",IF(COUNTIF($C68:$H68,Y$2)>0,0,1+Y67))","v":9},{"$f":"IF($A68=\"\",\"\",IF(COUNTIF($C68:$H68,Z$2)>0,0,1+Z67))","v":5},{"$f":"IF($A68=\"\",\"\",IF(COUNTIF($C68:$H68,AA$2)>0,0,1+AA67))","v":24},{"$f":"IF($A68=\"\",\"\",IF(COUNTIF($C68:$H68,AB$2)>0,0,1+AB67))","v":1},{"$f":"IF($A68=\"\",\"\",IF(COUNTIF($C68:$H68,AC$2)>0,0,1+AC67))","v":6},{"$f":"IF($A68=\"\",\"\",IF(COUNTIF($C68:$H68,AD$2)>0,0,1+AD67))","v":29},{"$f":"IF($A68=\"\",\"\",IF(COUNTIF($C68:$H68,AE$2)>0,0,1+AE67))","v":2},{"$f":"IF($A68=\"\",\"\",IF(COUNTIF($C68:$H68,AF$2)>0,0,1+AF67))","v":4},{"$f":"IF($A68=\"\",\"\",IF(COUNTIF($C68:$H68,AG$2)>0,0,1+AG67))","v":1},{"$f":"IF($A68=\"\",\"\",IF(COUNTIF($C68:$H68,AH$2)>0,0,1+AH67))","v":0},{"$f":"IF($A68=\"\",\"\",IF(COUNTIF($C68:$H68,AI$2)>0,0,1+AI67))","v":8},{"$f":"IF($A68=\"\",\"\",IF(COUNTIF($C68:$H68,AJ$2)>0,0,1+AJ67))","v":7},{"$f":"IF($A68=\"\",\"\",IF(COUNTIF($C68:$H68,AK$2)>0,0,1+AK67))","v":5},{"$f":"IF($A68=\"\",\"\",IF(COUNTIF($C68:$H68,AL$2)>0,0,1+AL67))","v":8},{"$f":"IF($A68=\"\",\"\",IF(COUNTIF($C68:$H68,AM$2)>0,0,1+AM67))","v":4},{"$f":"IF($A68=\"\",\"\",IF(COUNTIF($C68:$H68,AN$2)>0,0,1+AN67))","v":1},{"$f":"IF($A68=\"\",\"\",IF(COUNTIF($C68:$H68,AO$2)>0,0,1+AO67))","v":0},{"$f":"IF($A68=\"\",\"\",IF(COUNTIF($C68:$H68,AP$2)>0,0,1+AP67))","v":1},{"$f":"IF($A68=\"\",\"\",IF(COUNTIF($C68:$H68,AQ$2)>0,0,1+AQ67))","v":10},{"$f":"IF($A68=\"\",\"\",IF(COUNTIF($C68:$H68,AR$2)>0,0,1+AR67))","v":12},{"$f":"IF($A68=\"\",\"\",IF(COUNTIF($C68:$H68,AS$2)>0,0,1+AS67))","v":8},{"$f":"IF($A68=\"\",\"\",IF(COUNTIF($C68:$H68,AT$2)>0,0,1+AT67))","v":6},{"$f":"IF($A68=\"\",\"\",IF(COUNTIF($C68:$H68,AU$2)>0,0,1+AU67))","v":25},{"$f":"IF($A68=\"\",\"\",IF(COUNTIF($C68:$H68,AV$2)>0,0,1+AV67))","v":3},{"$f":"IF($A68=\"\",\"\",IF(COUNTIF($C68:$H68,AW$2)>0,0,1+AW67))","v":3},{"$f":"IF($A68=\"\",\"\",IF(COUNTIF($C68:$H68,AX$2)>0,0,1+AX67))","v":5},{"$f":"IF($A68=\"\",\"\",IF(COUNTIF($C68:$H68,AY$2)>0,0,1+AY67))","v":17},{"$f":"IF($A68=\"\",\"\",IF(COUNTIF($C68:$H68,AZ$2)>0,0,1+AZ67))","v":5},{"$f":"IF($A68=\"\",\"\",IF(COUNTIF($C68:$H68,BA$2)>0,0,1+BA67))","v":27},{"$f":"IF($A68=\"\",\"\",IF(COUNTIF($C68:$H68,BB$2)>0,0,1+BB67))","v":13},{"$f":"IF($A68=\"\",\"\",IF(COUNTIF($C68:$H68,BC$2)>0,0,1+BC67))","v":15},{"$f":"IF($A68=\"\",\"\",IF(COUNTIF($C68:$H68,BD$2)>0,0,1+BD67))","v":0},{"$f":"IF($A68=\"\",\"\",IF(COUNTIF($C68:$H68,BE$2)>0,0,1+BE67))","v":3},{"$f":"IF($A68=\"\",\"\",IF(COUNTIF($C68:$H68,BF$2)>0,0,1+BF67))","v":2},{"$f":"IF($A68=\"\",\"\",IF(COUNTIF($C68:$H68,BG$2)>0,0,1+BG67))","v":10},{"$f":"IF($A68=\"\",\"\",IF(COUNTIF($C68:$H68,BH$2)>0,0,1+BH67))","v":4},{"$f":"IF($A68=\"\",\"\",IF(COUNTIF($C68:$H68,BI$2)>0,0,1+BI67))","v":21},{"$f":"IF($A68=\"\",\"\",IF(COUNTIF($C68:$H68,BJ$2)>0,0,1+BJ67))","v":2},{"$f":"IF($A68=\"\",\"\",IF(COUNTIF($C68:$H68,BK$2)>0,0,1+BK67))","v":17},{"$f":"IF($A68=\"\",\"\",IF(COUNTIF($C68:$H68,BL$2)>0,0,1+BL67))","v":12},{"$f":"IF($A68=\"\",\"\",IF(COUNTIF($C68:$H68,BM$2)>0,0,1+BM67))","v":16},{"$f":"IF($A68=\"\",\"\",IF(COUNTIF($C68:$H68,BN$2)>0,0,1+BN67))","v":14},{"$f":"IF($A68=\"\",\"\",IF(COUNTIF($C68:$H68,BO$2)>0,0,1+BO67))","v":5},{"$f":"IF($A68=\"\",\"\",IF(COUNTIF($C68:$H68,BP$2)>0,0,1+BP67))","v":2},null,{"$f":"IF(COUNTIF(C68:H68,$BR$2)>0,$BR$2,\"\")","v":""},{"$f":"IF(COUNTIF(C68:H68,$BS$2)>0,$BS$2,\"\")","v":""},{"$f":"IF(COUNTIF(C68:H68,$BT$2)>0,$BT$2,\"\")","v":""},{"$f":"IF(COUNTIF(C68:H68,$BU$2)>0,$BU$2,\"\")","v":""},{"$f":"IF(COUNTIF(C68:H68,$BV$2)>0,$BV$2,\"\")","v":""},{"$f":"IF(COUNTIF(C68:H68,$BW$2)>0,$BW$2,\"\")","v":""},{"$f":"IF(COUNTIF(C68:H68,$BX$2)>0,$BX$2,\"\")","v":""},{"$f":"IF(COUNTIF(C68:H68,$BY$2)>0,$BY$2,\"\")","v":""},{"$f":"IF(COUNTIF(C68:H68,$BZ$2)>0,$BZ$2,\"\")","v":""},{"$f":"IF(COUNTIF(C68:H68,$CA$2)>0,$CA$2,\"\")","v":""},{"$f":"IF(COUNTIF(C68:H68,$CB$2)>0,$CB$2,\"\")","v":""},{"$f":"IF(COUNTIF(C68:H68,$CC$2)>0,$CC$2,\"\")","v":""},{"$f":"IF(COUNTIF(C68:H68,$CD$2)>0,$CD$2,\"\")","v":""},{"$f":"IF(COUNTIF(C68:H68,$CE$2)>0,$CE$2,\"\")","v":""},{"$f":"IF(COUNTIF(C68:H68,$CF$2)>0,$CF$2,\"\")","v":""},{"$f":"IF(COUNTIF(C68:H68,$CG$2)>0,$CG$2,\"\")","v":""},{"$f":"IF(COUNTIF(C68:H68,$CH$2)>0,$CH$2,\"\")","v":""},{"$f":"IF(COUNTIF(C68:H68,$CI$2)>0,$CI$2,\"\")","v":""},{"$f":"IF(COUNTIF(C68:H68,$CJ$2)>0,$CJ$2,\"\")","v":""},{"$f":"IF(COUNTIF(C68:H68,$CK$2)>0,$CK$2,\"\")","v":""},{"$f":"IF(COUNTIF(C68:H68,$CL$2)>0,$CL$2,\"\")","v":""},{"$f":"IF(COUNTIF(C68:H68,$CM$2)>0,$CM$2,\"\")","v":""},{"$f":"IF(COUNTIF(C68:H68,$CN$2)>0,$CN$2,\"\")","v":""},{"$f":"IF(COUNTIF(C68:H68,$CO$2)>0,$CO$2,\"\")","v":""},{"$f":"IF(COUNTIF(C68:H68,$CP$2)>0,$CP$2,\"\")","v":""},{"$f":"IF(COUNTIF(C68:H68,$CQ$2)>0,$CQ$2,\"\")","v":""},{"$f":"IF(COUNTIF(C68:H68,$CR$2)>0,$CR$2,\"\")","v":""},{"$f":"IF(COUNTIF(C68:H68,$CS$2)>0,$CS$2,\"\")","v":""},{"$f":"IF(COUNTIF(C68:H68,$CT$2)>0,$CT$2,\"\")","v":""},{"$f":"IF(COUNTIF(C68:H68,$CU$2)>0,$CU$2,\"\")","v":""},{"$f":"IF(COUNTIF(C68:H68,$CV$2)>0,$CV$2,\"\")","v":""},{"$f":"IF(COUNTIF(C68:H68,$CW$2)>0,$CW$2,\"\")","v":""},{"$f":"IF(COUNTIF(C68:H68,$CX$2)>0,$CX$2,\"\")","v":""},{"$f":"IF(COUNTIF(C68:H68,$CY$2)>0,$CY$2,\"\")","v":""},{"$f":"IF(COUNTIF(C68:H68,$CZ$2)>0,$CZ$2,\"\")","v":""},{"$f":"IF(COUNTIF(C68:H68,$DA$2)>0,$DA$2,\"\")","v":""},{"$f":"IF(COUNTIF(C68:H68,$DB$2)>0,$DB$2,\"\")","v":""},{"$f":"IF(COUNTIF(C68:H68,$DC$2)>0,$DC$2,\"\")","v":""},{"$f":"IF(COUNTIF(C68:H68,$DD$2)>0,$DD$2,\"\")","v":""},{"$f":"IF(COUNTIF(C68:H68,$DE$2)>0,$DE$2,\"\")","v":""},{"$f":"IF(COUNTIF(C68:H68,$DF$2)>0,$DF$2,\"\")","v":""},{"$f":"IF(COUNTIF(C68:H68,$DG$2)>0,$DG$2,\"\")","v":""},{"$f":"IF(COUNTIF(C68:H68,$DH$2)>0,$DH$2,\"\")","v":""},{"$f":"IF(COUNTIF(C68:H68,$DI$2)>0,$DI$2,\"\")","v":""},{"$f":"IF(COUNTIF(C68:H68,$DJ$2)>0,$DJ$2,\"\")","v":""},{"$f":"IF(COUNTIF(C68:H68,$DK$2)>0,$DK$2,\"\")","v":""},{"$f":"IF(COUNTIF(C68:H68,$DL$2)>0,$DL$2,\"\")","v":""},{"$f":"IF(COUNTIF(C68:H68,$DM$2)>0,$DM$2,\"\")","v":""},{"$f":"IF(COUNTIF(C68:H68,$DN$2)>0,$DN$2,\"\")","v":""},{"$f":"IF(COUNTIF(C68:H68,$DO$2)>0,$DO$2,\"\")","v":""},{"$f":"IF(COUNTIF(C68:H68,$DP$2)>0,$DP$2,\"\")","v":""},{"$f":"IF(COUNTIF(C68:H68,$DQ$2)>0,$DQ$2,\"\")","v":""},{"$f":"IF(COUNTIF(C68:H68,$DR$2)>0,$DR$2,\"\")","v":""},{"$f":"IF(COUNTIF(C68:H68,$DS$2)>0,$DS$2,\"\")","v":""},{"$f":"IF(COUNTIF(C68:H68,$DT$2)>0,$DT$2,\"\")","v":""},{"$f":"IF(COUNTIF(C68:H68,$DU$2)>0,$DU$2,\"\")","v":""},{"$f":"IF(COUNTIF(C68:H68,$DV$2)>0,$DV$2,\"\")","v":""},{"$f":"IF(COUNTIF(C68:H68,$DW$2)>0,$DW$2,\"\")","v":""},{"$f":"IF(COUNTIF(C68:H68,$DX$2)>0,$DX$2,\"\")","v":""},{"$f":"IF(COUNTIF(C68:H68,$DY$2)>0,$DY$2,\"\")","v":""},{"$f":"COUNT(BR68:DY68)","v":0}]
[67,"(15/06/1997)",12,14,17,27,47,52,2,8,7,32,2,5,10,3,4,29,25,0,1,0,1,10,0,6,25,2,7,30,3,5,2,1,0,8,6,9,5,2,1,2,11,13,9,7,26,4,4,6,18,6,28,14,0,1,4,3,11,0,22,3,18,13,17,15,6,3,null,"","","","","","","","","","","","","","","","","","","","","","","","","","","","","","","","","","","","","","","","","","","","","","","","","","","","","","","","","","","","",0]
[68,"(22/06/1997)",1,3,12,13,53,59,0,9,0,33,3,6,11,4,5,30,26,0,0,1,2,11,1,7,26,3,8,31,4,6,3,2,1,9,7,10,6,3,2,3,12,14,10,8,27,5,5,7,19,7,29,15,1,2,5,4,12,1,0,4,19,14,18,16,0,4,null,"","","","","","","","","","","","","","","","","","","","","","","","","","","","","","","","","","","","","","","","","","","","","","","","","","","","","","","","","","","","",0]
[69,"(29/06/1997)",25,34,45,53,56,58,1,10,1,34,4,7,12,5,6,31,27,1,1,2,3,12,2,8,27,4,9,32,5,7,0,3,2,10,8,11,7,4,3,0,13,15,11,9,28,6,6,8,20,8,0,16,2,3,6,5,13,2,0,5,20,0,19,0,1,5,null,"","","","","","","","","","","","","","","","","","","","","","","","","","","","","","","","","","","","","","","","","","","","","","","","","","","","","","","","","","","","",0]
[70,"(06/07/1997)",17,23,27,40,43,58,2,11,2,35,5,8,13,6,7,32,28,2,2,3,4,13,0,9,28,5,10,33,0,8,1,4,0,11,9,12,8,5,4,1,14,16,12,10,29,0,7,9,0,9,1,17,3,4,7,6,14,3,1,6,21,1,20,0,2,6,null,"","","","","","","","","","","","","","","","","","","","","","","","","","","","","","","","","","","","","","","","","","","","","","","","","","","","","","","","","","","","",0]
[71,"(13/07/1997)",16,27,33,43,45,53,3,12,3,36,6,9,14,7,8,33,29,3,3,4,5,0,1,10,29,6,11,34,1,9,2,5,0,12,10,13,9,6,0,2,15,17,13,11,30,1,8,10,0,10,0,18,4,5,8,7,15,4,0,7,22,2,21,1,3,7,null,"","","","","","","","","","","","","","","","","","","","","","","","","","","","","","","","","","","","","","","","","","","","","","","","","","","","","","","","","","","","",0]
[72,"(20/07/1997)",1,19,34,43,44,48,0,13,4,37,7,10,15,8,9,34,30,4,4,5,6,1,2,11,0,7,12,35,2,10,3,6,1,13,11,14,10,7,1,0,16,18,14,12,31,2,9,11,0,0,1,19,5,0,9,8,16,5,1,8,23,3,22,2,4,8,null,"","","","","","","","","","","","","","","","","","","","","","","","","","","","","","","","","","","","","","","","","","","","","","","","","","","","","","","","","","","","",0]
[73,"(27/07/1997)",25,26,28,45,51,57,1,14,5,38,8,11,16,9,10,35,31,5,5,6,7,2,3,12,1,8,13,36,3,11,0,0,2,0,12,15,11,8,2,1,17,19,15,13,32,3,10,12,1,1,0,20,6,1,10,9,0,6,2,9,24,4,0,3,5,9,null,"","","","","","","","","","","","","","","","","","","","","","","","","","","","","","","","","","","","","","","","","","","","","","","","","","","","","","","","","","","","",0]
[74,"(03/08/1997)",2,24,34,37,38,50,2,0,6,39,9,12,17,10,11,36,32,6,6,7,8,3,4,13,2,9,14,37,4,0,1,1,3,1,13,16,12,9,3,0,18,20,0,0,33,4,11,13,2,2,1,21,7,2,11,0,1,7,3,10,25,5,1,4,6,10,null,"","","","","","","","","","","","","","","","","","","","","","","","","","","","","","","","","","","","","","","","","","","","","","","","","","","","","","","","","","","","",0]
[75,"(10/08/1997)",21,24,35,36,37,49,3,1,7,40,10,13,18,11,12,37,33,7,7,8,9,4,5,14,3,10,0,38,5,0,2,2,4,2,14,17,13,10,4,1,0,0,0,1,34,5,12,14,3,3,2,22,8,3,0,1,2,8,4,11,26,6,2,5,7,11,null,"","","","","","","","","","","","","","","","","","","","","","","","","","","","","","","","","","","","","","","","","","","","","","","","","","","","","","","","","","","","",0]
[76,"(17/08/1997)",8,17,18,23,33,53,4,2,8,41,11,14,19,0,13,38,34,8,8,9,10,5,0,0,4,11,1,39,0,1,3,3,5,3,15,18,14,11,0,2,1,1,1,2,35,6,13,15,4,4,3,23,9,4,1,2,3,9,0,12,27,7,3,6,8,12,null,"","","","","","","","","","","","","","","","","","","","","","","","","","","","","","","","","","","","","","","","","","","","","","","","","","","","","","","","","","","","",0]
[77,"(24/08/1997)",21,29,40,49,54,57,5,3,9,42,12,15,20,1,14,39,35,9,9,10,11,6,1,1,5,12,0,40,1,2,4,4,6,4,0,19,15,12,1,3,2,2,2,3,36,0,14,16,5,5,4,24,10,5,0,3,4,10,1,0,28,8,0,7,9,13,null,"","","","","","","","","","","","","","","","","","","","","","","","","","","","","","","","","","","","","","","","","","","","","","","","","","","","","","","","","","","","",0]
[78,"(31/08/1997)",12,22,25,31,32,46,6,4,10,43,13,16,21,2,15,40,36,0,10,11,12,7,2,2,6,13,1,0,2,3,0,5,7,5,1,20,0,0,2,4,3,3,3,4,37,1,15,17,6,6,5,0,11,6,1,4,5,11,2,1,29,9,1,8,10,14,null,"","","","","","","","","","","","","","","","","","","","","","","","","","","","","","","","","","","","","","","","","","","","","","","","","","","","","","","","","","","","",0]
[79,"(07/09/1997)",2,13,17,25,31,43,7,0,11,44,14,17,22,3,16,41,37,1,0,12,13,8,0,3,7,14,2,1,3,4,0,6,8,6,2,21,0,1,3,5,4,4,4,5,38,2,16,18,0,7,6,1,12,7,2,5,6,12,3,2,30,10,2,9,11,15,null,"","","","","","","","","","","","","","","","","","","","","","","","","","","","","","","","","","","","","","","","","","","","","","","","","","","","","","","","","","","","",0]
[80,"(14/09/1997)",23,28,37,40,48,51,8,1,12,45,15,18,23,4,17,42,38,2,1,13,14,9,1,4,8,15,3,2,0,5,1,7,9,0,3,22,1,2,4,6,5,5,0,6,39,0,17,19,1,8,7,2,13,0,3,6,0,13,4,3,31,11,3,10,12,16,null,"","","","","","","","","","","","","","","","","","","","","","","","","","","","","","","","","","","","","","","","","","","","","","","","","","","","","","","","","","","","",0]
[81,"(21/09/1997)",10,23,41,47,54,60,9,2,13,46,16,19,24,5,18,0,39,3,2,14,15,10,2,5,9,16,4,3,0,6,2,8,10,1,4,23,2,3,5,7,6,6,1,7,40,1,0,20,2,9,8,3,0,1,4,7,1,14,5,0,32,12,4,11,13,0,null,"","","","","","","","","","","","","","","","","","","","","","","","","","","","","","","","","","","","","","","","","","","","","","","","","","","","","","","","","","","","",0]
[82,"(28/09/1997)",15,18,29,36,51,53,10,3,14,47,17,20,25,6,19,1,40,4,3,15,0,11,3,0,10,17,5,4,1,7,3,9,11,2,0,24,3,4,6,8,7,0,2,8,41,2,1,21,3,10,9,4,1,2,5,8,0,15,0,1,33,13,5,12,14,1,null,"","","","","","","","","","","","","","","","","","","","","","","","","","","","","","","","","","","","","","","","","","","","","","","","","","","","","","","","","","","","",0]
[83,"(05/10/1997)",4,15,16,24,42,57,11,4,15,0,18,21,26,7,20,2,41,5,4,16,0,0,4,1,11,18,6,5,2,0,4,10,12,3,1,25,4,5,7,9,8,1,3,9,42,3,2,0,4,11,10,5,2,3,6,9,1,16,1,2,34,14,0,13,15,2,null,"","","","","","","","","","","","","","","","","","","","","","","","","","","","","","","","","","","","","","","","","","","","","","","","","","","","","","","","","","","","",0]
[84,"(12/10/1997)",4,6,10,25,34,40,12,5,16,0,19,0,27,8,21,0,42,6,5,17,1,1,5,2,12,19,7,6,3,1,0,11,13,4,2,26,5,6,8,0,9,2,4,10,43,0,3,1,5,12,11,6,3,4,7,10,2,17,2,3,35,15,1,14,16,3,null,"","","","","","","","","","","","","","","","","","","","","","","","","","","","","","","","","","","","","","","","","","","","","","","","","","","","","","","","","","","","",0]
[85,"(19/10/1997)",6,15,30,37,45,47,13,6,17,1,20,0,28,9,22,1,43,7,6,18,0,2,6,3,13,20,8,7,4,2,1,12,14,5,3,0,6,7,9,1,10,3,0,11,44,1,4,2,6,13,0,7,0,5,8,11,3,18,3,4,36,16,2,15,17,4,null,"","","","","","","","","","","","","","","","","","","","","","","","","","","","","","","","","","","","","","","","","","","","","","","","","","","","","","","","","","","","",0]
[86,"(26/10/1997)",6,21,22,34,36,54,14,7,18,2,21,0,29,10,23,2,44,8,7,19,1,3,7,4,14,21,0,0,5,3,2,13,15,6,4,1,7,8,10,0,11,0,1,12,45,2,5,3,7,14,1,8,1,6,9,12,4,19,4,0,37,17,3,16,18,5,null,"","","","","","","","","","","","","","","","","","","","","","","","","","","","","","","","","","","","","","","","","","","","","","","","","","","","","","","","","","","","",0]
[87,"(02/11/1997)",4,5,11,28,32,40,15,8,19,0,0,1,30,11,24,3,0,9,8,20,2,4,8,5,15,22,1,1,6,4,3,14,16,0,5,2,8,0,11,1,12,1,2,13,46,0,6,4,8,15,2,9,2,7,10,13,5,20,5,1,38,18,4,17,19,6,null,"","","","","","","","","","","","","","","","","","","","","","","","","","","","","","","","","","","","","","","","","","","","","","","","","","","","","","","","","","","","",0]
[88,"(09/11/1997)",4,18,29,37,43,45,16,9,20,0,1,2,31,12,25,4,1,10,9,21,3,5,9,0,16,23,2,2,7,5,4,15,17,1,0,3,9,1,12,2,13,2,0,14,47,1,7,5,0,16,0,10,3,8,11,14,6,21,6,2,39,19,5,18,20,7,null,"","","","","","","","","","","","","","","","","","","","","","","","","","","","","","","","","","","","","","","","","","","","","","","","","","","","","","","","","","","","",0]
[89,"(16/11/1997)",13,34,42,44,55,59,17,10,21,1,2,3,32,13,26,5,2,11,0,22,4,6,10,1,17,24,3,3,8,6,5,16,18,2,1,4,10,2,13,0,14,3,1,15,48,2,8,0,1,0,1,11,4,9,12,15,7,22,7,3,0,20,6,19,0,8,null,"","","","","","","","","","","","","","","","","","","","","","","","","","","","","","","","","","","","","","","","","","","","","","","","","","","","","","","","","","","","",0]
[90,"(23/11/1997)",9,21,26,40,52,54,18,11,22,2,3,4,33,14,0,6,3,12,1,23,5,7,11,2,18,25,0,4,9,7,6,0,19,3,2,5,11,3,14,1,15,4,2,16,49,0,9,1,2,1,2,12,5,10,13,16,8,0,8,0,1,21,7,20,1,9,null,"","","","","","","","","","","","","","","","","","","","","","","","","","","","","","","","","","","","","","","","","","","","","","","","","","","","","","","","","","","","",0]
[91,"(30/11/1997)",2,4,10,35,39,60,19,0,23,0,4,5,34,15,1,0,4,13,2,24,6,8,12,3,19,26,1,5,10,8,7,1,20,4,3,6,12,4,15,2,0,5,3,17,0,1,10,2,3,2,3,13,6,11,14,17,9,1,9,1,2,22,8,21,2,0,null,"","","","","","","","","","","","","","","","","","","","","","","","","","","","","","","","","","","","","","","","","","","","","","","","","","","","","","","","","","","","",0]
[92,"(07/12/1997)",1,3,5,23,24,51,0,1,0,1,0,6,35,16,2,1,5,14,3,25,7,9,13,4,20,27,2,6,0,0,8,2,21,5,4,7,13,5,16,3,1,6,4,18,1,2,11,3,4,3,4,14,7,12,15,18,0,2,10,2,3,23,9,22,3,1,null,"","","","","","","","","","","","","","","","","","","","","","","","","","","","","","","","","","","","","","","","","","","","","","","","","","","","","","","","","","","","",0]
[93,"(14/12/1997)",2,22,28,31,36,53,1,0,1,2,1,7,36,17,3,2,6,15,4,26,8,10,14,5,21,28,3,0,1,1,9,3,22,0,5,8,0,6,17,4,2,0,5,19,2,3,12,4,5,4,5,15,8,13,16,19,1,3,0,3,4,24,10,23,4,2,null,"","","","","","","","","","","","","","","","","","","","","","","","","","","","","","","","","","","","","","","","","","","","","","","","","","","","","","","","","","","","",0]
[94,"(21/12/1997)",8,18,28,51,52,55,2,1,2,3,2,8,37,0,4,3,7,16,5,27,9,11,15,0,22,29,4,1,2,2,10,4,23,0,6,9,1,7,18,5,3,1,6,20,3,4,13,5,6,5,6,16,9,14,17,20,0,0,1,4,0,25,11,24,5,3,null,"","","","","","","","","","","","","","","","","","","","","","","","","","","","","","","","","","","","","","","","","","","","","","","","","","","","","","","","","","","","",0]
[95,"(28/12/1997)",6,40,45,46,50,60,3,2,3,4,3,0,38,1,5,4,8,17,6,28,10,12,16,1,23,30,5,2,3,3,11,5,24,1,7,10,2,8,19,6,4,2,7,21,4,0,14,6,7,6,0,0,10,15,18,0,1,1,2,5,1,26,12,25,6,0,null,"","","","","","","","","","","","","","","","","","","","","","","","","","","","","","","","","","","","","","","","","","","","","","","","","","","","","","","","","","","","",0]
[96,"(04/01/1998)",4,7,26,40,42,58,4,3,4,0,4,1,0,2,6,5,9,18,7,29,11,13,17,2,24,31,6,3,4,4,12,0,25,2,8,11,3,9,20,7,5,3,8,22,5,0,15,0,8,7,1,1,11,16,19,1,2,2,3,6,2,27,13,0,7,1,null,"","","","","","","","","","","","","","","","","","","","","","","","","","","","","","","","","","","","","","","","","","","","","","","","","","","","","","","","","","","","",0]
[97,"(11/01/1998)",5,11,14,35,53,56,5,4,5,1,0,2,1,3,7,6,0,19,8,0,12,14,18,3,25,32,7,4,5,5,13,1,26,3,9,12,4,10,21,8,0,4,9,23,6,1,16,1,9,8,2,2,12,17,20,2,3,3,0,7,3,0,14,1,8,2,null,"","","","","","","","","","","","","","","","","","","","","","","","","","","","","","","","","","","","","","","","","","","","","","","","","","","","","","","","","","","","",0]
[98,"(18/01/1998)",13,14,31,33,35,43,6,5,6,2,1,3,2,4,8,7,1,20,0,0,13,15,19,4,26,33,8,5,6,6,14,2,27,4,10,13,0,11,0,9,0,5,10,24,7,2,17,2,0,9,3,3,13,18,21,3,4,4,1,8,4,1,15,2,9,3,null,"","","","","","","","","","","","","","","","","","","","","","","","","","","","","","","","","","","","","","","","","","","","","","","","","","","","","","","","","","","","",0]
[99,"(25/01/1998)",11,24,30,33,46,60,7,6,7,3,2,4,3,5,9,8,0,21,1,1,14,16,20,5,27,34,9,6,7,0,15,3,28,5,11,0,1,12,0,10,1,6,11,25,8,3,18,3,1,10,4,0,14,19,22,4,5,5,2,9,5,2,16,3,10,0,null,"","","","","","","","","","","","","","","","","","","","","","","","","","","","","","","","","","","","","","","","","","","","","","","","","","","","","","","","","","","","",0]
[100,"(01/02/1998)",14,29,30,46,48,51,8,7,8,4,3,5,4,6,10,9,1,22,2,0,15,17,21,6,28,35,10,7,8,1,16,4,29,6,0,0,2,13,1,11,2,7,12,26,9,4,19,4,2,11,5,0,15,0,23,5,0,6,3,10,6,3,17,4,11,1,null,"","","","","","","","","","","","","","","","","","","","","","","","","","","","","","","","","","","","","","","","","","","","","","","","","","","","","","","","","","","","",0]
[101,"(08/02/1998)",1,18,29,31,37,39,0,8,9,5,4,6,5,7,11,10,2,23,3,1,16,18,22,0,29,36,11,8,9,2,17,5,30,7,0,1,0,14,2,12,3,8,0,27,0,5,20,5,3,12,6,1,16,1,24,6,1,7,4,11,7,4,18,5,12,2,null,"","","","","","","","","","","","","","","","","","","","","","","","","","","","","","","","","","","","","","","","","","","","","","","","","","","","","","","","","","","","",0]
[102,"(15/02/1998)",19,20,37,42,44,56,1,9,10,6,5,7,6,8,12,11,3,24,4,2,17,19,23,1,0,0,12,9,10,3,18,6,31,8,1,2,1,15,3,13,4,9,0,28,1,6,21,0,4,0,7,2,17,2,25,7,2,8,5,12,8,0,19,6,13,3,null,"","","","","","","","","","","","","","","","","","","","","","","","","","","","","","","","","","","","","","","","","","","","","","","","","","","","","","","","","","","","",0]
[103,"(22/02/1998)",1,7,9,49,54,57,0,10,11,7,6,8,0,9,0,12,4,25,5,3,18,20,24,2,1,1,13,10,11,4,19,7,32,9,2,3,2,16,4,14,5,10,1,29,2,7,22,1,5,1,8,3,18,3,0,8,3,9,6,0,9,1,0,7,14,4,null,"","","","","","","","","","","","","","","","","","","","","","","","","","","","","","","","","","","","","","","","","","","","","","","","","","","","","","","","","","","","",0]
[104,"(01/03/1998)",1,4,13,21,38,52,0,11,12,0,7,9,1,10,1,13,5,26,0,4,19,21,25,3,2,2,0,11,12,5,20,8,33,10,3,4,3,17,5,15,6,11,2,0,3,8,23,2,6,2,9,4,19,4,1,9,4,0,7,1,10,2,1,8,15,5,null,"","","","","","","","","","","","","","","","","","","","","","","","","","","","","","","","","","","","","","","","","","","","","","","","","","","","","","","","","","","","",0]
[105,"(08/03/1998)",3,13,31,43,46,49,1,12,0,1,8,10,2,11,2,14,6,27,0,5,20,22,26,4,3,3,1,12,13,6,21,9,34,11,4,5,0,18,6,16,7,12,3,1,4,9,24,3,0,3,10,0,20,5,0,10,5,1,8,2,11,3,2,9,16,6,null,"","","","","","","","","","","","","","","","","","","","","","","","","","","","","","","","","","","","","","","","","","","","","","","","","","","","","","","","","","","","",0]
[106,"(15/03/1998)",5,16,24,35,38,39,2,13,1,2,0,11,3,12,3,15,7,28,1,6,21,0,27,5,4,4,2,13,14,0,22,10,35,12,5,6,1,19,7,17,0,13,4,0,0,10,25,4,1,4,11,1,21,6,1,11,6,2,9,3,12,4,3,10,17,7,null,"","","","","","","","","","","","","","","","","","","","","","","","","","","","","","","","","","","","","","","","","","","","","","","","","","","","","","","","","","","","",0]
[107,"(22/03/1998)",2,4,16,24,51,52,3,0,2,0,1,12,4,13,4,16,8,29,2,7,22,0,28,6,5,5,3,14,15,0,23,11,36,13,6,7,2,20,8,18,1,14,5,1,1,11,26,5,2,5,12,2,22,7,2,12,0,0,10,4,13,5,4,11,18,8,null,"","","","","","","","","","","","","","","","","","","","","","","","","","","","","","","","","","","","","","","","","","","","","","","","","","","","","","","","","","","","",0]
[108,"(29/03/1998)",21,24,29,34,59,60,4,1,3,1,2,13,5,14,5,17,9,30,3,8,23,1,29,7,6,6,0,15,16,0,24,12,37,14,0,8,3,21,9,0,2,15,6,2,2,12,27,6,3,6,13,3,23,8,3,13,1,1,11,5,14,6,5,12,0,0,null,"","","","","","","","","","","","","","","","","","","","","","","","","","","","","","","","","","","","","","","","","","","","","","","","","","","","","","","","","","","","",0]
[109,"(04/04/1998)",1,13,44,48,49,54,0,2,4,2,3,14,6,15,6,18,10,31,0,9,24,2,30,8,7,7,1,16,17,1,25,13,38,15,1,9,4,22,10,1,3,16,7,3,3,13,28,7,4,0,14,4,24,0,0,14,2,2,12,0,15,7,6,13,1,1,null,"","","","","","","","","","","","","","","","","","","","","","","","","","","","","","","","","","","","","","","","","","","","","","","","","","","","","","","","","","","","",0]
[110,"(11/04/1998)",18,31,43,52,57,58,1,3,5,3,4,15,7,16,7,19,11,32,1,10,25,3,31,0,8,8,2,17,18,2,26,14,39,16,2,10,0,23,11,2,4,17,8,4,4,14,29,8,0,1,15,5,25,1,1,15,3,0,13,1,16,8,0,0,2,2,null,"","","","","","","","","","","","","","","","","","","","","","","","","","","","","","","","","","","","","","","","","","","","","","","","","","","","","","","","","","","","",0]
[111,"(18/04/1998)",4,22,25,32,33,52,2,4,6,0,5,16,8,17,8,20,12,33,2,11,26,4,32,1,9,9,3,0,19,3,0,15,40,17,3,11,1,0,0,3,5,18,9,5,5,15,30,9,1,2,16,6,26,2,2,16,4,0,14,2,17,9,1,1,3,3,null,"","","","","","","","","","","","","","","","","","","","","","","","","","","","","","","","","","","","","","","","","","","","","","","","","","","","","","","","","","","","",0]
[112,"(25/04/1998)",12,20,34,37,42,43,3,5,7,1,6,17,9,18,9,21,13,0,3,12,27,5,33,2,10,0,4,1,20,4,1,16,41,18,4,12,2,1,1,0,6,19,0,6,6,16,31,0,0,3,17,7,27,3,3,17,5,1,15,3,18,10,2,2,4,4,null,"","","","","","","","","","","","","","","","","","","","","","","","","","","","","","","","","","","","","","","","","","","","","","","","","","","","","","","","","","","","",0]
[113,"(02/05/1998)",7,26,28,34,54,55,4,6,8,2,7,18,0,19,10,22,14,1,4,13,28,6,34,3,11,1,5,2,21,5,2,0,42,0,5,13,3,2,2,0,7,20,1,7,7,17,32,1,1,4,18,8,28,4,4,18,6,2,16,0,0,11,3,3,5,5,null,"","","","","","","","","","","","","","","","","","","","","","","","","","","","","","","","","","","","","","","","","","","","","","","","","","","","","","","","","","","","",0]
[114,"(09/05/1998)",6,12,18,37,47,54,5,7,9,3,8,0,1,20,11,23,15,0,5,14,29,7,35,0,12,2,6,3,22,6,3,1,43,1,6,14,4,3,3,1,8,21,0,8,8,18,33,2,2,5,19,9,0,5,5,19,7,3,17,0,1,12,4,4,6,6,null,"","","","","","","","","","","","","","","","","","","","","","","","","","","","","","","","","","","","","","","","","","","","","","","","","","","","","","","","","","","","",0]
[115,"(16/05/1998)",4,6,14,20,24,38,6,8,10,0,9,0,2,21,12,24,16,1,6,0,30,8,36,1,13,0,7,4,23,0,4,2,44,2,7,15,5,4,4,2,9,22,1,0,9,19,34,3,3,6,20,10,1,6,6,20,8,4,18,1,2,13,5,5,7,7,null,"","","","","","","","","","","","","","","","","","","","","","","","","","","","","","","","","","","","","","","","","","","","","","","","","","","","","","","","","","","","",0]
[116,"(23/05/1998)",5,13,32,36,42,51,7,9,11,1,0,1,3,22,13,25,17,2,0,1,31,9,37,2,14,1,8,5,24,1,5,3,45,3,8,16,6,0,5,3,10,0,2,1,10,20,35,0,4,7,21,11,2,7,7,21,0,5,19,2,3,14,6,6,8,8,null,"","","","","","","","","","","","","","","","","","","","","","","","","","","","","","","","","","","","","","","","","","","","","","","","","","","","","","","","","","","","",0]
[117,"(30/05/1998)",20,25,27,33,42,53,8,10,12,2,1,2,4,23,14,26,18,3,1,2,32,10,38,3,15,0,9,6,25,2,0,4,0,4,9,17,7,1,0,4,11,1,3,2,11,21,36,0,5,8,22,12,3,8,8,22,1,6,0,3,4,15,7,7,9,9,null,"","","","","","","","","","","","","","","","","","","","","","","","","","","","","","","","","","","","","","","","","","","","","","","","","","","","","","","","","","","","",0]
[118,"(06/06/1998)",9,22,25,37,56,57,9,11,13,3,2,3,5,24,0,27,19,4,2,3,33,11,39,4,16,1,10,0,26,3,0,5,1,5,10,18,8,2,1,5,12,2,0,3,12,22,37,1,6,9,23,13,4,9,9,23,2,7,1,4,5,0,0,8,10,10,null,"","","","","","","","","","","","","","","","","","","","","","","","","","","","","","","","","","","","","","","","","","","","","","","","","","","","","","","","","","","","",0]
[119,"(13/06/1998)",1,21,36,38,47,50,0,12,14,4,3,4,6,25,1,28,20,5,3,4,34,12,40,5,17,2,0,1,27,4,1,6,2,6,11,19,9,3,2,6,13,0,1,0,13,23,38,2,7,10,24,14,0,10,10,0,3,8,2,5,6,1,1,9,11,11,null,"","","","","","","","","","","","","","","","","","","","","","","","","","","","","","","","","","","","","","","","","","","","","","","","","","","","","","","","","","","","",0]
[120,"(20/06/1998)",3,16,27,40,45,46,1,13,0,5,4,5,7,26,2,29,21,6,4,5,35,0,41,6,18,3,1,2,28,5,2,7,0,7,12,20,10,4,3,7,14,1,2,1,14,0,39,3,8,11,0,0,1,11,11,1,4,9,3,6,7,2,2,10,12,12,null,"","","","","","","","","","","","","","","","","","","","","","","","","","","","","","","","","","","","","","","","","","","","","","","","","","","","","","","","","","","","",0]
[121,"(27/06/1998)",2,29,41,44,53,55,2,0,1,6,5,6,8,27,3,30,22,7,5,6,36,1,42,7,19,4,2,3,29,6,3,8,1,8,0,21,11,5,4,8,15,2,3,2,15,1,0,4,9,0,1,1,2,12,12,2,5,10,0,7,0,3,3,11,13,13,null,"","","","","","","","","","","","","","","","","","","","","","","","","","","","","","","","","","","","","","","","","","","","","","","","","","","","","","","","","","","","",0]
[122,"(04/07/1998)",11,17,20,39,43,53,3,1,2,7,6,7,9,28,4,31,0,8,6,7,37,2,0,8,20,0,3,4,30,7,4,9,2,9,1,22,12,6,5,9,16,3,4,3,0,2,1,5,0,1,2,2,3,13,13,3,6,11,0,8,1,4,4,12,14,14,null,"","","","","","","","","","","","","","","","","","","","","","","","","","","","","","","","","","","","","","","","","","","","","","","","","","","","","","","","","","","","",0]
[123,"(11/07/1998)",13,14,16,26,32,42,4,2,3,8,7,8,10,29,5,32,1,9,0,0,38,0,1,9,21,1,4,5,31,8,5,0,3,10,2,23,13,0,6,10,17,4,5,4,1,3,2,0,1,2,3,3,4,14,14,4,7,12,1,9,2,5,5,13,15,15,null,"","","","","","","","","","","","","","","","","","","","","","","","","","","","","","","","","","","","","","","","","","","","","","","","","","","","","","","","","","","","",0]
[124,"(18/07/1998)",5,15,34,41,52,57,5,3,4,9,0,9,11,30,6,33,2,10,1,1,0,1,2,10,22,2,5,6,32,9,6,1,4,11,3,24,14,1,7,0,18,5,6,5,2,4,0,1,2,3,4,4,5,15,15,5,8,0,2,10,3,6,0,14,16,16,null,"","","","","","","","","","","","","","","","","","","","","","","","","","","","","","","","","","","","","","","","","","","","","","","","","","","","","","","","","","","","",0]
[125,"(25/07/1998)",25,41,47,53,56,59,6,4,5,10,1,10,12,31,7,34,3,11,2,2,1,2,3,11,23,3,6,7,33,10,0,2,5,12,4,25,15,2,8,1,19,6,7,6,3,5,0,2,3,4,5,5,0,16,16,6,9,1,0,11,4,0,1,15,0,17,null,"","","","","","","","","","","","","","","","","","","","","","","","","","","","","","","","","","","","","","","","","","","","","","","","","","","","","","","","","","","","",0]
[126,"(01/08/1998)",6,10,11,28,32,40,7,5,6,11,2,0,13,32,8,0,0,12,3,3,2,3,4,12,24,4,7,8,34,11,1,3,6,0,5,26,16,0,9,2,20,7,8,7,4,0,1,3,4,5,6,6,1,17,17,7,10,2,1,12,5,1,2,16,1,18,null,"","","","","","","","","","","","","","","","","","","","","","","","","","","","","","","","","","","","","","","","","","","","","","","","","","","","","","","","","","","","",0]
[127,"(08/08/1998)",21,29,50,51,54,59,8,6,7,12,3,1,14,33,9,1,1,13,4,4,3,4,5,13,25,5,0,9,35,12,2,4,7,1,0,27,17,1,10,3,21,8,9,8,5,1,2,4,5,6,7,7,2,18,18,0,0,3,2,0,6,2,3,17,0,19,null,"","","","","","","","","","","","","","","","","","","","","","","","","","","","","","","","","","","","","","","","","","","","","","","","","","","","","","","","","","","","",0]
[128,"(15/08/1998)",3,9,18,21,23,43,9,7,0,13,4,2,15,34,0,2,2,14,5,5,4,5,6,0,26,6,0,10,0,13,3,5,8,2,1,28,18,2,11,4,22,9,10,9,6,2,3,5,0,7,8,8,3,19,19,1,1,4,3,1,7,3,4,18,1,20,null,"","","","","","","","","","","","","","","","","","","","","","","","","","","","","","","","","","","","","","","","","","","","","","","","","","","","","","","","","","","","",0]
[129,"(22/08/1998)",1,9,10,32,46,54,0,8,1,14,5,3,16,35,0,0,3,15,6,6,5,6,7,1,27,7,1,11,1,14,4,6,9,3,2,29,19,0,12,5,23,10,11,10,7,3,4,6,1,8,9,0,4,20,20,2,2,5,4,0,8,4,5,19,2,21,null,"","","","","","","","","","","","","","","","","","","","","","","","","","","","","","","","","","","","","","","","","","","","","","","","","","","","","","","","","","","","",0]
[130,"(29/08/1998)",13,29,38,42,49,53,{"$f":"IF($A132=\"\",\"\",IF(COUNTIF($C132:$H132,I$2)>0,0,1+I131))","v":1},{"$f":"IF($A132=\"\",\"\",IF(COUNTIF($C132:$H132,J$2)>0,0,1+J131))","v":9},{"$f":"IF($A132=\"\",\"\",IF(COUNTIF($C132:$H132,K$2)>0,0,1+K131))","v":2},{"$f":"IF($A132=\"\",\"\",IF(COUNTIF($C132:$H132,L$2)>0,0,1+L131))","v":15},{"$f":"IF($A132=\"\",\"\",IF(COUNTIF($C132:$H132,M$2)>0,0,1+M131))","v":6},{"$f":"IF($A132=\"\",\"\",IF(COUNTIF($C132:$H132,N$2)>0,0,1+N131))","v":4},{"$f":"IF($A132=\"\",\"\",IF(COUNTIF($C132:$H132,O$2)>0,0,1+O131))","v":17},{"$f":"IF($A132=\"\",\"\",IF(COUNTIF($C132:$H132,P$2)>0,0,1+P131))","v":36},{"$f":"IF($A132=\"\",\"\",IF(COUNTIF($C132:$H132,Q$2)>0,0,1+Q131))","v":1},{"$f":"IF($A132=\"\",\"\",IF(COUNTIF($C132:$H132,R$2)>0,0,1+R131))","v":1},{"$f":"IF($A132=\"\",\"\",IF(COUNTIF($C132:$H132,S$2)>0,0,1+S131))","v":4},{"$f":"IF($A132=\"\",\"\",IF(COUNTIF($C132:$H132,T$2)>0,0,1+T131))","v":16},{"$f":"IF($A132=\"\",\"\",IF(COUNTIF($C132:$H132,U$2)>0,0,1+U131))","v":0},{"$f":"IF($A132=\"\",\"\",IF(COUNTIF($C132:$H132,V$2)>0,0,1+V131))","v":7},{"$f":"IF($A132=\"\",\"\",IF(COUNTIF($C132:$H132,W$2)>0,0,1+W131))","v":6},{"$f":"IF($A132=\"\",\"\",IF(COUNTIF($C132:$H132,X$2)>0,0,1+X131))","v":7},{"$f":"IF($A132=\"\",\"\",IF(COUNTIF($C132:$H132,Y$2)>0,0,1+Y131))","v":8},{"$f":"IF($A132=\"\",\"\",IF(COUNTIF($C132:$H132,Z$2)>0,0,1+Z131))","v":2},{"$f":"IF($A132=\"\",\"\",IF(COUNTIF($C132:$H132,AA$2)>0,0,1+AA131))","v":28},{"$f":"IF($A132=\"\",\"\",IF(COUNTIF($C132:$H132,AB$2)>0,0,1+AB131))","v":8},{"$f":"IF($A132=\"\",\"\",IF(COUNTIF($C132:$H132,AC$2)>0,0,1+AC131))","v":2},{"$f":"IF($A132=\"\",\"\",IF(COUNTIF($C132:$H132,AD$2)>0,0,1+AD131))","v":12},{"$f":"IF($A132=\"\",\"\",IF(COUNTIF($C132:$H132,AE$2)>0,0,1+AE131))","v":2},{"$f":"IF($A132=\"\",\"\",IF(COUNTIF($C132:$H132,AF$2)>0,0,1+AF131))","v":15},{"$f":"IF($A132=\"\",\"\",IF(COUNTIF($C132:$H132,AG$2)>0,0,1+AG131))","v":5},{"$f":"IF($A132=\"\",\"\",IF(COUNTIF($C132:$H132,AH$2)>0,0,1+AH131))","v":7},{"$f":"IF($A132=\"\",\"\",IF(COUNTIF($C132:$H132,AI$2)>0,0,1+AI131))","v":10},{"$f":"IF($A132=\"\",\"\",IF(COUNTIF($C132:$H132,AJ$2)>0,0,1+AJ131))","v":4},{"$f":"IF($A132=\"\",\"\",IF(COUNTIF($C132:$H132,AK$2)>0,0,1+AK131))","v":0},{"$f":"IF($A132=\"\",\"\",IF(COUNTIF($C132:$H132,AL$2)>0,0,1+AL131))","v":30},{"$f":"IF($A132=\"\",\"\",IF(COUNTIF($C132:$H132,AM$2)>0,0,1+AM131))","v":20},{"$f":"IF($A132=\"\",\"\",IF(COUNTIF($C132:$H132,AN$2)>0,0,1+AN131))","v":1},{"$f":"IF($A132=\"\",\"\",IF(COUNTIF($C132:$H132,AO$2)>0,0,1+AO131))","v":13},{"$f":"IF($A132=\"\",\"\",IF(COUNTIF($C132:$H132,AP$2)>0,0,1+AP131))","v":6},{"$f":"IF($A132=\"\",\"\",IF(COUNTIF($C132:$H132,AQ$2)>0,0,1+AQ131))","v":24},{"$f":"IF($A132=\"\",\"\",IF(COUNTIF($C132:$H132,AR$2)>0,0,1+AR131))","v":11},{"$f":"IF($A132=\"\",\"\",IF(COUNTIF($C132:$H132,AS$2)>0,0,1+AS131))","v":12},{"$f":"IF($A132=\"\",\"\",IF(COUNTIF($C132:$H132,AT$2)>0,0,1+AT131))","v":0},{"$f":"IF($A132=\"\",\"\",IF(COUNTIF($C132:$H132,AU$2)>0,0,1+AU131))","v":8},{"$f":"IF($A132=\"\",\"\",IF(COUNTIF($C132:$H132,AV$2)>0,0,1+AV131))","v":4},{"$f":"IF($A132=\"\",\"\",IF(COUNTIF($C132:$H132,AW$2)>0,0,1+AW131))","v":5},{"$f":"IF($A132=\"\",\"\",IF(COUNTIF($C132:$H132,AX$2)>0,0,1+AX131))","v":0},{"$f":"IF($A132=\"\",\"\",IF(COUNTIF($C132:$H132,AY$2)>0,0,1+AY131))","v":2},{"$f":"IF($A132=\"\",\"\",IF(COUNTIF($C132:$H132,AZ$2)>0,0,1+AZ131))","v":9},{"$f":"IF($A132=\"\",\"\",IF(COUNTIF($C132:$H132,BA$2)>0,0,1+BA131))","v":10},{"$f":"IF($A132=\"\",\"\",IF(COUNTIF($C132:$H132,BB$2)>0,0,1+BB131))","v":1},{"$f":"IF($A132=\"\",\"\",IF(COUNTIF($C132:$H132,BC$2)>0,0,1+BC131))","v":5},{"$f":"IF($A132=\"\",\"\",IF(COUNTIF($C132:$H132,BD$2)>0,0,1+BD131))","v":21},{"$f":"IF($A132=\"\",\"\",IF(COUNTIF($C132:$H132,BE$2)>0,0,1+BE131))","v":0},{"$f":"IF($A132=\"\",\"\",IF(COUNTIF($C132:$H132,BF$2)>0,0,1+BF131))","v":3},{"$f":"IF($A132=\"\",\"\",IF(COUNTIF($C132:$H132,BG$2)>0,0,1+BG131))","v":3},{"$f":"IF($A132=\"\",\"\",IF(COUNTIF($C132:$H132,BH$2)>0,0,1+BH131))","v":6},{"$f":"IF($A132=\"\",\"\",IF(COUNTIF($C132:$H132,BI$2)>0,0,1+BI131))","v":0},{"$f":"IF($A132=\"\",\"\",IF(COUNTIF($C132:$H132,BJ$2)>0,0,1+BJ131))","v":1},{"$f":"IF($A132=\"\",\"\",IF(COUNTIF($C132:$H132,BK$2)>0,0,1+BK131))","v":9},{"$f":"IF($A132=\"\",\"\",IF(COUNTIF($C132:$H132,BL$2)>0,0,1+BL131))","v":5},{"$f":"IF($A132=\"\",\"\",IF(COUNTIF($C132:$H132,BM$2)>0,0,1+BM131))","v":6},{"$f":"IF($A132=\"\",\"\",IF(COUNTIF($C132:$H132,BN$2)>0,0,1+BN131))","v":20},{"$f":"IF($A132=\"\",\"\",IF(COUNTIF($C132:$H132,BO$2)>0,0,1+BO131))","v":3},{"$f":"IF($A132=\"\",\"\",IF(COUNTIF($C132:$H132,BP$2)>0,0,1+BP131))","v":22},null,{"$f":"IF(COUNTIF(C132:H132,$BR$2)>0,$BR$2,\"\")","v":""},{"$f":"IF(COUNTIF(C132:H132,$BS$2)>0,$BS$2,\"\")","v":""},{"$f":"IF(COUNTIF(C132:H132,$BT$2)>0,$BT$2,\"\")","v":""},{"$f":"IF(COUNTIF(C132:H132,$BU$2)>0,$BU$2,\"\")","v":""},{"$f":"IF(COUNTIF(C132:H132,$BV$2)>0,$BV$2,\"\")","v":""},{"$f":"IF(COUNTIF(C132:H132,$BW$2)>0,$BW$2,\"\")","v":""},{"$f":"IF(COUNTIF(C132:H132,$BX$2)>0,$BX$2,\"\")","v":""},{"$f":"IF(COUNTIF(C132:H132,$BY$2)>0,$BY$2,\"\")","v":""},{"$f":"IF(COUNTIF(C132:H132,$BZ$2)>0,$BZ$2,\"\")","v":""},{"$f":"IF(COUNTIF(C132:H132,$CA$2)>0,$CA$2,\"\")","v":""},{"$f":"IF(COUNTIF(C132:H132,$CB$2)>0,$CB$2,\"\")","v":""},{"$f":"IF(COUNTIF(C132:H132,$CC$2)>0,$CC$2,\"\")","v":""},{"$f":"IF(COUNTIF(C132:H132,$CD$2)>0,$CD$2,\"\")","v":""},{"$f":"IF(COUNTIF(C132:H132,$CE$2)>0,$CE$2,\"\")","v":""},{"$f":"IF(COUNTIF(C132:H132,$CF$2)>0,$CF$2,\"\")","v":""},{"$f":"IF(COUNTIF(C132:H132,$CG$2)>0,$CG$2,\"\")","v":""},{"$f":"IF(COUNTIF(C132:H132,$CH$2)>0,$CH$2,\"\")","v":""},{"$f":"IF(COUNTIF(C132:H132,$CI$2)>0,$CI$2,\"\")","v":""},{"$f":"IF(COUNTIF(C132:H132,$CJ$2)>0,$CJ$2,\"\")","v":""},{"$f":"IF(COUNTIF(C132:H132,$CK$2)>0,$CK$2,\"\")","v":""},{"$f":"IF(COUNTIF(C132:H132,$CL$2)>0,$CL$2,\"\")","v":""},{"$f":"IF(COUNTIF(C132:H132,$CM$2)>0,$CM$2,\"\")","v":""},{"$f":"IF(COUNTIF(C132:H132,$CN$2)>0,$CN$2,\"\")","v":""},{"$f":"IF(COUNTIF(C132:H132,$CO$2)>0,$CO$2,\"\")","v":""},{"$f":"IF(COUNTIF(C132:H132,$CP$2)>0,$CP$2,\"\")","v":""},{"$f":"IF(COUNTIF(C132:H132,$CQ$2)>0,$CQ$2,\"\")","v":""},{"$f":"IF(COUNTIF(C132:H132,$CR$2)>0,$CR$2,\"\")","v":""},{"$f":"IF(COUNTIF(C132:H132,$CS$2)>0,$CS$2,\"\")","v":""},{"$f":"IF(COUNTIF(C132:H132,$CT$2)>0,$CT$2,\"\")","v":""},{"$f":"IF(COUNTIF(C132:H132,$CU$2)>0,$CU$2,\"\")","v":""},{"$f":"IF(COUNTIF(C132:H132,$CV$2)>0,$CV$2,\"\")","v":""},{"$f":"IF(COUNTIF(C132:H132,$CW$2)>0,$CW$2,\"\")","v":""},{"$f":"IF(COUNTIF(C132:H132,$CX$2)>0,$CX$2,\"\")","v":""},{"$f":"IF(COUNTIF(C132:H132,$CY$2)>0,$CY$2,\"\")","v":""},{"$f":"IF(COUNTIF(C132:H132,$CZ$2)>0,$CZ$2,\"\")","v":""},{"$f":"IF(COUNTIF(C132:H132,$DA$2)>0,$DA$2,\"\")","v":""},{"$f":"IF(COUNTIF(C132:H132,$DB$2)>0,$DB$2,\"\")","v":""},{"$f":"IF(COUNTIF(C132:H132,$DC$2)>0,$DC$2,\"\")","v":""},{"$f":"IF(COUNTIF(C132:H132,$DD$2)>0,$DD$2,\"\")","v":""},{"$f":"IF(COUNTIF(C132:H132,$DE$2)>0,$DE$2,\"\")","v":""},{"$f":"IF(COUNTIF(C132:H132,$DF$2)>0,$DF$2,\"\")","v":""},{"$f":"IF(COUNTIF(C132:H132,$DG$2)>0,$DG$2,\"\")","v":""},{"$f":"IF(COUNTIF(C132:H132,$DH$2)>0,$DH$2,\"\")","v":""},{"$f":"IF(COUNTIF(C132:H132,$DI$2)>0,$DI$2,\"\")","v":""},{"$f":"IF(COUNTIF(C132:H132,$DJ$2)>0,$DJ$2,\"\")","v":""},{"$f":"IF(COUNTIF(C132:H132,$DK$2)>0,$DK$2,\"\")","v":""},{"$f":"IF(COUNTIF(C132:H132,$DL$2)>0,$DL$2,\"\")","v":""},{"$f":"IF(COUNTIF(C132:H132,$DM$2)>0,$DM$2,\"\")","v":""},{"$f":"IF(COUNTIF(C132:H132,$DN$2)>0,$DN$2,\"\")","v":""},{"$f":"IF(COUNTIF(C132:H132,$DO$2)>0,$DO$2,\"\")","v":""},{"$f":"IF(COUNTIF(C132:H132,$DP$2)>0,$DP$2,\"\")","v":""},{"$f":"IF(COUNTIF(C132:H132,$DQ$2)>0,$DQ$2,\"\")","v":""},{"$f":"IF(COUNTIF(C132:H132,$DR$2)>0,$DR$2,\"\")","v":""},{"$f":"IF(COUNTIF(C132:H132,$DS$2)>0,$DS$2,\"\")","v":""},{"$f":"IF(COUNTIF(C132:H132,$DT$2)>0,$DT$2,\"\")","v":""},{"$f":"IF(COUNTIF(C132:H132,$DU$2)>0,$DU$2,\"\")","v":""},{"$f":"IF(COUNTIF(C132:H132,$DV$2)>0,$DV$2,\"\")","v":""},{"$f":"IF(COUNTIF(C132:H132,$DW$2)>0,$DW$2,\"\")","v":""},{"$f":"IF(COUNTIF(C132:H132,$DX$2)>0,$DX$2,\"\")","v":""},{"$f":"IF(COUNTIF(C132:H132,$DY$2)>0,$DY$2,\"\")","v":""},{"$f":"COUNT(BR132:DY132)","v":0}]
[131,"(05/09/1998)",4,9,17,27,30,44,2,10,3,0,7,5,18,37,0,2,5,17,1,8,7,8,0,3,29,9,3,13,3,16,6,8,0,5,1,0,21,2,14,7,25,12,13,1,9,5,6,1,3,0,11,2,6,22,1,4,4,7,1,2,10,6,7,21,4,23,null,"","","","","","","","","","","","","","","","","","","","","","","","","","","","","","","","","","","","","","","","","","","","","","","","","","","","","","","","","","","","",0]
[132,"(12/09/1998)",7,9,35,41,44,50,3,11,4,1,8,6,0,38,0,3,6,18,2,9,8,9,1,4,30,10,4,14,4,17,7,9,1,6,2,1,22,3,15,8,0,13,14,2,10,6,0,2,4,0,12,3,7,23,2,0,5,8,2,3,11,7,8,22,5,24,null,"","","","","","","","","","","","","","","","","","","","","","","","","","","","","","","","","","","","","","","","","","","","","","","","","","","","","","","","","","","","",0]
[133,"(19/09/1998)",5,6,19,34,39,57,4,12,5,2,0,0,1,39,1,4,7,19,3,10,9,10,2,5,0,11,5,15,5,18,8,10,2,7,3,2,23,4,16,0,1,14,15,3,0,7,1,3,5,1,13,4,8,24,3,1,6,9,3,4,12,8,0,23,6,25,null,"","","","","","","","","","","","","","","","","","","","","","","","","","","","","","","","","","","","","","","","","","","","","","","","","","","","","","","","","","","","",0]
[134,"(26/09/1998)",4,25,32,36,52,60,5,13,6,0,1,1,2,40,2,5,8,20,4,11,10,11,3,6,1,12,6,16,6,19,0,11,3,8,4,3,24,0,17,1,2,0,16,4,1,8,2,4,6,2,14,5,9,25,4,2,7,0,4,5,13,9,1,24,7,0,null,"","","","","","","","","","","","","","","","","","","","","","","","","","","","","","","","","","","","","","","","","","","","","","","","","","","","","","","","","","","","",0]
[135,"(03/10/1998)",21,22,35,40,53,59,6,14,7,1,2,2,3,41,3,6,9,21,5,12,11,12,4,7,2,13,0,0,7,20,1,12,4,9,5,4,25,1,18,2,0,1,17,5,2,0,3,5,7,3,15,6,10,26,5,3,8,1,0,6,14,10,2,25,0,1,null,"","","","","","","","","","","","","","","","","","","","","","","","","","","","","","","","","","","","","","","","","","","","","","","","","","","","","","","","","","","","",0]
[136,"(10/10/1998)",1,17,25,38,45,59,0,15,8,2,3,3,4,42,4,7,10,22,6,13,12,13,0,8,3,14,1,1,8,21,0,13,5,10,6,5,26,2,19,3,1,2,18,0,3,1,4,6,8,4,0,7,11,27,6,4,9,2,1,7,15,11,3,26,0,2,null,"","","","","","","","","","","","","","","","","","","","","","","","","","","","","","","","","","","","","","","","","","","","","","","","","","","","","","","","","","","","",0]
[137,"(17/10/1998)",15,16,19,22,26,49,1,16,9,3,4,4,5,43,5,8,11,23,7,14,0,0,1,9,0,15,2,0,9,22,1,0,6,11,7,6,27,3,20,4,2,3,19,1,4,2,5,7,9,5,1,8,12,28,0,5,10,3,2,8,16,12,4,27,1,3,null,"","","","","","","","","","","","","","","","","","","","","","","","","","","","","","","","","","","","","","","","","","","","","","","","","","","","","","","","","","","","",0]
[138,"(24/10/1998)",5,14,27,37,40,41,2,17,10,4,0,5,6,44,6,9,12,24,8,0,1,1,2,10,1,16,3,1,10,23,2,1,0,12,8,7,28,4,21,5,3,4,0,2,5,0,0,8,10,6,2,9,13,29,1,6,11,4,3,9,17,13,5,28,2,4,null,"","","","","","","","","","","","","","","","","","","","","","","","","","","","","","","","","","","","","","","","","","","","","","","","","","","","","","","","","","","","",0]
[139,"(31/10/1998)",3,13,26,27,41,42,3,18,0,5,1,6,7,45,7,10,13,25,0,1,2,2,3,11,2,17,4,2,11,24,3,0,0,13,9,8,29,5,22,6,4,5,1,3,6,1,0,0,11,7,3,10,14,30,2,7,12,5,4,10,18,14,6,29,3,5,null,"","","","","","","","","","","","","","","","","","","","","","","","","","","","","","","","","","","","","","","","","","","","","","","","","","","","","","","","","","","","",0]
[140,"(07/11/1998)",7,31,41,44,46,55,4,19,1,6,2,7,0,46,8,11,14,26,1,2,3,3,4,12,3,18,5,3,12,25,4,1,1,14,10,9,0,6,23,7,5,6,2,4,7,2,0,1,12,0,4,0,15,31,3,8,13,6,5,11,0,15,7,30,4,6,null,"","","","","","","","","","","","","","","","","","","","","","","","","","","","","","","","","","","","","","","","","","","","","","","","","","","","","","","","","","","","",0]
[141,"(14/11/1998)",10,13,22,41,42,58,5,20,2,7,3,8,1,47,9,0,15,27,0,3,4,4,5,13,4,19,6,0,13,26,5,2,2,15,11,10,1,7,24,8,6,7,3,5,8,3,0,0,13,1,5,1,16,32,4,9,14,7,6,12,1,16,8,0,5,7,null,"","","","","","","","","","","","","","","","","","","","","","","","","","","","","","","","","","","","","","","","","","","","","","","","","","","","","","","","","","","","",0]
[142,"(21/11/1998)",8,15,19,20,54,59,6,21,3,8,4,9,2,0,10,1,16,28,1,4,0,5,6,14,0,0,7,1,14,27,6,3,3,16,12,11,2,8,25,9,7,8,4,6,9,4,1,1,14,2,6,2,17,33,5,10,15,8,7,0,2,17,9,1,0,8,null,"","","","","","","","","","","","","","","","","","","","","","","","","","","","","","","","","","","","","","","","","","","","","","","","","","","","","","","","","","","","",0]
[143,"(28/11/1998)",6,18,20,40,50,53,7,22,4,9,5,0,3,1,11,2,17,29,2,5,1,6,7,0,1,0,8,2,15,28,7,4,4,17,13,12,3,9,26,10,8,9,5,7,10,0,2,2,15,3,7,3,18,34,6,0,16,9,0,1,3,18,10,2,1,9,null,"","","","","","","","","","","","","","","","","","","","","","","","","","","","","","","","","","","","","","","","","","","","","","","","","","","","","","","","","","","","",0]
[144,"(05/12/1998)",8,32,36,44,45,55,8,23,5,10,6,1,4,0,12,3,18,30,3,6,2,7,8,1,2,1,9,3,16,29,8,5,5,18,14,13,4,0,27,11,9,0,6,8,11,1,3,3,16,0,0,4,19,35,7,1,17,10,1,2,0,19,11,3,2,10,null,"","","","","","","","","","","","","","","","","","","","","","","","","","","","","","","","","","","","","","","","","","","","","","","","","","","","","","","","","","","","",0]
[145,"(12/12/1998)",15,16,31,41,43,51,9,24,6,11,7,2,5,1,13,4,19,31,4,7,0,0,9,2,3,2,10,4,17,30,9,6,6,19,15,14,0,1,28,12,10,1,7,9,12,2,0,4,0,1,1,5,20,36,8,2,0,11,2,3,1,20,12,4,3,11,null,"","","","","","","","","","","","","","","","","","","","","","","","","","","","","","","","","","","","","","","","","","","","","","","","","","","","","","","","","","","","",0]
[146,"(19/12/1998)",25,32,34,42,51,60,10,25,7,12,8,3,6,2,14,5,20,32,5,8,1,1,10,3,4,3,11,5,18,31,0,7,7,20,16,15,1,0,29,0,11,2,8,10,13,3,1,0,1,2,2,6,21,37,9,3,0,12,3,4,2,21,13,5,4,0,null,"","","","","","","","","","","","","","","","","","","","","","","","","","","","","","","","","","","","","","","","","","","","","","","","","","","","","","","","","","","","",0]
[147,"(24/12/1998)",6,16,23,24,28,38,11,26,8,13,9,0,7,3,15,6,21,33,6,9,2,0,11,4,5,4,12,6,0,0,1,8,8,0,17,16,2,1,30,1,12,3,9,0,14,4,2,1,2,3,3,7,22,38,10,4,1,13,4,5,3,22,14,6,5,1,null,"","","","","","","","","","","","","","","","","","","","","","","","","","","","","","","","","","","","","","","","","","","","","","","","","","","","","","","","","","","","",0]
[148,"(31/12/1998)",32,35,41,55,58,59,12,27,9,14,10,1,8,4,16,7,22,34,7,10,3,1,12,5,6,5,13,7,1,1,2,9,9,1,18,17,3,0,31,2,0,4,10,1,15,5,0,2,3,4,4,8,23,39,11,5,2,14,5,6,0,23,15,0,0,2,null,"","","","","","","","","","","","","","","","","","","","","","","","","","","","","","","","","","","","","","","","","","","","","","","","","","","","","","","","","","","","",0]
[149,"(09/01/1999)",7,11,20,28,45,48,13,28,10,15,11,2,0,5,17,8,0,35,8,11,4,2,13,6,7,0,14,8,2,2,3,10,10,0,19,18,4,1,32,3,1,5,11,2,16,6,1,3,4,5,0,9,24,0,12,6,3,15,6,7,1,24,16,1,1,3,null,"","","","","","","","","","","","","","","","","","","","","","","","","","","","","","","","","","","","","","","","","","","","","","","","","","","","","","","","","","","","",0]
[150,"(16/01/1999)",12,44,50,52,54,55,14,29,11,16,12,3,1,6,18,9,1,0,9,12,5,3,14,7,8,1,15,9,3,3,4,11,11,1,20,19,5,2,33,4,2,6,12,3,17,7,2,4,5,0,1,10,25,1,13,0,4,0,7,0,0,25,17,2,2,4,null,"","","","","","","","","","","","","","","","","","","","","","","","","","","","","","","","","","","","","","","","","","","","","","","","","","","","","","","","","","","","",0]
[151,"(23/01/1999)",3,16,20,43,52,56,15,30,0,17,13,4,2,7,19,10,2,1,10,13,6,0,15,8,9,0,16,10,4,4,5,12,12,2,21,20,6,3,34,5,3,7,13,4,18,8,3,5,0,1,2,11,26,2,14,1,5,0,8,1,1,0,18,3,3,5,null,"","","","","","","","","","","","","","","","","","","","","","","","","","","","","","","","","","","","","","","","","","","","","","","","","","","","","","","","","","","","",0]
[152,"(30/01/1999)",5,12,15,29,51,58,16,31,1,18,0,5,3,8,20,11,3,0,11,14,0,1,16,9,10,1,17,11,5,5,6,13,13,3,0,21,7,4,35,6,4,8,14,5,19,9,4,6,1,2,3,12,27,3,15,2,0,1,9,2,2,1,19,0,4,6,null,"","","","","","","","","","","","","","","","","","","","","","","","","","","","","","","","","","","","","","","","","","","","","","","","","","","","","","","","","","","","",0]
[153,"(06/02/1999)",2,30,31,42,45,47,17,0,2,19,1,6,4,9,21,12,4,1,12,15,1,2,17,10,11,2,18,12,6,6,7,14,14,4,1,0,0,5,36,7,5,9,15,6,20,10,5,0,2,3,0,13,0,4,16,3,1,2,10,3,3,2,20,1,5,7,null,"","","","","","","","","","","","","","","","","","","","","","","","","","","","","","","","","","","","","","","","","","","","","","","","","","","","","","","","","","","","",0]
[154,"(13/02/1999)",8,10,24,33,45,48,18,1,3,20,2,7,5,0,22,0,5,2,13,16,2,3,18,11,12,3,19,13,7,0,8,15,15,5,2,1,1,6,0,8,6,10,16,7,21,11,6,1,3,4,0,14,1,0,17,4,2,3,11,4,4,3,21,2,6,8,null,"","","","","","","","","","","","","","","","","","","","","","","","","","","","","","","","","","","","","","","","","","","","","","","","","","","","","","","","","","","","",0]
[155,"(20/02/1999)",12,30,32,35,43,44,19,2,4,21,3,8,6,1,23,1,6,0,14,17,3,4,19,12,13,4,20,14,8,1,9,16,16,6,3,0,2,0,1,9,0,11,17,8,22,12,7,2,0,0,1,15,2,1,18,5,3,4,12,5,5,4,22,3,7,9,null,"","","","","","","","","","","","","","","","","","","","","","","","","","","","","","","","","","","","","","","","","","","","","","","","","","","","","","","","","","","","",0]
[156,"(27/02/1999)",17,23,42,49,52,55,20,3,5,22,4,9,7,2,24,2,7,1,15,18,4,5,0,13,14,5,21,15,0,2,10,17,17,7,4,1,3,1,2,10,1,12,18,9,23,13,8,0,1,1,2,16,3,2,0,6,4,0,13,6,0,5,23,4,8,10,null,"","","","","","","","","","","","","","","","","","","","","","","","","","","","","","","","","","","","","","","","","","","","","","","","","","","","","","","","","","","","",0]
[157,"(06/03/1999)",4,13,17,21,41,44,21,4,6,0,5,10,8,3,25,3,8,2,0,19,5,6,0,14,15,6,0,16,1,3,11,18,18,8,5,2,4,2,3,11,2,13,19,10,24,14,0,1,2,0,3,17,4,3,1,7,5,1,14,7,1,6,24,5,9,11,null,"","","","","","","","","","","","","","","","","","","","","","","","","","","","","","","","","","","","","","","","","","","","","","","","","","","","","","","","","","","","",0]
[158,"(13/03/1999)",4,14,17,43,51,58,22,5,7,0,6,11,9,4,26,4,9,3,1,0,6,7,0,15,16,7,1,17,2,4,12,19,19,9,6,3,5,3,4,12,3,14,20,11,25,15,1,2,0,1,4,18,5,4,2,8,0,2,15,8,2,7,25,0,10,12,null,"","","","","","","","","","","","","","","","","","","","","","","","","","","","","","","","","","","","","","","","","","","","","","","","","","","","","","","","","","","","",0]
[159,"(20/03/1999)",9,11,16,35,50,58,23,6,8,1,7,12,10,5,0,5,0,4,2,1,7,0,1,16,17,8,2,18,3,5,13,20,20,10,7,4,6,4,5,13,0,15,21,12,26,16,2,3,1,2,5,19,6,5,3,0,1,3,16,9,3,8,26,0,11,13,null,"","","","","","","","","","","","","","","","","","","","","","","","","","","","","","","","","","","","","","","","","","","","","","","","","","","","","","","","","","","","",0]
[160,"(27/03/1999)",2,13,42,52,54,58,24,0,9,2,8,13,11,6,1,6,1,5,0,2,8,1,2,17,18,9,3,19,4,6,14,21,21,11,8,5,7,5,6,14,1,16,22,13,27,17,3,0,2,3,6,20,7,6,4,1,2,0,17,0,4,9,27,0,12,14,null,"","","","","","","","","","","","","","","","","","","","","","","","","","","","","","","","","","","","","","","","","","","","","","","","","","","","","","","","","","","","",0]
[161,"(03/04/1999)",6,25,30,37,39,41,25,1,10,3,9,0,12,7,2,7,2,6,1,3,9,2,3,18,19,10,4,20,5,7,0,22,22,12,9,0,8,6,7,15,2,17,0,14,0,18,0,1,3,4,7,21,8,7,5,2,3,1,18,1,5,10,28,1,13,15,null,"","","","","","","","","","","","","","","","","","","","","","","","","","","","","","","","","","","","","","","","","","","","","","","","","","","","","","","","","","","","",0]
[162,"(10/04/1999)",21,23,33,38,48,51,26,2,11,4,10,1,13,8,3,8,3,7,2,4,10,3,4,19,20,11,0,21,0,8,1,23,23,13,10,1,9,7,0,16,3,18,1,0,1,19,1,2,4,5,8,22,9,0,6,3,0,2,19,2,6,11,29,2,14,16,null,"","","","","","","","","","","","","","","","","","","","","","","","","","","","","","","","","","","","","","","","","","","","","","","","","","","","","","","","","","","","",0]
[163,"(17/04/1999)",8,27,36,41,53,56,27,3,12,5,11,2,14,0,4,9,4,8,3,5,11,4,5,20,21,12,1,22,1,9,2,24,0,14,11,2,10,8,1,17,4,0,2,1,2,20,0,3,5,6,9,23,10,1,7,4,1,3,0,3,7,0,30,3,15,17,null,"","","","","","","","","","","","","","","","","","","","","","","","","","","","","","","","","","","","","","","","","","","","","","","","","","","","","","","","","","","","",0]
[164,"(24/04/1999)",4,10,14,19,28,44,28,4,13,0,12,3,15,1,5,0,5,9,4,0,12,5,6,21,0,13,2,23,2,10,3,25,1,0,12,3,11,9,2,18,5,1,3,2,3,21,1,4,6,0,10,24,11,2,8,5,2,4,1,4,8,1,31,4,16,18,null,"","","","","","","","","","","","","","","","","","","","","","","","","","","","","","","","","","","","","","","","","","","","","","","","","","","","","","","","","","","","",0]
[165,"(01/05/1999)",10,19,23,35,39,56,29,5,14,1,13,4,16,2,6,0,6,10,5,1,13,6,7,22,0,14,3,24,0,11,4,26,2,1,13,4,12,10,3,19,0,2,4,3,0,22,2,5,7,1,11,25,12,3,9,6,3,5,2,5,9,0,32,5,17,19,null,"","","","","","","","","","","","","","","","","","","","","","","","","","","","","","","","","","","","","","","","","","","","","","","","","","","","","","","","","","","","",0]
[166,"(08/05/1999)",12,13,22,57,59,60,30,6,15,2,14,5,17,3,7,1,7,0,0,2,14,7,8,23,1,15,4,0,1,12,5,27,3,2,14,5,13,11,4,20,1,3,5,4,1,23,3,6,8,2,12,26,13,4,10,7,4,6,3,6,10,1,0,6,0,0,null,"","","","","","","","","","","","","","","","","","","","","","","","","","","","","","","","","","","","","","","","","","","","","","","","","","","","","","","","","","","","",0]
[167,"(15/05/1999)",1,11,28,33,38,48,0,7,16,3,15,6,18,4,8,2,0,1,1,3,15,8,9,24,2,16,5,1,2,13,6,28,4,0,15,6,14,12,0,21,2,4,6,0,2,24,4,7,9,3,13,27,14,0,11,8,5,7,4,7,11,2,1,7,1,1,null,"","","","","","","","","","","","","","","","","","","","","","","","","","","","","","","","","","","","","","","","","","","","","","","","","","","","","","","","","","","","",0]
[168,"(22/05/1999)",2,9,31,35,45,50,1,0,17,4,16,7,19,5,0,3,1,2,2,4,16,9,10,25,3,17,6,2,3,14,7,29,5,1,16,7,0,13,1,22,0,5,7,1,3,25,5,8,10,4,0,28,15,1,12,0,6,8,5,8,12,3,2,8,2,2,null,"","","","","","","","","","","","","","","","","","","","","","","","","","","","","","","","","","","","","","","","","","","","","","","","","","","","","","","","","","","","",0]
[169,"(29/05/1999)",1,13,21,37,51,52,0,1,18,5,17,8,20,6,1,4,2,3,0,5,17,10,11,26,4,18,0,3,4,15,8,30,6,2,17,8,1,14,2,23,1,6,0,2,4,26,6,9,11,5,1,29,16,2,13,1,0,0,6,9,13,4,3,9,3,3,null,"","","","","","","","","","","","","","","","","","","","","","","","","","","","","","","","","","","","","","","","","","","","","","","","","","","","","","","","","","","","",0]
[170,"(05/06/1999)",7,41,46,51,55,58,1,2,19,6,18,9,0,7,2,5,3,4,1,6,18,11,12,27,5,19,1,4,5,16,9,31,7,3,18,9,2,15,3,24,2,7,1,3,5,27,0,10,12,6,2,0,17,3,14,2,0,1,7,10,0,5,4,0,4,4,null,"","","","","","","","","","","","","","","","","","","","","","","","","","","","","","","","","","","","","","","","","","","","","","","","","","","","","","","","","","","","",0]
[171,"(12/06/1999)",4,27,40,43,46,54,2,3,20,0,19,10,1,8,3,6,4,5,2,7,19,12,13,28,6,20,2,5,6,17,10,32,0,4,19,10,3,16,4,25,3,8,2,4,6,0,1,11,0,7,3,0,18,4,15,3,1,2,8,0,1,6,5,1,5,5,null,"","","","","","","","","","","","","","","","","","","","","","","","","","","","","","","","","","","","","","","","","","","","","","","","","","","","","","","","","","","","",0]
[172,"(19/06/1999)",10,14,26,35,36,49,3,4,21,1,20,11,2,9,4,0,5,6,3,0,20,13,14,29,7,21,3,6,7,18,11,0,1,5,20,11,4,17,5,26,0,0,3,5,7,1,2,12,1,8,4,1,19,5,0,4,2,3,9,1,2,7,6,2,6,6,null,"","","","","","","","","","","","","","","","","","","","","","","","","","","","","","","","","","","","","","","","","","","","","","","","","","","","","","","","","","","","",0]
[173,"(26/06/1999)",17,28,29,42,49,50,4,5,22,2,21,12,3,10,5,1,6,7,4,1,21,14,0,30,8,22,4,7,8,19,12,1,2,0,0,12,5,18,6,27,1,1,4,6,8,2,3,0,2,9,5,2,20,6,0,0,3,4,10,2,3,8,7,3,7,7,null,"","","","","","","","","","","","","","","","","","","","","","","","","","","","","","","","","","","","","","","","","","","","","","","","","","","","","","","","","","","","",0]
[174,"(03/07/1999)",11,22,23,36,52,59,5,6,23,3,22,13,4,11,6,2,0,8,5,2,22,15,1,31,9,23,5,0,0,20,13,2,3,1,1,13,6,19,7,28,2,0,5,7,9,3,4,1,3,10,6,3,21,7,1,1,4,0,11,3,4,9,8,4,0,8,null,"","","","","","","","","","","","","","","","","","","","","","","","","","","","","","","","","","","","","","","","","","","","","","","","","","","","","","","","","","","","",0]
[175,"(10/07/1999)",1,10,13,20,42,50,0,7,24,4,23,14,5,12,7,0,1,9,0,3,23,16,2,32,10,0,6,1,1,21,14,3,4,2,2,14,7,20,8,29,3,1,6,8,10,4,5,0,4,11,7,4,22,8,2,0,5,1,12,4,5,10,9,5,1,9,null,"","","","","","","","","","","","","","","","","","","","","","","","","","","","","","","","","","","","","","","","","","","","","","","","","","","","","","","","","","","","",0]
[176,"(17/07/1999)",1,3,4,28,45,53,0,8,0,0,24,15,6,13,8,1,2,10,1,4,24,17,3,33,11,1,7,2,2,22,15,4,5,0,3,15,8,21,9,30,4,2,7,9,11,5,6,1,5,12,0,5,23,9,3,1,6,2,0,5,6,11,10,6,2,10,null,"","","","","","","","","","","","","","","","","","","","","","","","","","","","","","","","","","","","","","","","","","","","","","","","","","","","","","","","","","","","",0]
[177,"(24/07/1999)",22,35,38,39,41,59,1,9,1,1,25,16,7,14,9,2,3,11,2,5,25,18,4,34,12,2,8,0,3,23,16,5,6,1,4,16,9,22,10,31,0,3,8,0,0,6,0,2,6,13,1,6,24,10,4,2,7,3,1,6,7,12,11,7,0,11,null,"","","","","","","","","","","","","","","","","","","","","","","","","","","","","","","","","","","","","","","","","","","","","","","","","","","","","","","","","","","","",0]
[178,"(31/07/1999)",5,15,19,26,27,33,2,10,2,2,0,17,8,15,10,3,4,12,3,6,0,19,5,35,0,3,9,1,4,24,17,0,0,2,5,17,10,23,0,32,1,4,9,1,1,7,1,3,7,14,2,7,25,11,5,3,8,4,2,7,8,13,12,8,1,12,null,"","","","","","","","","","","","","","","","","","","","","","","","","","","","","","","","","","","","","","","","","","","","","","","","","","","","","","","","","","","","",0]
[179,"(07/08/1999)",5,6,23,26,27,53,3,11,3,3,0,0,9,16,11,4,5,13,4,7,1,20,6,36,1,4,10,2,0,25,18,0,0,3,6,18,11,24,1,33,2,5,10,2,2,8,2,4,8,15,3,8,26,12,6,4,9,5,0,8,9,14,13,9,2,13,null,"","","","","","","","","","","","","","","","","","","","","","","","","","","","","","","","","","","","","","","","","","","","","","","","","","","","","","","","","","","","",0]
[180,"(14/08/1999)",6,23,29,39,51,60,4,12,4,4,1,0,10,17,12,5,6,14,5,8,2,21,7,37,2,5,11,3,0,26,19,1,1,4,0,19,12,25,2,34,3,6,11,3,0,9,3,5,9,16,4,9,27,13,7,5,0,6,1,9,10,15,14,10,3,0,null,"","","","","","","","","","","","","","","","","","","","","","","","","","","","","","","","","","","","","","","","","","","","","","","","","","","","","","","","","","","","",0]
[181,"(21/08/1999)",1,27,33,35,51,55,0,13,5,5,2,1,11,18,13,6,7,15,6,9,3,22,8,38,3,6,12,4,1,27,20,2,0,5,1,20,13,26,0,35,0,7,12,4,1,10,4,6,10,17,5,10,28,14,8,6,0,7,2,10,0,16,15,11,4,1,null,"","","","","","","","","","","","","","","","","","","","","","","","","","","","","","","","","","","","","","","","","","","","","","","","","","","","","","","","","","","","",0]
[182,"(28/08/1999)",3,5,10,28,46,60,1,14,0,6,0,2,12,19,14,0,8,16,7,10,4,23,9,39,4,7,13,5,2,28,21,3,1,0,2,21,14,27,1,36,1,8,13,5,2,11,5,7,11,18,6,0,29,15,9,7,1,8,3,11,1,17,16,12,5,0,null,"","","","","","","","","","","","","","","","","","","","","","","","","","","","","","","","","","","","","","","","","","","","","","","","","","","","","","","","","","","","",0]
[183,"(04/09/1999)",2,7,11,16,40,44,2,0,1,7,1,3,0,20,15,1,0,17,8,11,5,0,10,40,5,8,14,6,3,29,22,4,2,1,3,22,15,28,2,37,2,9,14,6,3,0,6,8,12,0,7,1,30,16,10,8,2,9,4,12,2,18,17,13,6,1,null,"","","","","","","","","","","","","","","","","","","","","","","","","","","","","","","","","","","","","","","","","","","","","","","","","","","","","","","","","","","","",0]
[184,"(11/09/1999)",9,16,21,34,41,60,3,1,2,8,2,4,1,21,0,2,1,18,9,12,6,0,11,41,6,9,0,7,4,30,23,5,3,2,4,23,16,29,3,0,3,10,15,7,4,1,0,9,13,1,8,2,31,17,11,9,3,10,5,13,3,19,18,14,7,0,null,"","","","","","","","","","","","","","","","","","","","","","","","","","","","","","","","","","","","","","","","","","","","","","","","","","","","","","","","","","","","",0]
[185,"(18/09/1999)",17,22,43,46,55,59,4,2,3,9,3,5,2,22,1,3,2,19,10,13,7,1,0,42,7,10,1,0,5,31,24,6,4,3,5,24,17,30,4,1,4,11,16,8,5,2,1,10,0,2,9,0,32,18,12,10,4,11,6,14,0,20,19,15,0,1,null,"","","","","","","","","","","","","","","","","","","","","","","","","","","","","","","","","","","","","","","","","","","","","","","","","","","","","","","","","","","","",0]
[186,"(25/09/1999)",14,23,24,25,26,51,5,3,4,10,4,6,3,23,2,4,3,20,11,0,8,2,1,43,8,11,2,1,0,0,0,0,5,4,6,25,18,31,5,2,5,12,17,9,6,3,2,11,1,3,10,1,33,19,13,11,0,12,7,15,1,21,20,16,1,2,null,"","","","","","","","","","","","","","","","","","","","","","","","","","","","","","","","","","","","","","","","","","","","","","","","","","","","","","","","","","","","",0]
[187,"(02/10/1999)",6,36,41,44,48,58,6,4,5,11,5,0,4,24,3,5,4,21,12,1,9,3,2,44,9,12,3,2,1,1,1,1,6,5,7,26,19,32,6,3,6,0,18,10,7,4,0,12,2,0,11,2,34,0,14,12,1,13,8,16,2,22,21,0,2,3,null,"","","","","","","","","","","","","","","","","","","","","","","","","","","","","","","","","","","","","","","","","","","","","","","","","","","","","","","","","","","","",0]
[188,"(10/10/1999)",17,27,34,42,43,46,7,5,6,12,6,1,5,25,4,6,5,22,13,2,10,4,0,45,10,13,4,3,2,2,2,2,0,6,8,27,20,33,7,0,7,1,19,11,8,5,1,0,0,1,12,0,35,1,15,13,2,14,9,17,3,23,22,1,3,4,null,"","","","","","","","","","","","","","","","","","","","","","","","","","","","","","","","","","","","","","","","","","","","","","","","","","","","","","","","","","","","",0]
[189,"(16/10/1999)",4,15,31,38,41,53,8,6,7,0,7,2,6,26,5,7,6,23,14,3,0,5,1,46,11,14,5,4,3,3,3,3,1,7,9,28,0,34,8,1,8,2,20,0,9,6,0,1,1,2,13,1,36,2,16,14,3,15,0,18,4,24,23,2,4,5,null,"","","","","","","","","","","","","","","","","","","","","","","","","","","","","","","","","","","","","","","","","","","","","","","","","","","","","","","","","","","","",0]
[190,"(24/10/1999)",5,10,21,32,40,42,9,7,8,1,0,3,7,27,6,0,7,24,15,4,1,6,2,47,12,15,0,5,4,4,4,4,2,8,10,29,1,0,9,2,9,3,21,1,10,0,1,0,2,3,14,2,37,3,17,15,4,16,1,19,5,25,24,3,5,6,null,"","","","","","","","","","","","","","","","","","","","","","","","","","","","","","","","","","","","","","","","","","","","","","","","","","","","","","","","","","","","",0]
[191,"(31/10/1999)",1,3,5,23,41,58,0,8,0,2,0,4,8,28,7,1,8,25,16,5,2,7,3,48,13,16,1,6,0,5,5,5,3,9,11,30,2,1,10,3,10,4,22,2,11,1,0,1,3,4,15,3,38,4,18,16,5,17,2,20,6,26,25,0,6,7,null,"","","","","","","","","","","","","","","","","","","","","","","","","","","","","","","","","","","","","","","","","","","","","","","","","","","","","","","","","","","","",0]
[192,"(06/11/1999)",1,26,28,41,54,60,0,9,1,3,1,5,9,29,8,2,9,26,17,6,3,8,4,49,14,17,2,7,1,6,6,0,4,0,12,31,3,2,11,4,11,5,23,3,12,2,0,2,4,5,16,4,39,5,19,17,6,18,3,0,7,27,26,1,7,0,null,"","","","","","","","","","","","","","","","","","","","","","","","","","","","","","","","","","","","","","","","","","","","","","","","","","","","","","","","","","","","",0]
[193,"(13/11/1999)",4,11,12,19,43,49,1,10,2,0,2,6,10,30,9,3,0,0,18,7,4,9,5,50,0,18,3,8,2,7,7,1,5,1,13,32,4,3,12,5,12,6,24,4,13,3,1,3,0,6,17,5,40,6,0,18,7,19,4,1,8,28,27,2,8,1,null,"","","","","","","","","","","","","","","","","","","","","","","","","","","","","","","","","","","","","","","","","","","","","","","","","","","","","","","","","","","","",0]
[194,"(20/11/1999)",25,28,32,33,42,43,{"$f":"IF($A196=\"\",\"\",IF(COUNTIF($C196:$H196,I$2)>0,0,1+I195))","v":2},{"$f":"IF($A196=\"\",\"\",IF(COUNTIF($C196:$H196,J$2)>0,0,1+J195))","v":11},{"$f":"IF($A196=\"\",\"\",IF(COUNTIF($C196:$H196,K$2)>0,0,1+K195))","v":3},{"$f":"IF($A196=\"\",\"\",IF(COUNTIF($C196:$H196,L$2)>0,0,1+L195))","v":1},{"$f":"IF($A196=\"\",\"\",IF(COUNTIF($C196:$H196,M$2)>0,0,1+M195))","v":3},{"$f":"IF($A196=\"\",\"\",IF(COUNTIF($C196:$H196,N$2)>0,0,1+N195))","v":7},{"$f":"IF($A196=\"\",\"\",IF(COUNTIF($C196:$H196,O$2)>0,0,1+O195))","v":11},{"$f":"IF($A196=\"\",\"\",IF(COUNTIF($C196:$H196,P$2)>0,0,1+P195))","v":31},{"$f":"IF($A196=\"\",\"\",IF(COUNTIF($C196:$H196,Q$2)>0,0,1+Q195))","v":10},{"$f":"IF($A196=\"\",\"\",IF(COUNTIF($C196:$H196,R$2)>0,0,1+R195))","v":4},{"$f":"IF($A196=\"\",\"\",IF(COUNTIF($C196:$H196,S$2)>0,0,1+S195))","v":1},{"$f":"IF($A196=\"\",\"\",IF(COUNTIF($C196:$H196,T$2)>0,0,1+T195))","v":1},{"$f":"IF($A196=\"\",\"\",IF(COUNTIF($C196:$H196,U$2)>0,0,1+U195))","v":19},{"$f":"IF($A196=\"\",\"\",IF(COUNTIF($C196:$H196,V$2)>0,0,1+V195))","v":8},{"$f":"IF($A196=\"\",\"\",IF(COUNTIF($C196:$H196,W$2)>0,0,1+W195))","v":5},{"$f":"IF($A196=\"\",\"\",IF(COUNTIF($C196:$H196,X$2)>0,0,1+X195))","v":10},{"$f":"IF($A196=\"\",\"\",IF(COUNTIF($C196:$H196,Y$2)>0,0,1+Y195))","v":6},{"$f":"IF($A196=\"\",\"\",IF(COUNTIF($C196:$H196,Z$2)>0,0,1+Z195))","v":51},{"$f":"IF($A196=\"\",\"\",IF(COUNTIF($C196:$H196,AA$2)>0,0,1+AA195))","v":1},{"$f":"IF($A196=\"\",\"\",IF(COUNTIF($C196:$H196,AB$2)>0,0,1+AB195))","v":19},{"$f":"IF($A196=\"\",\"\",IF(COUNTIF($C196:$H196,AC$2)>0,0,1+AC195))","v":4},{"$f":"IF($A196=\"\",\"\",IF(COUNTIF($C196:$H196,AD$2)>0,0,1+AD195))","v":9},{"$f":"IF($A196=\"\",\"\",IF(COUNTIF($C196:$H196,AE$2)>0,0,1+AE195))","v":3},{"$f":"IF($A196=\"\",\"\",IF(COUNTIF($C196:$H196,AF$2)>0,0,1+AF195))","v":8},{"$f":"IF($A196=\"\",\"\",IF(COUNTIF($C196:$H196,AG$2)>0,0,1+AG195))","v":0},{"$f":"IF($A196=\"\",\"\",IF(COUNTIF($C196:$H196,AH$2)>0,0,1+AH195))","v":2},{"$f":"IF($A196=\"\",\"\",IF(COUNTIF($C196:$H196,AI$2)>0,0,1+AI195))","v":6},{"$f":"IF($A196=\"\",\"\",IF(COUNTIF($C196:$H196,AJ$2)>0,0,1+AJ195))","v":0},{"$f":"IF($A196=\"\",\"\",IF(COUNTIF($C196:$H196,AK$2)>0,0,1+AK195))","v":14},{"$f":"IF($A196=\"\",\"\",IF(COUNTIF($C196:$H196,AL$2)>0,0,1+AL195))","v":33},{"$f":"IF($A196=\"\",\"\",IF(COUNTIF($C196:$H196,AM$2)>0,0,1+AM195))","v":5},{"$f":"IF($A196=\"\",\"\",IF(COUNTIF($C196:$H196,AN$2)>0,0,1+AN195))","v":0},{"$f":"IF($A196=\"\",\"\",IF(COUNTIF($C196:$H196,AO$2)>0,0,1+AO195))","v":0},{"$f":"IF($A196=\"\",\"\",IF(COUNTIF($C196:$H196,AP$2)>0,0,1+AP195))","v":6},{"$f":"IF($A196=\"\",\"\",IF(COUNTIF($C196:$H196,AQ$2)>0,0,1+AQ195))","v":13},{"$f":"IF($A196=\"\",\"\",IF(COUNTIF($C196:$H196,AR$2)>0,0,1+AR195))","v":7},{"$f":"IF($A196=\"\",\"\",IF(COUNTIF($C196:$H196,AS$2)>0,0,1+AS195))","v":25},{"$f":"IF($A196=\"\",\"\",IF(COUNTIF($C196:$H196,AT$2)>0,0,1+AT195))","v":5},{"$f":"IF($A196=\"\",\"\",IF(COUNTIF($C196:$H196,AU$2)>0,0,1+AU195))","v":14},{"$f":"IF($A196=\"\",\"\",IF(COUNTIF($C196:$H196,AV$2)>0,0,1+AV195))","v":4},{"$f":"IF($A196=\"\",\"\",IF(COUNTIF($C196:$H196,AW$2)>0,0,1+AW195))","v":2},{"$f":"IF($A196=\"\",\"\",IF(COUNTIF($C196:$H196,AX$2)>0,0,1+AX195))","v":0},{"$f":"IF($A196=\"\",\"\",IF(COUNTIF($C196:$H196,AY$2)>0,0,1+AY195))","v":0},{"$f":"IF($A196=\"\",\"\",IF(COUNTIF($C196:$H196,AZ$2)>0,0,1+AZ195))","v":7},{"$f":"IF($A196=\"\",\"\",IF(COUNTIF($C196:$H196,BA$2)>0,0,1+BA195))","v":18},{"$f":"IF($A196=\"\",\"\",IF(COUNTIF($C196:$H196,BB$2)>0,0,1+BB195))","v":6},{"$f":"IF($A196=\"\",\"\",IF(COUNTIF($C196:$H196,BC$2)>0,0,1+BC195))","v":41},{"$f":"IF($A196=\"\",\"\",IF(COUNTIF($C196:$H196,BD$2)>0,0,1+BD195))","v":7},{"$f":"IF($A196=\"\",\"\",IF(COUNTIF($C196:$H196,BE$2)>0,0,1+BE195))","v":1},{"$f":"IF($A196=\"\",\"\",IF(COUNTIF($C196:$H196,BF$2)>0,0,1+BF195))","v":19},{"$f":"IF($A196=\"\",\"\",IF(COUNTIF($C196:$H196,BG$2)>0,0,1+BG195))","v":8},{"$f":"IF($A196=\"\",\"\",IF(COUNTIF($C196:$H196,BH$2)>0,0,1+BH195))","v":20},{"$f":"IF($A196=\"\",\"\",IF(COUNTIF($C196:$H196,BI$2)>0,0,1+BI195))","v":5},{"$f":"IF($A196=\"\",\"\",IF(COUNTIF($C196:$H196,BJ$2)>0,0,1+BJ195))","v":2},{"$f":"IF($A196=\"\",\"\",IF(COUNTIF($C196:$H196,BK$2)>0,0,1+BK195))","v":9},{"$f":"IF($A196=\"\",\"\",IF(COUNTIF($C196:$H196,BL$2)>0,0,1+BL195))","v":29},{"$f":"IF($A196=\"\",\"\",IF(COUNTIF($C196:$H196,BM$2)>0,0,1+BM195))","v":28},{"$f":"IF($A196=\"\",\"\",IF(COUNTIF($C196:$H196,BN$2)>0,0,1+BN195))","v":3},{"$f":"IF($A196=\"\",\"\",IF(COUNTIF($C196:$H196,BO$2)>0,0,1+BO195))","v":9},{"$f":"IF($A196=\"\",\"\",IF(COUNTIF($C196:$H196,BP$2)>0,0,1+BP195))","v":2},null,{"$f":"IF(COUNTIF(C196:H196,$BR$2)>0,$BR$2,\"\")","v":""},{"$f":"IF(COUNTIF(C196:H196,$BS$2)>0,$BS$2,\"\")","v":""},{"$f":"IF(COUNTIF(C196:H196,$BT$2)>0,$BT$2,\"\")","v":""},{"$f":"IF(COUNTIF(C196:H196,$BU$2)>0,$BU$2,\"\")","v":""},{"$f":"IF(COUNTIF(C196:H196,$BV$2)>0,$BV$2,\"\")","v":""},{"$f":"IF(COUNTIF(C196:H196,$BW$2)>0,$BW$2,\"\")","v":""},{"$f":"IF(COUNTIF(C196:H196,$BX$2)>0,$BX$2,\"\")","v":""},{"$f":"IF(COUNTIF(C196:H196,$BY$2)>0,$BY$2,\"\")","v":""},{"$f":"IF(COUNTIF(C196:H196,$BZ$2)>0,$BZ$2,\"\")","v":""},{"$f":"IF(COUNTIF(C196:H196,$CA$2)>0,$CA$2,\"\")","v":""},{"$f":"IF(COUNTIF(C196:H196,$CB$2)>0,$CB$2,\"\")","v":""},{"$f":"IF(COUNTIF(C196:H196,$CC$2)>0,$CC$2,\"\")","v":""},{"$f":"IF(COUNTIF(C196:H196,$CD$2)>0,$CD$2,\"\")","v":""},{"$f":"IF(COUNTIF(C196:H196,$CE$2)>0,$CE$2,\"\")","v":""},{"$f":"IF(COUNTIF(C196:H196,$CF$2)>0,$CF$2,\"\")","v":""},{"$f":"IF(COUNTIF(C196:H196,$CG$2)>0,$CG$2,\"\")","v":""},{"$f":"IF(COUNTIF(C196:H196,$CH$2)>0,$CH$2,\"\")","v":""},{"$f":"IF(COUNTIF(C196:H196,$CI$2)>0,$CI$2,\"\")","v":""},{"$f":"IF(COUNTIF(C196:H196,$CJ$2)>0,$CJ$2,\"\")","v":""},{"$f":"IF(COUNTIF(C196:H196,$CK$2)>0,$CK$2,\"\")","v":""},{"$f":"IF(COUNTIF(C196:H196,$CL$2)>0,$CL$2,\"\")","v":""},{"$f":"IF(COUNTIF(C196:H196,$CM$2)>0,$CM$2,\"\")","v":""},{"$f":"IF(COUNTIF(C196:H196,$CN$2)>0,$CN$2,\"\")","v":""},{"$f":"IF(COUNTIF(C196:H196,$CO$2)>0,$CO$2,\"\")","v":""},{"$f":"IF(COUNTIF(C196:H196,$CP$2)>0,$CP$2,\"\")","v":""},{"$f":"IF(COUNTIF(C196:H196,$CQ$2)>0,$CQ$2,\"\")","v":""},{"$f":"IF(COUNTIF(C196:H196,$CR$2)>0,$CR$2,\"\")","v":""},{"$f":"IF(COUNTIF(C196:H196,$CS$2)>0,$CS$2,\"\")","v":""},{"$f":"IF(COUNTIF(C196:H196,$CT$2)>0,$CT$2,\"\")","v":""},{"$f":"IF(COUNTIF(C196:H196,$CU$2)>0,$CU$2,\"\")","v":""},{"$f":"IF(COUNTIF(C196:H196,$CV$2)>0,$CV$2,\"\")","v":""},{"$f":"IF(COUNTIF(C196:H196,$CW$2)>0,$CW$2,\"\")","v":""},{"$f":"IF(COUNTIF(C196:H196,$CX$2)>0,$CX$2,\"\")","v":""},{"$f":"IF(COUNTIF(C196:H196,$CY$2)>0,$CY$2,\"\")","v":""},{"$f":"IF(COUNTIF(C196:H196,$CZ$2)>0,$CZ$2,\"\")","v":""},{"$f":"IF(COUNTIF(C196:H196,$DA$2)>0,$DA$2,\"\")","v":""},{"$f":"IF(COUNTIF(C196:H196,$DB$2)>0,$DB$2,\"\")","v":""},{"$f":"IF(COUNTIF(C196:H196,$DC$2)>0,$DC$2,\"\")","v":""},{"$f":"IF(COUNTIF(C196:H196,$DD$2)>0,$DD$2,\"\")","v":""},{"$f":"IF(COUNTIF(C196:H196,$DE$2)>0,$DE$2,\"\")","v":""},{"$f":"IF(COUNTIF(C196:H196,$DF$2)>0,$DF$2,\"\")","v":""},{"$f":"IF(COUNTIF(C196:H196,$DG$2)>0,$DG$2,\"\")","v":""},{"$f":"IF(COUNTIF(C196:H196,$DH$2)>0,$DH$2,\"\")","v":""},{"$f":"IF(COUNTIF(C196:H196,$DI$2)>0,$DI$2,\"\")","v":""},{"$f":"IF(COUNTIF(C196:H196,$DJ$2)>0,$DJ$2,\"\")","v":""},{"$f":"IF(COUNTIF(C196:H196,$DK$2)>0,$DK$2,\"\")","v":""},{"$f":"IF(COUNTIF(C196:H196,$DL$2)>0,$DL$2,\"\")","v":""},{"$f":"IF(COUNTIF(C196:H196,$DM$2)>0,$DM$2,\"\")","v":""},{"$f":"IF(COUNTIF(C196:H196,$DN$2)>0,$DN$2,\"\")","v":""},{"$f":"IF(COUNTIF(C196:H196,$DO$2)>0,$DO$2,\"\")","v":""},{"$f":"IF(COUNTIF(C196:H196,$DP$2)>0,$DP$2,\"\")","v":""},{"$f":"IF(COUNTIF(C196:H196,$DQ$2)>0,$DQ$2,\"\")","v":""},{"$f":"IF(COUNTIF(C196:H196,$DR$2)>0,$DR$2,\"\")","v":""},{"$f":"IF(COUNTIF(C196:H196,$DS$2)>0,$DS$2,\"\")","v":""},{"$f":"IF(COUNTIF(C196:H196,$DT$2)>0,$DT$2,\"\")","v":""},{"$f":"IF(COUNTIF(C196:H196,$DU$2)>0,$DU$2,\"\")","v":""},{"$f":"IF(COUNTIF(C196:H196,$DV$2)>0,$DV$2,\"\")","v":""},{"$f":"IF(COUNTIF(C196:H196,$DW$2)>0,$DW$2,\"\")","v":""},{"$f":"IF(COUNTIF(C196:H196,$DX$2)>0,$DX$2,\"\")","v":""},{"$f":"IF(COUNTIF(C196:H196,$DY$2)>0,$DY$2,\"\")","v":""},{"$f":"COUNT(BR196:DY196)","v":0}]
[195,"(27/11/1999)",3,9,17,32,37,44,3,12,0,2,4,8,12,32,0,5,2,2,20,9,6,11,0,52,2,20,5,10,4,9,1,3,7,1,15,34,6,0,1,7,14,8,0,6,15,5,3,1,1,0,19,7,42,8,2,20,9,21,6,3,10,30,29,4,10,3,null,"","","","","","","","","","","","","","","","","","","","","","","","","","","","","","","","","","","","","","","","","","","","","","","","","","","","","","","","","","","","",0]
[196,"(04/12/1999)",7,9,14,17,24,32,4,13,1,3,5,9,0,33,0,6,3,3,21,0,7,12,0,53,3,21,6,11,5,0,2,4,8,2,16,35,7,0,2,8,15,9,1,7,16,6,4,2,2,1,20,8,43,9,3,21,10,22,7,4,11,31,30,5,11,4,null,"","","","","","","","","","","","","","","","","","","","","","","","","","","","","","","","","","","","","","","","","","","","","","","","","","","","","","","","","","","","",0]
[197,"(11/12/1999)",5,12,15,19,29,52,5,14,2,4,0,10,1,34,1,7,4,0,22,1,0,13,1,54,0,22,7,12,6,1,3,5,9,3,0,36,8,1,3,9,16,10,2,8,17,7,5,3,3,2,21,9,44,10,4,22,11,0,8,5,12,32,31,6,12,5,null,"","","","","","","","","","","","","","","","","","","","","","","","","","","","","","","","","","","","","","","","","","","","","","","","","","","","","","","","","","","","",0]
[198,"(18/12/1999)",1,8,18,23,35,40,0,15,3,5,1,11,2,0,2,8,5,1,23,2,1,14,2,0,1,23,8,13,0,2,4,6,10,4,1,37,9,2,4,10,0,11,3,9,18,0,6,4,4,3,22,10,45,11,5,23,12,1,9,6,13,33,32,7,13,6,null,"","","","","","","","","","","","","","","","","","","","","","","","","","","","","","","","","","","","","","","","","","","","","","","","","","","","","","","","","","","","",0]
[199,"(24/12/1999)",10,16,37,50,52,57,1,16,4,6,2,12,3,1,3,0,6,2,24,3,2,0,3,1,2,24,9,14,1,3,5,7,11,5,2,38,10,3,5,11,1,12,0,10,19,1,7,5,5,4,23,11,46,12,6,0,13,0,10,7,14,34,0,8,14,7,null,"","","","","","","","","","","","","","","","","","","","","","","","","","","","","","","","","","","","","","","","","","","","","","","","","","","","","","","","","","","","",0]
[200,"(31/12/1999)",12,15,19,34,44,51,2,17,5,7,3,13,4,2,4,1,7,0,25,4,0,1,4,2,0,25,10,15,2,4,6,8,12,6,3,39,11,4,6,0,2,13,1,11,20,2,8,6,6,0,24,12,47,13,7,1,0,1,11,8,15,35,1,9,15,8,null,"","","","","","","","","","","","","","","","","","","","","","","","","","","","","","","","","","","","","","","","","","","","","","","","","","","","","","","","","","","","",0]
[201,"(08/01/2000)",5,20,22,30,35,55,3,18,6,8,0,14,5,3,5,2,8,1,26,5,1,2,5,3,1,0,11,0,3,5,7,9,13,7,4,0,12,5,7,1,0,14,2,12,21,3,9,7,7,1,25,13,48,14,8,2,1,2,12,9,0,36,2,10,16,9,null,"","","","","","","","","","","","","","","","","","","","","","","","","","","","","","","","","","","","","","","","","","","","","","","","","","","","","","","","","","","","",0]
[202,"(15/01/2000)",12,24,44,45,49,53,4,19,7,9,1,15,6,4,6,3,9,0,27,6,2,3,6,4,2,1,12,1,4,0,8,10,14,8,5,1,13,6,8,2,1,15,3,13,22,4,10,8,8,0,0,14,49,15,0,3,2,3,0,10,1,37,3,11,17,10,null,"","","","","","","","","","","","","","","","","","","","","","","","","","","","","","","","","","","","","","","","","","","","","","","","","","","","","","","","","","","","",0]
[203,"(22/01/2000)",11,19,29,44,47,55,5,20,8,10,2,16,7,5,7,4,0,1,28,7,3,4,7,5,0,2,13,2,5,1,9,11,15,9,0,2,14,7,9,3,2,16,4,14,23,5,11,9,9,0,1,15,0,16,1,4,3,4,1,11,0,38,4,12,18,11,null,"","","","","","","","","","","","","","","","","","","","","","","","","","","","","","","","","","","","","","","","","","","","","","","","","","","","","","","","","","","","",0]
[204,"(29/01/2000)",29,31,39,41,51,58,6,21,9,11,3,17,8,6,8,5,1,2,29,8,4,5,8,6,1,3,14,3,6,2,10,12,16,10,0,3,0,8,10,4,3,17,5,15,0,6,0,10,10,1,2,16,1,17,2,5,0,5,2,12,1,39,5,0,19,12,null,"","","","","","","","","","","","","","","","","","","","","","","","","","","","","","","","","","","","","","","","","","","","","","","","","","","","","","","","","","","","",0]
[205,"(05/02/2000)",26,32,40,43,46,54,7,22,10,12,4,18,9,7,9,6,2,3,30,9,5,6,9,7,2,4,15,4,7,3,11,0,17,11,1,4,1,0,11,5,4,18,6,16,1,0,1,11,0,2,3,0,2,18,3,6,1,6,3,0,2,40,6,1,20,13,null,"","","","","","","","","","","","","","","","","","","","","","","","","","","","","","","","","","","","","","","","","","","","","","","","","","","","","","","","","","","","",0]
[206,"(12/02/2000)",18,20,26,34,51,56,8,23,11,13,5,19,10,8,10,7,3,4,31,10,6,7,10,0,3,0,16,5,8,4,12,0,18,12,2,5,2,1,12,0,5,19,7,17,2,1,2,12,1,3,4,1,3,19,4,7,0,7,4,1,3,0,7,2,21,14,null,"","","","","","","","","","","","","","","","","","","","","","","","","","","","","","","","","","","","","","","","","","","","","","","","","","","","","","","","","","","","",0]
[207,"(19/02/2000)",3,7,19,24,53,55,9,24,0,14,6,20,0,9,11,8,4,5,32,11,7,8,11,1,0,1,17,6,9,0,13,1,19,13,3,6,3,2,13,1,6,20,8,18,3,2,3,13,2,4,5,2,4,20,5,8,1,8,0,2,0,1,8,3,22,15,null,"","","","","","","","","","","","","","","","","","","","","","","","","","","","","","","","","","","","","","","","","","","","","","","","","","","","","","","","","","","","",0]
[208,"(26/02/2000)",15,23,24,25,47,57,10,25,1,15,7,21,1,10,12,9,5,6,33,12,0,9,12,2,1,2,18,7,0,0,0,2,20,14,4,7,4,3,14,2,7,21,9,19,4,3,4,14,3,5,6,3,0,21,6,9,2,9,1,3,1,2,0,4,23,16,null,"","","","","","","","","","","","","","","","","","","","","","","","","","","","","","","","","","","","","","","","","","","","","","","","","","","","","","","","","","","","",0]
[209,"(04/03/2000)",13,21,26,32,41,52,11,26,2,16,8,22,2,11,13,10,6,7,0,13,1,10,13,3,2,3,0,8,1,1,1,0,21,15,5,8,5,0,15,3,8,22,10,20,5,4,0,15,4,6,7,4,1,22,7,10,3,0,2,4,2,3,1,5,24,17,null,"","","","","","","","","","","","","","","","","","","","","","","","","","","","","","","","","","","","","","","","","","","","","","","","","","","","","","","","","","","","",0]
[210,"(11/03/2000)",20,32,37,38,48,58,12,27,3,17,9,23,3,12,14,11,7,8,1,14,2,11,14,4,3,0,1,9,2,2,2,1,22,16,6,9,6,0,16,4,9,23,0,0,6,5,1,16,5,7,8,5,2,0,8,11,4,1,3,5,3,4,2,0,25,18,null,"","","","","","","","","","","","","","","","","","","","","","","","","","","","","","","","","","","","","","","","","","","","","","","","","","","","","","","","","","","","",0]
[211,"(18/03/2000)",10,20,33,40,45,50,13,28,4,18,10,24,4,13,15,0,8,9,2,15,3,12,15,5,4,0,2,10,3,3,3,2,23,17,7,10,7,1,0,5,10,24,1,1,7,0,2,17,6,8,0,6,3,1,9,0,5,2,4,6,4,5,3,1,26,19,null,"","","","","","","","","","","","","","","","","","","","","","","","","","","","","","","","","","","","","","","","","","","","","","","","","","","","","","","","","","","","",0]
[212,"(25/03/2000)",6,15,29,45,57,59,14,29,5,19,11,0,5,14,16,1,9,10,3,16,0,13,16,6,5,1,3,11,4,4,4,3,24,18,0,11,8,2,1,6,11,25,2,2,8,1,3,18,7,9,0,7,4,2,10,1,6,3,5,7,5,6,0,2,0,20,null,"","","","","","","","","","","","","","","","","","","","","","","","","","","","","","","","","","","","","","","","","","","","","","","","","","","","","","","","","","","","",0]
[213,"(01/04/2000)",3,9,23,30,32,35,15,30,0,20,12,1,6,15,0,2,10,11,4,17,1,14,17,7,6,2,4,12,0,5,5,4,25,19,1,0,9,0,2,7,0,26,3,3,9,2,4,19,8,10,1,8,5,3,11,2,7,4,6,8,6,7,1,3,1,21,null,"","","","","","","","","","","","","","","","","","","","","","","","","","","","","","","","","","","","","","","","","","","","","","","","","","","","","","","","","","","","",0]
[214,"(08/04/2000)",6,12,30,31,35,50,16,31,1,21,13,0,7,16,1,3,11,0,5,18,2,15,18,8,7,3,5,13,1,6,6,5,26,20,2,0,0,1,3,8,0,27,4,4,10,3,5,20,9,11,2,9,6,4,12,0,8,5,7,9,7,8,2,4,2,22,null,"","","","","","","","","","","","","","","","","","","","","","","","","","","","","","","","","","","","","","","","","","","","","","","","","","","","","","","","","","","","",0]
[215,"(15/04/2000)",7,28,37,46,53,58,17,32,2,22,14,1,0,17,2,4,12,1,6,19,3,16,19,9,8,4,6,14,2,7,7,6,27,0,3,1,1,2,4,9,1,28,0,5,11,4,6,21,10,12,3,0,7,5,13,1,9,6,0,10,8,9,3,0,3,23,null,"","","","","","","","","","","","","","","","","","","","","","","","","","","","","","","","","","","","","","","","","","","","","","","","","","","","","","","","","","","","",0]
[216,"(22/04/2000)",14,18,30,35,42,59,18,33,3,23,15,2,1,18,3,5,13,2,7,0,4,17,20,0,9,5,7,15,3,8,8,7,28,1,4,0,2,3,5,10,0,29,1,6,12,5,7,0,11,13,4,1,8,6,14,2,10,7,1,11,9,10,4,1,0,24,null,"","","","","","","","","","","","","","","","","","","","","","","","","","","","","","","","","","","","","","","","","","","","","","","","","","","","","","","","","","","","",0]
[217,"(29/04/2000)",3,27,32,45,49,51,19,34,0,24,16,3,2,19,4,6,14,3,8,1,5,18,21,1,10,6,8,16,4,9,9,8,0,2,5,1,3,0,6,11,1,30,2,7,13,6,8,1,12,14,0,2,9,7,0,3,0,8,2,12,10,11,5,2,1,25,null,"","","","","","","","","","","","","","","","","","","","","","","","","","","","","","","","","","","","","","","","","","","","","","","","","","","","","","","","","","","","",0]
[218,"(06/05/2000)",12,17,40,42,47,54,20,35,1,25,17,4,3,20,5,7,15,0,9,2,6,19,0,2,11,7,9,17,5,10,10,9,1,3,6,2,4,1,7,12,2,31,3,8,14,0,9,0,13,15,1,3,0,8,1,4,1,9,3,0,11,12,6,3,2,26,null,"","","","","","","","","","","","","","","","","","","","","","","","","","","","","","","","","","","","","","","","","","","","","","","","","","","","","","","","","","","","",0]
[219,"(13/05/2000)",23,26,28,36,42,49,21,36,2,26,18,5,4,21,6,8,16,1,10,3,7,20,1,3,12,8,10,18,0,11,11,0,2,0,7,3,5,2,8,13,3,0,4,9,15,1,10,0,14,16,2,4,1,9,0,5,2,10,4,1,12,13,7,4,3,27,null,"","","","","","","","","","","","","","","","","","","","","","","","","","","","","","","","","","","","","","","","","","","","","","","","","","","","","","","","","","","","",0]
[220,"(20/05/2000)",13,14,36,53,55,60,22,37,3,27,19,6,5,22,7,9,17,2,0,0,8,21,2,4,13,9,11,19,1,12,12,1,3,1,8,4,6,3,9,14,4,0,5,10,16,2,11,1,15,17,3,5,2,10,1,6,3,11,0,2,0,14,8,5,4,0,null,"","","","","","","","","","","","","","","","","","","","","","","","","","","","","","","","","","","","","","","","","","","","","","","","","","","","","","","","","","","","",0]
[221,"(27/05/2000)",13,27,43,50,54,58,23,38,4,28,20,7,6,23,8,10,18,3,0,1,9,22,3,5,14,10,12,20,2,13,13,2,0,2,9,5,7,4,10,15,5,1,6,11,17,3,12,2,0,18,4,6,3,11,2,0,4,12,1,0,1,15,9,0,5,1,null,"","","","","","","","","","","","","","","","","","","","","","","","","","","","","","","","","","","","","","","","","","","","","","","","","","","","","","","","","","","","",0]
[222,"(03/06/2000)",5,19,30,48,52,55,24,39,5,29,0,8,7,24,9,11,19,4,1,2,10,23,4,6,0,11,13,21,3,14,14,3,1,3,10,0,8,5,11,16,6,2,7,12,18,4,13,3,1,19,5,7,4,0,3,1,5,0,2,1,0,16,10,1,6,2,null,"","","","","","","","","","","","","","","","","","","","","","","","","","","","","","","","","","","","","","","","","","","","","","","","","","","","","","","","","","","","",0]
[223,"(10/06/2000)",2,6,22,24,28,58,25,0,6,30,1,0,8,25,10,12,20,5,2,3,11,24,5,7,1,12,14,0,4,0,15,4,2,0,11,1,9,6,12,17,7,3,8,13,19,5,14,4,2,20,6,8,5,1,4,2,6,1,3,2,1,17,11,0,7,3,null,"","","","","","","","","","","","","","","","","","","","","","","","","","","","","","","","","","","","","","","","","","","","","","","","","","","","","","","","","","","","",0]
[224,"(17/06/2000)",7,16,18,20,21,44,26,1,7,31,2,1,0,26,11,13,21,6,3,4,12,0,6,0,2,0,0,1,5,1,16,5,3,1,12,2,10,7,13,18,8,4,9,14,20,6,15,5,3,0,7,9,6,2,5,3,7,2,4,3,2,18,12,1,8,4,null,"","","","","","","","","","","","","","","","","","","","","","","","","","","","","","","","","","","","","","","","","","","","","","","","","","","","","","","","","","","","",0]
[225,"(24/06/2000)",2,4,16,21,37,58,27,0,8,0,3,2,1,27,12,14,22,7,4,5,13,0,7,1,3,1,0,2,6,2,17,6,4,2,13,3,11,8,14,19,9,5,0,15,21,7,16,6,4,1,8,10,7,3,6,4,8,3,5,4,3,19,13,0,9,5,null,"","","","","","","","","","","","","","","","","","","","","","","","","","","","","","","","","","","","","","","","","","","","","","","","","","","","","","","","","","","","",0]
[226,"(01/07/2000)",1,2,38,49,50,59,0,0,9,1,4,3,2,28,13,15,23,8,5,6,14,1,8,2,4,2,1,3,7,3,18,7,5,3,14,4,12,9,15,20,10,6,1,0,22,8,17,7,5,2,9,11,8,4,0,0,9,4,6,5,4,20,14,1,0,6,null,"","","","","","","","","","","","","","","","","","","","","","","","","","","","","","","","","","","","","","","","","","","","","","","","","","","","","","","","","","","","",0]
[227,"(08/07/2000)",11,26,27,37,42,48,1,1,10,2,5,4,3,29,14,16,0,9,6,7,15,2,9,3,5,3,2,4,8,4,19,0,0,4,15,5,13,10,16,21,11,7,0,1,23,9,18,0,6,3,10,12,9,0,1,1,10,5,7,6,5,21,15,2,1,7,null,"","","","","","","","","","","","","","","","","","","","","","","","","","","","","","","","","","","","","","","","","","","","","","","","","","","","","","","","","","","","",0]
[228,"(15/07/2000)",13,16,40,43,45,59,2,2,11,3,6,5,4,30,15,17,1,10,0,8,16,0,10,4,6,4,3,5,9,5,20,1,1,5,16,6,14,11,17,22,12,8,1,2,24,0,19,1,0,4,0,13,10,1,2,2,11,6,8,7,6,22,16,3,0,8,null,"","","","","","","","","","","","","","","","","","","","","","","","","","","","","","","","","","","","","","","","","","","","","","","","","","","","","","","","","","","","",0]
[229,"(22/07/2000)",11,13,21,33,39,45,3,3,12,4,7,6,5,31,16,18,0,11,0,9,17,1,11,5,7,5,0,6,10,6,21,2,2,6,17,7,15,12,0,23,13,9,2,3,0,1,20,2,1,5,0,14,11,2,3,3,12,7,9,8,7,23,17,4,1,9,null,"","","","","","","","","","","","","","","","","","","","","","","","","","","","","","","","","","","","","","","","","","","","","","","","","","","","","","","","","","","","",0]
[230,"(29/07/2000)",8,40,41,44,53,56,4,4,13,5,8,7,6,0,17,19,1,12,1,10,18,2,12,6,8,6,1,7,11,7,22,3,3,7,18,8,16,13,1,24,14,10,3,4,1,0,0,3,2,0,1,15,12,3,4,4,13,8,0,9,8,0,18,5,2,10,null,"","","","","","","","","","","","","","","","","","","","","","","","","","","","","","","","","","","","","","","","","","","","","","","","","","","","","","","","","","","","",0]
[231,"(05/08/2000)",16,27,36,42,44,59,5,5,14,6,9,8,7,1,18,20,2,13,2,11,19,0,13,7,9,7,2,8,12,8,23,4,0,8,19,9,17,14,2,25,15,0,4,5,2,1,1,0,3,0,2,16,13,4,5,5,14,9,1,10,9,1,19,6,0,11,null,"","","","","","","","","","","","","","","","","","","","","","","","","","","","","","","","","","","","","","","","","","","","","","","","","","","","","","","","","","","","",0]
[232,"(12/08/2000)",19,22,29,37,41,59,6,6,15,7,10,9,8,2,19,21,3,14,3,12,20,1,14,8,0,8,3,0,13,9,24,5,1,9,0,10,18,15,3,26,16,1,0,6,3,2,0,1,4,1,3,17,14,5,6,6,15,10,2,11,10,2,20,7,0,12,null,"","","","","","","","","","","","","","","","","","","","","","","","","","","","","","","","","","","","","","","","","","","","","","","","","","","","","","","","","","","","",0]
[233,"(19/08/2000)",3,7,24,32,36,45,7,7,0,8,11,10,0,3,20,22,4,15,4,13,21,2,15,9,1,9,4,1,14,0,25,6,2,10,1,11,19,0,4,27,17,0,1,7,4,3,1,2,5,2,0,18,15,6,7,7,16,11,3,12,11,3,21,8,1,13,null,"","","","","","","","","","","","","","","","","","","","","","","","","","","","","","","","","","","","","","","","","","","","","","","","","","","","","","","","","","","","",0]
[234,"(26/08/2000)",15,25,41,42,45,54,8,8,1,9,12,11,1,4,21,23,5,16,5,14,0,3,16,10,2,10,5,2,15,1,0,7,3,11,2,12,20,1,5,28,18,1,2,8,5,4,0,0,6,3,0,19,16,7,8,8,17,12,4,0,12,4,22,9,2,14,null,"","","","","","","","","","","","","","","","","","","","","","","","","","","","","","","","","","","","","","","","","","","","","","","","","","","","","","","","","","","","",0]
[235,"(02/09/2000)",2,22,29,31,41,55,9,0,2,10,13,12,2,5,22,24,6,17,6,15,1,4,17,11,3,11,6,0,16,2,1,8,4,12,0,13,0,2,6,29,19,2,3,9,6,5,0,1,7,4,1,20,17,8,9,9,18,13,5,1,0,5,23,10,3,15,null,"","","","","","","","","","","","","","","","","","","","","","","","","","","","","","","","","","","","","","","","","","","","","","","","","","","","","","","","","","","","",0]
[236,"(09/09/2000)",10,25,50,52,57,60,10,1,3,11,14,13,3,6,23,0,7,18,7,16,2,5,18,12,4,12,7,1,17,3,0,9,5,13,1,14,1,3,7,30,20,3,4,10,7,6,1,2,8,5,2,21,18,9,10,0,19,0,6,2,1,6,0,11,4,0,null,"","","","","","","","","","","","","","","","","","","","","","","","","","","","","","","","","","","","","","","","","","","","","","","","","","","","","","","","","","","","",0]
[237,"(16/09/2000)",7,31,36,45,56,57,11,2,4,12,15,14,0,7,24,1,8,19,8,17,3,6,19,13,5,13,8,2,18,4,1,10,6,14,2,15,0,4,8,31,21,0,5,11,8,7,2,3,9,6,0,22,19,10,11,1,20,1,7,3,2,0,0,12,5,1,null,"","","","","","","","","","","","","","","","","","","","","","","","","","","","","","","","","","","","","","","","","","","","","","","","","","","","","","","","","","","","",0]
[238,"(23/09/2000)",9,13,15,37,41,42,12,3,5,13,16,15,1,8,0,2,9,20,0,18,0,7,20,14,6,14,9,3,19,5,2,11,7,15,3,16,1,5,9,32,22,1,0,12,9,8,0,0,10,7,1,23,20,11,12,2,21,2,8,4,3,1,1,13,6,2,null,"","","","","","","","","","","","","","","","","","","","","","","","","","","","","","","","","","","","","","","","","","","","","","","","","","","","","","","","","","","","",0]
[239,"(30/09/2000)",6,21,33,44,46,47,13,4,6,14,17,0,2,9,1,3,10,21,1,19,1,8,21,15,7,15,0,4,20,6,3,12,8,16,4,17,2,6,0,33,23,2,1,13,10,9,1,1,11,0,2,0,0,12,13,3,22,3,9,5,4,2,2,14,7,3,null,"","","","","","","","","","","","","","","","","","","","","","","","","","","","","","","","","","","","","","","","","","","","","","","","","","","","","","","","","","","","",0]
[240,"(07/10/2000)",25,28,38,41,57,59,14,5,7,15,18,1,3,10,2,4,11,22,2,20,2,9,22,16,8,16,1,5,21,7,0,13,9,0,5,18,3,7,1,34,24,3,2,0,11,10,0,2,12,1,3,1,1,13,14,4,23,4,10,6,5,3,0,15,0,4,null,"","","","","","","","","","","","","","","","","","","","","","","","","","","","","","","","","","","","","","","","","","","","","","","","","","","","","","","","","","","","",0]
[241,"(14/10/2000)",11,31,35,40,56,57,15,6,8,16,19,2,4,11,3,5,0,23,3,21,3,10,23,17,9,17,2,6,22,8,1,14,10,1,6,19,0,8,2,35,0,4,3,1,12,0,1,3,13,2,4,2,2,14,15,5,24,5,11,7,6,0,0,16,1,5,null,"","","","","","","","","","","","","","","","","","","","","","","","","","","","","","","","","","","","","","","","","","","","","","","","","","","","","","","","","","","","",0]
[242,"(21/10/2000)",4,7,21,22,28,56,16,7,9,0,20,3,0,12,4,6,1,24,4,22,4,11,24,18,10,18,0,0,23,9,2,15,11,0,7,20,1,9,3,36,1,5,4,2,13,1,2,4,14,3,5,3,3,15,16,6,25,6,12,8,7,0,1,17,2,6,null,"","","","","","","","","","","","","","","","","","","","","","","","","","","","","","","","","","","","","","","","","","","","","","","","","","","","","","","","","","","","",0]
[243,"(28/10/2000)",11,16,20,23,32,47,17,8,10,1,21,4,1,13,5,7,0,25,5,23,5,0,25,19,11,0,1,1,0,10,3,16,12,1,8,21,2,0,4,37,2,6,5,3,14,2,3,5,15,4,6,4,0,16,17,7,26,7,13,9,8,1,2,18,3,7,null,"","","","","","","","","","","","","","","","","","","","","","","","","","","","","","","","","","","","","","","","","","","","","","","","","","","","","","","","","","","","",0]
[244,"(04/11/2000)",19,24,33,47,50,60,18,9,11,2,22,5,2,14,6,8,1,26,6,24,6,1,26,20,0,1,2,2,1,0,4,17,13,2,9,22,3,1,0,38,3,7,6,4,15,3,4,6,16,5,7,5,0,17,18,0,27,8,14,10,9,2,3,19,4,0,null,"","","","","","","","","","","","","","","","","","","","","","","","","","","","","","","","","","","","","","","","","","","","","","","","","","","","","","","","","","","","",0]
[245,"(11/11/2000)",8,27,44,51,53,60,19,10,12,3,23,6,3,0,7,9,2,27,7,25,7,2,27,21,1,2,3,3,2,1,5,18,0,3,10,23,4,2,1,39,4,8,7,5,16,4,5,7,17,0,8,6,1,18,19,1,0,9,0,11,10,3,4,20,5,0,null,"","","","","","","","","","","","","","","","","","","","","","","","","","","","","","","","","","","","","","","","","","","","","","","","","","","","","","","","","","","","",0]
[246,"(18/11/2000)",2,16,32,37,43,57,20,0,13,4,24,7,4,1,8,10,3,28,8,26,8,0,28,22,2,3,4,4,3,2,6,19,1,4,11,24,5,0,2,40,5,9,0,6,17,5,6,8,0,1,9,7,2,19,20,2,1,10,1,12,11,4,0,21,6,1,null,"","","","","","","","","","","","","","","","","","","","","","","","","","","","","","","","","","","","","","","","","","","","","","","","","","","","","","","","","","","","",0]
[247,"(25/11/2000)",3,10,23,30,34,46,21,1,0,5,25,8,5,2,9,0,4,29,9,27,9,1,29,23,3,4,5,5,0,3,7,20,2,5,12,0,6,1,3,0,6,10,1,7,18,6,7,9,1,2,10,0,3,20,21,3,2,11,2,13,12,5,1,22,7,2,null,"","","","","","","","","","","","","","","","","","","","","","","","","","","","","","","","","","","","","","","","","","","","","","","","","","","","","","","","","","","","",0]
[248,"(02/12/2000)",16,32,34,35,41,56,22,2,1,6,26,9,6,3,10,1,5,30,10,28,10,0,30,24,4,5,6,6,1,4,8,21,3,6,13,1,7,0,4,0,0,11,2,8,19,7,0,10,2,3,11,1,4,21,22,4,3,12,3,14,13,0,2,23,8,3,null,"","","","","","","","","","","","","","","","","","","","","","","","","","","","","","","","","","","","","","","","","","","","","","","","","","","","","","","","","","","","",0]
[249,"(09/12/2000)",21,36,40,49,54,55,23,3,2,7,27,10,7,4,11,2,6,31,11,29,11,1,31,25,5,6,0,7,2,5,9,22,4,7,14,2,8,1,5,1,1,0,3,9,20,0,1,11,3,4,12,2,5,22,0,5,4,13,4,0,0,1,3,24,9,4,null,"","","","","","","","","","","","","","","","","","","","","","","","","","","","","","","","","","","","","","","","","","","","","","","","","","","","","","","","","","","","",0]
[265,"(31/03/2001)",7,16,34,41,50,53,1,9,18,5,1,5,0,2,2,18,3,7,1,45,6,0,13,41,8,3,9,11,14,12,1,2,20,8,30,4,1,9,1,0,17,16,12,25,36,16,0,15,2,10,28,18,21,3,14,0,13,9,0,4,7,4,19,3,5,3,null,"","","","","","","","","","","","","","","","","","","","","","","","","","","","","","","","","","","","","","","","","","","","","","","","","","","","","","","","","","","","",0]
[280,"(14/07/2001)",5,16,20,25,30,58,13,14,33,1,0,12,15,13,8,2,6,22,6,9,2,0,7,2,5,0,12,2,1,8,0,3,7,23,9,0,1,24,12,15,10,8,5,3,4,3,15,30,17,25,4,13,1,5,11,15,28,3,4,9,2,3,4,0,1,18,null,"","","","","","","","","","","","","","","","","","","","","","","","","","","","","","","","","","","","","","","","","","","","","","","","","","","","","","","","","","","","",0]
[296,"(15/09/2001)",3,20,42,46,51,52,29,30,0,17,3,3,1,12,8,18,8,1,4,12,18,5,5,5,21,0,28,2,4,1,2,6,23,2,10,6,1,11,9,4,3,7,10,15,20,6,2,0,33,1,2,0,9,13,27,1,0,0,4,13,18,10,2,16,17,9,null,"","","","","","","","","","","","","","","","","","","","","","","","","","","","","","","","","","","","","","","","","","","","","","","","","","","","","","","","","","","","",0]
[311,"(07/11/2001)",22,24,30,32,38,41,14,1,15,2,6,18,7,27,10,33,2,9,4,1,33,4,4,20,5,14,43,0,13,0,2,4,6,1,1,0,1,0,12,7,18,14,8,0,2,9,0,7,48,4,17,15,5,10,10,2,15,15,6,28,2,5,5,10,7,6,null,"","","","","","","","","","","","","","","","","","","","","","","","","","","","","","","","","","","","","","","","","","","","","","","","","","","","","","","","","","","","",0]
[326,"(05/01/2002)",21,23,40,44,51,52,1,16,1,1,12,10,22,2,25,48,4,7,19,13,2,7,7,4,7,6,0,2,0,10,2,3,6,10,4,2,3,5,3,12,9,29,12,13,17,0,14,22,10,0,32,30,2,5,3,6,0,0,1,3,17,4,20,12,22,21,null,"","","","","","","","","","","","","","","","","","","","","","","","","","","","","","","","","","","","","","","","","","","","","","","","","","","","","","","","","","","","",0]
[342,"(06/03/2002)",16,29,34,49,51,54,4,6,17,4,1,26,7,18,2,2,13,2,3,5,18,0,23,6,23,11,14,1,1,8,18,6,3,10,0,6,5,15,2,0,9,4,11,15,33,13,8,2,1,9,48,4,18,4,0,3,0,5,9,0,33,1,7,28,7,2,null,"","","","","","","","","","","","","","","","","","","","","","","","","","","","","","","","","","","","","","","","","","","","","","","","","","","","","","","","","","","","",0]
[354,"(17/04/2002)",7,16,38,40,41,52,7,18,29,11,13,11,0,5,5,4,9,7,15,10,3,0,35,18,1,2,26,9,1,3,2,7,15,5,12,1,17,5,6,12,10,10,23,0,6,0,0,14,4,2,60,1,2,7,2,15,9,0,21,5,1,8,4,9,3,1,null,"","","","","","","","","","","","","","","","","","","","","","","","","","","","","","","","","","","","","","","","","","","","","","","","","","","","","","","","","","","","",0]
[374,"(29/06/2002)",2,5,16,26,44,54,1,0,49,3,0,8,8,25,25,1,29,7,6,5,8,0,2,3,9,12,5,19,3,1,22,0,7,13,6,17,1,6,1,9,5,30,9,6,2,4,13,4,24,0,13,2,11,27,7,6,4,7,14,0,14,12,2,9,10,3,null,"","","","","","","","","","","","","","","","","","","","","","","","","","","","","","","","","","","","","","","","","","","","","","","","","","","","","","","","","","","","",0]
[389,"(21/08/2002)",5,14,18,43,46,54,14,15,12,18,0,23,23,40,8,8,44,4,9,0,23,4,3,0,12,27,20,2,1,4,13,15,12,2,2,9,7,21,10,7,3,1,7,7,3,5,10,14,0,15,11,0,2,1,22,5,14,1,1,0,8,6,9,1,10,18,null,"","","","","","","","","","","","","","","","","","","","","","","","","","","","","","","","","","","","","","","","","","","","","","","","","","","","","","","","","","","","",0]
[404,"(12/10/2002)",1,24,28,38,40,58,0,7,27,13,2,8,1,55,23,4,3,11,4,9,10,1,18,3,27,9,35,6,12,0,28,30,1,0,4,24,1,7,25,8,10,6,6,0,12,0,25,8,2,3,8,1,5,16,10,3,29,16,3,4,5,2,24,0,4,1,null,"","","","","","","","","","","","","","","","","","","","","","","","","","","","","","","","","","","","","","","","","","","","","","","","","","","","","","","","","","","","",0]
[420,"(07/12/2002)",12,29,30,43,57,59,4,7,43,5,8,24,3,2,1,9,19,0,4,8,2,1,34,11,43,25,3,13,4,10,3,6,5,12,0,0,9,2,4,3,6,10,22,5,28,16,1,1,0,5,2,17,14,14,2,19,13,1,1,4,10,4,0,6,0,15,null,"","","","","","","","","","","","","","","","","","","","","","","","","","","","","","","","","","","","","","","","","","","","","","","","","","","","","","","","","","","","",0]
[435,"(05/02/2003)",10,11,17,31,37,43,19,22,8,1,14,10,9,5,16,0,0,13,3,8,17,2,0,11,58,40,5,12,19,1,5,4,3,2,11,1,0,6,12,10,14,2,0,5,3,4,16,10,0,20,14,7,4,29,17,3,8,4,12,1,6,13,15,4,11,7,null,"","","","","","","","","","","","","","","","","","","","","","","","","","","","","","","","","","","","","","","","","","","","","","","","","","","","","","","","","","","","",0]
[450,"(02/04/2003)",1,9,13,50,51,59,{"$f":"IF($A452=\"\",\"\",IF(COUNTIF($C452:$H452,I$2)>0,0,1+I451))","v":0},{"$f":"IF($A452=\"\",\"\",IF(COUNTIF($C452:$H452,J$2)>0,0,1+J451))","v":9},{"$f":"IF($A452=\"\",\"\",IF(COUNTIF($C452:$H452,K$2)>0,0,1+K451))","v":2},{"$f":"IF($A452=\"\",\"\",IF(COUNTIF($C452:$H452,L$2)>0,0,1+L451))","v":16},{"$f":"IF($A452=\"\",\"\",IF(COUNTIF($C452:$H452,M$2)>0,0,1+M451))","v":2},{"$f":"IF($A452=\"\",\"\",IF(COUNTIF($C452:$H452,N$2)>0,0,1+N451))","v":8},{"$f":"IF($A452=\"\",\"\",IF(COUNTIF($C452:$H452,O$2)>0,0,1+O451))","v":5},{"$f":"IF($A452=\"\",\"\",IF(COUNTIF($C452:$H452,P$2)>0,0,1+P451))","v":1},{"$f":"IF($A452=\"\",\"\",IF(COUNTIF($C452:$H452,Q$2)>0,0,1+Q451))","v":0},{"$f":"IF($A452=\"\",\"\",IF(COUNTIF($C452:$H452,R$2)>0,0,1+R451))","v":9},{"$f":"IF($A452=\"\",\"\",IF(COUNTIF($C452:$H452,S$2)>0,0,1+S451))","v":4},{"$f":"IF($A452=\"\",\"\",IF(COUNTIF($C452:$H452,T$2)>0,0,1+T451))","v":4},{"$f":"IF($A452=\"\",\"\",IF(COUNTIF($C452:$H452,U$2)>0,0,1+U451))","v":0},{"$f":"IF($A452=\"\",\"\",IF(COUNTIF($C452:$H452,V$2)>0,0,1+V451))","v":12},{"$f":"IF($A452=\"\",\"\",IF(COUNTIF($C452:$H452,W$2)>0,0,1+W451))","v":3},{"$f":"IF($A452=\"\",\"\",IF(COUNTIF($C452:$H452,X$2)>0,0,1+X451))","v":17},{"$f":"IF($A452=\"\",\"\",IF(COUNTIF($C452:$H452,Y$2)>0,0,1+Y451))","v":4},{"$f":"IF($A452=\"\",\"\",IF(COUNTIF($C452:$H452,Z$2)>0,0,1+Z451))","v":26},{"$f":"IF($A452=\"\",\"\",IF(COUNTIF($C452:$H452,AA$2)>0,0,1+AA451))","v":73},{"$f":"IF($A452=\"\",\"\",IF(COUNTIF($C452:$H452,AB$2)>0,0,1+AB451))","v":4},{"$f":"IF($A452=\"\",\"\",IF(COUNTIF($C452:$H452,AC$2)>0,0,1+AC451))","v":9},{"$f":"IF($A452=\"\",\"\",IF(COUNTIF($C452:$H452,AD$2)>0,0,1+AD451))","v":27},{"$f":"IF($A452=\"\",\"\",IF(COUNTIF($C452:$H452,AE$2)>0,0,1+AE451))","v":8},{"$f":"IF($A452=\"\",\"\",IF(COUNTIF($C452:$H452,AF$2)>0,0,1+AF451))","v":1},{"$f":"IF($A452=\"\",\"\",IF(COUNTIF($C452:$H452,AG$2)>0,0,1+AG451))","v":3},{"$f":"IF($A452=\"\",\"\",IF(COUNTIF($C452:$H452,AH$2)>0,0,1+AH451))","v":7},{"$f":"IF($A452=\"\",\"\",IF(COUNTIF($C452:$H452,AI$2)>0,0,1+AI451))","v":18},{"$f":"IF($A452=\"\",\"\",IF(COUNTIF($C452:$H452,AJ$2)>0,0,1+AJ451))","v":17},{"$f":"IF($A452=\"\",\"\",IF(COUNTIF($C452:$H452,AK$2)>0,0,1+AK451))","v":11},{"$f":"IF($A452=\"\",\"\",IF(COUNTIF($C452:$H452,AL$2)>0,0,1+AL451))","v":10},{"$f":"IF($A452=\"\",\"\",IF(COUNTIF($C452:$H452,AM$2)>0,0,1+AM451))","v":5},{"$f":"IF($A452=\"\",\"\",IF(COUNTIF($C452:$H452,AN$2)>0,0,1+AN451))","v":5},{"$f":"IF($A452=\"\",\"\",IF(COUNTIF($C452:$H452,AO$2)>0,0,1+AO451))","v":3},{"$f":"IF($A452=\"\",\"\",IF(COUNTIF($C452:$H452,AP$2)>0,0,1+AP451))","v":1},{"$f":"IF($A452=\"\",\"\",IF(COUNTIF($C452:$H452,AQ$2)>0,0,1+AQ451))","v":29},{"$f":"IF($A452=\"\",\"\",IF(COUNTIF($C452:$H452,AR$2)>0,0,1+AR451))","v":7},{"$f":"IF($A452=\"\",\"\",IF(COUNTIF($C452:$H452,AS$2)>0,0,1+AS451))","v":8},{"$f":"IF($A452=\"\",\"\",IF(COUNTIF($C452:$H452,AT$2)>0,0,1+AT451))","v":12},{"$f":"IF($A452=\"\",\"\",IF(COUNTIF($C452:$H452,AU$2)>0,0,1+AU451))","v":18},{"$f":"IF($A452=\"\",\"\",IF(COUNTIF($C452:$H452,AV$2)>0,0,1+AV451))","v":19},{"$f":"IF($A452=\"\",\"\",IF(COUNTIF($C452:$H452,AW$2)>0,0,1+AW451))","v":31},{"$f":"IF($A452=\"\",\"\",IF(COUNTIF($C452:$H452,AX$2)>0,0,1+AX451))","v":3},{"$f":"IF($A452=\"\",\"\",IF(COUNTIF($C452:$H452,AY$2)>0,0,1+AY451))","v":11},{"$f":"IF($A452=\"\",\"\",IF(COUNTIF($C452:$H452,AZ$2)>0,0,1+AZ451))","v":13},{"$f":"IF($A452=\"\",\"\",IF(COUNTIF($C452:$H452,BA$2)>0,0,1+BA451))","v":2},{"$f":"IF($A452=\"\",\"\",IF(COUNTIF($C452:$H452,BB$2)>0,0,1+BB451))","v":10},{"$f":"IF($A452=\"\",\"\",IF(COUNTIF($C452:$H452,BC$2)>0,0,1+BC451))","v":4},{"$f":"IF($A452=\"\",\"\",IF(COUNTIF($C452:$H452,BD$2)>0,0,1+BD451))","v":6},{"$f":"IF($A452=\"\",\"\",IF(COUNTIF($C452:$H452,BE$2)>0,0,1+BE451))","v":1},{"$f":"IF($A452=\"\",\"\",IF(COUNTIF($C452:$H452,BF$2)>0,0,1+BF451))","v":0},{"$f":"IF($A452=\"\",\"\",IF(COUNTIF($C452:$H452,BG$2)>0,0,1+BG451))","v":0},{"$f":"IF($A452=\"\",\"\",IF(COUNTIF($C452:$H452,BH$2)>0,0,1+BH451))","v":2},{"$f":"IF($A452=\"\",\"\",IF(COUNTIF($C452:$H452,BI$2)>0,0,1+BI451))","v":5},{"$f":"IF($A452=\"\",\"\",IF(COUNTIF($C452:$H452,BJ$2)>0,0,1+BJ451))","v":13},{"$f":"IF($A452=\"\",\"\",IF(COUNTIF($C452:$H452,BK$2)>0,0,1+BK451))","v":3},{"$f":"IF($A452=\"\",\"\",IF(COUNTIF($C452:$H452,BL$2)>0,0,1+BL451))","v":1},{"$f":"IF($A452=\"\",\"\",IF(COUNTIF($C452:$H452,BM$2)>0,0,1+BM451))","v":6},{"$f":"IF($A452=\"\",\"\",IF(COUNTIF($C452:$H452,BN$2)>0,0,1+BN451))","v":9},{"$f":"IF($A452=\"\",\"\",IF(COUNTIF($C452:$H452,BO$2)>0,0,1+BO451))","v":0},{"$f":"IF($A452=\"\",\"\",IF(COUNTIF($C452:$H452,BP$2)>0,0,1+BP451))","v":22},null,{"$f":"IF(COUNTIF(C452:H452,$BR$2)>0,$BR$2,\"\")","v":""},{"$f":"IF(COUNTIF(C452:H452,$BS$2)>0,$BS$2,\"\")","v":""},{"$f":"IF(COUNTIF(C452:H452,$BT$2)>0,$BT$2,\"\")","v":""},{"$f":"IF(COUNTIF(C452:H452,$BU$2)>0,$BU$2,\"\")","v":""},{"$f":"IF(COUNTIF(C452:H452,$BV$2)>0,$BV$2,\"\")","v":""},{"$f":"IF(COUNTIF(C452:H452,$BW$2)>0,$BW$2,\"\")","v":""},{"$f":"IF(COUNTIF(C452:H452,$BX$2)>0,$BX$2,\"\")","v":""},{"$f":"IF(COUNTIF(C452:H452,$BY$2)>0,$BY$2,\"\")","v":""},{"$f":"IF(COUNTIF(C452:H452,$BZ$2)>0,$BZ$2,\"\")","v":""},{"$f":"IF(COUNTIF(C452:H452,$CA$2)>0,$CA$2,\"\")","v":""},{"$f":"IF(COUNTIF(C452:H452,$CB$2)>0,$CB$2,\"\")","v":""},{"$f":"IF(COUNTIF(C452:H452,$CC$2)>0,$CC$2,\"\")","v":""},{"$f":"IF(COUNTIF(C452:H452,$CD$2)>0,$CD$2,\"\")","v":""},{"$f":"IF(COUNTIF(C452:H452,$CE$2)>0,$CE$2,\"\")","v":""},{"$f":"IF(COUNTIF(C452:H452,$CF$2)>0,$CF$2,\"\")","v":""},{"$f":"IF(COUNTIF(C452:H452,$CG$2)>0,$CG$2,\"\")","v":""},{"$f":"IF(COUNTIF(C452:H452,$CH$2)>0,$CH$2,\"\")","v":""},{"$f":"IF(COUNTIF(C452:H452,$CI$2)>0,$CI$2,\"\")","v":""},{"$f":"IF(COUNTIF(C452:H452,$CJ$2)>0,$CJ$2,\"\")","v":""},{"$f":"IF(COUNTIF(C452:H452,$CK$2)>0,$CK$2,\"\")","v":""},{"$f":"IF(COUNTIF(C452:H452,$CL$2)>0,$CL$2,\"\")","v":""},{"$f":"IF(COUNTIF(C452:H452,$CM$2)>0,$CM$2,\"\")","v":""},{"$f":"IF(COUNTIF(C452:H452,$CN$2)>0,$CN$2,\"\")","v":""},{"$f":"IF(COUNTIF(C452:H452,$CO$2)>0,$CO$2,\"\")","v":""},{"$f":"IF(COUNTIF(C452:H452,$CP$2)>0,$CP$2,\"\")","v":""},{"$f":"IF(COUNTIF(C452:H452,$CQ$2)>0,$CQ$2,\"\")","v":""},{"$f":"IF(COUNTIF(C452:H452,$CR$2)>0,$CR$2,\"\")","v":""},{"$f":"IF(COUNTIF(C452:H452,$CS$2)>0,$CS$2,\"\")","v":""},{"$f":"IF(COUNTIF(C452:H452,$CT$2)>0,$CT$2,\"\")","v":""},{"$f":"IF(COUNTIF(C452:H452,$CU$2)>0,$CU$2,\"\")","v":""},{"$f":"IF(COUNTIF(C452:H452,$CV$2)>0,$CV$2,\"\")","v":""},{"$f":"IF(COUNTIF(C452:H452,$CW$2)>0,$CW$2,\"\")","v":""},{"$f":"IF(COUNTIF(C452:H452,$CX$2)>0,$CX$2,\"\")","v":""},{"$f":"IF(COUNTIF(C452:H452,$CY$2)>0,$CY$2,\"\")","v":""},{"$f":"IF(COUNTIF(C452:H452,$CZ$2)>0,$CZ$2,\"\")","v":""},{"$f":"IF(COUNTIF(C452:H452,$DA$2)>0,$DA$2,\"\")","v":""},{"$f":"IF(COUNTIF(C452:H452,$DB$2)>0,$DB$2,\"\")","v":""},{"$f":"IF(COUNTIF(C452:H452,$DC$2)>0,$DC$2,\"\")","v":""},{"$f":"IF(COUNTIF(C452:H452,$DD$2)>0,$DD$2,\"\")","v":""},{"$f":"IF(COUNTIF(C452:H452,$DE$2)>0,$DE$2,\"\")","v":""},{"$f":"IF(COUNTIF(C452:H452,$DF$2)>0,$DF$2,\"\")","v":""},{"$f":"IF(COUNTIF(C452:H452,$DG$2)>0,$DG$2,\"\")","v":""},{"$f":"IF(COUNTIF(C452:H452,$DH$2)>0,$DH$2,\"\")","v":""},{"$f":"IF(COUNTIF(C452:H452,$DI$2)>0,$DI$2,\"\")","v":""},{"$f":"IF(COUNTIF(C452:H452,$DJ$2)>0,$DJ$2,\"\")","v":""},{"$f":"IF(COUNTIF(C452:H452,$DK$2)>0,$DK$2,\"\")","v":""},{"$f":"IF(COUNTIF(C452:H452,$DL$2)>0,$DL$2,\"\")","v":""},{"$f":"IF(COUNTIF(C452:H452,$DM$2)>0,$DM$2,\"\")","v":""},{"$f":"IF(COUNTIF(C452:H452,$DN$2)>0,$DN$2,\"\")","v":""},{"$f":"IF(COUNTIF(C452:H452,$DO$2)>0,$DO$2,\"\")","v":""},{"$f":"IF(COUNTIF(C452:H452,$DP$2)>0,$DP$2,\"\")","v":""},{"$f":"IF(COUNTIF(C452:H452,$DQ$2)>0,$DQ$2,\"\")","v":""},{"$f":"IF(COUNTIF(C452:H452,$DR$2)>0,$DR$2,\"\")","v":""},{"$f":"IF(COUNTIF(C452:H452,$DS$2)>0,$DS$2,\"\")","v":""},{"$f":"IF(COUNTIF(C452:H452,$DT$2)>0,$DT$2,\"\")","v":""},{"$f":"IF(COUNTIF(C452:H452,$DU$2)>0,$DU$2,\"\")","v":""},{"$f":"IF(COUNTIF(C452:H452,$DV$2)>0,$DV$2,\"\")","v":""},{"$f":"IF(COUNTIF(C452:H452,$DW$2)>0,$DW$2,\"\")","v":""},{"$f":"IF(COUNTIF(C452:H452,$DX$2)>0,$DX$2,\"\")","v":""},{"$f":"IF(COUNTIF(C452:H452,$DY$2)>0,$DY$2,\"\")","v":""},{"$f":"COUNT(BR452:DY452)","v":0}]
[467,"(31/05/2003)",8,18,21,22,38,60,2,4,4,13,19,3,4,0,17,26,1,21,9,12,6,1,5,0,5,6,0,0,7,3,20,5,5,1,1,1,2,9,3,9,46,15,7,0,8,11,48,13,8,30,1,2,21,5,7,3,2,14,4,15,7,13,2,14,12,0,null,"","","","","","","","","","","","","","","","","","","","","","","","","","","","","","","","","","","","","","","","","","","","","","","","","","","","","","","","","","","","",0]
[482,"(23/07/2003)",12,13,33,53,54,56,17,19,4,10,11,1,9,4,32,41,12,0,0,2,21,16,6,5,7,3,4,1,9,1,4,3,20,16,10,4,4,8,0,5,61,2,12,2,14,8,2,1,6,1,16,3,5,20,2,8,9,7,0,0,6,0,17,3,11,15,null,"","","","","","","","","","","","","","","","","","","","","","","","","","","","","","","","","","","","","","","","","","","","","","","","","","","","","","","","","","","","",0]
[498,"(17/09/2003)",2,6,28,49,50,57,7,0,5,26,8,0,25,3,1,2,8,16,1,12,3,15,9,4,2,1,20,7,8,5,11,19,36,0,2,10,20,1,9,21,10,3,28,13,10,24,1,5,7,15,32,19,21,11,0,0,25,11,4,5,7,6,0,1,2,3,null,"","","","","","","","","","","","","","","","","","","","","","","","","","","","","","","","","","","","","","","","","","","","","","","","","","","","","","","","","","","","",0]
[513,"(12/11/2003)",10,19,27,33,39,46,3,15,2,1,5,15,10,1,16,0,9,31,11,27,5,12,24,19,0,8,10,22,23,11,26,34,0,4,13,3,1,4,0,2,4,2,2,7,0,1,3,20,22,6,3,0,8,10,10,9,40,8,1,13,4,5,15,1,14,18,null,"","","","","","","","","","","","","","","","","","","","","","","","","","","","","","","","","","","","","","","","","","","","","","","","","","","","","","","","","","","","",0]
[528,"(10/01/2004)",8,12,28,31,34,37,18,30,2,16,10,1,11,0,8,3,24,0,12,1,6,13,1,10,4,23,2,9,38,3,6,1,15,0,4,18,0,3,12,0,8,2,0,7,5,5,4,9,37,5,5,15,4,4,3,1,11,1,16,28,2,20,13,5,2,33,null,"","","","","","","","","","","","","","","","","","","","","","","","","","","","","","","","","","","","","","","","","","","","","","","","","","","","","","","","","","","","",0]
[544,"(10/03/2004)",11,17,33,34,47,56,13,46,6,2,26,2,7,10,12,19,0,12,3,8,8,5,0,11,2,39,11,4,8,19,6,17,3,2,20,4,10,14,0,0,1,18,1,15,7,21,20,1,6,4,6,1,0,10,1,5,27,3,11,1,5,0,3,3,11,49,null,"","","","","","","","","","","","","","","","","","","","","","","","","","","","","","","","","","","","","","","","","","","","","","","","","","","","","","","","","","","","",0]
[559,"(01/05/2004)",6,13,17,25,36,53,28,61,21,6,4,0,1,2,7,3,15,2,0,1,5,9,0,2,17,54,8,7,2,34,0,32,18,12,5,3,1,29,3,15,14,0,16,2,9,14,35,5,6,19,3,6,5,8,2,20,10,7,0,6,20,8,1,1,1,5,null,"","","","","","","","","","","","","","","","","","","","","","","","","","","","","","","","","","","","","","","","","","","","","","","","","","","","","","","","","","","","",0]
[575,"(26/06/2004)",5,18,21,29,35,48,14,1,3,22,0,2,10,12,3,1,8,4,4,4,5,3,1,0,33,3,0,2,1,50,7,48,34,28,0,15,4,1,3,10,0,5,9,8,14,2,7,21,22,1,10,22,21,0,11,4,4,23,16,22,13,24,6,8,2,3,null,"","","","","","","","","","","","","","","","","","","","","","","","","","","","","","","","","","","","","","","","","","","","","","","","","","","","","","","","","","","","",0]
[596,"(08/09/2004)",11,14,28,43,54,60,1,1,5,6,6,7,7,7,17,2,0,11,2,0,16,16,15,5,54,13,21,23,12,11,1,69,3,0,2,9,19,12,7,5,21,9,30,10,10,14,13,4,0,22,8,8,2,18,3,1,6,15,2,0,2,18,11,5,3,0,null,"","","","","","","","","","","","","","","","","","","","","","","","","","","","","","","","","","","","","","","","","","","","","","","","","","","","","","","","","","","","",0]
[606,"(13/10/2004)",6,23,32,35,41,55,11,11,15,1,8,0,4,3,7,5,3,3,4,10,2,6,25,6,5,23,31,5,0,1,2,79,9,10,3,5,6,0,17,6,0,19,5,4,6,9,0,9,10,1,7,2,12,28,1,8,2,1,1,6,0,9,21,15,13,4,null,"","","","","","","","","","","","","","","","","","","","","","","","","","","","","","","","","","","","","","","","","","","","","","","","","","","","","","","","","","","","",0]
[622,"(08/12/2004)",19,27,29,38,50,59,2,6,2,17,5,9,20,3,23,4,15,3,2,3,10,3,41,10,0,39,11,2,16,4,5,1,0,26,0,12,1,2,5,22,16,5,14,0,22,25,15,25,12,9,12,3,12,8,1,0,7,17,10,6,9,25,1,13,0,4,null,"","","","","","","","","","","","","","","","","","","","","","","","","","","","","","","","","","","","","","","","","","","","","","","","","","","","","","","","","","","","",0]
[637,"(05/02/2005)",11,18,43,48,52,58,6,5,17,32,4,24,11,2,14,3,0,7,3,18,8,7,56,0,5,2,26,4,13,3,20,1,4,1,15,1,16,1,20,1,31,20,2,15,8,8,3,2,0,6,7,4,6,0,2,1,5,0,7,5,14,3,16,0,12,7,null,"","","","","","","","","","","","","","","","","","","","","","","","","","","","","","","","","","","","","","","","","","","","","","","","","","","","","","","","","","","","",0]
[652,"(02/04/2005)",10,18,20,24,56,57,11,20,7,47,4,39,26,17,3,0,5,5,6,5,23,22,10,0,5,0,41,19,4,0,2,1,8,1,2,16,8,6,3,8,13,10,9,30,1,9,3,4,15,10,1,12,6,1,6,14,10,7,2,3,29,0,0,15,2,1,null,"","","","","","","","","","","","","","","","","","","","","","","","","","","","","","","","","","","","","","","","","","","","","","","","","","","","","","","","","","","","",0]
[668,"(28/05/2005)",1,2,14,33,49,56,0,0,10,1,1,10,2,3,15,14,8,4,22,0,39,1,26,3,15,10,57,35,1,15,3,2,5,17,2,5,15,22,0,9,12,4,12,4,13,7,10,7,13,26,2,8,3,3,0,30,5,9,8,8,2,0,16,11,4,6,null,"","","","","","","","","","","","","","","","","","","","","","","","","","","","","","","","","","","","","","","","","","","","","","","","","","","","","","","","","","","","",0]
[683,"(20/07/2005)",2,11,12,35,40,43,15,0,3,1,3,10,14,6,7,6,0,0,37,5,7,12,41,9,30,10,2,3,16,8,2,3,1,11,9,8,5,6,15,10,0,1,1,2,12,0,7,5,0,3,17,5,1,6,7,8,12,24,2,4,6,15,31,2,2,1,null,"","","","","","","","","","","","","","","","","","","","","","","","","","","","","","","","","","","","","","","","","","","","","","","","","","","","","","","","","","","","",0]
[693,"(24/08/2005)",13,14,17,31,41,50,6,10,13,7,7,4,4,2,17,16,1,3,0,0,3,2,0,1,9,20,5,13,26,18,12,7,8,21,19,5,0,16,1,20,5,11,2,12,22,9,0,15,8,13,27,15,3,6,4,0,4,5,3,7,2,8,1,1,6,1,null,"","","","","","","","","","","","","","","","","","","","","","","","","","","","","","","","","","","","","","","","","","","","","","","","","","","","","","","","","","","","",0]
[715,"(19/11/2005)",4,12,24,33,36,54,2,9,10,0,4,6,1,1,6,4,10,0,7,15,10,2,1,11,21,42,20,6,14,0,5,2,11,18,6,12,14,18,0,5,1,0,19,34,1,4,4,37,3,6,7,2,7,14,5,11,8,20,1,0,17,13,13,3,4,9,null,"","","","","","","","","","","","","","","","","","","","","","","","","","","","","","","","","","","","","","","","","","","","","","","","","","","","","","","","","","","","",0]
[730,"(18/01/2006)",2,15,16,45,50,54,4,0,5,3,1,7,4,2,5,19,25,3,2,3,0,0,6,1,36,57,12,21,9,2,9,17,6,13,14,3,10,2,1,6,5,7,4,49,11,4,5,2,1,2,0,17,4,6,5,0,6,7,11,0,6,1,1,12,3,8,null,"","","","","","","","","","","","","","","","","","","","","","","","","","","","","","","","","","","","","","","","","","","","","","","","","","","","","","","","","","","","",0]
[746,"(15/03/2006)",1,10,12,25,49,57,0,1,21,2,17,7,4,18,11,0,9,0,18,8,8,1,4,17,14,3,1,37,2,5,0,2,5,6,6,8,13,3,9,4,7,5,1,9,2,11,4,8,1,12,7,2,6,22,0,4,22,11,14,3,22,7,0,28,5,3,null,"","","","","","","","","","","","","","","","","","","","","","","","","","","","","","","","","","","","","","","","","","","","","","","","","","","","","","","","","","","","",0]
[761,"(06/05/2006)",13,17,27,29,40,56,3,8,7,6,5,22,8,33,26,11,24,1,0,23,23,16,0,4,13,10,14,8,3,9,9,17,0,21,0,2,2,4,11,7,8,3,5,5,2,0,5,7,3,1,1,1,3,2,6,5,13,26,29,11,37,0,12,4,2,1,null,"","","","","","","","","","","","","","","","","","","","","","","","","","","","","","","","","","","","","","","","","","","","","","","","","","","","","","","","","","","","",0]
[776,"(28/06/2006)",3,15,35,41,57,60,10,23,0,6,2,37,12,8,13,2,39,1,15,3,0,7,15,19,10,7,5,9,18,10,6,13,1,36,3,8,17,9,8,3,0,18,2,4,14,13,0,1,18,16,12,1,1,6,21,1,3,4,12,2,12,15,0,2,8,0,null,"","","","","","","","","","","","","","","","","","","","","","","","","","","","","","","","","","","","","","","","","","","","","","","","","","","","","","","","","","","","",0]
[792,"(23/08/2006)",9,29,34,43,45,56,26,2,16,9,7,2,12,7,0,6,6,17,11,1,16,23,4,35,1,5,9,2,10,26,13,6,6,2,0,24,3,9,24,0,1,13,5,3,3,29,6,1,0,4,0,17,17,7,37,3,12,13,8,5,28,0,4,1,10,3,null,"","","","","","","","","","","","","","","","","","","","","","","","","","","","","","","","","","","","","","","","","","","","","","","","","","","","","","","","","","","","",0]
[806,"(12/10/2006)",18,26,35,41,47,60,6,1,2,8,3,4,6,21,8,3,5,9,2,4,13,13,18,0,5,5,3,5,24,4,27,0,20,3,7,1,17,8,13,10,0,1,2,6,10,43,0,5,1,18,14,31,0,1,51,17,13,8,22,19,7,2,3,9,2,0,null,"","","","","","","","","","","","","","","","","","","","","","","","","","","","","","","","","","","","","","","","","","","","","","","","","","","","","","","","","","","","",0]
[809,"(21/10/2006)",5,11,15,23,25,30,9,1,5,11,0,7,9,2,11,6,0,12,5,7,0,16,21,3,8,8,1,8,0,7,0,3,2,6,10,0,1,2,16,13,3,4,5,9,13,46,3,8,4,21,17,1,3,4,2,20,16,11,25,22,10,2,1,12,5,3,null,"","","","","","","","","","","","","","","","","","","","","","","","","","","","","","","","","","","","","","","","","","","","","","","","","","","","","","","","","","","","",0]
[824,"(13/12/2006)",6,7,9,20,33,48,1,10,20,2,5,0,0,6,0,2,10,27,12,22,1,31,2,18,5,0,4,6,11,22,5,1,2,13,3,7,16,4,0,7,18,3,9,3,9,8,2,3,7,6,4,4,8,0,17,9,1,2,40,1,25,11,9,5,1,18,null,"","","","","","","","","","","","","","","","","","","","","","","","","","","","","","","","","","","","","","","","","","","","","","","","","","","","","","","","","","","","",0]
[839,"(03/02/2007)",7,8,11,18,37,43,16,9,8,17,2,2,0,0,1,5,0,42,6,10,7,2,3,0,20,15,14,3,1,2,20,16,13,3,18,1,4,8,4,2,33,18,0,1,7,14,9,8,0,1,13,6,1,8,4,8,5,3,6,16,40,10,4,4,3,2,null,"","","","","","","","","","","","","","","","","","","","","","","","","","","","","","","","","","","","","","","","","","","","","","","","","","","","","","","","","","","","",0]
[855,"(04/04/2007)",3,24,31,42,43,53,12,9,0,33,18,3,5,6,6,21,16,58,22,3,8,4,1,16,4,10,30,5,3,0,1,32,1,19,15,2,0,4,20,3,4,12,16,2,6,10,25,0,0,1,12,2,7,8,6,9,2,10,0,9,56,2,11,4,2,5,null,"","","","","","","","","","","","","","","","","","","","","","","","","","","","","","","","","","","","","","","","","","","","","","","","","","","","","","","","","","","","",0]
[870,"(26/05/2007)",8,21,34,40,43,52,27,8,13,12,4,18,20,0,11,3,6,8,37,18,7,19,10,12,3,25,0,2,5,7,2,3,1,3,1,17,6,7,6,0,8,4,12,17,9,0,5,1,0,3,27,4,9,4,1,1,1,0,5,3,71,17,2,19,9,9,null,"","","","","","","","","","","","","","","","","","","","","","","","","","","","","","","","","","","","","","","","","","","","","","","","","","","","","","","","","","","","",0]
[886,"(21/07/2007)",17,33,37,50,55,59,15,2,29,1,14,34,36,10,27,7,2,2,1,2,9,35,0,5,13,9,3,2,21,5,6,19,17,7,7,6,1,3,0,13,7,9,0,8,2,16,4,4,5,4,4,6,1,20,6,0,1,3,3,8,0,5,13,11,0,3,null,"","","","","","","","","","","","","","","","","","","","","","","","","","","","","","","","","","","","","","","","","","","","","","","","","","","","","","","","","","","","",0]
[901,"(12/09/2007)",13,16,32,33,34,56,9,6,3,1,5,49,4,3,11,22,5,14,0,17,10,0,11,1,9,2,1,4,36,7,21,8,32,7,22,3,5,0,0,0,5,2,7,1,12,13,5,9,4,7,3,4,16,35,9,13,8,9,2,2,6,0,4,2,1,12,null,"","","","","","","","","","","","","","","","","","","","","","","","","","","","","","","","","","","","","","","","","","","","","","","","","","","","","","","","","","","","",0]
[919,"(14/11/2007)",3,25,31,41,43,60,8,14,0,1,3,8,13,1,5,40,23,1,18,6,9,14,4,17,7,4,7,10,2,13,0,4,9,3,7,2,0,15,3,18,13,3,3,1,13,31,0,10,0,1,5,2,2,4,4,11,5,1,9,7,14,18,14,17,2,0,null,"","","","","","","","","","","","","","","","","","","","","","","","","","","","","","","","","","","","","","","","","","","","","","","","","","","","","","","","","","","","",0]
[933,"(09/01/2008)",8,14,25,39,45,51,12,1,14,5,13,22,2,0,12,5,37,11,11,0,10,4,1,31,2,3,1,8,6,13,0,6,4,3,21,16,6,5,5,2,4,1,3,15,0,7,7,1,14,15,0,3,16,12,3,10,0,8,1,21,3,32,4,31,7,5,null,"","","","","","","","","","","","","","","","","","","","","","","","","","","","","","","","","","","","","","","","","","","","","","","","","","","","","","","","","","","","",0]
[948,"(01/03/2008)",22,41,44,46,52,54,2,11,1,3,1,9,13,3,27,7,1,2,13,1,7,4,16,6,9,18,11,0,5,28,8,21,3,18,12,11,8,20,1,17,10,16,4,30,15,22,0,6,4,0,13,0,2,14,9,9,8,0,7,0,18,47,10,1,2,7,null,"","","","","","","","","","","","","","","","","","","","","","","","","","","","","","","","","","","","","","","","","","","","","","","","","","","","","","","","","","","","",0]
[963,"(23/04/2008)",15,17,37,48,50,59,10,1,4,2,4,3,5,9,42,22,1,8,5,12,0,2,0,3,3,33,2,5,13,6,6,36,11,33,27,11,23,6,3,3,8,2,0,45,4,1,13,10,19,14,28,7,7,0,1,0,5,14,2,7,1,62,4,16,0,22,null,"","","","","","","","","","","","","","","","","","","","","","","","","","","","","","","","","","","","","","","","","","","","","","","","","","","","","","","","","","","","",0]
[979,"(18/06/2008)",3,15,28,31,39,51,6,17,0,8,2,19,2,6,2,38,8,1,10,3,0,1,2,1,19,5,9,21,3,22,3,13,1,0,43,4,0,2,4,7,10,6,4,3,0,4,4,1,35,8,5,23,6,16,17,10,0,30,3,9,17,7,9,1,16,11,null,"","","","","","","","","","","","","","","","","","","","","","","","","","","","","","","","","","","","","","","","","","","","","","","","","","","","","","","","","","","","",0]
[994,"(09/08/2008)",3,20,29,40,44,58,2,4,0,2,1,2,17,2,3,4,23,12,7,18,3,9,6,4,8,0,5,11,18,1,1,1,5,2,0,19,7,5,19,7,14,14,19,3,4,0,3,1,10,0,11,6,7,6,12,25,15,45,13,24,32,6,24,0,9,1,null,"","","","","","","","","","","","","","","","","","","","","","","","","","","","","","","","","","","","","","","","","","","","","","","","","","","","","","","","","","","","",0]
[1010,"(04/10/2008)",2,3,13,37,46,54,1,0,0,3,7,1,2,18,13,7,39,1,0,34,2,7,4,11,24,14,12,12,7,11,8,7,3,12,1,35,8,12,4,1,30,3,0,10,10,6,5,2,6,6,6,0,6,2,3,41,9,3,10,0,4,22,40,1,25,9,null,"","","","","","","","","","","","","","","","","","","","","","","","","","","","","","","","","","","","","","","","","","","","","","","","","","","","","","","","","","","","",0]
[1032,"(20/12/2008)",15,16,26,29,43,57,2,9,17,13,3,6,9,2,14,6,16,19,13,20,0,0,3,5,12,3,10,8,2,1,16,0,7,7,0,21,10,3,1,4,21,25,2,32,8,1,18,11,0,5,9,1,5,24,1,63,4,4,6,2,11,10,0,14,47,5,null,"","","","","","","","","","","","","","","","","","","","","","","","","","","","","","","","","","","","","","","","","","","","","","","","","","","","","","","","","","","","",0]
[1041,"(21/01/2009)",10,12,36,44,54,57,1,2,7,4,8,1,3,11,23,0,6,0,22,29,9,9,8,7,21,2,19,17,11,2,25,6,2,1,9,30,19,12,8,13,3,0,11,41,1,10,5,7,3,0,18,4,14,33,7,72,3,2,4,0,1,4,0,23,6,6,null,"","","","","","","","","","","","","","","","","","","","","","","","","","","","","","","","","","","","","","","","","","","","","","","","","","","","","","","","","","","","",0]
[1057,"(18/03/2009)",2,3,4,15,49,59,10,0,0,0,8,1,6,1,39,6,5,2,3,3,0,2,8,3,37,2,9,33,27,7,14,7,2,9,8,15,12,2,7,4,13,16,27,1,13,11,3,4,6,16,7,15,30,10,0,1,14,5,1,11,11,20,5,13,0,3,null,"","","","","","","","","","","","","","","","","","","","","","","","","","","","","","","","","","","","","","","","","","","","","","","","","","","","","","","","","","","","",0]
[1072,"(09/05/2009)",9,18,19,43,47,54,9,10,12,5,1,6,1,2,0,5,20,13,18,5,15,2,3,0,0,14,11,9,2,14,4,22,4,3,8,7,27,6,10,19,28,31,1,16,7,26,2,12,0,4,3,30,0,4,3,9,14,20,1,0,10,5,4,28,15,18,null,"","","","","","","","","","","","","","","","","","","","","","","","","","","","","","","","","","","","","","","","","","","","","","","","","","","","","","","","","","","","",0]
[1088,"(04/07/2009)",6,24,31,35,42,57,25,2,1,2,4,0,17,15,7,2,8,3,34,21,31,7,6,8,12,1,3,25,2,0,15,38,20,1,4,23,0,1,4,8,0,1,9,6,3,3,8,0,5,15,2,1,14,20,19,3,30,7,13,16,3,7,0,44,4,34,null,"","","","","","","","","","","","","","","","","","","","","","","","","","","","","","","","","","","","","","","","","","","","","","","","","","","","","","","","","","","","",0]
[1103,"(26/08/2009)",10,19,28,41,55,56,6,14,7,17,19,2,2,30,1,0,1,2,7,4,46,7,3,3,0,5,5,40,1,2,30,53,8,0,19,5,4,14,3,11,1,8,14,4,18,11,0,3,20,4,17,1,29,6,10,5,1,5,28,31,0,0,2,59,19,49,null,"","","","","","","","","","","","","","","","","","","","","","","","","","","","","","","","","","","","","","","","","","","","","","","","","","","","","","","","","","","","",0]
[1118,"(17/10/2009)",8,20,21,43,44,55,1,14,4,2,34,1,10,0,2,15,9,17,2,8,4,4,1,3,15,0,0,4,16,17,4,8,1,8,5,3,19,6,7,6,1,5,3,19,10,1,3,8,0,0,8,16,2,21,14,3,16,6,11,4,0,15,13,6,5,10,null,"","","","","","","","","","","","","","","","","","","","","","","","","","","","","","","","","","","","","","","","","","","","","","","","","","","","","","","","","","","","",0]
[1129,"(25/11/2009)",12,17,19,32,47,55,12,25,4,3,2,12,4,1,13,10,5,0,13,2,15,1,0,5,0,11,11,15,27,1,15,7,12,19,2,2,3,0,4,10,9,16,14,30,1,9,10,3,11,7,6,7,0,32,5,9,27,1,22,8,0,4,3,17,3,1,null,"","","","","","","","","","","","","","","","","","","","","","","","","","","","","","","","","","","","","","","","","","","","","","","","","","","","","","","","","","","","",0]
[1150,"(03/02/2010)",15,17,28,31,35,52,6,12,5,12,15,3,1,1,9,4,26,18,34,23,0,5,0,6,5,32,13,16,1,5,12,8,2,0,2,7,0,2,3,4,0,1,9,51,3,9,31,11,13,6,27,1,7,2,6,9,16,0,4,1,2,16,24,8,24,5,null,"","","","","","","","","","","","","","","","","","","","","","","","","","","","","","","","","","","","","","","","","","","","","","","","","","","","","","","","","","","","",0]
[1165,"(27/03/2010)",20,40,42,52,54,60,5,27,5,4,2,1,4,16,8,19,41,11,49,1,15,20,1,3,12,0,11,3,7,9,3,1,17,10,8,3,2,17,18,6,15,13,24,66,18,0,3,0,8,9,42,6,2,4,1,24,2,0,2,0,6,31,39,10,39,0,null,"","","","","","","","","","","","","","","","","","","","","","","","","","","","","","","","","","","","","","","","","","","","","","","","","","","","","","","","","","","","",0]
[1181,"(22/05/2010)",18,20,26,31,44,45,3,6,6,13,2,7,7,32,24,10,5,1,10,5,31,6,17,0,28,0,5,2,12,8,8,0,11,2,24,1,0,33,4,1,15,8,6,4,7,16,10,12,9,0,0,11,2,12,5,3,7,4,3,15,4,9,1,26,2,1,null,"","","","","","","","","","","","","","","","","","","","","","","","","","","","","","","","","","","","","","","","","","","","","","","","","","","","","","","","","","","","",0]
[1196,"(14/07/2010)",3,6,19,20,58,60,18,3,0,12,13,0,10,9,3,6,5,3,2,3,10,5,1,15,0,0,7,5,12,2,5,1,1,12,13,12,7,3,5,16,7,23,6,19,22,9,2,27,9,8,15,26,17,27,4,2,22,4,2,3,1,6,1,0,4,0,null,"","","","","","","","","","","","","","","","","","","","","","","","","","","","","","","","","","","","","","","","","","","","","","","","","","","","","","","","","","","","",0]
[1212,"(08/09/2010)",2,23,33,35,40,50,4,0,1,7,3,6,2,10,2,2,5,4,7,3,1,13,3,31,13,4,23,5,0,18,8,4,17,11,7,3,1,5,0,2,0,1,6,3,8,0,14,43,8,24,4,42,33,1,11,0,38,8,10,1,9,5,17,13,20,10,null,"","","","","","","","","","","","","","","","","","","","","","","","","","","","","","","","","","","","","","","","","","","","","","","","","","","","","","","","","","","","",0]
[1227,"(30/10/2010)",4,28,30,31,35,54,19,8,14,0,5,21,11,5,17,1,10,19,11,6,4,28,4,46,3,19,3,20,9,33,11,5,3,0,9,0,0,2,8,2,0,13,6,18,23,1,3,4,6,39,14,6,4,4,26,1,12,7,3,0,1,1,3,6,35,25,null,"","","","","","","","","","","","","","","","","","","","","","","","","","","","","","","","","","","","","","","","","","","","","","","","","","","","","","","","","","","","",0]
[1242,"(20/12/2010)",11,34,45,48,51,54,3,23,6,15,5,36,26,2,2,1,0,2,1,4,3,7,6,5,8,6,5,2,11,4,1,1,11,1,9,8,15,9,23,0,8,14,3,6,3,4,18,2,21,54,0,21,19,0,2,14,0,3,6,0,7,16,18,21,5,13,null,"","","","","","","","","","","","","","","","","","","","","","","","","","","","","","","","","","","","","","","","","","","","","","","","","","","","","","","","","","","","",0]
[1258,"(16/02/2011)",11,26,47,55,57,59,8,1,9,31,3,52,4,9,4,12,0,18,17,4,1,23,5,4,15,10,21,18,3,8,14,0,1,17,4,1,31,15,2,7,2,9,12,2,3,8,34,18,2,5,14,7,0,7,6,13,3,1,2,3,0,32,0,10,0,10,null,"","","","","","","","","","","","","","","","","","","","","","","","","","","","","","","","","","","","","","","","","","","","","","","","","","","","","","","","","","","","",0]
[1274,"(13/04/2011)",13,17,21,39,40,59,3,3,6,5,4,8,12,12,4,8,12,34,0,13,5,6,0,11,1,7,0,13,14,4,30,1,2,2,14,7,4,31,4,23,2,10,10,18,0,0,7,4,18,6,30,9,7,3,22,9,5,2,6,15,16,10,16,1,0,1,null,"","","","","","","","","","","","","","","","","","","","","","","","","","","","","","","","","","","","","","","","","","","","","","","","","","","","","","","","","","","","",0]
[1289,"(04/06/2011)",1,3,8,13,27,52,0,3,0,7,3,9,27,0,13,4,2,2,0,8,4,9,1,12,16,5,5,13,7,11,11,5,0,3,5,1,2,1,2,38,10,5,25,4,7,1,22,1,33,6,45,24,22,14,37,12,3,0,21,9,7,1,31,14,6,6,null,"","","","","","","","","","","","","","","","","","","","","","","","","","","","","","","","","","","","","","","","","","","","","","","","","","","","","","","","","","","","",0]
[1305,"(30/07/2011)",3,5,11,36,44,46,12,3,0,11,0,11,1,2,13,3,0,18,8,1,1,4,17,14,2,1,21,6,1,12,4,21,16,19,11,7,13,6,18,15,1,0,41,20,23,12,38,17,5,0,61,0,14,11,9,11,2,2,5,2,7,3,3,14,5,7,null,"","","","","","","","","","","","","","","","","","","","","","","","","","","","","","","","","","","","","","","","","","","","","","","","","","","","","","","","","","","","",0]
[1320,"(17/09/2011)",17,24,25,38,41,55,5,18,15,1,1,3,9,4,9,13,2,9,3,2,16,1,0,1,9,8,36,8,16,0,0,7,1,2,3,3,28,10,12,2,3,15,3,0,7,27,0,4,7,6,9,2,12,4,7,5,1,5,10,9,0,18,18,6,10,6,null,"","","","","","","","","","","","","","","","","","","","","","","","","","","","","","","","","","","","","","","","","","","","","","","","","","","","","","","","","","","","",0]
[1336,"(12/11/2011)",1,32,38,47,51,54,0,11,1,17,4,2,7,2,5,2,7,25,4,1,13,9,16,6,10,1,6,1,8,4,2,3,2,3,12,6,12,0,3,18,4,9,13,0,5,43,9,3,7,12,25,5,0,6,1,7,0,9,8,0,13,34,5,22,4,15,null,"","","","","","","","","","","","","","","","","","","","","","","","","","","","","","","","","","","","","","","","","","","","","","","","","","","","","","","","","","","","",0]
[1351,"(04/01/2012)",13,33,36,41,50,56,10,14,1,1,9,17,3,7,2,12,10,3,0,12,28,12,6,13,2,2,7,16,23,19,17,6,17,18,1,11,8,5,0,33,14,0,10,3,3,5,0,7,13,27,1,4,5,5,16,0,2,10,23,4,1,0,20,37,5,2,null,"","","","","","","","","","","","","","","","","","","","","","","","","","","","","","","","","","","","","","","","","","","","","","","","","","","","","","","","","","","","",0]
[1355,"(18/01/2012)",11,17,24,39,46,49,14,1,2,5,13,21,7,1,3,16,0,7,2,16,32,16,0,3,6,6,11,20,27,0,21,10,2,22,5,15,12,2,4,37,3,3,14,1,0,9,4,1,17,31,5,0,2,1,0,4,6,14,27,8,5,4,24,41,3,6,null,"","","","","","","","","","","","","","","","","","","","","","","","","","","","","","","","","","","","","","","","","","","","","","","","","","","","","","","","","","","","",0]
[1383,"(25/04/2012)",7,9,23,44,46,55,26,5,3,12,1,9,0,12,0,15,2,4,1,3,25,1,1,5,21,19,7,21,0,14,6,15,1,8,15,2,9,14,9,65,6,4,17,14,10,2,32,20,9,0,4,0,12,29,7,4,34,3,7,5,0,32,2,4,5,3,null,"","","","","","","","","","","","","","","","","","","","","","","","","","","","","","","","","","","","","","","","","","","","","","","","","","","","","","","","","","","","",0]
[1398,"(16/06/2012)",14,32,33,40,42,51,9,6,1,1,3,24,1,6,15,30,3,6,16,0,1,4,3,5,3,34,22,10,15,4,21,30,1,5,2,14,8,0,0,7,4,13,13,12,5,0,47,0,6,3,14,4,27,2,22,4,0,2,7,2,2,1,9,2,13,18,null,"","","","","","","","","","","","","","","","","","","","","","","","","","","","","","","","","","","","","","","","","","","","","","","","","","","","","","","","","","","","",0]
[1399,"(20/06/2012)",34,39,43,56,57,60,10,7,2,2,4,25,2,7,16,31,4,7,17,1,2,5,4,6,4,35,23,11,16,5,22,31,2,6,3,15,9,1,1,0,5,14,14,13,0,1,48,1,0,4,15,5,28,3,23,5,1,3,8,3,3,0,0,3,14,0,null,"","","","","","","","","","","","","","","","","","","","","","","","","","","","","","","","","","","","","","","","","","","","","","","","","","","","","","","","","","","","",0]
[1414,"(09/08/2012)",21,37,44,46,49,57,25,12,9,6,19,2,8,2,12,8,13,3,1,9,1,11,8,4,5,6,0,26,31,2,13,5,10,21,4,30,7,3,1,14,20,29,0,8,6,4,2,4,6,0,1,0,5,3,0,4,10,18,7,1,1,15,0,5,29,15,null,"","","","","","","","","","","","","","","","","","","","","","","","","","","","","","","","","","","","","","","","","","","","","","","","","","","","","","","","","","","","",0]
[1429,"(29/09/2012)",9,12,22,39,48,60,40,7,5,21,7,3,1,2,0,11,9,0,7,24,1,4,7,3,1,21,6,0,46,3,6,14,6,36,4,3,8,18,16,1,13,4,1,4,0,14,17,19,6,2,9,14,2,0,13,4,14,10,2,16,1,2,15,10,8,0,null,"","","","","","","","","","","","","","","","","","","","","","","","","","","","","","","","","","","","","","","","","","","","","","","","","","","","","","","","","","","","",0]
[1445,"(24/11/2012)",5,19,32,41,49,58,9,1,11,10,0,5,7,18,14,27,25,2,3,7,10,13,4,11,0,2,22,8,8,9,13,8,1,1,4,3,7,0,7,3,6,4,8,4,16,12,0,6,6,18,10,12,10,1,0,10,5,2,4,2,1,4,9,0,13,16,null,"","","","","","","","","","","","","","","","","","","","","","","","","","","","","","","","","","","","","","","","","","","","","","","","","","","","","","","","","","","","",0]
[1468,"(13/02/2013)",1,2,10,19,20,37,0,0,34,2,6,2,30,12,6,0,3,25,2,8,11,3,27,19,0,0,45,5,1,1,6,1,6,5,5,9,7,4,10,2,9,7,0,6,21,5,1,11,29,3,18,11,7,5,7,4,2,1,1,4,24,19,15,16,4,20,null,"","","","","","","","","","","","","","","","","","","","","","","","","","","","","","","","","","","","","","","","","","","","","","","","","","","","","","","","","","","","",0]
[1476,"(13/03/2013)",4,10,26,37,47,57,2,2,2,0,14,10,38,20,14,0,2,1,1,16,19,11,35,4,8,8,53,13,4,9,4,0,14,2,13,17,15,12,3,6,7,5,0,6,29,5,9,19,2,1,4,19,0,1,15,4,1,9,9,7,6,7,0,3,12,3,null,"","","","","","","","","","","","","","","","","","","","","","","","","","","","","","","","","","","","","","","","","","","","","","","","","","","","","","","","","","","","",0]
[1492,"(08/05/2013)",4,9,18,44,46,48,2,18,2,0,30,1,54,36,0,6,10,17,17,12,3,27,5,0,24,8,12,4,5,3,4,1,7,3,8,7,2,2,19,6,9,7,14,4,9,6,10,35,2,0,1,0,14,0,8,1,4,2,5,6,9,1,13,19,7,1,null,"","","","","","","","","","","","","","","","","","","","","","","","","","","","","","","","","","","","","","","","","","","","","","","","","","","","","","","","","","","","",0]
[1507,"(29/06/2013)",24,46,50,51,52,56,2,2,1,4,10,2,6,8,2,3,9,3,6,1,18,2,20,1,39,23,27,4,20,0,19,8,9,11,6,3,7,2,8,1,13,4,6,19,24,9,3,1,5,12,10,0,11,15,1,0,0,0,20,6,24,0,5,10,7,16,null,"","","","","","","","","","","","","","","","","","","","","","","","","","","","","","","","","","","","","","","","","","","","","","","","","","","","","","","","","","","","",0]
[1523,"(21/08/2013)",22,25,31,39,41,44,13,18,17,7,1,4,3,1,5,19,2,19,8,2,4,9,6,2,55,7,43,0,1,16,0,24,14,5,12,2,0,1,1,7,3,3,22,6,0,25,0,9,21,0,6,3,27,3,8,16,14,6,13,22,5,1,10,10,4,7,null,"","","","","","","","","","","","","","","","","","","","","","","","","","","","","","","","","","","","","","","","","","","","","","","","","","","","","","","","","","","","",0]
[1538,"(11/10/2013)",23,27,35,52,53,57,{"$f":"IF($A1540=\"\",\"\",IF(COUNTIF($C1540:$H1540,I$2)>0,0,1+I1539))","v":4},{"$f":"IF($A1540=\"\",\"\",IF(COUNTIF($C1540:$H1540,J$2)>0,0,1+J1539))","v":6},{"$f":"IF($A1540=\"\",\"\",IF(COUNTIF($C1540:$H1540,K$2)>0,0,1+K1539))","v":32},{"$f":"IF($A1540=\"\",\"\",IF(COUNTIF($C1540:$H1540,L$2)>0,0,1+L1539))","v":10},{"$f":"IF($A1540=\"\",\"\",IF(COUNTIF($C1540:$H1540,M$2)>0,0,1+M1539))","v":16},{"$f":"IF($A1540=\"\",\"\",IF(COUNTIF($C1540:$H1540,N$2)>0,0,1+N1539))","v":1},{"$f":"IF($A1540=\"\",\"\",IF(COUNTIF($C1540:$H1540,O$2)>0,0,1+O1539))","v":18},{"$f":"IF($A1540=\"\",\"\",IF(COUNTIF($C1540:$H1540,P$2)>0,0,1+P1539))","v":3},{"$f":"IF($A1540=\"\",\"\",IF(COUNTIF($C1540:$H1540,Q$2)>0,0,1+Q1539))","v":3},{"$f":"IF($A1540=\"\",\"\",IF(COUNTIF($C1540:$H1540,R$2)>0,0,1+R1539))","v":1},{"$f":"IF($A1540=\"\",\"\",IF(COUNTIF($C1540:$H1540,S$2)>0,0,1+S1539))","v":6},{"$f":"IF($A1540=\"\",\"\",IF(COUNTIF($C1540:$H1540,T$2)>0,0,1+T1539))","v":4},{"$f":"IF($A1540=\"\",\"\",IF(COUNTIF($C1540:$H1540,U$2)>0,0,1+U1539))","v":2},{"$f":"IF($A1540=\"\",\"\",IF(COUNTIF($C1540:$H1540,V$2)>0,0,1+V1539))","v":17},{"$f":"IF($A1540=\"\",\"\",IF(COUNTIF($C1540:$H1540,W$2)>0,0,1+W1539))","v":9},{"$f":"IF($A1540=\"\",\"\",IF(COUNTIF($C1540:$H1540,X$2)>0,0,1+X1539))","v":8},{"$f":"IF($A1540=\"\",\"\",IF(COUNTIF($C1540:$H1540,Y$2)>0,0,1+Y1539))","v":9},{"$f":"IF($A1540=\"\",\"\",IF(COUNTIF($C1540:$H1540,Z$2)>0,0,1+Z1539))","v":2},{"$f":"IF($A1540=\"\",\"\",IF(COUNTIF($C1540:$H1540,AA$2)>0,0,1+AA1539))","v":10},{"$f":"IF($A1540=\"\",\"\",IF(COUNTIF($C1540:$H1540,AB$2)>0,0,1+AB1539))","v":22},{"$f":"IF($A1540=\"\",\"\",IF(COUNTIF($C1540:$H1540,AC$2)>0,0,1+AC1539))","v":5},{"$f":"IF($A1540=\"\",\"\",IF(COUNTIF($C1540:$H1540,AD$2)>0,0,1+AD1539))","v":15},{"$f":"IF($A1540=\"\",\"\",IF(COUNTIF($C1540:$H1540,AE$2)>0,0,1+AE1539))","v":0},{"$f":"IF($A1540=\"\",\"\",IF(COUNTIF($C1540:$H1540,AF$2)>0,0,1+AF1539))","v":7},{"$f":"IF($A1540=\"\",\"\",IF(COUNTIF($C1540:$H1540,AG$2)>0,0,1+AG1539))","v":3},{"$f":"IF($A1540=\"\",\"\",IF(COUNTIF($C1540:$H1540,AH$2)>0,0,1+AH1539))","v":13},{"$f":"IF($A1540=\"\",\"\",IF(COUNTIF($C1540:$H1540,AI$2)>0,0,1+AI1539))","v":0},{"$f":"IF($A1540=\"\",\"\",IF(COUNTIF($C1540:$H1540,AJ$2)>0,0,1+AJ1539))","v":4},{"$f":"IF($A1540=\"\",\"\",IF(COUNTIF($C1540:$H1540,AK$2)>0,0,1+AK1539))","v":2},{"$f":"IF($A1540=\"\",\"\",IF(COUNTIF($C1540:$H1540,AL$2)>0,0,1+AL1539))","v":13},{"$f":"IF($A1540=\"\",\"\",IF(COUNTIF($C1540:$H1540,AM$2)>0,0,1+AM1539))","v":6},{"$f":"IF($A1540=\"\",\"\",IF(COUNTIF($C1540:$H1540,AN$2)>0,0,1+AN1539))","v":2},{"$f":"IF($A1540=\"\",\"\",IF(COUNTIF($C1540:$H1540,AO$2)>0,0,1+AO1539))","v":1},{"$f":"IF($A1540=\"\",\"\",IF(COUNTIF($C1540:$H1540,AP$2)>0,0,1+AP1539))","v":4},{"$f":"IF($A1540=\"\",\"\",IF(COUNTIF($C1540:$H1540,AQ$2)>0,0,1+AQ1539))","v":0},{"$f":"IF($A1540=\"\",\"\",IF(COUNTIF($C1540:$H1540,AR$2)>0,0,1+AR1539))","v":10},{"$f":"IF($A1540=\"\",\"\",IF(COUNTIF($C1540:$H1540,AS$2)>0,0,1+AS1539))","v":37},{"$f":"IF($A1540=\"\",\"\",IF(COUNTIF($C1540:$H1540,AT$2)>0,0,1+AT1539))","v":21},{"$f":"IF($A1540=\"\",\"\",IF(COUNTIF($C1540:$H1540,AU$2)>0,0,1+AU1539))","v":15},{"$f":"IF($A1540=\"\",\"\",IF(COUNTIF($C1540:$H1540,AV$2)>0,0,1+AV1539))","v":14},{"$f":"IF($A1540=\"\",\"\",IF(COUNTIF($C1540:$H1540,AW$2)>0,0,1+AW1539))","v":3},{"$f":"IF($A1540=\"\",\"\",IF(COUNTIF($C1540:$H1540,AX$2)>0,0,1+AX1539))","v":6},{"$f":"IF($A1540=\"\",\"\",IF(COUNTIF($C1540:$H1540,AY$2)>0,0,1+AY1539))","v":36},{"$f":"IF($A1540=\"\",\"\",IF(COUNTIF($C1540:$H1540,AZ$2)>0,0,1+AZ1539))","v":6},{"$f":"IF($A1540=\"\",\"\",IF(COUNTIF($C1540:$H1540,BA$2)>0,0,1+BA1539))","v":21},{"$f":"IF($A1540=\"\",\"\",IF(COUNTIF($C1540:$H1540,BB$2)>0,0,1+BB1539))","v":13},{"$f":"IF($A1540=\"\",\"\",IF(COUNTIF($C1540:$H1540,BC$2)>0,0,1+BC1539))","v":5},{"$f":"IF($A1540=\"\",\"\",IF(COUNTIF($C1540:$H1540,BD$2)>0,0,1+BD1539))","v":4},{"$f":"IF($A1540=\"\",\"\",IF(COUNTIF($C1540:$H1540,BE$2)>0,0,1+BE1539))","v":9},{"$f":"IF($A1540=\"\",\"\",IF(COUNTIF($C1540:$H1540,BF$2)>0,0,1+BF1539))","v":1},{"$f":"IF($A1540=\"\",\"\",IF(COUNTIF($C1540:$H1540,BG$2)>0,0,1+BG1539))","v":1},{"$f":"IF($A1540=\"\",\"\",IF(COUNTIF($C1540:$H1540,BH$2)>0,0,1+BH1539))","v":0},{"$f":"IF($A1540=\"\",\"\",IF(COUNTIF($C1540:$H1540,BI$2)>0,0,1+BI1539))","v":0},{"$f":"IF($A1540=\"\",\"\",IF(COUNTIF($C1540:$H1540,BJ$2)>0,0,1+BJ1539))","v":3},{"$f":"IF($A1540=\"\",\"\",IF(COUNTIF($C1540:$H1540,BK$2)>0,0,1+BK1539))","v":3},{"$f":"IF($A1540=\"\",\"\",IF(COUNTIF($C1540:$H1540,BL$2)>0,0,1+BL1539))","v":1},{"$f":"IF($A1540=\"\",\"\",IF(COUNTIF($C1540:$H1540,BM$2)>0,0,1+BM1539))","v":0},{"$f":"IF($A1540=\"\",\"\",IF(COUNTIF($C1540:$H1540,BN$2)>0,0,1+BN1539))","v":2},{"$f":"IF($A1540=\"\",\"\",IF(COUNTIF($C1540:$H1540,BO$2)>0,0,1+BO1539))","v":12},{"$f":"IF($A1540=\"\",\"\",IF(COUNTIF($C1540:$H1540,BP$2)>0,0,1+BP1539))","v":22},null,{"$f":"IF(COUNTIF(C1540:H1540,$BR$2)>0,$BR$2,\"\")","v":""},{"$f":"IF(COUNTIF(C1540:H1540,$BS$2)>0,$BS$2,\"\")","v":""},{"$f":"IF(COUNTIF(C1540:H1540,$BT$2)>0,$BT$2,\"\")","v":""},{"$f":"IF(COUNTIF(C1540:H1540,$BU$2)>0,$BU$2,\"\")","v":""},{"$f":"IF(COUNTIF(C1540:H1540,$BV$2)>0,$BV$2,\"\")","v":""},{"$f":"IF(COUNTIF(C1540:H1540,$BW$2)>0,$BW$2,\"\")","v":""},{"$f":"IF(COUNTIF(C1540:H1540,$BX$2)>0,$BX$2,\"\")","v":""},{"$f":"IF(COUNTIF(C1540:H1540,$BY$2)>0,$BY$2,\"\")","v":""},{"$f":"IF(COUNTIF(C1540:H1540,$BZ$2)>0,$BZ$2,\"\")","v":""},{"$f":"IF(COUNTIF(C1540:H1540,$CA$2)>0,$CA$2,\"\")","v":""},{"$f":"IF(COUNTIF(C1540:H1540,$CB$2)>0,$CB$2,\"\")","v":""},{"$f":"IF(COUNTIF(C1540:H1540,$CC$2)>0,$CC$2,\"\")","v":""},{"$f":"IF(COUNTIF(C1540:H1540,$CD$2)>0,$CD$2,\"\")","v":""},{"$f":"IF(COUNTIF(C1540:H1540,$CE$2)>0,$CE$2,\"\")","v":""},{"$f":"IF(COUNTIF(C1540:H1540,$CF$2)>0,$CF$2,\"\")","v":""},{"$f":"IF(COUNTIF(C1540:H1540,$CG$2)>0,$CG$2,\"\")","v":""},{"$f":"IF(COUNTIF(C1540:H1540,$CH$2)>0,$CH$2,\"\")","v":""},{"$f":"IF(COUNTIF(C1540:H1540,$CI$2)>0,$CI$2,\"\")","v":""},{"$f":"IF(COUNTIF(C1540:H1540,$CJ$2)>0,$CJ$2,\"\")","v":""},{"$f":"IF(COUNTIF(C1540:H1540,$CK$2)>0,$CK$2,\"\")","v":""},{"$f":"IF(COUNTIF(C1540:H1540,$CL$2)>0,$CL$2,\"\")","v":""},{"$f":"IF(COUNTIF(C1540:H1540,$CM$2)>0,$CM$2,\"\")","v":""},{"$f":"IF(COUNTIF(C1540:H1540,$CN$2)>0,$CN$2,\"\")","v":""},{"$f":"IF(COUNTIF(C1540:H1540,$CO$2)>0,$CO$2,\"\")","v":""},{"$f":"IF(COUNTIF(C1540:H1540,$CP$2)>0,$CP$2,\"\")","v":""},{"$f":"IF(COUNTIF(C1540:H1540,$CQ$2)>0,$CQ$2,\"\")","v":""},{"$f":"IF(COUNTIF(C1540:H1540,$CR$2)>0,$CR$2,\"\")","v":""},{"$f":"IF(COUNTIF(C1540:H1540,$CS$2)>0,$CS$2,\"\")","v":""},{"$f":"IF(COUNTIF(C1540:H1540,$CT$2)>0,$CT$2,\"\")","v":""},{"$f":"IF(COUNTIF(C1540:H1540,$CU$2)>0,$CU$2,\"\")","v":""},{"$f":"IF(COUNTIF(C1540:H1540,$CV$2)>0,$CV$2,\"\")","v":""},{"$f":"IF(COUNTIF(C1540:H1540,$CW$2)>0,$CW$2,\"\")","v":""},{"$f":"IF(COUNTIF(C1540:H1540,$CX$2)>0,$CX$2,\"\")","v":""},{"$f":"IF(COUNTIF(C1540:H1540,$CY$2)>0,$CY$2,\"\")","v":""},{"$f":"IF(COUNTIF(C1540:H1540,$CZ$2)>0,$CZ$2,\"\")","v":""},{"$f":"IF(COUNTIF(C1540:H1540,$DA$2)>0,$DA$2,\"\")","v":""},{"$f":"IF(COUNTIF(C1540:H1540,$DB$2)>0,$DB$2,\"\")","v":""},{"$f":"IF(COUNTIF(C1540:H1540,$DC$2)>0,$DC$2,\"\")","v":""},{"$f":"IF(COUNTIF(C1540:H1540,$DD$2)>0,$DD$2,\"\")","v":""},{"$f":"IF(COUNTIF(C1540:H1540,$DE$2)>0,$DE$2,\"\")","v":""},{"$f":"IF(COUNTIF(C1540:H1540,$DF$2)>0,$DF$2,\"\")","v":""},{"$f":"IF(COUNTIF(C1540:H1540,$DG$2)>0,$DG$2,\"\")","v":""},{"$f":"IF(COUNTIF(C1540:H1540,$DH$2)>0,$DH$2,\"\")","v":""},{"$f":"IF(COUNTIF(C1540:H1540,$DI$2)>0,$DI$2,\"\")","v":""},{"$f":"IF(COUNTIF(C1540:H1540,$DJ$2)>0,$DJ$2,\"\")","v":""},{"$f":"IF(COUNTIF(C1540:H1540,$DK$2)>0,$DK$2,\"\")","v":""},{"$f":"IF(COUNTIF(C1540:H1540,$DL$2)>0,$DL$2,\"\")","v":""},{"$f":"IF(COUNTIF(C1540:H1540,$DM$2)>0,$DM$2,\"\")","v":""},{"$f":"IF(COUNTIF(C1540:H1540,$DN$2)>0,$DN$2,\"\")","v":""},{"$f":"IF(COUNTIF(C1540:H1540,$DO$2)>0,$DO$2,\"\")","v":""},{"$f":"IF(COUNTIF(C1540:H1540,$DP$2)>0,$DP$2,\"\")","v":""},{"$f":"IF(COUNTIF(C1540:H1540,$DQ$2)>0,$DQ$2,\"\")","v":""},{"$f":"IF(COUNTIF(C1540:H1540,$DR$2)>0,$DR$2,\"\")","v":""},{"$f":"IF(COUNTIF(C1540:H1540,$DS$2)>0,$DS$2,\"\")","v":""},{"$f":"IF(COUNTIF(C1540:H1540,$DT$2)>0,$DT$2,\"\")","v":""},{"$f":"IF(COUNTIF(C1540:H1540,$DU$2)>0,$DU$2,\"\")","v":""},{"$f":"IF(COUNTIF(C1540:H1540,$DV$2)>0,$DV$2,\"\")","v":""},{"$f":"IF(COUNTIF(C1540:H1540,$DW$2)>0,$DW$2,\"\")","v":""},{"$f":"IF(COUNTIF(C1540:H1540,$DX$2)>0,$DX$2,\"\")","v":""},{"$f":"IF(COUNTIF(C1540:H1540,$DY$2)>0,$DY$2,\"\")","v":""},{"$f":"COUNT(BR1540:DY1540)","v":0}]
[1553,"(04/12/2013)",20,21,22,29,46,60,19,2,13,7,12,8,1,14,3,4,8,4,3,32,2,4,7,1,2,0,0,0,2,1,18,1,3,6,0,9,21,4,16,19,9,3,12,2,1,29,5,5,51,5,8,0,5,8,12,9,16,15,4,5,18,3,11,12,27,0,null,"","","","","","","","","","","","","","","","","","","","","","","","","","","","","","","","","","","","","","","","","","","","","","","","","","","","","","","","","","","","",0]
[1569,"(29/01/2014)",5,15,18,31,42,53,6,2,29,12,0,3,11,10,19,7,3,7,6,48,0,10,11,0,1,6,16,16,7,1,1,8,19,1,10,2,0,3,14,35,25,3,4,2,4,45,4,0,4,5,12,5,7,2,15,15,4,13,0,5,8,19,27,1,14,3,null,"","","","","","","","","","","","","","","","","","","","","","","","","","","","","","","","","","","","","","","","","","","","","","","","","","","","","","","","","","","","",0]
[1581,"(12/03/2014)",14,15,25,30,31,34,1,14,3,6,6,1,8,22,31,19,4,19,5,0,0,8,1,11,13,9,5,28,19,11,0,5,7,7,10,0,0,4,1,0,8,1,3,8,16,2,16,9,16,17,6,5,9,7,2,27,2,25,3,17,10,3,39,13,4,2,null,"","","","","","","","","","","","","","","","","","","","","","","","","","","","","","","","","","","","","","","","","","","","","","","","","","","","","","","","","","","","",0]
[1600,"(17/05/2014)",9,23,32,35,46,57,4,5,1,7,3,6,4,5,0,1,11,4,18,19,1,3,7,7,11,10,7,16,0,30,19,24,16,16,2,13,2,0,9,10,0,1,22,7,14,10,8,2,6,3,4,0,2,15,8,3,11,3,2,16,9,13,0,1,5,21,null,"","","","","","","","","","","","","","","","","","","","","","","","","","","","","","","","","","","","","","","","","","","","","","","","","","","","","","","","","","","","",0]
[1616,"(12/07/2014)",28,31,40,42,46,58,6,7,17,3,1,4,9,14,6,15,27,14,4,2,10,19,2,3,11,1,2,14,16,5,35,1,2,0,18,11,0,9,1,26,6,4,10,23,30,0,9,0,2,1,15,0,5,31,2,5,4,9,6,8,25,15,16,0,8,7,null,"","","","","","","","","","","","","","","","","","","","","","","","","","","","","","","","","","","","","","","","","","","","","","","","","","","","","","","","","","","","",0]
[1631,"(30/08/2014)",4,29,44,47,48,60,1,7,5,0,5,19,1,12,13,10,6,29,11,5,25,34,12,18,26,2,9,6,11,2,50,3,7,15,0,1,14,4,8,3,2,6,25,3,10,6,4,12,1,0,4,12,0,0,8,3,13,5,9,1,40,8,4,7,2,0,null,"","","","","","","","","","","","","","","","","","","","","","","","","","","","","","","","","","","","","","","","","","","","","","","","","","","","","","","","","","","","",0]
[1647,"(25/10/2014)",12,17,23,38,53,54,9,7,5,16,10,7,17,2,13,3,14,0,3,21,41,3,0,2,1,4,2,3,0,10,66,11,15,4,6,6,2,12,6,1,8,14,2,0,26,1,1,5,5,13,20,6,5,16,8,19,6,11,0,0,10,10,20,1,15,3,null,"","","","","","","","","","","","","","","","","","","","","","","","","","","","","","","","","","","","","","","","","","","","","","","","","","","","","","","","","","","","",0]
[1662,"(17/12/2014)",10,14,25,29,33,57,9,22,20,3,25,6,4,2,28,0,4,15,1,0,14,1,2,14,4,3,9,9,4,7,0,10,1,7,0,21,17,9,0,2,11,29,3,2,41,4,11,2,1,10,5,7,20,1,3,8,2,26,7,5,25,6,0,1,30,12,null,"","","","","","","","","","","","","","","","","","","","","","","","","","","","","","","","","","","","","","","","","","","","","","","","","","","","","","","","","","","","",0]
[1677,"(11/02/2015)",10,15,28,33,51,52,1,1,2,18,4,21,10,13,43,0,1,10,16,15,0,12,7,2,7,5,6,3,4,4,15,25,6,0,8,3,6,24,0,2,2,2,1,17,56,9,26,3,16,10,6,22,4,1,8,3,0,0,22,20,6,2,9,3,3,27,null,"","","","","","","","","","","","","","","","","","","","","","","","","","","","","","","","","","","","","","","","","","","","","","","","","","","","","","","","","","","","",0]
[1694,"(11/04/2015)",20,29,34,37,45,57,3,5,9,11,1,13,12,13,8,3,2,10,2,2,1,29,16,1,1,0,1,20,6,3,32,4,2,15,0,6,9,6,11,0,4,19,0,1,3,26,5,6,33,2,0,7,14,11,7,10,9,16,4,37,8,2,0,3,20,44,null,"","","","","","","","","","","","","","","","","","","","","","","","","","","","","","","","","","","","","","","","","","","","","","","","","","","","","","","","","","","","",0]
[1709,"(30/05/2015)",7,19,30,35,42,47,5,20,6,26,16,10,0,12,8,10,5,3,11,17,9,2,1,8,0,2,16,35,6,11,4,6,2,11,1,0,3,1,7,3,0,2,4,1,6,8,9,0,14,11,1,13,0,3,6,1,4,2,12,52,23,3,15,9,5,59,null,"","","","","","","","","","","","","","","","","","","","","","","","","","","","","","","","","","","","","","","","","","","","","","","","","","","","","","","","","","","","",0]
[1725,"(22/07/2015)",16,18,26,30,31,34,6,8,12,4,32,26,15,11,3,12,21,4,27,2,25,0,17,0,4,10,15,6,3,11,9,0,1,15,12,0,0,7,1,0,10,4,1,4,1,10,3,9,30,6,14,2,7,19,3,13,11,2,7,6,39,15,5,1,13,1,null,"","","","","","","","","","","","","","","","","","","","","","","","","","","","","","","","","","","","","","","","","","","","","","","","","","","","","","","","","","","","",0]
[1740,"(09/09/2015)",10,15,25,38,47,53,10,23,7,13,3,5,11,3,1,0,36,2,4,7,0,5,1,9,13,13,30,21,11,4,0,15,9,2,4,15,15,1,5,1,25,19,2,0,12,13,4,3,9,11,5,1,0,2,9,3,3,6,0,14,54,30,14,16,3,8,null,"","","","","","","","","","","","","","","","","","","","","","","","","","","","","","","","","","","","","","","","","","","","","","","","","","","","","","","","","","","","",0]
[1755,"(28/10/2015)",2,5,8,18,30,48,25,0,6,12,0,8,26,0,3,7,13,11,6,6,2,20,5,0,13,1,13,4,4,19,15,30,1,17,2,0,1,14,6,8,2,3,3,15,27,1,5,4,6,26,2,16,10,0,7,18,4,10,1,2,3,11,4,9,8,3,null,"","","","","","","","","","","","","","","","","","","","","","","","","","","","","","","","","","","","","","","","","","","","","","","","","","","","","","","","","","","","",0]
[1771,"(19/12/2015)",2,20,27,28,32,38,6,0,22,28,3,6,3,16,8,10,1,8,14,12,8,4,21,16,29,0,8,5,5,11,11,1,0,0,7,1,8,0,22,1,3,8,2,0,4,17,1,9,14,2,4,5,2,11,23,3,12,26,5,2,7,6,20,6,9,2,null,"","","","","","","","","","","","","","","","","","","","","","","","","","","","","","","","","","","","","","","","","","","","","","","","","","","","","","","","","","","","",0]
[1786,"(02/02/2016)",2,6,8,21,25,34,5,0,37,2,1,0,18,0,23,8,1,7,29,10,2,3,36,3,9,6,0,5,20,26,0,2,1,15,22,2,6,15,6,0,18,23,17,3,7,8,1,1,29,9,8,20,4,8,5,18,11,4,5,1,2,7,4,21,13,12,null,"","","","","","","","","","","","","","","","","","","","","","","","","","","","","","","","","","","","","","","","","","","","","","","","","","","","","","","","","","","","",0]
[1807,"(09/04/2016)",1,15,16,22,25,43,0,5,8,4,13,5,39,4,9,29,1,16,5,5,0,0,2,15,6,1,3,0,9,47,0,17,2,3,4,12,2,36,27,6,1,44,13,4,8,13,15,1,0,5,6,16,12,3,2,3,8,25,8,6,1,7,2,1,3,13,null,"","","","","","","","","","","","","","","","","","","","","","","","","","","","","","","","","","","","","","","","","","","","","","","","","","","","","","","","","","","","",0]
[1818,"(14/05/2016)",2,6,10,15,53,56,1,0,19,1,2,0,50,3,4,0,3,2,5,10,0,11,7,26,5,6,14,2,6,9,3,1,4,2,15,23,13,6,38,6,7,55,6,15,1,24,3,12,8,16,6,2,1,14,13,8,4,36,0,9,1,0,7,12,14,3,null,"","","","","","","","","","","","","","","","","","","","","","","","","","","","","","","","","","","","","","","","","","","","","","","","","","","","","","","","","","","","",0]
[1833,"(02/07/2016)",2,3,7,16,27,42,11,0,0,10,9,5,0,18,10,8,5,9,4,1,2,0,7,14,7,21,8,11,13,4,18,6,0,2,3,4,12,2,6,1,22,12,3,30,16,5,18,0,6,31,13,1,1,2,28,8,7,12,4,3,2,1,1,27,5,3,null,"","","","","","","","","","","","","","","","","","","","","","","","","","","","","","","","","","","","","","","","","","","","","","","","","","","","","","","","","","","","",0]
[1849,"(20/08/2016)",3,5,11,27,35,44,2,15,0,5,0,2,10,6,1,24,0,25,4,17,9,7,9,7,23,37,24,7,29,3,34,3,0,6,4,3,28,10,6,3,0,14,5,8,5,1,1,16,7,0,2,17,9,5,2,1,4,28,20,6,1,10,2,1,11,13,null,"","","","","","","","","","","","","","","","","","","","","","","","","","","","","","","","","","","","","","","","","","","","","","","","","","","","","","","","","","","","",0]
[1864,"(08/10/2016)",4,5,14,37,40,60,5,2,15,0,0,9,25,2,3,4,15,40,5,0,9,1,12,13,38,52,5,6,1,9,7,5,15,6,12,4,10,8,6,10,2,4,0,9,9,0,11,2,10,4,1,32,24,20,2,12,5,7,7,21,6,1,17,1,1,0,null,"","","","","","","","","","","","","","","","","","","","","","","","","","","","","","","","","","","","","","","","","","","","","","","","","","","","","","","","","","","","",0]
[1879,"(23/11/2016)",5,10,20,57,58,59,4,17,8,15,0,24,3,17,18,0,7,1,2,13,24,1,8,3,53,0,12,12,2,2,6,1,30,5,27,9,11,2,8,25,2,13,5,13,3,1,3,14,5,3,4,7,4,35,17,27,3,4,4,6,4,1,0,0,0,13,null,"","","","","","","","","","","","","","","","","","","","","","","","","","","","","","","","","","","","","","","","","","","","","","","","","","","","","","","","","","","","",0]
[1895,"(18/01/2017)",2,3,5,10,15,34,4,0,0,11,0,3,9,33,13,0,5,17,18,10,0,2,2,7,2,16,1,3,4,5,6,17,12,2,43,3,1,10,24,0,1,29,3,11,19,9,8,30,21,6,2,8,4,7,33,3,5,20,1,1,20,8,1,2,10,12,null,"","","","","","","","","","","","","","","","","","","","","","","","","","","","","","","","","","","","","","","","","","","","","","","","","","","","","","","","","","","","",0]
[1910,"(08/03/2017)",6,9,15,22,39,48,19,8,3,2,15,0,8,10,0,2,1,6,2,14,0,17,17,6,17,11,6,0,2,20,3,9,2,7,5,9,16,25,4,12,3,11,9,3,0,1,23,45,1,3,1,10,1,0,48,18,6,13,9,5,12,5,1,12,25,4,null,"","","","","","","","","","","","","","","","","","","","","","","","","","","","","","","","","","","","","","","","","","","","","","","","","","","","","","","","","","","","",0]
[1920,"(12/04/2017)",25,31,33,39,43,45,29,5,4,3,25,10,18,20,4,8,1,16,8,7,10,2,2,4,27,2,3,2,4,30,0,19,12,1,6,9,0,9,0,22,8,3,1,2,0,11,33,6,0,6,0,3,11,5,58,2,16,4,19,1,22,7,5,22,35,1,null,"","","","","","","","","","","","","","","","","","","","","","","","","","","","","","","","","","","","","","","","","","","","","","","","","","","","","","","","","","","","",0]
[1942,"(24/06/2017)",6,18,20,24,43,48,1,9,6,12,15,0,3,8,1,4,15,6,2,9,9,2,2,0,9,0,10,11,7,0,22,14,34,14,3,15,15,4,22,11,8,2,12,1,3,4,20,4,0,10,3,16,2,0,1,24,6,3,14,4,5,8,27,18,8,23,null,"","","","","","","","","","","","","","","","","","","","","","","","","","","","","","","","","","","","","","","","","","","","","","","","","","","","","","","","","","","","",0]
[1957,"(10/08/2017)",2,14,22,23,29,47,8,0,21,11,1,8,18,1,3,7,14,9,17,0,2,6,17,15,6,1,5,0,0,9,3,4,2,1,0,8,30,7,2,7,3,2,27,5,11,1,2,4,4,11,1,31,0,7,3,39,21,5,5,12,6,8,7,33,10,11,null,"","","","","","","","","","","","","","","","","","","","","","","","","","","","","","","","","","","","","","","","","","","","","","","","","","","","","","","","","","","","",0]
[1973,"(30/09/2017)",1,12,16,17,52,60,0,9,37,2,3,11,10,4,1,2,30,0,6,16,11,0,0,3,7,1,14,15,16,3,11,8,9,8,16,4,46,4,18,10,5,5,13,8,3,7,2,10,13,2,17,6,16,4,19,9,37,0,11,1,8,14,1,49,1,0,null,"","","","","","","","","","","","","","","","","","","","","","","","","","","","","","","","","","","","","","","","","","","","","","","","","","","","","","","","","","","","",0]
[1988,"(16/11/2017)",5,10,39,42,46,54,15,10,11,6,0,5,25,13,3,0,13,8,21,1,7,8,8,8,7,6,4,5,2,6,12,13,14,3,3,19,1,4,33,1,4,2,7,9,0,22,17,0,2,2,1,0,13,19,34,4,52,12,7,0,2,2,10,1,12,15,null,"","","","","","","","","","","","","","","","","","","","","","","","","","","","","","","","","","","","","","","","","","","","","","","","","","","","","","","","","","","","",0]
[2003,"(10/01/2018)",28,34,40,43,50,51,6,9,3,1,9,3,6,5,18,3,11,9,11,6,4,23,3,23,12,2,5,2,17,5,5,8,29,0,8,1,6,9,10,0,6,2,3,1,8,0,32,2,0,9,16,1,28,10,4,0,0,2,11,11,17,7,5,14,1,2,null,{"$f":"IF(COUNTIF(C2005:H2005,$BR$2)>0,$BR$2,\"\")","v":""},{"$f":"IF(COUNTIF(C2005:H2005,$BS$2)>0,$BS$2,\"\")","v":""},{"$f":"IF(COUNTIF(C2005:H2005,$BT$2)>0,$BT$2,\"\")","v":""},{"$f":"IF(COUNTIF(C2005:H2005,$BU$2)>0,$BU$2,\"\")","v":""},{"$f":"IF(COUNTIF(C2005:H2005,$BV$2)>0,$BV$2,\"\")","v":""},{"$f":"IF(COUNTIF(C2005:H2005,$BW$2)>0,$BW$2,\"\")","v":""},{"$f":"IF(COUNTIF(C2005:H2005,$BX$2)>0,$BX$2,\"\")","v":""},{"$f":"IF(COUNTIF(C2005:H2005,$BY$2)>0,$BY$2,\"\")","v":""},{"$f":"IF(COUNTIF(C2005:H2005,$BZ$2)>0,$BZ$2,\"\")","v":""},{"$f":"IF(COUNTIF(C2005:H2005,$CA$2)>0,$CA$2,\"\")","v":""},{"$f":"IF(COUNTIF(C2005:H2005,$CB$2)>0,$CB$2,\"\")","v":""},{"$f":"IF(COUNTIF(C2005:H2005,$CC$2)>0,$CC$2,\"\")","v":""},{"$f":"IF(COUNTIF(C2005:H2005,$CD$2)>0,$CD$2,\"\")","v":""},{"$f":"IF(COUNTIF(C2005:H2005,$CE$2)>0,$CE$2,\"\")","v":""},{"$f":"IF(COUNTIF(C2005:H2005,$CF$2)>0,$CF$2,\"\")","v":""},{"$f":"IF(COUNTIF(C2005:H2005,$CG$2)>0,$CG$2,\"\")","v":""},{"$f":"IF(COUNTIF(C2005:H2005,$CH$2)>0,$CH$2,\"\")","v":""},{"$f":"IF(COUNTIF(C2005:H2005,$CI$2)>0,$CI$2,\"\")","v":""},{"$f":"IF(COUNTIF(C2005:H2005,$CJ$2)>0,$CJ$2,\"\")","v":""},{"$f":"IF(COUNTIF(C2005:H2005,$CK$2)>0,$CK$2,\"\")","v":""},{"$f":"IF(COUNTIF(C2005:H2005,$CL$2)>0,$CL$2,\"\")","v":""},{"$f":"IF(COUNTIF(C2005:H2005,$CM$2)>0,$CM$2,\"\")","v":""},{"$f":"IF(COUNTIF(C2005:H2005,$CN$2)>0,$CN$2,\"\")","v":""},{"$f":"IF(COUNTIF(C2005:H2005,$CO$2)>0,$CO$2,\"\")","v":""},{"$f":"IF(COUNTIF(C2005:H2005,$CP$2)>0,$CP$2,\"\")","v":""},{"$f":"IF(COUNTIF(C2005:H2005,$CQ$2)>0,$CQ$2,\"\")","v":""},{"$f":"IF(COUNTIF(C2005:H2005,$CR$2)>0,$CR$2,\"\")","v":""},{"$f":"IF(COUNTIF(C2005:H2005,$CS$2)>0,$CS$2,\"\")","v":""},{"$f":"IF(COUNTIF(C2005:H2005,$CT$2)>0,$CT$2,\"\")","v":""},{"$f":"IF(COUNTIF(C2005:H2005,$CU$2)>0,$CU$2,\"\")","v":""},{"$f":"IF(COUNTIF(C2005:H2005,$CV$2)>0,$CV$2,\"\")","v":""},{"$f":"IF(COUNTIF(C2005:H2005,$CW$2)>0,$CW$2,\"\")","v":""},{"$f":"IF(COUNTIF(C2005:H2005,$CX$2)>0,$CX$2,\"\")","v":""},{"$f":"IF(COUNTIF(C2005:H2005,$CY$2)>0,$CY$2,\"\")","v":""},{"$f":"IF(COUNTIF(C2005:H2005,$CZ$2)>0,$CZ$2,\"\")","v":""},{"$f":"IF(COUNTIF(C2005:H2005,$DA$2)>0,$DA$2,\"\")","v":""},{"$f":"IF(COUNTIF(C2005:H2005,$DB$2)>0,$DB$2,\"\")","v":""},{"$f":"IF(COUNTIF(C2005:H2005,$DC$2)>0,$DC$2,\"\")","v":""},{"$f":"IF(COUNTIF(C2005:H2005,$DD$2)>0,$DD$2,\"\")","v":""},{"$f":"IF(COUNTIF(C2005:H2005,$DE$2)>0,$DE$2,\"\")","v":""},{"$f":"IF(COUNTIF(C2005:H2005,$DF$2)>0,$DF$2,\"\")","v":""},{"$f":"IF(COUNTIF(C2005:H2005,$DG$2)>0,$DG$2,\"\")","v":""},{"$f":"IF(COUNTIF(C2005:H2005,$DH$2)>0,$DH$2,\"\")","v":""},{"$f":"IF(COUNTIF(C2005:H2005,$DI$2)>0,$DI$2,\"\")","v":""},{"$f":"IF(COUNTIF(C2005:H2005,$DJ$2)>0,$DJ$2,\"\")","v":""},{"$f":"IF(COUNTIF(C2005:H2005,$DK$2)>0,$DK$2,\"\")","v":""},{"$f":"IF(COUNTIF(C2005:H2005,$DL$2)>0,$DL$2,\"\")","v":""},{"$f":"IF(COUNTIF(C2005:H2005,$DM$2)>0,$DM$2,\"\")","v":""},{"$f":"IF(COUNTIF(C2005:H2005,$DN$2)>0,$DN$2,\"\")","v":""},{"$f":"IF(COUNTIF(C2005:H2005,$DO$2)>0,$DO$2,\"\")","v":""},{"$f":"IF(COUNTIF(C2005:H2005,$DP$2)>0,$DP$2,\"\")","v":""},{"$f":"IF(COUNTIF(C2005:H2005,$DQ$2)>0,$DQ$2,\"\")","v":""},{"$f":"IF(COUNTIF(C2005:H2005,$DR$2)>0,$DR$2,\"\")","v":""},{"$f":"IF(COUNTIF(C2005:H2005,$DS$2)>0,$DS$2,\"\")","v":""},{"$f":"IF(COUNTIF(C2005:H2005,$DT$2)>0,$DT$2,\"\")","v":""},{"$f":"IF(COUNTIF(C2005:H2005,$DU$2)>0,$DU$2,\"\")","v":""},{"$f":"IF(COUNTIF(C2005:H2005,$DV$2)>0,$DV$2,\"\")","v":""},{"$f":"IF(COUNTIF(C2005:H2005,$DW$2)>0,$DW$2,\"\")","v":""},{"$f":"IF(COUNTIF(C2005:H2005,$DX$2)>0,$DX$2,\"\")","v":""},{"$f":"IF(COUNTIF(C2005:H2005,$DY$2)>0,$DY$2,\"\")","v":""},{"$f":"COUNT(BR2005:DY2005)","v":0}]
[2004,"(13/01/2018)",1,5,14,23,35,45,0,10,4,2,0,4,7,6,19,4,12,10,12,0,5,24,4,24,13,3,6,3,0,6,6,9,30,1,9,2,7,10,11,1,0,3,4,2,9,{"$f":"IF($A2006=\"\",\"\",IF(COUNTIF($C2006:$H2006,AV$2)>0,0,1+AV2005))","v":1},33,3,1,10,0,2,29,11,5,1,1,3,12,12,18,8,6,15,2,3,null,"","","","","","","","","","","","","","","","","","","","","","","","","","","","","","","","","","","","","","","","","","","","","","","","","","","","","","","","","","","","",0]
[2033,"(20/04/2018)",10,18,33,38,40,43,10,13,33,3,29,1,5,10,27,0,5,39,41,1,4,9,17,0,1,1,17,15,2,5,15,38,3,11,6,20,7,12,0,23,9,5,2,0,1,0,14,5,0,6,11,8,9,11,34,2,7,7,1,14,2,8,13,3,3,11,null,"","","","","","","","","","","","","","","","","","","","","","","","","","","","","","","","","","","","","","","","","","","","","","","","","","","","","","","","","","","","",0]
[null,null,null,null,null,null,null,null,"","","","","","","","","","","","","","","","","","","","","","","","","","","","","","","","","","","","","","","",{"$f":"IF($A2038=\"\",\"\",IF(COUNTIF($C2038:$H2038,AV$2)>0,0,1+AV2037))","v":""},"","","","","","","","","","","","","","","","","","","","",null,"","","","","","","","","","","","","","","","","","","","","","","","","","","","","","","","","","","","","","","","","","","","","","","","","","","","","","","","","","","","",0]
[null,null,null,null,null,null,null,null,"","","","","","","","","","","","","","","","","","","","","","","","","","","","","","","","","","","","","","","","","","","","","","","","","","","","","","","",{"$f":"IF($A2053=\"\",\"\",IF(COUNTIF($C2053:$H2053,BL$2)>0,0,1+BL2052))","v":""},"","","","",null,"","","","","","","","","","","","","","","","","","","","","","","","","","","","","","","","","","","","","","","","","","","","","","","","","","","","","","","","","","","","",0]
[null,null,null,null,null,null,null,null,"","","","","","","","","","","","","","","","","","","","","","","","","","","","","","","","","","","","","","","","","","","","","","","","","","","","","","","","","","","","",null,"","","","","","","","","","","","","","","","","","","","","","","","","","","","","","","","","","","","","","","","","","","","","","","","","","","","","","","","","","","","",0]
[null,null,null,null,null,null,null,null,"","","","","","","","","","","","","","","","","","","","","","","","","","","","","","","","","","","","","","","","","","","","","","","","","","","","","","","","","","","","",null,"","","","","","","","","","","","","","","","","","","","","","","","","","","","","","","","","","","","","","","","","","","","","","","","","","","","","","","","","","","","",0]
[null,null,null,null,null,null,null,null,"","","","","","","","","","","","","","","","","","","","","","","","","","","","","","","","","","","","","","","","","","","","","","","","","","","","","","","","","","","","",null,"","","","","","","","","","","","","","","","","","","","","","","","","","","","","","","","","","","","","","","","","","","","","","","","","","","","","","","","","","","","",0]
[null,null,null,null,null,null,null,null,"","","","","","","","","","","","","","","","","","","","","","","","","","","","","","","","","","","","","","","","","","","","","","","","","","","","","","","","","","","","",null,"","","","","","","","","","","","","","","","","","","","","","","","","","","","","","","","","","","","","","","","","","","","","","","","","","","","","","","","","","","","",0]
[null,null,null,null,null,null,null,null,"","","","","","","","","","","","","","","","","","","","","","","","","","","","","","","","","","","","","","","","","","","","","","","","","","","","","","","","","","","","",null,"","","","","","","","","","","","","","","","","","","","","","","","","","","","","","","","","","","","","","","","","","","","","","","","","","","","","","","","","","","","",0]
[null,null,null,null,null,null,null,null,"","","","","","","","","","","","","","","","","","","","","","","","","","","","","","","","","","","","","","","","","","","","","","","","","","","","","","","","","","","","",null,"","","","","","","","","","","","","","","","","","","","","","","","","","","","","","","","","","","","","","","","","","","","","","","","","","","","","","","","","","","","",0]
[null,null,null,null,null,null,null,null,"","","","","","","","","","","","","","","","","","","","","","","","","","","","","","","","","","","","","","","","","","","","","","","","","","","","","","","","","","","","",null,"","","","","","","","","","","","","","","","","","","","","","","","","","","","","","","","","","","","","","","","","","","","","","","","","","","","","","","","","","","","",0]
[null,null,null,null,null,null,null,null,"","","","","","","","","","","","","","","","","","","","","","","","","","","","","","","","","","","","","","","","","","","","","","","","","","","","","","","","","","","","",null,"","","","","","","","","","","","","","","","","","","","","","","","","","","","","","","","","","","","","","","","","","","","","","","","","","","","","","","","","","","","",0]
[null,null,null,null,null,null,null,null,"","","","","","","","","","","","","","","","","","","","","","","","","","","","","","","","","","","","","","","","","","","","","","","","","","","","","","","","","","","","",null,"","","","","","","","","","","","","","","","","","","","","","","","","","","","","","","","","","","","","","","","","","","","","","","","","","","","","","","","","","","","",0]
[null,null,null,null,null,null,null,null,"","","","","","","","","","","","","","","","","","","","","","","","","","","","","","","","","","","","","","","","","","","","","","","","","","","","","","","","","","","","",null,"","","","","","","","","","","","","","","","","","","","","","","","","","","","","","","","","","","","","","","","","","","","","","","","","","","","","","","","","","","","",0]
[null,null,null,null,null,null,null,null,"","","","","","","","","","","","","","","","","","","","","","","","","","","","","","","","","","","","","","","","","","","","","","","","","","","","","","","","","","","","",null,"","","","","","","","","","","","","","","","","","","","","","","","","","","","","","","","","","","","","","","","","","","","","","","","","","","","","","","","","","","","",0]
[null,null,null,null,null,null,null,null,"","","","","","","","","","","","","","","","","","","","","","","","","","","","","","","","","","","","","","","","","","","","","","","","","","","","","","","","","","","","",null,"","","","","","","","","","","","","","","","","","","","","","","","","","","","","","","","","","","","","","","","","","","","","","","","","","","","","","","","","","","","",0]
[null,null,null,null,null,null,null,null,"","","","","","","","","","","","","","","","","","","","","","","","","","","","","","","","","","","","","","","","","","","","","","","","","","","","","","","","","","","","",null,"","","","","","","","","","","","","","","","","","","","","","","","","","","","","","","","","","","","","","","","","","","","","","","","","","","","","","","","","","","","",0]
[null,null,null,null,null,null,null,null,"","","","","","","","","","","","","","","","","","","","","","","","","","","","","","","","","","","","","","","","","","","","","","","","","","","","","","","","","","","","",null,{"$f":"IF(COUNTIF(C2270:H2270,$BR$2)>0,$BR$2,\"\")","v":""},{"$f":"IF(COUNTIF(C2270:H2270,$BS$2)>0,$BS$2,\"\")","v":""},{"$f":"IF(COUNTIF(C2270:H2270,$BT$2)>0,$BT$2,\"\")","v":""},{"$f":"IF(COUNTIF(C2270:H2270,$BU$2)>0,$BU$2,\"\")","v":""},{"$f":"IF(COUNTIF(C2270:H2270,$BV$2)>0,$BV$2,\"\")","v":""},{"$f":"IF(COUNTIF(C2270:H2270,$BW$2)>0,$BW$2,\"\")","v":""},{"$f":"IF(COUNTIF(C2270:H2270,$BX$2)>0,$BX$2,\"\")","v":""},{"$f":"IF(COUNTIF(C2270:H2270,$BY$2)>0,$BY$2,\"\")","v":""},{"$f":"IF(COUNTIF(C2270:H2270,$BZ$2)>0,$BZ$2,\"\")","v":""},{"$f":"IF(COUNTIF(C2270:H2270,$CA$2)>0,$CA$2,\"\")","v":""},{"$f":"IF(COUNTIF(C2270:H2270,$CB$2)>0,$CB$2,\"\")","v":""},{"$f":"IF(COUNTIF(C2270:H2270,$CC$2)>0,$CC$2,\"\")","v":""},{"$f":"IF(COUNTIF(C2270:H2270,$CD$2)>0,$CD$2,\"\")","v":""},{"$f":"IF(COUNTIF(C2270:H2270,$CE$2)>0,$CE$2,\"\")","v":""},{"$f":"IF(COUNTIF(C2270:H2270,$CF$2)>0,$CF$2,\"\")","v":""},{"$f":"IF(COUNTIF(C2270:H2270,$CG$2)>0,$CG$2,\"\")","v":""},{"$f":"IF(COUNTIF(C2270:H2270,$CH$2)>0,$CH$2,\"\")","v":""},{"$f":"IF(COUNTIF(C2270:H2270,$CI$2)>0,$CI$2,\"\")","v":""},{"$f":"IF(COUNTIF(C2270:H2270,$CJ$2)>0,$CJ$2,\"\")","v":""},{"$f":"IF(COUNTIF(C2270:H2270,$CK$2)>0,$CK$2,\"\")","v":""},{"$f":"IF(COUNTIF(C2270:H2270,$CL$2)>0,$CL$2,\"\")","v":""},{"$f":"IF(COUNTIF(C2270:H2270,$CM$2)>0,$CM$2,\"\")","v":""},{"$f":"IF(COUNTIF(C2270:H2270,$CN$2)>0,$CN$2,\"\")","v":""},{"$f":"IF(COUNTIF(C2270:H2270,$CO$2)>0,$CO$2,\"\")","v":""},{"$f":"IF(COUNTIF(C2270:H2270,$CP$2)>0,$CP$2,\"\")","v":""},{"$f":"IF(COUNTIF(C2270:H2270,$CQ$2)>0,$CQ$2,\"\")","v":""},{"$f":"IF(COUNTIF(C2270:H2270,$CR$2)>0,$CR$2,\"\")","v":""},{"$f":"IF(COUNTIF(C2270:H2270,$CS$2)>0,$CS$2,\"\")","v":""},{"$f":"IF(COUNTIF(C2270:H2270,$CT$2)>0,$CT$2,\"\")","v":""},{"$f":"IF(COUNTIF(C2270:H2270,$CU$2)>0,$CU$2,\"\")","v":""},{"$f":"IF(COUNTIF(C2270:H2270,$CV$2)>0,$CV$2,\"\")","v":""},{"$f":"IF(COUNTIF(C2270:H2270,$CW$2)>0,$CW$2,\"\")","v":""},{"$f":"IF(COUNTIF(C2270:H2270,$CX$2)>0,$CX$2,\"\")","v":""},{"$f":"IF(COUNTIF(C2270:H2270,$CY$2)>0,$CY$2,\"\")","v":""},{"$f":"IF(COUNTIF(C2270:H2270,$CZ$2)>0,$CZ$2,\"\")","v":""},{"$f":"IF(COUNTIF(C2270:H2270,$DA$2)>0,$DA$2,\"\")","v":""},{"$f":"IF(COUNTIF(C2270:H2270,$DB$2)>0,$DB$2,\"\")","v":""},{"$f":"IF(COUNTIF(C2270:H2270,$DC$2)>0,$DC$2,\"\")","v":""},{"$f":"IF(COUNTIF(C2270:H2270,$DD$2)>0,$DD$2,\"\")","v":""},{"$f":"IF(COUNTIF(C2270:H2270,$DE$2)>0,$DE$2,\"\")","v":""},{"$f":"IF(COUNTIF(C2270:H2270,$DF$2)>0,$DF$2,\"\")","v":""},{"$f":"IF(COUNTIF(C2270:H2270,$DG$2)>0,$DG$2,\"\")","v":""},{"$f":"IF(COUNTIF(C2270:H2270,$DH$2)>0,$DH$2,\"\")","v":""},{"$f":"IF(COUNTIF(C2270:H2270,$DI$2)>0,$DI$2,\"\")","v":""},{"$f":"IF(COUNTIF(C2270:H2270,$DJ$2)>0,$DJ$2,\"\")","v":""},{"$f":"IF(COUNTIF(C2270:H2270,$DK$2)>0,$DK$2,\"\")","v":""},{"$f":"IF(COUNTIF(C2270:H2270,$DL$2)>0,$DL$2,\"\")","v":""},{"$f":"IF(COUNTIF(C2270:H2270,$DM$2)>0,$DM$2,\"\")","v":""},{"$f":"IF(COUNTIF(C2270:H2270,$DN$2)>0,$DN$2,\"\")","v":""},{"$f":"IF(COUNTIF(C2270:H2270,$DO$2)>0,$DO$2,\"\")","v":""},{"$f":"IF(COUNTIF(C2270:H2270,$DP$2)>0,$DP$2,\"\")","v":""},{"$f":"IF(COUNTIF(C2270:H2270,$DQ$2)>0,$DQ$2,\"\")","v":""},{"$f":"IF(COUNTIF(C2270:H2270,$DR$2)>0,$DR$2,\"\")","v":""},{"$f":"IF(COUNTIF(C2270:H2270,$DS$2)>0,$DS$2,\"\")","v":""},{"$f":"IF(COUNTIF(C2270:H2270,$DT$2)>0,$DT$2,\"\")","v":""},{"$f":"IF(COUNTIF(C2270:H2270,$DU$2)>0,$DU$2,\"\")","v":""},{"$f":"IF(COUNTIF(C2270:H2270,$DV$2)>0,$DV$2,\"\")","v":""},{"$f":"IF(COUNTIF(C2270:H2270,$DW$2)>0,$DW$2,\"\")","v":""},{"$f":"IF(COUNTIF(C2270:H2270,$DX$2)>0,$DX$2,\"\")","v":""},{"$f":"IF(COUNTIF(C2270:H2270,$DY$2)>0,$DY$2,\"\")","v":""},{"$f":"COUNT(BR2270:DY2270)","v":0}]
[null,null,null,null,null,null,null,null,"","","","","","","","","","","","","","","","","","","","","","","","","","","","","","","","","","","","","","","","","","","","","","","","","","","","","","","","","","","","",null,"","","","","","","","","","","","","","","","","","","","","","","","","","","","","","","","","","","","","","","","","","","","","","","","","","","","","","","","","","","","",0]
[null,null,null,null,null,null,null,null,"","","","","","","","","","","","","","","","","","","","","","","","","","","","","","","","","","","","","","","","","","","","","","","","","","","","","","","","","","","","",null,"","","","","","","","","","","","","","","","","","","","","","","","","","","","","","","","","","","","","","","","","","","","","","","","","","","","","","","","","","","","",0]
[null,null,null,null,null,null,null,null,"","","","","","","","","","","","","","","","","","","","","","","","","","","","","","","","","","","","","","","","","","","","","","","","","","","","","","","","","","","","",null,"","","","","","","","","","","","","","","","","","","","","","","","","","","","","","","","","","","","","","","","","","","","","","","","","","","","","","","","","","","","",0]
[null,null,null,null,null,null,null,null,"","","","","","","","","","","","","","","","","","","","","","","","","","","","","","","","","","","","","","","","","","","","","","","","","","","","","","","","","","","","",null,"","","","","","","","","","","","","","","","","","","","","","","","","","","","","","","","","","","","","","","","","","","","","","","","","","","","","","","","","","","","",0]
[null,null,null,null,null,null,null,null,"","","","","","","","","","","","","","","","","","","","","","","","","","","","","","","","","","","","","","","","","","","","","","","","","","","","","","","","","","","","",null,"","","","","","","","","","","","","","","","","","","","","","","","","","","","","","","","","","","","","","","","","","","","","","","","","","","","","","","","","","","","",0]
[null,null,null,null,null,null,null,null,"","","","","","","","","","","","","","","","","","","","","","","","","","","","","","","","","","","","","","","","","","","","","","","","","","","","","","","","","","","","",null,"","","","","","","","","","","","","","","","","","","","","","","","","","","","","","","","","","","","","","","","","","","","","","","","","","","","","","","","","","","","",0]
[null,null,null,null,null,null,null,null,"","","","","","","","","","","","","","","","","","","","","","","","","","","","","","","","","","","","","","","","","","","","","","","","","","","","","","","","","","","","",null,"","","","","","","","","","","","","","","","","","","","","","","","","","","","","","","","","","","","","","","","","","","","","","","","","","","","","","","","","","","","",0]
[null,null,null,null,null,null,null,null,"","","","","","","","","","","","","","","","","","","","","","","","","","","","","","","","","","","","","","","","","","","","","","","","","","","","","","","","","","","","",null,"","","","","","","","","","","","","","","","","","","","","","","","","","","","","","","","","","","","","","","","","","","","","","","","","","","","","","","","","","","","",0]
[null,null,null,null,null,null,null,null,"","","","","","","","","","","","","","","","","","","","","","","","","","","","","","","","","","","","","","","","","","","","","","","","","","","","","","","","","","","","",null,"","","","","","","","","","","","","","","","","","","","","","","","","","","","","","","","","","","","","","","","","","","","","","","","","","","","","","","","","","","","",0]
[null,null,null,null,null,null,null,null,{"$f":"IF($A2425=\"\",\"\",IF(COUNTIF($C2425:$H2425,I$2)>0,0,1+I2424))","v":""},"","","","","","","","","","","","","","","","","","","","","","","","","","","","","","","","","","","","","","","","","","","","","","","","","","","","","","","","","","","",null,"","","","","","","","","","","","","","","","","","","","","","","","","","","","","","","","","","","","","","","","","","","","","","","","","","","","","","","","","","","","",0]
[null,null,null,null,null,null,null,null,{"$f":"IF($A2441=\"\",\"\",IF(COUNTIF($C2441:$H2441,I$2)>0,0,1+I2440))","v":""},"","","","","","","","","","","","","","","","","","","","","","","","","","","","","","","","","","","","","","","","","","","","","","","","","","","","","","","","","","","",null,"","","","","","","","","","","","","","","","","","","","","","","","","","","","","","","","","","","","","","","","","","","","","","","","","","","","","","","","","","","","",0]
[null,null,null,null,null,null,null,null,"","","","","","","","","","","","","","","","",{"$f":"IF($A2456=\"\",\"\",IF(COUNTIF($C2456:$H2456,Y$2)>0,0,1+Y2455))","v":""},"","","","","","","","","","","","","","","","","","","","","","","","","","","","","","","","","","","","","","","","","","","",null,"","","","","","","","","","","","","","","","","","","","","","","","","","","","","","","","","","","","","","","","","","","","","","","","","","","","","","","","","","","","",0]
[null,null,null,null,null,null,null,null,"","","","","","","","","","","","","","","","","","","","","","","","","","","","","","","","","","","","","","","","","","","","","","","","","","","","","","","","","","","","",null,"","","","","","","","","","","","","","","","","","","","","","","","","","","","","","","","","","","","","","","","","","","","","","","","","","","","","","","","","","","","",0]
[null,null,null,null,null,null,null,null,"","","","","","","","","","","","","","","","",{"$f":"IF($A2487=\"\",\"\",IF(COUNTIF($C2487:$H2487,Y$2)>0,0,1+Y2486))","v":""},"","","","","","","","","","","","","","","","","","","","","","","","","","","","","","","","","","","","","","","","","","","",null,"","","","","","","","","","","","","","","","","","","","","","","","","","","","","","","","","","","","","","","","","","","","","","","","","","","","","","","","","","","","",0]
[null,null,null,null,null,null,null,null,"","","","","","","","","","","","","","","","",{"$f":"IF($A2503=\"\",\"\",IF(COUNTIF($C2503:$H2503,Y$2)>0,0,1+Y2502))","v":""},"","","","","","","","","","","","","","","","","","","","","","","","","","","","","","","","","","","","","","","","","","","",null,"","","","","","","","","","","","","","","","","","","","","","","","","","","","","","","","","","","","","","","","","","","","","","","","","","","","","","","","","","","","",0]
[null,null,null,null,null,null,null,null,"","","","","","","","","","","","","","","","","","","","","","","","","","","","","","","","",{"$f":"IF($A2518=\"\",\"\",IF(COUNTIF($C2518:$H2518,AO$2)>0,0,1+AO2517))","v":""},"","","","","","","","","","","","","","","","","","","","","","","","","","","",null,"","","","","","","","","","","","","","","","","","","","","","","","","","","","","","","","","","","","","","","","","","","","","","","","","","","","","","","","","","","","",0]
[null,null,null,null,null,null,null,null,"","","","","","","","","","","","","","","","","","","","","","","","","","","","","","","","","","","","","","","","","","","","","","","",{"$f":"IF($A2534=\"\",\"\",IF(COUNTIF($C2534:$H2534,BD$2)>0,0,1+BD2533))","v":""},"","","","","","","","","","","","",null,"","","","","","","","","","","","","","","","","","","","","","","","","","","","","","","","","","","","","","","","","","","","","","","","","","","","","","","","","","","","",0]
[null,null,null,null,null,null,null,null,"","","","","","","","","","","","","","","","","","","","","","","","","","","","","","","","","","","","","","","","","","","","","","","","","","","","","","","","","","","","",null,"","","","","","","","","","","","","","","","","","","","","","","","","","","","","","","","","","","","","","","","","","","","","","","","","","","","","","","","","","","","",0]
[null,null,null,null,null,null,null,null,"","","","","","","","","","","","","","","","","","","","","","","","","","","","","","","","","","","","","","","","","","","","","","","","","","","","","","","","","","","","",null,"","","","","","","","","","","","","","","","","","","","","","","","","","","","","","","","","","","","","","","","","","","","","","","","","","","","","","","","","","","","",0]
[null,null,null,null,null,null,null,null,"","","","","","","","","","","","","","","","","","","","","","","","","","","","","","","","","","","","","","","","","","","","","","","","","","","","","","","","","","","","",null,"","","","","","","","","","","","","","","","","","","","","","","","","","","","","","","","","","","","","","","","","","","","","","","","","","","","","","","","","","","","",0]
[null,null,null,null,null,null,null,null,"","","","","","","","","","","","","","","","",{"$f":"IF($A2584=\"\",\"\",IF(COUNTIF($C2584:$H2584,Y$2)>0,0,1+Y2583))","v":""},"","","","","","","","","","","","","","","","","","","","","","","","","","","","","","","","","","","","","","","","","","","",null,"","","","","","","","","","","","","","","","","","","","","","","","","","","","","","","","","","","","","","","","","","","","","","","","","","","","","","","","","","","","",0]
[null,null,null,null,null,null,null,null,"","","","","","","","","","","","","","","","","","","","","","","","","","","","","","","","","","","","","","","","","","","","","","","","","","","","","","","","","","","","",null,"","","","","","","","","","","","","","","","","","","","","","","","","","","","","","","","","","","","","","","","","","","","","","","","","","","","","","","","","","","","",0]
[null,null,null,null,null,null,null,null,"","","","","","","","","","","","","","","","","","","","","","","","","","","","","","","","","","","","","","","","","","","","","","","","","","","","","","","","","","","","",null,"","","","","","","","","","","","","","","","","","","","","","","","","","","","","","","","","","","","","","","","","","","","","","","","","","","","","","","","","","","","",0]
[null,null,null,null,null,null,null,null,"","","","","","","","","","","","","","","","","","","","","","","","","","","","","","","","","","","","","","","","","","","","","","","","","","","","","","","","","","","","",null,"","","","","","","","","","","","","","","","","","","","","","","","","","","","","","","","","","","","","","","","","","","","","","","","","","","","","","","","","","","","",0]
[null,null,null,null,null,null,null,null,"","","","","","","","","","","","","","","","","","","","","","","","","","","","","","","","","","","","","","","","","","","","","","","","","","","","","","","","","","","","",null,"","","","","","","","","","","","","","","","","","","","","","","","","","","","","","","","","","","","","","","","","","","","","","","","","","","","","","","","","","","","",0]
[null,null,null,null,null,null,null,null,"","","","","","","","","","","","","","","","","","","","","","","","","","","","","","","","","","","","","","","","","","","","","","","","",{"$f":"IF($A2658=\"\",\"\",IF(COUNTIF($C2658:$H2658,BE$2)>0,0,1+BE2657))","v":""},"","","","","","","","","","","",null,"","","","","","","","","","","","","","","","","","","","","","","","","","","","","","","","","","","","","","","","","","","","","","","","","","","","","","","","","","","","",0]
[null,null,null,null,null,null,null,null,"","","","","","","","","","","","","","","","","","","","","","","","","","","","","","","","","","","","","","","","","","","","","","","","","","","","","","","","","","","","",null,"","","","","","","","","","","","","","","","","","","","","","","","","","","","","","","","","","","","","","","","","","","","","","","","","","","","","","","","","","","","",0]
[null,null,null,null,null,null,null,null,{"$f":"IF($A2697=\"\",\"\",IF(COUNTIF($C2697:$H2697,I$2)>0,0,1+I2696))","v":""},"","","","","","","","","","","","","","","","","","","","","","","","","","","","","","","","","","","","","","","","","","","","","","","","","","","","","","","","","","","",null,"","","","","","","","","","","","","","","","","","","","","","","","","","","","","","","","","","","","","","","","","","","","","","","","","","","","","","","","","","","","",0]
[null,null,null,null,null,null,null,null,"","","","","","","","","","","","","","","","","","","","","","","","","","","","","","","","","","","","","","",{"$f":"IF($A2705=\"\",\"\",IF(COUNTIF($C2705:$H2705,AU$2)>0,0,1+AU2704))","v":""},"","","","","","","","","","","","","","","","","","","","","",null,"","","","","","","","","","","","","","","","","","","","","","","","","","","","","","","","","","","","","","","","","","","","","","","","","","","","","","","","","","","","",0]
[null,null,null,null,null,null,null,null,"","","","","","","","","","","","","","","","","","","","","","","","","","","","","","","","","","","","","","","","","","","","","","","",{"$f":"IF($A2721=\"\",\"\",IF(COUNTIF($C2721:$H2721,BD$2)>0,0,1+BD2720))","v":""},"","","","","","","","","","","","",null,"","","","","","","","","","","","","","","","","","","","","","","","","","","","","","","","","","","","","","","","","","","","","","","","","","","","","","","","","","","","",0]
[null,null,null,null,null,null,null,null,"","","","","","","","","","","","","","","","","","","","","","","","","","","","","","","","","","","","","","","","","","","","","","","","","","","","","","","","","","","","",null,"","","","","","","","","","","","","","","","","","","","","","","","","","","","","","","","","","","","","","","","","","","","","","","","","","","","","","","","","","","","",0]
[null,null,null,null,null,null,null,null,"","","","","","","","","","","","","","","","","","","","","","","","","","","","","","","","","","","","","","","","","","","","","","","","","","","","","","","","","","","","",null,"","","","","","","","","","","","","","","","","","","","","","","","","","","","","","","","","","","","","","","","","","","","","","","","","","","","","","","","","","","","",0]
[null,null,null,null,null,null,null,null,"","","","","","","","","","","","","","","","","","","","","","","","","","","","","","","","","","","","","","","","","","","","","","","","","","","","","","","","","","","","",null,"","","","","","","","","","","","","","","","","","","","","","","","","","","","","","","","","","","","","","","","","","","","","","","","","","","","","","","","","","","","",0]
[null,null,null,null,null,null,null,null,"","","","","","","","","","","","","","","","","","","","","","","","","","","","","","","","","","","","","","","","","","","","","","","","","","","","","","","","","","","","",null,{"$f":"IF(COUNTIF(C2782:H2782,$BR$2)>0,$BR$2,\"\")","v":""},{"$f":"IF(COUNTIF(C2782:H2782,$BS$2)>0,$BS$2,\"\")","v":""},{"$f":"IF(COUNTIF(C2782:H2782,$BT$2)>0,$BT$2,\"\")","v":""},{"$f":"IF(COUNTIF(C2782:H2782,$BU$2)>0,$BU$2,\"\")","v":""},{"$f":"IF(COUNTIF(C2782:H2782,$BV$2)>0,$BV$2,\"\")","v":""},{"$f":"IF(COUNTIF(C2782:H2782,$BW$2)>0,$BW$2,\"\")","v":""},{"$f":"IF(COUNTIF(C2782:H2782,$BX$2)>0,$BX$2,\"\")","v":""},{"$f":"IF(COUNTIF(C2782:H2782,$BY$2)>0,$BY$2,\"\")","v":""},{"$f":"IF(COUNTIF(C2782:H2782,$BZ$2)>0,$BZ$2,\"\")","v":""},{"$f":"IF(COUNTIF(C2782:H2782,$CA$2)>0,$CA$2,\"\")","v":""},{"$f":"IF(COUNTIF(C2782:H2782,$CB$2)>0,$CB$2,\"\")","v":""},{"$f":"IF(COUNTIF(C2782:H2782,$CC$2)>0,$CC$2,\"\")","v":""},{"$f":"IF(COUNTIF(C2782:H2782,$CD$2)>0,$CD$2,\"\")","v":""},{"$f":"IF(COUNTIF(C2782:H2782,$CE$2)>0,$CE$2,\"\")","v":""},{"$f":"IF(COUNTIF(C2782:H2782,$CF$2)>0,$CF$2,\"\")","v":""},{"$f":"IF(COUNTIF(C2782:H2782,$CG$2)>0,$CG$2,\"\")","v":""},{"$f":"IF(COUNTIF(C2782:H2782,$CH$2)>0,$CH$2,\"\")","v":""},{"$f":"IF(COUNTIF(C2782:H2782,$CI$2)>0,$CI$2,\"\")","v":""},{"$f":"IF(COUNTIF(C2782:H2782,$CJ$2)>0,$CJ$2,\"\")","v":""},{"$f":"IF(COUNTIF(C2782:H2782,$CK$2)>0,$CK$2,\"\")","v":""},{"$f":"IF(COUNTIF(C2782:H2782,$CL$2)>0,$CL$2,\"\")","v":""},{"$f":"IF(COUNTIF(C2782:H2782,$CM$2)>0,$CM$2,\"\")","v":""},{"$f":"IF(COUNTIF(C2782:H2782,$CN$2)>0,$CN$2,\"\")","v":""},{"$f":"IF(COUNTIF(C2782:H2782,$CO$2)>0,$CO$2,\"\")","v":""},{"$f":"IF(COUNTIF(C2782:H2782,$CP$2)>0,$CP$2,\"\")","v":""},{"$f":"IF(COUNTIF(C2782:H2782,$CQ$2)>0,$CQ$2,\"\")","v":""},{"$f":"IF(COUNTIF(C2782:H2782,$CR$2)>0,$CR$2,\"\")","v":""},{"$f":"IF(COUNTIF(C2782:H2782,$CS$2)>0,$CS$2,\"\")","v":""},{"$f":"IF(COUNTIF(C2782:H2782,$CT$2)>0,$CT$2,\"\")","v":""},{"$f":"IF(COUNTIF(C2782:H2782,$CU$2)>0,$CU$2,\"\")","v":""},{"$f":"IF(COUNTIF(C2782:H2782,$CV$2)>0,$CV$2,\"\")","v":""},{"$f":"IF(COUNTIF(C2782:H2782,$CW$2)>0,$CW$2,\"\")","v":""},{"$f":"IF(COUNTIF(C2782:H2782,$CX$2)>0,$CX$2,\"\")","v":""},{"$f":"IF(COUNTIF(C2782:H2782,$CY$2)>0,$CY$2,\"\")","v":""},{"$f":"IF(COUNTIF(C2782:H2782,$CZ$2)>0,$CZ$2,\"\")","v":""},{"$f":"IF(COUNTIF(C2782:H2782,$DA$2)>0,$DA$2,\"\")","v":""},{"$f":"IF(COUNTIF(C2782:H2782,$DB$2)>0,$DB$2,\"\")","v":""},{"$f":"IF(COUNTIF(C2782:H2782,$DC$2)>0,$DC$2,\"\")","v":""},{"$f":"IF(COUNTIF(C2782:H2782,$DD$2)>0,$DD$2,\"\")","v":""},{"$f":"IF(COUNTIF(C2782:H2782,$DE$2)>0,$DE$2,\"\")","v":""},{"$f":"IF(COUNTIF(C2782:H2782,$DF$2)>0,$DF$2,\"\")","v":""},{"$f":"IF(COUNTIF(C2782:H2782,$DG$2)>0,$DG$2,\"\")","v":""},{"$f":"IF(COUNTIF(C2782:H2782,$DH$2)>0,$DH$2,\"\")","v":""},{"$f":"IF(COUNTIF(C2782:H2782,$DI$2)>0,$DI$2,\"\")","v":""},{"$f":"IF(COUNTIF(C2782:H2782,$DJ$2)>0,$DJ$2,\"\")","v":""},{"$f":"IF(COUNTIF(C2782:H2782,$DK$2)>0,$DK$2,\"\")","v":""},{"$f":"IF(COUNTIF(C2782:H2782,$DL$2)>0,$DL$2,\"\")","v":""},{"$f":"IF(COUNTIF(C2782:H2782,$DM$2)>0,$DM$2,\"\")","v":""},{"$f":"IF(COUNTIF(C2782:H2782,$DN$2)>0,$DN$2,\"\")","v":""},{"$f":"IF(COUNTIF(C2782:H2782,$DO$2)>0,$DO$2,\"\")","v":""},{"$f":"IF(COUNTIF(C2782:H2782,$DP$2)>0,$DP$2,\"\")","v":""},{"$f":"IF(COUNTIF(C2782:H2782,$DQ$2)>0,$DQ$2,\"\")","v":""},{"$f":"IF(COUNTIF(C2782:H2782,$DR$2)>0,$DR$2,\"\")","v":""},{"$f":"IF(COUNTIF(C2782:H2782,$DS$2)>0,$DS$2,\"\")","v":""},{"$f":"IF(COUNTIF(C2782:H2782,$DT$2)>0,$DT$2,\"\")","v":""},{"$f":"IF(COUNTIF(C2782:H2782,$DU$2)>0,$DU$2,\"\")","v":""},{"$f":"IF(COUNTIF(C2782:H2782,$DV$2)>0,$DV$2,\"\")","v":""},{"$f":"IF(COUNTIF(C2782:H2782,$DW$2)>0,$DW$2,\"\")","v":""},{"$f":"IF(COUNTIF(C2782:H2782,$DX$2)>0,$DX$2,\"\")","v":""},{"$f":"IF(COUNTIF(C2782:H2782,$DY$2)>0,$DY$2,\"\")","v":""},{"$f":"COUNT(BR2782:DY2782)","v":0}]
[null,null,null,null,null,null,null,null,"","","","","","","","","","","","","","","","","","","","","","","","","","","","","","","","","","","","","","","","","","","","","","","","","","","","","","","","","","","","",null,"","","","","","","","","","","","","","","","","","","","","","","","","","","","","","","","","","","","","","","","","","","","","","","","","","","","","","","","","","","","",0]
[null,null,null,null,null,null,null,null,"","","","","","","","","","","","","","","","","","","","","","","","","","","","","","","","","","","","","","","","","","","","","","","","","","","","","","","","","","","","",null,"","","","","","","","","","","","","","","","","","","","","","","","","","","","","","","","","","","","","","","","","","","","","","","","","","","","","","","","","","","","",0]
[null,null,null,null,null,null,null,null,"","","","","","","","","","","","","","","","","","","","","","","","","","","","","","","","","","","","","","","","","","","","","","","","","","","","","","","","","","","","",null,"","","","","","","","","","","","","","","","","","","","","","","","","","","","","","","","","","","","","","","","","","","","","","","","","","","","","","","","","","","","",0]
[null,null,null,null,null,null,null,null,"","","","","","","","","","","","","","","","","","","","","","","","","","","","","","","","","","","","","","","","","","","","","","","","","","","","","","","","","","","","",null,"","","","","","","","","","","","","","","","","","","","","","","","","","","","","","","","","","","","","","","","","","","","","","","","","","","","","","","","","","","","",0]
[null,null,null,null,null,null,null,null,"","","","","","","","","","","","","","","","","","","","","","","","","","","","","","","","","","","","","","","","","","","","","","","","","","","","","","","","","","","","",null,"","","","","","","","","","","","","","","","","","","","","","","","","","","","","","","","","","","","","","","","","","","","","","","","","","","","","","","","","","","","",0]
[null,null,null,null,null,null,null,null,"","","","","","","","","","","","","","","","","","","","","","","","","","","","","","","","","","","","","","","","","","","","","","","","","","","","","","","","","","","","",null,"","","","","","","","","","","","","","","","","","","","","","","","","","","","","","","","","","","","","","","","","","","","","","","","","","","","","","","","","","","","",0]
[null,null,null,null,null,null,null,null,"","","","","","","","","","","","","","","","","","","","","","","","","","","","","","","","","","","","","","","","","","","","","","","","","","","","","","","","","","","","",null,"","","","","","","","","","","","","","","","","","","","","","","","","","","","","","","","","","","","","","","","","","","","","","","","","","","","","","","","","","","","",0]
[null,null,null,null,null,null,null,null,"","","","","","","","","","","","","","","","","","","","","","","","","","","","","","","","","","","","","","","","","","","","","","","","","","","","","","","","","","","","",null,"","","","","","","","","","","","","","","","","","","","","","","","","","","","","","","","","","","","","","","","","","","","","","","","","","","","","","","","","","","","",0]
[null,null,null,null,null,null,null,null,"","","","","","","","","","","","","","","","","","","","","","","","","","","","","","","","","","","","","","","","","","","","","","","","","","","","","","","","","","","","",null,"","","","","","","","","","","","","","","","","","","","","","","","","","","","","","","","","","","","","","","","","","","","","","","","","","","","","","","","","","","","",0]
[null,null,null,null,null,null,null,null,"","","","","","","","","","","","","","","","","","","","","","","","","","","","","","","","","","","","","","","","","","","","","","","","","","","","","","","","","","","","",null,"","","","","","","","","","","","","","","","","","","","","","","","","","","","","","","","","","","","","","","","","","","","","","","","","","","","","","","","","","","","",0]
[null,null,null,null,null,null,null,null,{"$f":"IF($A2953=\"\",\"\",IF(COUNTIF($C2953:$H2953,I$2)>0,0,1+I2952))","v":""},"","","","","","","","","","","","","","","","","","","","","","","","","","","","","","","","","","","","","","","","","","","","","","","","","","","","","","","","","","","",null,"","","","","","","","","","","","","","","","","","","","","","","","","","","","","","","","","","","","","","","","","","","","","","","","","","","","","","","","","","","","",0]
[null,null,null,null,null,null,null,null,{"$f":"IF($A2969=\"\",\"\",IF(COUNTIF($C2969:$H2969,I$2)>0,0,1+I2968))","v":""},"","","","","","","","","","","","","","","","","","","","","","","","","","","","","","","","","","","","","","","","","","","","","","","","","","","","","","","","","","","",null,"","","","","","","","","","","","","","","","","","","","","","","","","","","","","","","","","","","","","","","","","","","","","","","","","","","","","","","","","","","","",0]
[null,null,null,null,null,null,null,null,"","","","","","","","","","","","","","","",{"$f":"IF($A2984=\"\",\"\",IF(COUNTIF($C2984:$H2984,X$2)>0,0,1+X2983))","v":""},"","","","","","","","","","","","","","","","","","","","","","","","","","","","","","","","","","","","","","","","","","","","",null,"","","","","","","","","","","","","","","","","","","","","","","","","","","","","","","","","","","","","","","","","","","","","","","","","","","","","","","","","","","","",0]
[null,null,null,null,null,null,null,null,"","","","","","","","","","","","","","","","","","","","","","","","","","","","","","","","","","","","","","","","","","","","","","","","","","","","","","","","","","","","",null,"","","","","","","","","","","","","","","","","","","","","","","","","","","","","","","","","","","","","","","","","","","","","","","","","","","","","","","","","","","","",0]
[null,null,null,null,null,null,null,null,"","","","","","","","","","","","","","","","",{"$f":"IF($A3015=\"\",\"\",IF(COUNTIF($C3015:$H3015,Y$2)>0,0,1+Y3014))","v":""},"","","","","","","","","","","","","","","","","","","","","","","","","","","","","","","","","","","","","","","","","","","",null,"","","","","","","","","","","","","","","","","","","","","","","","","","","","","","","","","","","","","","","","","","","","","","","","","","","","","","","","","","","","",0]
[null,null,null,null,null,null,null,null,"","","","","","","","","","","","","","","","","","","","","","","","","","","","","","","","","","","","","","","","","","","","","","","","","","","","","","","","","","","","",null,"","","","","","","","","","","","","","","","","","","","","","","","","","","","","","","","","","","","","","","","","","","","","","","","","","","","","","","","","","","","",0]
[null,null,null,null,null,null,null,null,"","","","","","","","","","","","","","","","","","","","","","","","","","","","","","","","",{"$f":"IF($A3047=\"\",\"\",IF(COUNTIF($C3047:$H3047,AO$2)>0,0,1+AO3046))","v":""},"","","","","","","","","","","","","","","","","","","","","","","","","","","",null,"","","","","","","","","","","","","","","","","","","","","","","","","","","","","","","","","","","","","","","","","","","","","","","","","","","","","","","","","","","","",0]
[null,null,null,null,null,null,null,null,"","","","","","","","","","","","","","","","","","","","","","","","","","","","","","","","","","","","","","","","","","","","","","","","",{"$f":"IF($A3062=\"\",\"\",IF(COUNTIF($C3062:$H3062,BE$2)>0,0,1+BE3061))","v":""},"","","","","","","","","","","",null,"","","","","","","","","","","","","","","","","","","","","","","","","","","","","","","","","","","","","","","","","","","","","","","","","","","","","","","","","","","","",0]
[null,null,null,null,null,null,null,null,"","","","","","","","","","","","","","","","","","","","","","","","","","","","","","","","","","","","","","","","","","","","","","","","","","","","","","","","","","","","",null,"","","","","","","","","","","","","","","","","","","","","","","","","","","","","","","","","","","","","","","","","","","","","","","","","","","","","","","","","","","","",0]
[null,null,null,null,null,null,null,null,"","","","","","","","","","","","","","","","","","","","","","","","","","","","","","","","","","","","","","","","","","","","","","","","","","","","","","","","","","","","",null,"","","","","","","","","","","","","","","","","","","","","","","","","","","","","","","","","","","","","","","","","","","","","","","","","","","","","","","","","","","","",0]
[null,null,null,null,null,null,null,null,"","","","","","","","","","","","","","","","","","","","","","","","","","","","","","","","","","","","","","","","","","","","","","","","","","","","","","","","","","","","",null,"","","","","","","","","","","","","","","","","","","","","","","","","","","","","","","","","","","","","","","","","","","","","","","","","","","","","","","","","","","","",0]
[null,null,null,null,null,null,null,null,"","","","","","","","","","","","","","","","","","","","","","","","","","","","","","","","","","","","","","","","","","","","","","","","","","","","","","","","","","","","",null,"","","","","","","","","","","","","","","","","","","","","","","","","","","","","","","","","","","","","","","","","","","","","","","","","","","","","","","","","","","","",0]
[null,null,null,null,null,null,null,null,null,null,null,null,null,null,null,null,null,null,null,null,null,null,null,null,null,null,null,null,"",null,"","","","","","","","","","","","","","","","","","","","","","","","","",null,"","","","","","","","","","",null,{"$f":"IF($A3139=\"\",\"\",IF(COUNTIF(#REF!,BP$2)>0,0,1+BP3138))","v":""}]
[null,null,null,null,null,null,null,null,null,null,null,null,null,null,null,null,null,null,null,null,null,null,null,null,null,null,null,null,"",null,"","","","","","","","","","","","","","","","","","","","","","","","","",null,"","","","","","","","","","",null,{"$f":"IF($A3149=\"\",\"\",IF(COUNTIF(#REF!,BP$2)>0,0,1+BP3148))","v":""}]
[null,null,null,null,null,null,null,null,null,null,null,null,null,null,null,null,null,null,null,null,null,null,null,null,null,null,null,null,"",null,"","","","","","","","","","","","","","","","","","","","","","","","","",null,"","","","","","","","","","",null,{"$f":"IF($A3171=\"\",\"\",IF(COUNTIF(#REF!,BP$2)>0,0,1+BP3170))","v":""}]
[null,null,null,null,null,null,null,null,null,null,null,null,null,null,null,null,null,null,null,null,null,null,null,null,null,null,null,null,"",null,"","","","","","","","","","","","","","","","","","","","","","","","","",null,"","","","","","","","","","",null,{"$f":"IF($A3186=\"\",\"\",IF(COUNTIF(#REF!,BP$2)>0,0,1+BP3185))","v":""}]
[null,null,null,null,null,null,null,null,null,null,null,null,null,null,null,null,null,null,null,null,null,null,null,null,null,null,null,null,"",null,"","","","","","","","","","","","","","","","","","","","","","","","","",null,"","","","","","","","","","",null,{"$f":"IF($A3187=\"\",\"\",IF(COUNTIF(#REF!,BP$2)>0,0,1+BP3186))","v":""}]
[null,null,null,null,null,null,null,null,null,null,null,null,null,null,null,null,null,null,null,null,null,null,null,null,null,null,null,null,"",null,"","","","","","","","","","","","","","","","","","","","","","","","","",null,"","","","","","","","","","",null,{"$f":"IF($A3202=\"\",\"\",IF(COUNTIF(#REF!,BP$2)>0,0,1+BP3201))","v":""}]
[null,null,null,null,null,null,null,null,null,null,null,null,null,null,null,null,null,null,null,null,null,null,null,null,null,null,null,null,"",null,"","","","","","","","","","","","","","","","","","","","","","","","","",null,"","","","","","","","","","",null,{"$f":"IF($A3217=\"\",\"\",IF(COUNTIF(#REF!,BP$2)>0,0,1+BP3216))","v":""}]
[null,null,null,null,null,null,null,null,null,null,null,null,null,null,null,null,null,null,null,null,null,null,null,null,null,null,null,null,"",null,"","","","","","","","","","","","","","","","","","","","","","","","","",null,"","","","","","","","","","",null,{"$f":"IF($A3233=\"\",\"\",IF(COUNTIF(#REF!,BP$2)>0,0,1+BP3232))","v":""}]
[null,null,null,null,null,null,null,null,null,null,null,null,null,null,null,null,null,null,null,null,null,null,null,null,null,null,null,null,"",null,"","","","","","","","","","","","","","","","","","","","","","","","","",null,"","","","","","","","","","",null,{"$f":"IF($A3262=\"\",\"\",IF(COUNTIF(#REF!,BP$2)>0,0,1+BP3261))","v":""}]
[null,null,null,null,null,null,null,null,null,null,null,null,null,null,null,null,null,null,null,null,null,null,null,null,null,null,null,null,"",null,"","","","","","","","","","","","","","","","","","","","","","","","","",null,"","","","","","","","","","",null,{"$f":"IF($A3265=\"\",\"\",IF(COUNTIF(#REF!,BP$2)>0,0,1+BP3264))","v":""}]
[null,null,null,null,null,null,null,null,null,null,null,null,null,null,null,null,null,null,null,null,null,null,null,null,null,null,null,null,"",null,"","","","","","","","","","","","","","","","","","","","","","","","","",null,"","","","","","","","","","",null,{"$f":"IF($A3280=\"\",\"\",IF(COUNTIF(#REF!,BP$2)>0,0,1+BP3279))","v":""}]
[null,null,null,null,null,null,null,null,null,null,null,null,null,null,null,null,null,null,null,null,null,null,null,null,null,null,null,null,"",null,"","","","","","","","","","","","","","","","","","","","","","","","","",null,"","","","","","","","","","",null,{"$f":"IF($A3295=\"\",\"\",IF(COUNTIF(#REF!,BP$2)>0,0,1+BP3294))","v":""}]
[null,null,null,null,null,null,null,null,null,null,null,null,null,null,null,null,null,null,null,null,null,null,null,null,null,null,null,null,"",null,"","","","","","","","","","","","","","","","","","","","","","","","","",null,"","","","","","","","","","",null,{"$f":"IF($A3311=\"\",\"\",IF(COUNTIF(#REF!,BP$2)>0,0,1+BP3310))","v":""}]
[null,null,null,null,null,null,null,null,null,null,null,null,null,null,null,null,null,null,null,null,null,null,null,null,null,null,null,null,"",null,"","","","","","","","","","","","","","","","","","","","","","","","","",null,"","","","","","","","","","",null,{"$f":"IF($A3326=\"\",\"\",IF(COUNTIF(#REF!,BP$2)>0,0,1+BP3325))","v":""}]
[null,null,null,null,null,null,null,null,null,null,null,null,null,null,null,null,null,null,null,null,null,null,null,null,null,null,null,null,"",null,"","","","","","","","","","","","","","","","","","","","","","","","","",null,"","","","","","","","","","",null,{"$f":"IF($A3341=\"\",\"\",IF(COUNTIF(#REF!,BP$2)>0,0,1+BP3340))","v":""}]
[null,null,null,null,null,null,null,null,null,null,null,null,null,null,null,null,null,null,null,null,null,null,null,null,null,null,null,null,"",null,"","","","","","","","","","","","","","","","","","","","","","","","","",null,"","","","","","","","","","",null,{"$f":"IF($A3359=\"\",\"\",IF(COUNTIF(#REF!,BP$2)>0,0,1+BP3358))","v":""}]
[null,null,null,null,null,null,null,null,null,null,null,null,null,null,null,null,null,null,null,null,null,null,null,null,null,null,null,null,"",null,"","","","","","","","","","","","","","","","","","","","","","","","","",null,"","","","","","","","","","",null,{"$f":"IF($A3373=\"\",\"\",IF(COUNTIF(#REF!,BP$2)>0,0,1+BP3372))","v":""}]
[null,null,null,null,null,null,null,null,null,null,null,null,null,null,null,null,null,null,null,null,null,null,null,null,null,null,null,null,"",null,"","","","","","","","","","","","","","","","","","","","","","","","","",null,"","","","","","","","","","",null,{"$f":"IF($A3389=\"\",\"\",IF(COUNTIF(#REF!,BP$2)>0,0,1+BP3388))","v":""}]
[null,null,null,null,null,null,null,null,null,null,null,null,null,null,null,null,null,null,null,null,null,null,null,null,null,null,null,null,"",null,"","","","","","","","","","","","","","","","","","","","","","","","","",null,"","","","","","","","","","",null,{"$f":"IF($A3404=\"\",\"\",IF(COUNTIF(#REF!,BP$2)>0,0,1+BP3403))","v":""}]
[null,null,null,null,null,null,null,null,null,null,null,null,null,null,null,null,null,null,null,null,null,null,null,null,null,null,null,null,"",null,"","","","","","","","","","","","","","","","","","","","","","","","","",null,"","","","","","","","","","",null,{"$f":"IF($A3419=\"\",\"\",IF(COUNTIF(#REF!,BP$2)>0,0,1+BP3418))","v":""}]
[null,null,null,null,null,null,null,null,null,null,null,null,null,null,null,null,null,null,null,null,null,null,null,null,null,null,null,null,"",null,"","","","","","","","","","","","","","","","","","","","","","","","","",null,"","","","","","","","","","",null,{"$f":"IF($A3435=\"\",\"\",IF(COUNTIF(#REF!,BP$2)>0,0,1+BP3434))","v":""}]
[null,null,null,null,null,null,null,null,null,null,null,null,null,null,null,null,null,null,null,null,null,null,null,null,null,null,null,null,"",null,"","","","","","","","","","","","","","","","","","","","","","","","","",null,"","","","","","","","","","",null,{"$f":"IF($A3450=\"\",\"\",IF(COUNTIF(#REF!,BP$2)>0,0,1+BP3449))","v":""}]
[null,null,null,null,null,null,null,null,null,null,null,null,null,null,null,null,null,null,null,null,null,null,null,null,null,null,null,null,"",null,"","","","","","","","","","","","","","","","","","","","","","","","","",null,"","","","","","","","","","",null,{"$f":"IF($A3465=\"\",\"\",IF(COUNTIF(#REF!,BP$2)>0,0,1+BP3464))","v":""}]
[null,null,null,null,null,null,null,null,null,null,null,null,null,null,null,null,null,null,null,null,null,null,null,null,null,null,null,null,"",null,"","","","","","","","","","","","","","","","","","","","","","","","","",null,"","","","","","","","","","",null,{"$f":"IF($A3488=\"\",\"\",IF(COUNTIF(#REF!,BP$2)>0,0,1+BP3487))","v":""}]
[null,null,null,null,null,null,null,null,null,null,null,null,null,null,null,null,null,null,null,null,null,null,null,null,null,null,null,null,"",null,"","","","","","","","","","","","","","","","","","","","","","","","","",null,"","","","","","","","","","",null,{"$f":"IF($A3497=\"\",\"\",IF(COUNTIF(#REF!,BP$2)>0,0,1+BP3496))","v":""}]
[null,null,null,null,null,null,null,null,null,null,null,null,null,null,null,null,null,null,null,null,null,null,null,null,null,null,null,null,"",null,"","","","","","","","","","","","","","","","","","","","","","","","","",null,"","","","","","","","","","",null,{"$f":"IF($A3513=\"\",\"\",IF(COUNTIF(#REF!,BP$2)>0,0,1+BP3512))","v":""}]
[null,null,null,null,null,null,null,null,null,null,null,null,null,null,null,null,null,null,null,null,null,null,null,null,null,null,null,null,"",null,"","","","","","","","","","","","","","","","","","","","","","","","","",null,"","","","","","","","","","",null,{"$f":"IF($A3528=\"\",\"\",IF(COUNTIF(#REF!,BP$2)>0,0,1+BP3527))","v":""}]
[null,null,null,null,null,null,null,null,null,null,null,null,null,null,null,null,null,null,null,null,null,null,null,null,null,null,null,null,"",null,"","","","","","","","","","","","","","","","","","","","","","","","","",null,"","","","","","","","","","",null,{"$f":"IF($A3543=\"\",\"\",IF(COUNTIF(#REF!,BP$2)>0,0,1+BP3542))","v":""}]
[null,null,null,null,null,null,null,null,null,null,null,null,null,null,null,null,null,null,null,null,null,null,null,null,null,null,null,null,"",null,"","","","","","","","","","","","","","","","","","","","","","","","","",null,"","","","","","","","","","",null,{"$f":"IF($A3559=\"\",\"\",IF(COUNTIF(#REF!,BP$2)>0,0,1+BP3558))","v":""}]
[null,null,null,null,null,null,null,null,null,null,null,null,null,null,null,null,null,null,null,null,null,null,null,null,null,null,null,null,"",null,"","","","","","","","","","","","","","","","","","","","","","","","","",null,"","","","","","","","","","",null,{"$f":"IF($A3574=\"\",\"\",IF(COUNTIF(#REF!,BP$2)>0,0,1+BP3573))","v":""}]
[null,null,null,null,null,null,null,null,null,null,null,null,null,null,null,null,null,null,null,null,null,null,null,null,null,null,null,null,"",null,"","","","","","","","","","","","","","","","","","","","","","","","","",null,"","","","","","","","","","",null,{"$f":"IF($A3585=\"\",\"\",IF(COUNTIF(#REF!,BP$2)>0,0,1+BP3584))","v":""}]
[null,null,null,null,null,null,null,null,null,null,null,null,null,null,null,null,null,null,null,null,null,null,null,null,null,null,null,null,"",null,"","","","","","","","","","","","","","","","","","","","","","","","","",null,"","","","","","","","","","",null,{"$f":"IF($A3606=\"\",\"\",IF(COUNTIF(#REF!,BP$2)>0,0,1+BP3605))","v":""}]
[null,null,null,null,null,null,null,null,null,null,null,null,null,null,null,null,null,null,null,null,null,null,null,null,null,null,null,null,"",null,"","","","","","","","","","","","","","","","","","","","","","","","","",null,"","","","","","","","","","",null,{"$f":"IF($A3621=\"\",\"\",IF(COUNTIF(#REF!,BP$2)>0,0,1+BP3620))","v":""}]
[null,null,null,null,null,null,null,null,null,null,null,null,null,null,null,null,null,null,null,null,null,null,null,null,null,null,null,null,"",null,"","","","","","","","","","","","","","","","","","","","","","","","","",null,"","","","","","","","","","",null,{"$f":"IF($A3637=\"\",\"\",IF(COUNTIF(#REF!,BP$2)>0,0,1+BP3636))","v":""}]
[null,null,null,null,null,null,null,null,null,null,null,null,null,null,null,null,null,null,null,null,null,null,null,null,null,null,null,null,"",null,"","","","","","","","","","","","","","","","","","","","","","","","","",null,"","","","","","","","","","",null,{"$f":"IF($A3652=\"\",\"\",IF(COUNTIF(#REF!,BP$2)>0,0,1+BP3651))","v":""}]
[null,null,null,null,null,null,null,null,null,null,null,null,null,null,null,null,null,null,null,null,null,null,null,null,null,null,null,null,"",null,"","","","","","","","","","","","","","","","","","","","","","","","","",null,"","","","","","","","","","",null,{"$f":"IF($A3667=\"\",\"\",IF(COUNTIF(#REF!,BP$2)>0,0,1+BP3666))","v":""}]
[null,null,null,null,null,null,null,null,null,null,null,null,null,null,null,null,null,null,null,null,null,null,null,null,null,null,null,null,"",null,"","","","","","","","","","","","","","","","","","","","","","","","","",null,"","","","","","","","","","",null,{"$f":"IF($A3683=\"\",\"\",IF(COUNTIF(#REF!,BP$2)>0,0,1+BP3682))","v":""}]
[null,null,null,null,null,null,null,null,null,null,null,null,null,null,null,null,null,null,null,null,null,null,null,null,null,null,null,null,"",null,"","","","","","","","","","","","","","","","","","","","","","","","","",null,"","","","","","","","","","",null,{"$f":"IF($A3698=\"\",\"\",IF(COUNTIF(#REF!,BP$2)>0,0,1+BP3697))","v":""}]
[null,null,null,null,null,null,null,null,null,null,null,null,null,null,null,null,null,null,null,null,null,null,null,null,null,null,null,null,"",null,"","","","","","","","","","","","","","","","","","","","","","","","","",null,"","","","","","","","","","",null,{"$f":"IF($A3715=\"\",\"\",IF(COUNTIF(#REF!,BP$2)>0,0,1+BP3714))","v":""}]
[null,null,null,null,null,null,null,null,null,null,null,null,null,null,null,null,null,null,null,null,null,null,null,null,null,null,null,null,"",null,"","","","","","","","","","","","","","","","","","","","","","","","","",null,"","","","","","","","","","",null,{"$f":"IF($A3730=\"\",\"\",IF(COUNTIF(#REF!,BP$2)>0,0,1+BP3729))","v":""}]
[null,null,null,null,null,null,null,null,null,null,null,null,null,null,null,null,null,null,null,null,null,null,null,null,null,null,null,null,"",null,"","","","","","","","","","","","","","","","","","","","","","","","","",null,"","","","","","","","","","",null,{"$f":"IF($A3745=\"\",\"\",IF(COUNTIF(#REF!,BP$2)>0,0,1+BP3744))","v":""}]
[null,null,null,null,null,null,null,null,null,null,null,null,null,null,null,null,null,null,null,null,null,null,null,null,null,null,null,null,"",null,"","","","","","","","","","","","","","","","","","","","","","","","","",null,"","","","","","","","","","",null,{"$f":"IF($A3761=\"\",\"\",IF(COUNTIF(#REF!,BP$2)>0,0,1+BP3760))","v":""}]
[null,null,null,null,null,null,null,null,null,null,null,null,null,null,null,null,null,null,null,null,null,null,null,null,null,null,null,null,"",null,"","","","","","","","","","","","","","","","","","","","","","","","","",null,"","","","","","","","","","",null,{"$f":"IF($A3776=\"\",\"\",IF(COUNTIF(#REF!,BP$2)>0,0,1+BP3775))","v":""}]
[null,null,null,null,null,null,null,null,null,null,null,null,null,null,null,null,null,null,null,null,null,null,null,null,null,null,null,null,"",null,"","","","","","","","","","","","","","","","","","","","","","","","","",null,"","","","","","","","","","",null,{"$f":"IF($A3791=\"\",\"\",IF(COUNTIF(#REF!,BP$2)>0,0,1+BP3790))","v":""}]
[null,null,null,null,null,null,null,null,null,null,null,null,null,null,null,null,null,null,null,null,null,null,null,null,null,null,null,null,"",null,"","","","","","","","","","","","","","","","","","","","","","","","","",null,"","","","","","","","","","",null,{"$f":"IF($A3792=\"\",\"\",IF(COUNTIF(#REF!,BP$2)>0,0,1+BP3791))","v":""}]
[null,null,null,null,null,null,null,null,null,null,null,null,null,null,null,null,null,null,null,null,null,null,null,null,null,null,null,null,"",null,"","","","","","","","","","","","","","","","","","","","","","","","","",null,"","","","","","","","","","",null,{"$f":"IF($A3811=\"\",\"\",IF(COUNTIF(#REF!,BP$2)>0,0,1+BP3810))","v":""}]
[null,null,null,null,null,null,null,null,null,null,null,null,null,null,null,null,null,null,null,null,null,null,null,null,null,null,null,null,"",null,"","","","","","","","","","","","","","","","","","","","","","","","","",null,"","","","","","","","","","",null,{"$f":"IF($A3824=\"\",\"\",IF(COUNTIF(#REF!,BP$2)>0,0,1+BP3823))","v":""}]
[null,null,null,null,null,null,null,null,null,null,null,null,null,null,null,null,null,null,null,null,null,null,null,null,null,null,null,null,"",null,"","","","","","","","","","","","","","","","","","","","","","","","","",null,"","","","","","","","","","",null,{"$f":"IF($A3839=\"\",\"\",IF(COUNTIF(#REF!,BP$2)>0,0,1+BP3838))","v":""}]
[null,null,null,null,null,null,null,null,null,null,null,null,null,null,null,null,null,null,null,null,null,null,null,null,null,null,null,null,"",null,"","","","","","","","","","","","","","","","","","","","","","","","","",null,"","","","","","","","","","",null,{"$f":"IF($A3854=\"\",\"\",IF(COUNTIF(#REF!,BP$2)>0,0,1+BP3853))","v":""}]
[null,null,null,null,null,null,null,null,null,null,null,null,null,null,null,null,null,null,null,null,null,null,null,null,null,null,null,null,"",null,"","","","","","","","","","","","","","","","","","","","","","","","","",null,"","","","","","","","","","",null,{"$f":"IF($A3870=\"\",\"\",IF(COUNTIF(#REF!,BP$2)>0,0,1+BP3869))","v":""}]
[null,null,null,null,null,null,null,null,null,null,null,null,null,null,null,null,null,null,null,null,null,null,null,null,null,null,null,null,"",null,"","","","","","","","","","","","","","","","","","","","","","","","","",null,"","","","","","","","","","",null,{"$f":"IF($A3885=\"\",\"\",IF(COUNTIF(#REF!,BP$2)>0,0,1+BP3884))","v":""}]
[null,null,null,null,null,null,null,null,null,null,null,null,null,null,null,null,null,null,null,null,null,null,null,null,null,null,null,null,"",null,"","","","","","","","","","","","","","","","","","","","","","","","","",null,"","","","","","","","","","",null,{"$f":"IF($A3901=\"\",\"\",IF(COUNTIF(#REF!,BP$2)>0,0,1+BP3900))","v":""}]
[null,null,null,null,null,null,null,null,null,null,null,null,null,null,null,null,null,null,null,null,null,null,null,null,null,null,null,null,"",null,"","","","","","","","","","","","","","","","","","","","","","","","","",null,"","","","","","","","","","",null,{"$f":"IF($A3924=\"\",\"\",IF(COUNTIF(#REF!,BP$2)>0,0,1+BP3923))","v":""}]
[null,null,null,null,null,null,null,null,null,null,null,null,null,null,null,null,null,null,null,null,null,null,null,null,null,null,null,null,"",null,"","","","","","","","","","","","","","","","","","","","","","","","","",null,"","","","","","","","","","",null,{"$f":"IF($A3932=\"\",\"\",IF(COUNTIF(#REF!,BP$2)>0,0,1+BP3931))","v":""}]
[null,null,null,null,null,null,null,null,null,null,null,null,null,null,null,null,null,null,null,null,null,null,null,null,null,null,null,null,"",null,"","","","","","","","","","","","","","","","","","","","","","","","","",null,"","","","","","","","","","",null,{"$f":"IF($A3948=\"\",\"\",IF(COUNTIF(#REF!,BP$2)>0,0,1+BP3947))","v":""}]
[null,null,null,null,null,null,null,null,null,null,null,null,null,null,null,null,null,null,null,null,null,null,null,null,null,null,null,null,"",null,"","","","","","","","","","","","","","","","","","","","","","","","","",null,"","","","","","","","","","",null,{"$f":"IF($A3963=\"\",\"\",IF(COUNTIF(#REF!,BP$2)>0,0,1+BP3962))","v":""}]
[null,null,null,null,null,null,null,null,null,null,null,null,null,null,null,null,null,null,null,null,null,null,null,null,null,null,null,null,"",null,"","","","","","","","","","","","","","","","","","","","","","","","","",null,"","","","","","","","","","",null,{"$f":"IF($A3978=\"\",\"\",IF(COUNTIF(#REF!,BP$2)>0,0,1+BP3977))","v":""}]
[null,null,null,null,null,null,null,null,null,null,null,null,null,null,null,null,null,null,null,null,null,null,null,null,null,null,null,null,"",null,"","","","","","","","","","","","","","","","","","","","","","","","","",null,"","","","","","","","","","",null,{"$f":"IF($A3994=\"\",\"\",IF(COUNTIF(#REF!,BP$2)>0,0,1+BP3993))","v":""}]
[null,null,null,null,null,null,null,null,null,null,null,null,null,null,null,null,null,null,null,null,null,null,null,null,null,null,null,null,"",null,"","","","","","","","","","","","","","","","","","","","","","","","","",null,"","","","","","","","","","",null,{"$f":"IF($A4009=\"\",\"\",IF(COUNTIF(#REF!,BP$2)>0,0,1+BP4008))","v":""}]
[null,null,null,null,null,null,null,null,null,null,null,null,null,null,null,null,null,null,null,null,null,null,null,null,null,null,null,null,"",null,"","","","","","","","","","","","","","","","","","","","","","","","","",null,"","","","","","","","","","",null,{"$f":"IF($A4021=\"\",\"\",IF(COUNTIF(#REF!,BP$2)>0,0,1+BP4020))","v":""}]
[null,null,null,null,null,null,null,null,null,null,null,null,null,null,null,null,null,null,null,null,null,null,null,null,null,null,null,null,"",null,"","","","","","","","","","","","","","","","","","","","","","","","","",null,"","","","","","","","","","",null,{"$f":"IF($A4035=\"\",\"\",IF(COUNTIF(#REF!,BP$2)>0,0,1+BP4034))","v":""}]
[null,null,null,null,null,null,null,null,null,null,null,null,null,null,null,null,null,null,null,null,null,null,null,null,null,null,null,null,"",null,"","","","","","","","","","","","","","","","","","","","","","","","","",null,"","","","","","","","","","",null,{"$f":"IF($A4036=\"\",\"\",IF(COUNTIF(#REF!,BP$2)>0,0,1+BP4035))","v":""}]
[null,null,null,null,null,null,null,null,null,null,null,null,null,null,null,null,null,null,null,null,null,null,null,null,null,null,null,null,"",null,"","","","","","","","","","","","","","","","","","","","","","","","","",null,"","","","","","","","","","",null,{"$f":"IF($A4037=\"\",\"\",IF(COUNTIF(#REF!,BP$2)>0,0,1+BP4036))","v":""}]
[null,null,null,null,null,null,null,null,null,null,null,null,null,null,null,null,null,null,null,null,null,null,null,null,null,null,null,null,"",null,"","","","","","","","","","","","","","","","","","","","","","","","","",null,"","","","","","","","","","",null,{"$f":"IF($A4038=\"\",\"\",IF(COUNTIF(#REF!,BP$2)>0,0,1+BP4037))","v":""}]
[null,null,null,null,null,null,null,null,null,null,null,null,null,null,null,null,null,null,null,null,null,null,null,null,null,null,null,null,"",null,"","","","","","","","","","","","","","","","","","","","","","","","","",null,"","","","","","","","","","",null,{"$f":"IF($A4039=\"\",\"\",IF(COUNTIF(#REF!,BP$2)>0,0,1+BP4038))","v":""}]
[null,null,null,null,null,null,null,null,null,null,null,null,null,null,null,null,null,null,null,null,null,null,null,null,null,null,null,null,"",null,"","","","","","","","","","","","","","","","","","","","","","","","","",null,"","","","","","","","","","",null,{"$f":"IF($A4040=\"\",\"\",IF(COUNTIF(#REF!,BP$2)>0,0,1+BP4039))","v":""}]
[null,null,null,null,null,null,null,null,null,null,null,null,null,null,null,null,null,null,null,null,null,null,null,null,null,null,null,null,"",null,"","","","","","","","","","","","","","","","","","","","","","","","","",null,"","","","","","","","","","",null,{"$f":"IF($A4041=\"\",\"\",IF(COUNTIF(#REF!,BP$2)>0,0,1+BP4040))","v":""}]
[null,null,null,null,null,null,null,null,null,null,null,null,null,null,null,null,null,null,null,null,null,null,null,null,null,null,null,null,"",null,"","","","","","","","","","","","","","","","","","","","","","","","","",null,"","","","","","","","","","",null,{"$f":"IF($A4042=\"\",\"\",IF(COUNTIF(#REF!,BP$2)>0,0,1+BP4041))","v":""}]
[null,null,null,null,null,null,null,null,null,null,null,null,null,null,null,null,null,null,null,null,null,null,null,null,null,null,null,null,"",null,"","","","","","","","","","","","","","","","","","","","","","","","","",null,"","","","","","","","","","",null,{"$f":"IF($A4043=\"\",\"\",IF(COUNTIF(#REF!,BP$2)>0,0,1+BP4042))","v":""}]
[null,null,null,null,null,null,null,null,null,null,null,null,null,null,null,null,null,null,null,null,null,null,null,null,null,null,null,null,"",null,"","","","","","","","","","","","","","","","","","","","","","","","","",null,"","","","","","","","","","",null,{"$f":"IF($A4044=\"\",\"\",IF(COUNTIF(#REF!,BP$2)>0,0,1+BP4043))","v":""}]
[null,null,null,null,null,null,null,null,null,null,null,null,null,null,null,null,null,null,null,null,null,null,null,null,null,null,null,null,"",null,"","","","","","","","","","","","","","","","","","","","","","","","","",null,"","","","","","","","","","",null,{"$f":"IF($A4045=\"\",\"\",IF(COUNTIF(#REF!,BP$2)>0,0,1+BP4044))","v":""}]
[null,null,null,null,null,null,null,null,null,null,null,null,null,null,null,null,null,null,null,null,null,null,null,null,null,null,null,null,"",null,"","","","","","","","","","","","","","","","","","","","","","","","","",null,"","","","","","","","","","",null,{"$f":"IF($A4046=\"\",\"\",IF(COUNTIF(#REF!,BP$2)>0,0,1+BP4045))","v":""}]
[null,null,null,null,null,null,null,null,null,null,null,null,null,null,null,null,null,null,null,null,null,null,null,null,null,null,null,null,"",null,"","","","","","","","","","","","","","","","","","","","","","","","","",null,"","","","","","","","","","",null,{"$f":"IF($A4047=\"\",\"\",IF(COUNTIF(#REF!,BP$2)>0,0,1+BP4046))","v":""}]
[null,null,null,null,null,null,null,null,null,null,null,null,null,null,null,null,null,null,null,null,null,null,null,null,null,null,null,null,"",null,"","","","","","","","","","","","","","","","","","","","","","","","","",null,"","","","","","","","","","",null,{"$f":"IF($A4048=\"\",\"\",IF(COUNTIF(#REF!,BP$2)>0,0,1+BP4047))","v":""}]
[null,null,null,null,null,null,null,null,null,null,null,null,null,null,null,null,null,null,null,null,null,null,null,null,null,null,null,null,"",null,"","","","","","","","","","","","","","","","","","","","","","","","","",null,"","","","","","","","","","",null,{"$f":"IF($A4049=\"\",\"\",IF(COUNTIF(#REF!,BP$2)>0,0,1+BP4048))","v":""}]
[null,null,null,null,null,null,null,null,null,null,null,null,null,null,null,null,null,null,null,null,null,null,null,null,null,null,null,null,"",null,"","","","","","","","","","","","","","","","","","","","","","","","","",null,"","","","","","","","","","",null,{"$f":"IF($A4050=\"\",\"\",IF(COUNTIF(#REF!,BP$2)>0,0,1+BP4049))","v":""}]
[null,null,null,null,null,null,null,null,null,null,null,null,null,null,null,null,null,null,null,null,null,null,null,null,null,null,null,null,"",null,"","","","","","","","","","","","","","","","","","","","","","","","","",null,"","","","","","","","","","",null,{"$f":"IF($A4051=\"\",\"\",IF(COUNTIF(#REF!,BP$2)>0,0,1+BP4050))","v":""}]
[null,null,null,null,null,null,null,null,null,null,null,null,null,null,null,null,null,null,null,null,null,null,null,null,null,null,null,null,"",null,"","","","","","","","","","","","","","","","","","","","","","","","","",null,"","","","","","","","","","",null,{"$f":"IF($A4052=\"\",\"\",IF(COUNTIF(#REF!,BP$2)>0,0,1+BP4051))","v":""}]
[null,null,null,null,null,null,null,null,null,null,null,null,null,null,null,null,null,null,null,null,null,null,null,null,null,null,null,null,{"$f":"IF(A4053=\"\",\"\",WEEKDAY(A4053,1))","v":""},null,{"$f":"IF($A4053=\"\",\"\",IF(COUNTIF($X4053:$AB4053,AE$2)>0,0,1+AE4052))","v":""},{"$f":"IF($A4053=\"\",\"\",IF(COUNTIF($X4053:$AB4053,AF$2)>0,0,1+AF4052))","v":""},{"$f":"IF($A4053=\"\",\"\",IF(COUNTIF($X4053:$AB4053,AG$2)>0,0,1+AG4052))","v":""},{"$f":"IF($A4053=\"\",\"\",IF(COUNTIF($X4053:$AB4053,AH$2)>0,0,1+AH4052))","v":""},{"$f":"IF($A4053=\"\",\"\",IF(COUNTIF($X4053:$AB4053,AI$2)>0,0,1+AI4052))","v":""},{"$f":"IF($A4053=\"\",\"\",IF(COUNTIF($X4053:$AB4053,AJ$2)>0,0,1+AJ4052))","v":""},{"$f":"IF($A4053=\"\",\"\",IF(COUNTIF($X4053:$AB4053,AK$2)>0,0,1+AK4052))","v":""},{"$f":"IF($A4053=\"\",\"\",IF(COUNTIF($X4053:$AB4053,AL$2)>0,0,1+AL4052))","v":""},{"$f":"IF($A4053=\"\",\"\",IF(COUNTIF($X4053:$AB4053,AM$2)>0,0,1+AM4052))","v":""},{"$f":"IF($A4053=\"\",\"\",IF(COUNTIF($X4053:$AB4053,AN$2)>0,0,1+AN4052))","v":""},{"$f":"IF($A4053=\"\",\"\",IF(COUNTIF($X4053:$AB4053,AO$2)>0,0,1+AO4052))","v":""},{"$f":"IF($A4053=\"\",\"\",IF(COUNTIF($X4053:$AB4053,AP$2)>0,0,1+AP4052))","v":""},{"$f":"IF($A4053=\"\",\"\",IF(COUNTIF($X4053:$AB4053,AQ$2)>0,0,1+AQ4052))","v":""},{"$f":"IF($A4053=\"\",\"\",IF(COUNTIF($X4053:$AB4053,AR$2)>0,0,1+AR4052))","v":""},{"$f":"IF($A4053=\"\",\"\",IF(COUNTIF($X4053:$AB4053,AS$2)>0,0,1+AS4052))","v":""},{"$f":"IF($A4053=\"\",\"\",IF(COUNTIF($X4053:$AB4053,AT$2)>0,0,1+AT4052))","v":""},{"$f":"IF($A4053=\"\",\"\",IF(COUNTIF($X4053:$AB4053,AU$2)>0,0,1+AU4052))","v":""},{"$f":"IF($A4053=\"\",\"\",IF(COUNTIF($X4053:$AB4053,AV$2)>0,0,1+AV4052))","v":""},{"$f":"IF($A4053=\"\",\"\",IF(COUNTIF($X4053:$AB4053,AW$2)>0,0,1+AW4052))","v":""},{"$f":"IF($A4053=\"\",\"\",IF(COUNTIF($X4053:$AB4053,AX$2)>0,0,1+AX4052))","v":""},{"$f":"IF($A4053=\"\",\"\",IF(COUNTIF($X4053:$AB4053,AY$2)>0,0,1+AY4052))","v":""},{"$f":"IF($A4053=\"\",\"\",IF(COUNTIF($X4053:$AB4053,AZ$2)>0,0,1+AZ4052))","v":""},{"$f":"IF($A4053=\"\",\"\",IF(COUNTIF($X4053:$AB4053,BA$2)>0,0,1+BA4052))","v":""},{"$f":"IF($A4053=\"\",\"\",IF(COUNTIF($X4053:$AB4053,BB$2)>0,0,1+BB4052))","v":""},{"$f":"IF($A4053=\"\",\"\",IF(COUNTIF($X4053:$AB4053,BC$2)>0,0,1+BC4052))","v":""},null,{"$f":"IF($A4053=\"\",\"\",IF(COUNTIF($H4053:$H4053,BE$2)>0,0,1+BE4052))","v":""},{"$f":"IF($A4053=\"\",\"\",IF(COUNTIF($H4053:$H4053,BF$2)>0,0,1+BF4052))","v":""},{"$f":"IF($A4053=\"\",\"\",IF(COUNTIF($H4053:$H4053,BG$2)>0,0,1+BG4052))","v":""},{"$f":"IF($A4053=\"\",\"\",IF(COUNTIF($H4053:$H4053,BH$2)>0,0,1+BH4052))","v":""},{"$f":"IF($A4053=\"\",\"\",IF(COUNTIF($H4053:$H4053,BI$2)>0,0,1+BI4052))","v":""},{"$f":"IF($A4053=\"\",\"\",IF(COUNTIF($H4053:$H4053,BJ$2)>0,0,1+BJ4052))","v":""},{"$f":"IF($A4053=\"\",\"\",IF(COUNTIF($H4053:$H4053,BK$2)>0,0,1+BK4052))","v":""},{"$f":"IF($A4053=\"\",\"\",IF(COUNTIF($H4053:$H4053,BL$2)>0,0,1+BL4052))","v":""},{"$f":"IF($A4053=\"\",\"\",IF(COUNTIF($H4053:$H4053,BM$2)>0,0,1+BM4052))","v":""},{"$f":"IF($A4053=\"\",\"\",IF(COUNTIF($H4053:$H4053,BN$2)>0,0,1+BN4052))","v":""},null,{"$f":"IF($A4053=\"\",\"\",IF(COUNTIF(#REF!,BP$2)>0,0,1+BP4052))","v":""}]
[null,null,null,null,null,null,null,null,null,null,null,null,null,null,null,null,null,null,null,null,null,null,null,null,null,null,null,null,"",null,"","","","","","","","","","","","","","","","","","","","","","","","","",null,"","","","","","","","","","",null,{"$f":"IF($A4054=\"\",\"\",IF(COUNTIF(#REF!,BP$2)>0,0,1+BP4053))","v":""}]
[null,null,null,null,null,null,null,null,null,null,null,null,null,null,null,null,null,null,null,null,null,null,null,null,null,null,null,null,"",null,"","","","","","","","","","","","","","","","","","","","","","","","","",null,"","","","","","","","","","",null,{"$f":"IF($A4055=\"\",\"\",IF(COUNTIF(#REF!,BP$2)>0,0,1+BP4054))","v":""}]
[null,null,null,null,null,null,null,null,null,null,null,null,null,null,null,null,null,null,null,null,null,null,null,null,null,null,null,null,"",null,"","","","","","","","","","","","","","","","","","","","","","","","","",null,"","","","","","","","","","",null,{"$f":"IF($A4056=\"\",\"\",IF(COUNTIF(#REF!,BP$2)>0,0,1+BP4055))","v":""}]
[null,null,null,null,null,null,null,null,null,null,null,null,null,null,null,null,null,null,null,null,null,null,null,null,null,null,null,null,"",null,"","","","","","","","","","","","","","","","","","","","","","","","","",null,"","","","","","","","","","",null,{"$f":"IF($A4057=\"\",\"\",IF(COUNTIF(#REF!,BP$2)>0,0,1+BP4056))","v":""}]
[null,null,null,null,null,null,null,null,null,null,null,null,null,null,null,null,null,null,null,null,null,null,null,null,null,null,null,null,"",null,"","","","","","","","","","","","","","","","","","","","","","","","","",null,"","","","","","","","","","",null,{"$f":"IF($A4058=\"\",\"\",IF(COUNTIF(#REF!,BP$2)>0,0,1+BP4057))","v":""}]
[null,null,null,null,null,null,null,null,null,null,null,null,null,null,null,null,null,null,null,null,null,null,null,null,null,null,null,null,"",null,"","","","","","","","","","","","","","","","","","","","","","","","","",null,"","","","","","","","","","",null,{"$f":"IF($A4059=\"\",\"\",IF(COUNTIF(#REF!,BP$2)>0,0,1+BP4058))","v":""}]
[null,null,null,null,null,null,null,null,null,null,null,null,null,null,null,null,null,null,null,null,null,null,null,null,null,null,null,null,"",null,"","","","","","","","","","","","","","","","","","","","","","","","","",null,"","","","","","","","","","",null,{"$f":"IF($A4060=\"\",\"\",IF(COUNTIF(#REF!,BP$2)>0,0,1+BP4059))","v":""}]
[null,null,null,null,null,null,null,null,null,null,null,null,null,null,null,null,null,null,null,null,null,null,null,null,null,null,null,null,"",null,"","","","","","","","","","","","","","","","","","","","","","","","","",null,"","","","","","","","","","",null,{"$f":"IF($A4061=\"\",\"\",IF(COUNTIF(#REF!,BP$2)>0,0,1+BP4060))","v":""}]
[null,null,null,null,null,null,null,null,null,null,null,null,null,null,null,null,null,null,null,null,null,null,null,null,null,null,null,null,"",null,"","","","","","","","","","","","","","","","","","","","","","","","","",null,"","","","","","","","","","",null,{"$f":"IF($A4062=\"\",\"\",IF(COUNTIF(#REF!,BP$2)>0,0,1+BP4061))","v":""}]
[null,null,null,null,null,null,null,null,null,null,null,null,null,null,null,null,null,null,null,null,null,null,null,null,null,null,null,null,"",null,"","","","","","","","","","","","","","","","","","","","","","","","","",null,"","","","","","","","","","",null,{"$f":"IF($A4063=\"\",\"\",IF(COUNTIF(#REF!,BP$2)>0,0,1+BP4062))","v":""}]
[null,null,null,null,null,null,null,null,null,null,null,null,null,null,null,null,null,null,null,null,null,null,null,null,null,null,null,null,"",null,"","","","","","","","","","","","","","","","","","","","","","","","","",null,"","","","","","","","","","",null,{"$f":"IF($A4064=\"\",\"\",IF(COUNTIF(#REF!,BP$2)>0,0,1+BP4063))","v":""}]
[null,null,null,null,null,null,null,null,null,null,null,null,null,null,null,null,null,null,null,null,null,null,null,null,null,null,null,null,"",null,"","","","","","","","","","","","","","","","","","","","","","","","","",null,"","","","","","","","","","",null,{"$f":"IF($A4065=\"\",\"\",IF(COUNTIF(#REF!,BP$2)>0,0,1+BP4064))","v":""}]
[null,null,null,null,null,null,null,null,null,null,null,null,null,null,null,null,null,null,null,null,null,null,null,null,null,null,null,null,"",null,"","","","","","","","","","","","","","","","","","","","","","","","","",null,"","","","","","","","","","",null,{"$f":"IF($A4066=\"\",\"\",IF(COUNTIF(#REF!,BP$2)>0,0,1+BP4065))","v":""}]
[null,null,null,null,null,null,null,null,null,null,null,null,null,null,null,null,null,null,null,null,null,null,null,null,null,null,null,null,"",null,"","","","","","","","","","","","","","","","","","","","","","","","","",null,"","","","","","","","","","",null,{"$f":"IF($A4067=\"\",\"\",IF(COUNTIF(#REF!,BP$2)>0,0,1+BP4066))","v":""}]
[null,null,null,null,null,null,null,null,null,null,null,null,null,null,null,null,null,null,null,null,null,null,null,null,null,null,null,null,"",null,"","","","","","","","","","","","","","","","","","","","","","","","","",null,"","","","","","","","","","",null,{"$f":"IF($A4068=\"\",\"\",IF(COUNTIF(#REF!,BP$2)>0,0,1+BP4067))","v":""}]
[null,null,null,null,null,null,null,null,null,null,null,null,null,null,null,null,null,null,null,null,null,null,null,null,null,null,null,null,"",null,"","","","","","","","","","","","","","","","","","","","","","","","","",null,"","","","","","","","","","",null,{"$f":"IF($A4069=\"\",\"\",IF(COUNTIF(#REF!,BP$2)>0,0,1+BP4068))","v":""}]
[null,null,null,null,null,null,null,null,null,null,null,null,null,null,null,null,null,null,null,null,null,null,null,null,null,null,null,null,"",null,"","","","","","","","","","","","","","","","","","","","","","","","","",null,"","","","","","","","","","",null,{"$f":"IF($A4070=\"\",\"\",IF(COUNTIF(#REF!,BP$2)>0,0,1+BP4069))","v":""}]
[null,null,null,null,null,null,null,null,null,null,null,null,null,null,null,null,null,null,null,null,null,null,null,null,null,null,null,null,"",null,"","","","","","","","","","","","","","","","","","","","","","","","","",null,"","","","","","","","","","",null,{"$f":"IF($A4071=\"\",\"\",IF(COUNTIF(#REF!,BP$2)>0,0,1+BP4070))","v":""}]
[null,null,null,null,null,null,null,null,null,null,null,null,null,null,null,null,null,null,null,null,null,null,null,null,null,null,null,null,"",null,"","","","","","","","","","","","","","","","","","","","","","","","","",null,"","","","","","","","","","",null,{"$f":"IF($A4072=\"\",\"\",IF(COUNTIF(#REF!,BP$2)>0,0,1+BP4071))","v":""}]
[null,null,null,null,null,null,null,null,null,null,null,null,null,null,null,null,null,null,null,null,null,null,null,null,null,null,null,null,"",null,"","","","","","","","","","","","","","","","","","","","","","","","","",null,"","","","","","","","","","",null,{"$f":"IF($A4073=\"\",\"\",IF(COUNTIF(#REF!,BP$2)>0,0,1+BP4072))","v":""}]
[null,null,null,null,null,null,null,null,null,null,null,null,null,null,null,null,null,null,null,null,null,null,null,null,null,null,null,null,"",null,"","","","","","","","","","","","","","","","","","","","","","","","","",null,"","","","","","","","","","",null,{"$f":"IF($A4074=\"\",\"\",IF(COUNTIF(#REF!,BP$2)>0,0,1+BP4073))","v":""}]
[null,null,null,null,null,null,null,null,null,null,null,null,null,null,null,null,null,null,null,null,null,null,null,null,null,null,null,null,"",null,"","","","","","","","","","","","","","","","","","","","","","","","","",null,"","","","","","","","","","",null,{"$f":"IF($A4075=\"\",\"\",IF(COUNTIF(#REF!,BP$2)>0,0,1+BP4074))","v":""}]
[null,null,null,null,null,null,null,null,null,null,null,null,null,null,null,null,null,null,null,null,null,null,null,null,null,null,null,null,"",null,"","","","","","","","","","","","","","","","","","","","","","","","","",null,"","","","","","","","","","",null,{"$f":"IF($A4076=\"\",\"\",IF(COUNTIF(#REF!,BP$2)>0,0,1+BP4075))","v":""}]
[null,null,null,null,null,null,null,null,null,null,null,null,null,null,null,null,null,null,null,null,null,null,null,null,null,null,null,null,"",null,"","","","","","","","","","","","","","","","","","","","","","","","","",null,"","","","","","","","","","",null,{"$f":"IF($A4077=\"\",\"\",IF(COUNTIF(#REF!,BP$2)>0,0,1+BP4076))","v":""}]
[null,null,null,null,null,null,null,null,null,null,null,null,null,null,null,null,null,null,null,null,null,null,null,null,null,null,null,null,"",null,"","","","","","","","","","","","","","","","","","","","","","","","","",null,"","","","","","","","","","",null,{"$f":"IF($A4078=\"\",\"\",IF(COUNTIF(#REF!,BP$2)>0,0,1+BP4077))","v":""}]
[null,null,null,null,null,null,null,null,null,null,null,null,null,null,null,null,null,null,null,null,null,null,null,null,null,null,null,null,"",null,"","","","","","","","","","","","","","","","","","","","","","","","","",null,"","","","","","","","","","",null,{"$f":"IF($A4079=\"\",\"\",IF(COUNTIF(#REF!,BP$2)>0,0,1+BP4078))","v":""}]
[null,null,null,null,null,null,null,null,null,null,null,null,null,null,null,null,null,null,null,null,null,null,null,null,null,null,null,null,"",null,"","","","","","","","","","","","","","","","","","","","","","","","","",null,"","","","","","","","","","",null,{"$f":"IF($A4080=\"\",\"\",IF(COUNTIF(#REF!,BP$2)>0,0,1+BP4079))","v":""}]
[null,null,null,null,null,null,null,null,null,null,null,null,null,null,null,null,null,null,null,null,null,null,null,null,null,null,null,null,"",null,"","","","","","","","","","","","","","","","","","","","","","","","","",null,"","","","","","","","","","",null,{"$f":"IF($A4081=\"\",\"\",IF(COUNTIF(#REF!,BP$2)>0,0,1+BP4080))","v":""}]
[null,null,null,null,null,null,null,null,null,null,null,null,null,null,null,null,null,null,null,null,null,null,null,null,null,null,null,null,"",null,"","","","","","","","","","","","","","","","","","","","","","","","","",null,"","","","","","","","","","",null,{"$f":"IF($A4082=\"\",\"\",IF(COUNTIF(#REF!,BP$2)>0,0,1+BP4081))","v":""}]
[null,null,null,null,null,null,null,null,null,null,null,null,null,null,null,null,null,null,null,null,null,null,null,null,null,null,null,null,"",null,"","","","","","","","","","","","","","","","","","","","","","","","","",null,"","","","","","","","","","",null,{"$f":"IF($A4083=\"\",\"\",IF(COUNTIF(#REF!,BP$2)>0,0,1+BP4082))","v":""}]
[null,null,null,null,null,null,null,null,null,null,null,null,null,null,null,null,null,null,null,null,null,null,null,null,null,null,null,null,"",null,"","","","","","","","","","","","","","","","","","","","","","","","","",null,"","","","","","","","","","",null,{"$f":"IF($A4084=\"\",\"\",IF(COUNTIF(#REF!,BP$2)>0,0,1+BP4083))","v":""}]
[null,null,null,null,null,null,null,null,null,null,null,null,null,null,null,null,null,null,null,null,null,null,null,null,null,null,null,null,"",null,"","","","","","","","","","","","","","","","","","","","","","","","","",null,"","","","","","","","","","",null,{"$f":"IF($A4085=\"\",\"\",IF(COUNTIF(#REF!,BP$2)>0,0,1+BP4084))","v":""}]
[null,null,null,null,null,null,null,null,null,null,null,null,null,null,null,null,null,null,null,null,null,null,null,null,null,null,null,null,"",null,"","","","","","","","","","","","","","","","","","","","","","","","","",null,"","","","","","","","","","",null,{"$f":"IF($A4086=\"\",\"\",IF(COUNTIF(#REF!,BP$2)>0,0,1+BP4085))","v":""}]
[null,null,null,null,null,null,null,null,null,null,null,null,null,null,null,null,null,null,null,null,null,null,null,null,null,null,null,null,"",null,"","","","","","","","","","","","","","","","","","","","","","","","","",null,"","","","","","","","","","",null,{"$f":"IF($A4087=\"\",\"\",IF(COUNTIF(#REF!,BP$2)>0,0,1+BP4086))","v":""}]
[null,null,null,null,null,null,null,null,null,null,null,null,null,null,null,null,null,null,null,null,null,null,null,null,null,null,null,null,"",null,"","","","","","","","","","","","","","","","","","","","","","","","","",null,"","","","","","","","","","",null,{"$f":"IF($A4088=\"\",\"\",IF(COUNTIF(#REF!,BP$2)>0,0,1+BP4087))","v":""}]
[null,null,null,null,null,null,null,null,null,null,null,null,null,null,null,null,null,null,null,null,null,null,null,null,null,null,null,null,"",null,"","","","","","","","","","","","","","","","","","","","","","","","","",null,"","","","","","","","","","",null,{"$f":"IF($A4089=\"\",\"\",IF(COUNTIF(#REF!,BP$2)>0,0,1+BP4088))","v":""}]
[null,null,null,null,null,null,null,null,null,null,null,null,null,null,null,null,null,null,null,null,null,null,null,null,null,null,null,null,"",null,"","","","","","","","","","","","","","","","","","","","","","","","","",null,"","","","","","","","","","",null,{"$f":"IF($A4090=\"\",\"\",IF(COUNTIF(#REF!,BP$2)>0,0,1+BP4089))","v":""}]
[null,null,null,null,null,null,null,null,null,null,null,null,null,null,null,null,null,null,null,null,null,null,null,null,null,null,null,null,"",null,"","","","","","","","","","","","","","","","","","","","","","","","","",null,"","","","","","","","","","",null,{"$f":"IF($A4091=\"\",\"\",IF(COUNTIF(#REF!,BP$2)>0,0,1+BP4090))","v":""}]
[null,null,null,null,null,null,null,null,null,null,null,null,null,null,null,null,null,null,null,null,null,null,null,null,null,null,null,null,"",null,"","","","","","","","","","","","","","","","","","","","","","","","","",null,"","","","","","","","","","",null,{"$f":"IF($A4092=\"\",\"\",IF(COUNTIF(#REF!,BP$2)>0,0,1+BP4091))","v":""}]
[null,null,null,null,null,null,null,null,null,null,null,null,null,null,null,null,null,null,null,null,null,null,null,null,null,null,null,null,"",null,"","","","","","","","","","","","","","","","","","","","","","","","","",null,"","","","","","","","","","",null,{"$f":"IF($A4093=\"\",\"\",IF(COUNTIF(#REF!,BP$2)>0,0,1+BP4092))","v":""}]
[null,null,null,null,null,null,null,null,null,null,null,null,null,null,null,null,null,null,null,null,null,null,null,null,null,null,null,null,"",null,"","","","","","","","","","","","","","","","","","","","","","","","","",null,"","","","","","","","","","",null,{"$f":"IF($A4094=\"\",\"\",IF(COUNTIF(#REF!,BP$2)>0,0,1+BP4093))","v":""}]
[null,null,null,null,null,null,null,null,null,null,null,null,null,null,null,null,null,null,null,null,null,null,null,null,null,null,null,null,"",null,"","","","","","","","","","","","","","","","","","","","","","","","","",null,"","","","","","","","","","",null,{"$f":"IF($A4095=\"\",\"\",IF(COUNTIF(#REF!,BP$2)>0,0,1+BP4094))","v":""}]
[null,null,null,null,null,null,null,null,null,null,null,null,null,null,null,null,null,null,null,null,null,null,null,null,null,null,null,null,"",null,"","","","","","","","","","","","","","","","","","","","","","","","","",null,"","","","","","","","","","",null,{"$f":"IF($A4096=\"\",\"\",IF(COUNTIF(#REF!,BP$2)>0,0,1+BP4095))","v":""}]

{"sheet":"Planilha1","index":1,"n_rows":2035,"n_cols":8,"rows_kept":2035,"cut":false,"hidden":false,"merged":[]}
[]
[1,"(11/03/1996)",4,5,30,33,41,52]
[2,"(18/03/1996)",9,37,39,41,43,49]
[3,"(25/03/1996)",10,11,29,30,36,47]
[4,"(01/04/1996)",1,5,6,27,42,59]
[5,"(08/04/1996)",1,2,6,16,19,46]
[6,"(15/04/1996)",7,13,19,22,40,47]
[7,"(22/04/1996)",3,5,20,21,38,56]
[8,"(29/04/1996)",4,17,37,38,47,53]
[9,"(06/05/1996)",8,43,54,55,56,60]
[10,"(13/05/1996)",4,18,21,25,38,57]
[11,"(20/05/1996)",15,25,37,38,58,59]
[12,"(27/05/1996)",4,16,19,20,27,43]
[13,"(03/06/1996)",18,32,47,50,54,56]
[14,"(10/06/1996)",2,16,23,27,47,53]
[15,"(17/06/1996)",12,33,35,51,52,60]
[16,"(24/06/1996)",20,32,34,49,58,60]
[17,"(01/07/1996)",6,10,13,19,20,51]
[18,"(08/07/1996)",23,27,36,37,42,56]
[19,"(15/07/1996)",5,10,12,24,25,60]
[20,"(22/07/1996)",11,25,28,30,33,51]
[21,"(29/07/1996)",6,33,36,46,49,53]
[22,"(05/08/1996)",1,9,31,38,46,56]
[23,"(12/08/1996)",17,37,39,51,52,59]
[24,"(19/08/1996)",1,8,14,28,33,43]
[25,"(25/08/1996)",24,43,50,54,55,56]
[26,"(01/09/1996)",10,22,50,53,57,58]
[27,"(08/09/1996)",13,17,20,33,44,51]
[28,"(15/09/1996)",3,6,22,24,54,60]
[29,"(22/09/1996)",3,8,14,43,56,58]
[30,"(29/09/1996)",7,14,15,29,38,50]
[31,"(06/10/1996)",17,19,28,45,48,56]
[32,"(13/10/1996)",5,14,33,36,43,44]
[33,"(20/10/1996)",5,17,33,39,42,49]
[34,"(27/10/1996)",13,15,17,40,53,57]
[35,"(03/11/1996)",4,16,21,23,54,57]
[36,"(10/11/1996)",3,13,17,25,29,51]
[37,"(17/11/1996)",6,7,22,38,52,60]
[38,"(24/11/1996)",10,42,43,45,54,55]
[39,"(01/12/1996)",12,16,37,45,52,56]
[40,"(08/12/1996)",3,5,8,12,46,47]
[41,"(15/12/1996)",12,26,35,38,39,47]
[42,"(22/12/1996)",7,11,19,24,33,36]
[43,"(29/12/1996)",2,6,17,25,26,58]
[44,"(05/01/1997)",14,18,29,38,44,47]
[45,"(12/01/1997)",7,30,37,44,53,55]
[46,"(19/01/1997)",1,23,24,32,46,60]
[47,"(26/01/1997)",3,17,25,35,48,56]
[48,"(02/02/1997)",2,5,28,34,47,50]
[49,"(09/02/1997)",7,13,33,35,43,55]
[50,"(16/02/1997)",6,16,21,44,57,58]
[51,"(23/02/1997)",17,23,24,25,42,47]
[52,"(02/03/1997)",15,30,38,46,58,59]
[53,"(09/03/1997)",3,13,16,38,42,46]
[54,"(16/03/1997)",5,9,18,21,36,56]
[55,"(23/03/1997)",2,14,23,29,38,52]
[56,"(30/03/1997)",2,7,20,35,51,59]
[57,"(06/04/1997)",7,16,17,27,34,59]
[58,"(13/04/1997)",12,27,30,37,44,49]
[59,"(20/04/1997)",2,8,13,28,34,54]
[60,"(27/04/1997)",3,14,15,20,21,38]
[61,"(04/05/1997)",8,18,29,42,44,59]
[62,"(11/05/1997)",6,8,13,24,31,52]
[63,"(18/05/1997)",9,25,26,40,41,49]
[64,"(25/05/1997)",8,12,23,50,54,60]
[65,"(01/06/1997)",1,5,20,25,32,34]
[66,"(08/06/1997)",12,13,15,26,33,48]
[67,"(15/06/1997)",12,14,17,27,47,52]
[68,"(22/06/1997)",1,3,12,13,53,59]
[69,"(29/06/1997)",25,34,45,53,56,58]
[70,"(06/07/1997)",17,23,27,40,43,58]
[71,"(13/07/1997)",16,27,33,43,45,53]
[72,"(20/07/1997)",1,19,34,43,44,48]
[73,"(27/07/1997)",25,26,28,45,51,57]
[74,"(03/08/1997)",2,24,34,37,38,50]
[75,"(10/08/1997)",21,24,35,36,37,49]
[76,"(17/08/1997)",8,17,18,23,33,53]
[77,"(24/08/1997)",21,29,40,49,54,57]
[78,"(31/08/1997)",12,22,25,31,32,46]
[79,"(07/09/1997)",2,13,17,25,31,43]
[80,"(14/09/1997)",23,28,37,40,48,51]
[81,"(21/09/1997)",10,23,41,47,54,60]
[82,"(28/09/1997)",15,18,29,36,51,53]
[83,"(05/10/1997)",4,15,16,24,42,57]
[84,"(12/10/1997)",4,6,10,25,34,40]
[85,"(19/10/1997)",6,15,30,37,45,47]
[86,"(26/10/1997)",6,21,22,34,36,54]
[87,"(02/11/1997)",4,5,11,28,32,40]
[88,"(09/11/1997)",4,18,29,37,43,45]
[89,"(16/11/1997)",13,34,42,44,55,59]
[90,"(23/11/1997)",9,21,26,40,52,54]
[91,"(30/11/1997)",2,4,10,35,39,60]
[92,"(07/12/1997)",1,3,5,23,24,51]
[93,"(14/12/1997)",2,22,28,31,36,53]
[94,"(21/12/1997)",8,18,28,51,52,55]
[95,"(28/12/1997)",6,40,45,46,50,60]
[96,"(04/01/1998)",4,7,26,40,42,58]
[97,"(11/01/1998)",5,11,14,35,53,56]
[98,"(18/01/1998)",13,14,31,33,35,43]
[99,"(25/01/1998)",11,24,30,33,46,60]
[100,"(01/02/1998)",14,29,30,46,48,51]
[101,"(08/02/1998)",1,18,29,31,37,39]
[102,"(15/02/1998)",19,20,37,42,44,56]
[103,"(22/02/1998)",1,7,9,49,54,57]
[104,"(01/03/1998)",1,4,13,21,38,52]
[105,"(08/03/1998)",3,13,31,43,46,49]
[106,"(15/03/1998)",5,16,24,35,38,39]
[107,"(22/03/1998)",2,4,16,24,51,52]
[108,"(29/03/1998)",21,24,29,34,59,60]
[109,"(04/04/1998)",1,13,44,48,49,54]
[110,"(11/04/1998)",18,31,43,52,57,58]
[111,"(18/04/1998)",4,22,25,32,33,52]
[112,"(25/04/1998)",12,20,34,37,42,43]
[113,"(02/05/1998)",7,26,28,34,54,55]
[114,"(09/05/1998)",6,12,18,37,47,54]
[115,"(16/05/1998)",4,6,14,20,24,38]
[116,"(23/05/1998)",5,13,32,36,42,51]
[117,"(30/05/1998)",20,25,27,33,42,53]
[118,"(06/06/1998)",9,22,25,37,56,57]
[119,"(13/06/1998)",1,21,36,38,47,50]
[120,"(20/06/1998)",3,16,27,40,45,46]
[121,"(27/06/1998)",2,29,41,44,53,55]
[122,"(04/07/1998)",11,17,20,39,43,53]
[123,"(11/07/1998)",13,14,16,26,32,42]
[124,"(18/07/1998)",5,15,34,41,52,57]
[125,"(25/07/1998)",25,41,47,53,56,59]
[126,"(01/08/1998)",6,10,11,28,32,40]
[127,"(08/08/1998)",21,29,50,51,54,59]
[128,"(15/08/1998)",3,9,18,21,23,43]
[129,"(22/08/1998)",1,9,10,32,46,54]
[130,"(29/08/1998)",13,29,38,42,49,53]
[131,"(05/09/1998)",4,9,17,27,30,44]
[132,"(12/09/1998)",7,9,35,41,44,50]
[133,"(19/09/1998)",5,6,19,34,39,57]
[134,"(26/09/1998)",4,25,32,36,52,60]
[135,"(03/10/1998)",21,22,35,40,53,59]
[136,"(10/10/1998)",1,17,25,38,45,59]
[137,"(17/10/1998)",15,16,19,22,26,49]
[138,"(24/10/1998)",5,14,27,37,40,41]
[139,"(31/10/1998)",3,13,26,27,41,42]
[140,"(07/11/1998)",7,31,41,44,46,55]
[141,"(14/11/1998)",10,13,22,41,42,58]
[142,"(21/11/1998)",8,15,19,20,54,59]
[143,"(28/11/1998)",6,18,20,40,50,53]
[144,"(05/12/1998)",8,32,36,44,45,55]
[145,"(12/12/1998)",15,16,31,41,43,51]
[146,"(19/12/1998)",25,32,34,42,51,60]
[147,"(24/12/1998)",6,16,23,24,28,38]
[148,"(31/12/1998)",32,35,41,55,58,59]
[149,"(09/01/1999)",7,11,20,28,45,48]
[150,"(16/01/1999)",12,44,50,52,54,55]
[151,"(23/01/1999)",3,16,20,43,52,56]
[152,"(30/01/1999)",5,12,15,29,51,58]
[153,"(06/02/1999)",2,30,31,42,45,47]
[154,"(13/02/1999)",8,10,24,33,45,48]
[155,"(20/02/1999)",12,30,32,35,43,44]
[156,"(27/02/1999)",17,23,42,49,52,55]
[157,"(06/03/1999)",4,13,17,21,41,44]
[158,"(13/03/1999)",4,14,17,43,51,58]
[159,"(20/03/1999)",9,11,16,35,50,58]
[160,"(27/03/1999)",2,13,42,52,54,58]
[161,"(03/04/1999)",6,25,30,37,39,41]
[162,"(10/04/1999)",21,23,33,38,48,51]
[163,"(17/04/1999)",8,27,36,41,53,56]
[164,"(24/04/1999)",4,10,14,19,28,44]
[165,"(01/05/1999)",10,19,23,35,39,56]
[166,"(08/05/1999)",12,13,22,57,59,60]
[167,"(15/05/1999)",1,11,28,33,38,48]
[168,"(22/05/1999)",2,9,31,35,45,50]
[169,"(29/05/1999)",1,13,21,37,51,52]
[170,"(05/06/1999)",7,41,46,51,55,58]
[171,"(12/06/1999)",4,27,40,43,46,54]
[172,"(19/06/1999)",10,14,26,35,36,49]
[173,"(26/06/1999)",17,28,29,42,49,50]
[174,"(03/07/1999)",11,22,23,36,52,59]
[175,"(10/07/1999)",1,10,13,20,42,50]
[176,"(17/07/1999)",1,3,4,28,45,53]
[177,"(24/07/1999)",22,35,38,39,41,59]
[178,"(31/07/1999)",5,15,19,26,27,33]
[179,"(07/08/1999)",5,6,23,26,27,53]
[180,"(14/08/1999)",6,23,29,39,51,60]
[181,"(21/08/1999)",1,27,33,35,51,55]
[182,"(28/08/1999)",3,5,10,28,46,60]
[183,"(04/09/1999)",2,7,11,16,40,44]
[184,"(11/09/1999)",9,16,21,34,41,60]
[185,"(18/09/1999)",17,22,43,46,55,59]
[186,"(25/09/1999)",14,23,24,25,26,51]
[187,"(02/10/1999)",6,36,41,44,48,58]
[188,"(10/10/1999)",17,27,34,42,43,46]
[189,"(16/10/1999)",4,15,31,38,41,53]
[190,"(24/10/1999)",5,10,21,32,40,42]
[191,"(31/10/1999)",1,3,5,23,41,58]
[192,"(06/11/1999)",1,26,28,41,54,60]
[193,"(13/11/1999)",4,11,12,19,43,49]
[194,"(20/11/1999)",25,28,32,33,42,43]
[195,"(27/11/1999)",3,9,17,32,37,44]
[196,"(04/12/1999)",7,9,14,17,24,32]
[197,"(11/12/1999)",5,12,15,19,29,52]
[198,"(18/12/1999)",1,8,18,23,35,40]
[199,"(24/12/1999)",10,16,37,50,52,57]
[200,"(31/12/1999)",12,15,19,34,44,51]
[201,"(08/01/2000)",5,20,22,30,35,55]
[202,"(15/01/2000)",12,24,44,45,49,53]
[203,"(22/01/2000)",11,19,29,44,47,55]
[204,"(29/01/2000)",29,31,39,41,51,58]
[205,"(05/02/2000)",26,32,40,43,46,54]
[206,"(12/02/2000)",18,20,26,34,51,56]
[207,"(19/02/2000)",3,7,19,24,53,55]
[208,"(26/02/2000)",15,23,24,25,47,57]
[209,"(04/03/2000)",13,21,26,32,41,52]
[210,"(11/03/2000)",20,32,37,38,48,58]
[211,"(18/03/2000)",10,20,33,40,45,50]
[212,"(25/03/2000)",6,15,29,45,57,59]
[213,"(01/04/2000)",3,9,23,30,32,35]
[214,"(08/04/2000)",6,12,30,31,35,50]
[215,"(15/04/2000)",7,28,37,46,53,58]
[216,"(22/04/2000)",14,18,30,35,42,59]
[217,"(29/04/2000)",3,27,32,45,49,51]
[218,"(06/05/2000)",12,17,40,42,47,54]
[219,"(13/05/2000)",23,26,28,36,42,49]
[220,"(20/05/2000)",13,14,36,53,55,60]
[221,"(27/05/2000)",13,27,43,50,54,58]
[222,"(03/06/2000)",5,19,30,48,52,55]
[223,"(10/06/2000)",2,6,22,24,28,58]
[224,"(17/06/2000)",7,16,18,20,21,44]
[225,"(24/06/2000)",2,4,16,21,37,58]
[226,"(01/07/2000)",1,2,38,49,50,59]
[227,"(08/07/2000)",11,26,27,37,42,48]
[228,"(15/07/2000)",13,16,40,43,45,59]
[229,"(22/07/2000)",11,13,21,33,39,45]
[230,"(29/07/2000)",8,40,41,44,53,56]
[231,"(05/08/2000)",16,27,36,42,44,59]
[232,"(12/08/2000)",19,22,29,37,41,59]
[233,"(19/08/2000)",3,7,24,32,36,45]
[234,"(26/08/2000)",15,25,41,42,45,54]
[235,"(02/09/2000)",2,22,29,31,41,55]
[236,"(09/09/2000)",10,25,50,52,57,60]
[237,"(16/09/2000)",7,31,36,45,56,57]
[238,"(23/09/2000)",9,13,15,37,41,42]
[239,"(30/09/2000)",6,21,33,44,46,47]
[240,"(07/10/2000)",25,28,38,41,57,59]
[241,"(14/10/2000)",11,31,35,40,56,57]
[242,"(21/10/2000)",4,7,21,22,28,56]
[243,"(28/10/2000)",11,16,20,23,32,47]
[244,"(04/11/2000)",19,24,33,47,50,60]
[245,"(11/11/2000)",8,27,44,51,53,60]
[246,"(18/11/2000)",2,16,32,37,43,57]
[247,"(25/11/2000)",3,10,23,30,34,46]
[248,"(02/12/2000)",16,32,34,35,41,56]
[249,"(09/12/2000)",21,36,40,49,54,55]
[250,"(16/12/2000)",7,25,41,42,43,55]
[251,"(23/12/2000)",15,23,30,34,49,55]
[252,"(30/12/2000)",4,17,26,32,51,54]
[253,"(06/01/2001)",11,12,24,37,44,56]
[254,"(13/01/2001)",1,4,21,22,30,56]
[255,"(20/01/2001)",16,19,20,32,44,55]
[256,"(27/01/2001)",2,21,26,32,34,52]
[257,"(03/02/2001)",1,4,5,19,28,34]
[258,"(10/02/2001)",7,12,50,54,55,60]
[259,"(17/02/2001)",13,15,20,33,43,58]
[260,"(24/02/2001)",4,6,33,43,59,60]
[261,"(03/03/2001)",5,16,20,30,54,56]
[262,"(10/03/2001)",11,20,48,53,58,60]
[263,"(17/03/2001)",8,9,26,43,50,53]
[264,"(24/03/2001)",1,5,13,25,31,33]
[265,"(31/03/2001)",7,16,34,41,50,53]
[266,"(07/04/2001)",2,23,38,46,48,54]
[267,"(14/04/2001)",1,8,45,46,55,58]
[268,"(21/04/2001)",5,6,10,21,33,47]
[269,"(28/04/2001)",17,18,19,25,49,52]
[270,"(05/05/2001)",5,9,27,35,40,45]
[271,"(12/05/2001)",14,24,26,29,31,54]
[272,"(19/05/2001)",9,10,24,36,56,58]
[273,"(26/05/2001)",10,17,23,27,47,52]
[274,"(02/06/2001)",11,13,18,26,39,47]
[275,"(09/06/2001)",16,19,30,37,38,48]
[276,"(16/06/2001)",22,39,45,53,57,59]
[277,"(23/06/2001)",4,26,38,40,52,56]
[278,"(30/06/2001)",10,15,18,22,31,55]
[279,"(07/07/2001)",4,23,31,47,58,59]
[280,"(14/07/2001)",5,16,20,25,30,58]
[281,"(21/07/2001)",5,11,31,38,47,53]
[282,"(28/07/2001)",9,14,23,24,33,36]
[283,"(01/08/2001)",25,28,34,42,48,54]
[284,"(04/08/2001)",7,8,14,30,32,36]
[285,"(08/08/2001)",12,32,37,41,50,56]
[286,"(11/08/2001)",29,35,37,44,47,56]
[287,"(15/08/2001)",3,13,25,33,47,60]
[288,"(18/08/2001)",6,9,11,17,18,50]
[289,"(22/08/2001)",6,7,20,25,30,36]
[290,"(25/08/2001)",7,25,26,30,40,57]
[291,"(29/08/2001)",5,16,17,18,22,41]
[292,"(01/09/2001)",13,23,24,34,45,53]
[293,"(05/09/2001)",5,6,7,12,28,35]
[294,"(08/09/2001)",22,25,28,41,45,57]
[295,"(12/09/2001)",7,12,24,31,44,50]
[296,"(15/09/2001)",3,20,42,46,51,52]
[297,"(19/09/2001)",1,20,28,33,36,41]
[298,"(22/09/2001)",5,22,23,24,34,60]
[299,"(26/09/2001)",2,5,7,33,49,53]
[300,"(29/09/2001)",24,27,28,38,41,57]
[301,"(03/10/2001)",9,26,48,49,57,58]
[302,"(06/10/2001)",12,25,30,40,41,60]
[303,"(10/10/2001)",7,13,17,30,37,47]
[304,"(13/10/2001)",7,11,34,41,42,59]
[305,"(17/10/2001)",5,11,27,38,53,60]
[306,"(20/10/2001)",19,30,41,47,56,57]
[307,"(24/10/2001)",13,16,17,26,41,44]
[308,"(27/10/2001)",4,11,25,29,39,55]
[309,"(31/10/2001)",4,11,25,39,50,55]
[310,"(03/11/2001)",2,14,28,29,31,32]
[311,"(07/11/2001)",22,24,30,32,38,41]
[312,"(10/11/2001)",14,23,30,41,47,50]
[313,"(14/11/2001)",14,16,24,37,38,53]
[314,"(17/11/2001)",5,32,34,37,40,58]
[315,"(21/11/2001)",12,21,22,28,43,50]
[316,"(24/11/2001)",6,24,28,43,51,56]
[317,"(28/11/2001)",16,20,27,30,35,48]
[318,"(01/12/2001)",3,19,20,31,40,53]
[319,"(05/12/2001)",12,16,17,19,23,48]
[320,"(08/12/2001)",20,22,27,47,50,53]
[321,"(12/12/2001)",4,11,31,32,48,49]
[322,"(15/12/2001)",11,18,29,44,47,56]
[323,"(19/12/2001)",26,31,33,40,49,54]
[324,"(22/12/2001)",8,15,22,25,30,47]
[325,"(29/12/2001)",1,3,4,21,23,53]
[326,"(05/01/2002)",21,23,40,44,51,52]
[327,"(09/01/2002)",29,32,33,38,46,48]
[328,"(12/01/2002)",5,7,14,21,23,51]
[329,"(16/01/2002)",10,11,12,24,35,40]
[330,"(19/01/2002)",2,4,14,23,37,51]
[331,"(23/01/2002)",1,13,20,27,35,37]
[332,"(26/01/2002)",23,28,29,34,42,44]
[333,"(30/01/2002)",4,27,35,44,52,53]
[334,"(02/02/2002)",14,23,24,26,41,51]
[335,"(06/02/2002)",7,23,33,43,57,59]
[336,"(09/02/2002)",2,18,22,26,30,54]
[337,"(16/02/2002)",4,14,16,31,52,54]
[338,"(20/02/2002)",1,4,9,36,46,48]
[339,"(23/02/2002)",5,12,13,16,27,50]
[340,"(27/02/2002)",9,10,12,33,42,60]
[341,"(02/03/2002)",5,16,22,23,43,56]
[342,"(06/03/2002)",16,29,34,49,51,54]
[343,"(09/03/2002)",4,6,7,12,24,41]
[344,"(13/03/2002)",10,12,14,33,35,36]
[345,"(16/03/2002)",11,22,46,51,56,58]
[346,"(20/03/2002)",7,12,41,46,56,60]
[347,"(23/03/2002)",1,10,12,26,48,52]
[348,"(27/03/2002)",19,30,33,39,40,52]
[349,"(30/03/2002)",8,9,28,32,38,54]
[350,"(03/04/2002)",10,15,23,30,43,57]
[351,"(06/04/2002)",15,16,24,41,59,60]
[352,"(10/04/2002)",7,20,25,44,47,49]
[353,"(13/04/2002)",19,23,30,46,55,60]
[354,"(17/04/2002)",7,16,38,40,41,52]
[355,"(20/04/2002)",2,14,22,23,37,60]
[356,"(24/04/2002)",5,19,21,54,56,58]
[357,"(27/04/2002)",2,30,32,35,45,53]
[358,"(04/05/2002)",12,17,21,32,40,42]
[359,"(08/05/2002)",13,19,20,29,31,54]
[360,"(11/05/2002)",23,24,29,47,53,55]
[361,"(15/05/2002)",16,28,31,41,45,59]
[362,"(18/05/2002)",7,20,33,37,46,56]
[363,"(22/05/2002)",19,29,39,47,49,54]
[364,"(25/05/2002)",5,29,44,51,57,59]
[365,"(29/05/2002)",19,23,34,37,52,58]
[366,"(01/06/2002)",4,6,7,15,21,51]
[367,"(05/06/2002)",10,12,27,33,49,52]
[368,"(08/06/2002)",13,29,32,38,44,50]
[369,"(12/06/2002)",1,14,21,35,42,60]
[370,"(15/06/2002)",1,4,40,42,51,54]
[371,"(19/06/2002)",4,18,23,33,39,60]
[372,"(22/06/2002)",16,17,24,39,46,57]
[373,"(26/06/2002)",1,5,10,24,31,33]
[374,"(29/06/2002)",2,5,16,26,44,54]
[375,"(03/07/2002)",1,5,9,42,51,58]
[376,"(06/07/2002)",10,13,25,35,43,48]
[377,"(10/07/2002)",3,12,19,27,45,46]
[378,"(13/07/2002)",5,38,41,45,48,55]
[379,"(17/07/2002)",24,33,40,41,55,59]
[380,"(20/07/2002)",13,22,30,31,47,57]
[381,"(24/07/2002)",9,10,28,46,55,56]
[382,"(27/07/2002)",31,34,37,38,53,54]
[383,"(31/07/2002)",14,22,48,50,53,56]
[384,"(03/08/2002)",24,28,40,47,50,52]
[385,"(07/08/2002)",5,12,16,18,22,24]
[386,"(10/08/2002)",17,35,36,39,43,54]
[387,"(14/08/2002)",22,28,29,43,47,48]
[388,"(17/08/2002)",23,36,48,52,53,58]
[389,"(21/08/2002)",5,14,18,43,46,54]
[390,"(24/08/2002)",7,12,22,34,38,53]
[391,"(28/08/2002)",4,7,15,16,35,40]
[392,"(31/08/2002)",15,23,31,39,47,49]
[393,"(04/09/2002)",6,12,35,36,40,50]
[394,"(07/09/2002)",5,15,35,42,45,49]
[395,"(11/09/2002)",10,11,14,20,31,58]
[396,"(14/09/2002)",6,18,34,42,45,47]
[397,"(18/09/2002)",1,2,5,24,32,46]
[398,"(21/09/2002)",7,16,22,28,36,37]
[399,"(25/09/2002)",11,16,27,47,55,59]
[400,"(28/09/2002)",10,13,28,29,54,59]
[401,"(02/10/2002)",11,18,43,44,50,53]
[402,"(05/10/2002)",5,16,27,43,56,58]
[403,"(09/10/2002)",7,16,27,31,46,60]
[404,"(12/10/2002)",1,24,28,38,40,58]
[405,"(16/10/2002)",24,29,34,47,57,60]
[406,"(19/10/2002)",2,12,32,38,47,48]
[407,"(23/10/2002)",2,18,22,49,51,57]
[408,"(26/10/2002)",14,28,33,44,49,56]
[409,"(30/10/2002)",18,25,26,31,34,49]
[410,"(02/11/2002)",8,24,31,36,38,55]
[411,"(06/11/2002)",10,12,31,38,45,56]
[412,"(09/11/2002)",5,12,14,21,45,59]
[413,"(13/11/2002)",2,4,29,33,35,53]
[414,"(16/11/2002)",16,26,35,45,52,58]
[415,"(20/11/2002)",1,4,27,38,42,44]
[416,"(23/11/2002)",1,13,23,33,54,56]
[417,"(27/11/2002)",7,12,21,25,34,42]
[418,"(30/11/2002)",8,15,32,45,49,52]
[419,"(04/12/2002)",9,16,41,42,52,53]
[420,"(07/12/2002)",12,29,30,43,57,59]
[421,"(11/12/2002)",5,35,37,38,45,51]
[422,"(14/12/2002)",12,37,43,55,56,60]
[423,"(18/12/2002)",8,22,32,33,40,53]
[424,"(21/12/2002)",18,27,29,36,46,59]
[425,"(28/12/2002)",6,10,16,34,42,47]
[426,"(04/01/2003)",7,30,32,37,50,54]
[427,"(08/01/2003)",3,13,14,24,43,51]
[428,"(11/01/2003)",8,28,30,32,46,60]
[429,"(15/01/2003)",17,26,32,36,43,55]
[430,"(18/01/2003)",8,10,21,25,38,50]
[431,"(22/01/2003)",26,37,40,47,52,58]
[432,"(25/01/2003)",4,13,17,27,39,50]
[433,"(29/01/2003)",16,17,28,30,36,54]
[434,"(01/02/2003)",4,10,17,24,30,54]
[435,"(05/02/2003)",10,11,17,31,37,43]
[436,"(08/02/2003)",1,6,7,29,48,57]
[437,"(12/02/2003)",7,10,30,44,54,59]
[438,"(15/02/2003)",3,5,11,14,38,48]
[439,"(19/02/2003)",13,20,29,42,43,57]
[440,"(22/02/2003)",3,5,23,30,46,47]
[441,"(26/02/2003)",2,10,15,21,58,59]
[442,"(01/03/2003)",6,15,23,31,37,59]
[443,"(08/03/2003)",11,17,26,36,48,52]
[444,"(12/03/2003)",3,24,33,48,52,57]
[445,"(15/03/2003)",7,20,31,32,50,53]
[446,"(19/03/2003)",8,11,12,17,20,47]
[447,"(22/03/2003)",15,24,25,33,42,55]
[448,"(26/03/2003)",3,5,9,45,51,52]
[449,"(29/03/2003)",1,8,24,34,49,56]
[450,"(02/04/2003)",1,9,13,50,51,59]
[451,"(05/04/2003)",17,18,23,28,31,53]
[452,"(09/04/2003)",11,16,30,36,51,54]
[453,"(12/04/2003)",8,20,23,34,52,58]
[454,"(16/04/2003)",4,17,24,42,46,56]
[455,"(19/04/2003)",2,14,15,17,50,59]
[456,"(23/04/2003)",3,17,22,27,33,40]
[457,"(26/04/2003)",15,17,24,27,32,48]
[458,"(30/04/2003)",13,24,32,34,43,53]
[459,"(03/05/2003)",8,15,17,39,43,49]
[460,"(07/05/2003)",19,23,30,37,49,55]
[461,"(10/05/2003)",15,17,20,29,30,60]
[462,"(14/05/2003)",17,19,22,26,27,48]
[463,"(17/05/2003)",2,3,7,18,45,53]
[464,"(21/05/2003)",6,24,33,38,45,50]
[465,"(24/05/2003)",1,22,31,46,51,57]
[466,"(28/05/2003)",11,16,28,29,30,45]
[467,"(31/05/2003)",8,18,21,22,38,60]
[468,"(04/06/2003)",5,6,23,25,39,51]
[469,"(07/06/2003)",13,21,26,29,42,47]
[470,"(11/06/2003)",8,11,23,37,51,58]
[471,"(14/06/2003)",5,31,32,36,51,59]
[472,"(18/06/2003)",3,4,12,29,38,51]
[473,"(21/06/2003)",7,23,41,49,51,58]
[474,"(25/06/2003)",3,12,32,34,40,50]
[475,"(28/06/2003)",6,8,19,22,43,52]
[476,"(02/07/2003)",17,20,38,43,55,58]
[477,"(05/07/2003)",6,8,18,34,38,47]
[478,"(09/07/2003)",3,8,21,25,30,31]
[479,"(12/07/2003)",20,26,41,46,54,58]
[480,"(16/07/2003)",14,33,36,38,41,49]
[481,"(19/07/2003)",6,13,22,24,42,44]
[482,"(23/07/2003)",12,13,33,53,54,56]
[483,"(26/07/2003)",16,18,23,35,44,59]
[484,"(30/07/2003)",17,18,19,38,49,53]
[485,"(02/08/2003)",19,28,30,38,52,57]
[486,"(06/08/2003)",8,14,19,30,42,50]
[487,"(09/08/2003)",8,22,25,48,52,54]
[488,"(13/08/2003)",15,30,35,39,43,57]
[489,"(16/08/2003)",17,28,33,36,53,59]
[490,"(20/08/2003)",5,11,23,29,54,58]
[491,"(23/08/2003)",1,9,15,22,43,55]
[492,"(27/08/2003)",2,6,15,18,56,57]
[493,"(30/08/2003)",3,18,20,24,42,54]
[494,"(03/09/2003)",18,20,28,32,49,53]
[495,"(06/09/2003)",8,15,29,36,49,60]
[496,"(10/09/2003)",10,19,20,29,41,59]
[497,"(13/09/2003)",9,13,20,32,41,58]
[498,"(17/09/2003)",2,6,28,49,50,57]
[499,"(20/09/2003)",1,4,5,11,44,59]
[500,"(27/09/2003)",21,29,35,36,38,54]
[501,"(01/10/2003)",16,27,28,34,39,56]
[502,"(04/10/2003)",7,13,21,24,33,50]
[503,"(08/10/2003)",7,10,21,27,48,49]
[504,"(11/10/2003)",8,11,19,30,39,50]
[505,"(15/10/2003)",3,20,28,46,47,52]
[506,"(18/10/2003)",4,15,31,34,37,38]
[507,"(22/10/2003)",3,5,27,33,44,58]
[508,"(25/10/2003)",5,10,15,45,46,56]
[509,"(29/10/2003)",28,32,33,34,35,55]
[510,"(01/11/2003)",1,4,30,41,45,58]
[511,"(05/11/2003)",3,4,8,34,36,37]
[512,"(08/11/2003)",4,8,31,40,53,58]
[513,"(12/11/2003)",10,19,27,33,39,46]
[514,"(15/11/2003)",15,36,40,42,51,52]
[515,"(19/11/2003)",15,16,39,45,48,57]
[516,"(22/11/2003)",5,13,24,33,34,35]
[517,"(26/11/2003)",7,8,28,32,38,51]
[518,"(29/11/2003)",5,8,10,15,18,44]
[519,"(03/12/2003)",9,15,19,22,36,42]
[520,"(06/12/2003)",9,12,17,32,34,35]
[521,"(10/12/2003)",15,25,28,32,38,45]
[522,"(13/12/2003)",6,14,15,25,49,52]
[523,"(17/12/2003)",28,39,40,44,45,58]
[524,"(20/12/2003)",19,29,34,41,47,48]
[525,"(27/12/2003)",8,10,24,26,32,49]
[526,"(03/01/2004)",3,21,31,36,55,59]
[527,"(07/01/2004)",6,14,17,26,50,52]
[528,"(10/01/2004)",8,12,28,31,34,37]
[529,"(14/01/2004)",1,13,33,38,45,56]
[530,"(17/01/2004)",1,6,21,25,32,49]
[531,"(21/01/2004)",1,3,7,18,35,50]
[532,"(24/01/2004)",4,9,12,13,52,53]
[533,"(28/01/2004)",13,18,21,27,53,59]
[534,"(31/01/2004)",3,8,23,31,48,57]
[535,"(04/02/2004)",6,14,28,47,49,56]
[536,"(07/02/2004)",14,15,22,23,25,37]
[537,"(11/02/2004)",3,7,19,34,37,39]
[538,"(14/02/2004)",3,25,43,45,52,56]
[539,"(18/02/2004)",6,16,19,47,50,55]
[540,"(21/02/2004)",4,22,28,30,44,49]
[541,"(28/02/2004)",13,27,49,52,57,58]
[542,"(03/03/2004)",4,6,19,28,35,49]
[543,"(06/03/2004)",35,37,42,46,49,54]
[544,"(10/03/2004)",11,17,33,34,47,56]
[545,"(13/03/2004)",17,29,35,40,43,57]
[546,"(17/03/2004)",4,5,13,17,46,54]
[547,"(20/03/2004)",4,13,28,30,53,59]
[548,"(24/03/2004)",14,47,49,51,58,59]
[549,"(27/03/2004)",8,13,22,46,51,58]
[550,"(31/03/2004)",16,17,38,39,45,56]
[551,"(03/04/2004)",12,21,46,48,56,57]
[552,"(07/04/2004)",9,22,47,49,52,54]
[553,"(10/04/2004)",4,43,46,53,54,58]
[554,"(14/04/2004)",15,29,31,42,47,60]
[555,"(17/04/2004)",5,23,31,33,45,49]
[556,"(21/04/2004)",8,10,17,30,33,45]
[557,"(24/04/2004)",8,12,18,23,38,49]
[558,"(28/04/2004)",7,14,31,57,58,59]
[559,"(01/05/2004)",6,13,17,25,36,53]
[560,"(05/05/2004)",2,11,18,30,32,58]
[561,"(08/05/2004)",1,20,36,39,49,55]
[562,"(12/05/2004)",16,23,35,37,55,57]
[563,"(15/05/2004)",5,8,23,34,44,51]
[564,"(19/05/2004)",10,13,20,32,38,49]
[565,"(22/05/2004)",7,31,34,35,37,45]
[566,"(26/05/2004)",6,13,17,18,20,37]
[567,"(29/05/2004)",11,31,38,41,57,58]
[568,"(02/06/2004)",13,17,22,25,29,41]
[569,"(05/06/2004)",3,9,14,15,32,57]
[570,"(09/06/2004)",15,32,33,35,36,51]
[571,"(12/06/2004)",12,13,14,31,50,51]
[572,"(16/06/2004)",3,9,16,20,33,60]
[573,"(19/06/2004)",6,17,22,29,40,59]
[574,"(23/06/2004)",2,10,17,23,32,44]
[575,"(26/06/2004)",5,18,21,29,35,48]
[576,"(30/06/2004)",7,8,18,39,43,52]
[577,"(03/07/2004)",8,23,24,28,31,47]
[578,"(07/07/2004)",3,18,23,48,56,58]
[579,"(10/07/2004)",4,9,15,17,34,39]
[580,"(14/07/2004)",15,16,18,28,38,47]
[581,"(17/07/2004)",14,17,25,30,39,52]
[582,"(21/07/2004)",13,29,40,45,51,59]
[583,"(24/07/2004)",6,7,20,41,43,55]
[584,"(28/07/2004)",7,8,23,30,32,53]
[585,"(31/07/2004)",12,24,33,36,39,57]
[586,"(04/08/2004)",11,13,38,39,45,54]
[587,"(07/08/2004)",2,18,29,30,36,60]
[588,"(11/08/2004)",11,13,45,46,53,55]
[589,"(14/08/2004)",6,7,8,13,33,59]
[590,"(18/08/2004)",4,5,18,25,28,51]
[591,"(21/08/2004)",1,3,18,34,50,58]
[592,"(25/08/2004)",13,14,42,47,55,59]
[593,"(28/08/2004)",1,25,27,29,49,59]
[594,"(01/09/2004)",10,13,29,47,53,55]
[595,"(04/09/2004)",1,2,25,43,50,54]
[596,"(08/09/2004)",11,14,28,43,54,60]
[597,"(11/09/2004)",22,27,29,40,42,56]
[598,"(15/09/2004)",5,16,34,38,50,53]
[599,"(18/09/2004)",4,6,9,23,45,51]
[600,"(22/09/2004)",16,18,31,34,39,54]
[601,"(25/09/2004)",10,19,22,29,30,37]
[602,"(29/09/2004)",7,13,38,46,55,60]
[603,"(02/10/2004)",4,8,11,12,29,44]
[604,"(06/10/2004)",15,25,41,46,49,51]
[605,"(09/10/2004)",4,24,44,49,52,53]
[606,"(13/10/2004)",6,23,32,35,41,55]
[607,"(16/10/2004)",6,11,19,27,41,59]
[608,"(20/10/2004)",6,13,19,24,30,37]
[609,"(23/10/2004)",2,6,15,58,59,60]
[610,"(27/10/2004)",25,30,43,45,47,49]
[611,"(30/10/2004)",16,21,22,33,48,49]
[612,"(03/11/2004)",15,18,33,50,53,55]
[613,"(06/11/2004)",6,13,19,44,54,55]
[614,"(10/11/2004)",12,16,31,48,57,60]
[615,"(13/11/2004)",5,8,10,27,31,51]
[616,"(17/11/2004)",2,12,16,24,26,54]
[617,"(20/11/2004)",3,5,25,33,36,49]
[618,"(24/11/2004)",3,8,10,13,24,60]
[619,"(27/11/2004)",8,12,14,16,19,46]
[620,"(01/12/2004)",1,3,13,22,29,32]
[621,"(04/12/2004)",26,29,31,49,50,57]
[622,"(08/12/2004)",19,27,29,38,50,59]
[623,"(11/12/2004)",9,23,30,42,49,55]
[624,"(15/12/2004)",8,23,34,39,43,52]
[625,"(18/12/2004)",12,24,32,40,42,59]
[626,"(22/12/2004)",7,8,18,22,39,49]
[627,"(29/12/2004)",1,13,19,45,56,58]
[628,"(05/01/2005)",8,16,22,30,56,58]
[629,"(08/01/2005)",15,16,39,40,47,51]
[630,"(12/01/2005)",12,16,20,45,53,60]
[631,"(15/01/2005)",1,20,28,32,44,47]
[632,"(19/01/2005)",2,19,28,48,51,54]
[633,"(22/01/2005)",5,11,22,27,46,50]
[634,"(26/01/2005)",10,13,24,41,42,56]
[635,"(29/01/2005)",8,20,26,37,42,49]
[636,"(02/02/2005)",26,28,30,32,34,50]
[637,"(05/02/2005)",11,18,43,48,52,58]
[638,"(12/02/2005)",10,11,36,41,42,50]
[639,"(16/02/2005)",13,35,39,45,51,60]
[640,"(19/02/2005)",12,19,42,46,59,60]
[641,"(23/02/2005)",1,9,13,17,33,34]
[642,"(26/02/2005)",17,36,40,44,51,56]
[643,"(02/03/2005)",14,24,37,40,42,45]
[644,"(05/03/2005)",14,27,29,31,34,57]
[645,"(09/03/2005)",3,24,48,52,53,54]
[646,"(12/03/2005)",10,13,32,47,49,60]
[647,"(16/03/2005)",11,12,14,19,54,56]
[648,"(19/03/2005)",5,23,29,42,45,48]
[649,"(23/03/2005)",9,24,33,41,48,54]
[650,"(26/03/2005)",10,24,25,29,53,59]
[651,"(30/03/2005)",26,28,39,45,48,60]
[652,"(02/04/2005)",10,18,20,24,56,57]
[653,"(06/04/2005)",5,9,19,24,31,34]
[654,"(09/04/2005)",6,10,11,40,41,56]
[655,"(13/04/2005)",1,26,37,39,43,48]
[656,"(16/04/2005)",35,36,37,46,51,59]
[657,"(20/04/2005)",16,20,33,58,59,60]
[658,"(23/04/2005)",3,6,11,20,36,41]
[659,"(27/04/2005)",14,29,34,40,51,52]
[660,"(30/04/2005)",5,11,38,46,53,54]
[661,"(04/05/2005)",4,27,36,40,42,55]
[662,"(07/05/2005)",4,18,23,25,56,60]
[663,"(11/05/2005)",1,27,30,49,51,55]
[664,"(14/05/2005)",1,12,36,38,55,59]
[665,"(18/05/2005)",7,8,18,25,47,48]
[666,"(21/05/2005)",7,16,26,29,45,55]
[667,"(25/05/2005)",1,4,5,16,23,49]
[668,"(28/05/2005)",1,2,14,33,49,56]
[669,"(01/06/2005)",7,24,27,40,41,49]
[670,"(04/06/2005)",22,37,42,48,58,59]
[671,"(08/06/2005)",9,16,27,38,39,51]
[672,"(11/06/2005)",24,28,34,38,43,53]
[673,"(15/06/2005)",6,11,20,34,37,40]
[674,"(18/06/2005)",18,22,29,32,38,42]
[675,"(22/06/2005)",24,25,30,42,43,50]
[676,"(25/06/2005)",9,15,32,41,42,49]
[677,"(29/06/2005)",8,10,25,32,48,55]
[678,"(02/07/2005)",14,31,40,42,44,46]
[679,"(06/07/2005)",3,21,25,37,54,58]
[680,"(09/07/2005)",2,3,5,22,26,44]
[681,"(13/07/2005)",21,25,38,53,58,59]
[682,"(16/07/2005)",4,27,36,37,47,60]
[683,"(20/07/2005)",2,11,12,35,40,43]
[684,"(23/07/2005)",17,19,33,37,40,50]
[685,"(27/07/2005)",5,12,27,33,43,56]
[686,"(30/07/2005)",4,5,15,26,33,54]
[687,"(03/08/2005)",1,7,14,41,48,59]
[688,"(06/08/2005)",11,21,30,35,47,52]
[689,"(10/08/2005)",6,7,31,49,51,60]
[690,"(13/08/2005)",8,12,15,41,47,53]
[691,"(17/08/2005)",8,16,37,50,55,58]
[692,"(20/08/2005)",11,18,33,57,58,60]
[693,"(24/08/2005)",13,14,17,31,41,50]
[694,"(27/08/2005)",15,19,29,37,41,53]
[695,"(31/08/2005)",6,11,13,21,40,52]
[696,"(03/09/2005)",9,16,34,37,53,57]
[697,"(10/09/2005)",28,31,32,35,51,53]
[698,"(14/09/2005)",8,12,22,27,43,55]
[699,"(19/09/2005)",17,23,48,50,53,54]
[700,"(21/09/2005)",2,3,14,24,31,40]
[701,"(24/09/2005)",1,13,23,31,48,60]
[702,"(28/09/2005)",1,18,45,56,57,58]
[703,"(01/10/2005)",2,11,24,27,30,45]
[704,"(05/10/2005)",2,4,18,27,34,50]
[705,"(08/10/2005)",3,11,13,15,26,43]
[706,"(15/10/2005)",2,7,10,17,22,60]
[707,"(19/10/2005)",1,8,10,36,43,51]
[708,"(22/10/2005)",7,9,13,39,45,47]
[709,"(26/10/2005)",4,6,9,22,29,44]
[710,"(29/10/2005)",5,25,34,39,46,49]
[711,"(05/11/2005)",5,10,33,40,41,59]
[712,"(09/11/2005)",7,8,35,43,53,58]
[713,"(12/11/2005)",1,12,16,26,46,54]
[714,"(16/11/2005)",7,8,17,35,39,53]
[715,"(19/11/2005)",4,12,24,33,36,54]
[716,"(23/11/2005)",2,7,16,29,32,50]
[717,"(26/11/2005)",6,17,23,28,35,41]
[718,"(30/11/2005)",7,21,33,35,39,58]
[719,"(03/12/2005)",3,32,37,39,47,53]
[720,"(07/12/2005)",12,31,44,51,54,56]
[721,"(10/12/2005)",3,14,23,25,36,55]
[722,"(14/12/2005)",9,18,36,44,57,60]
[723,"(17/12/2005)",1,6,16,36,50,52]
[724,"(21/12/2005)",17,27,34,48,51,55]
[725,"(31/12/2005)",3,9,35,37,41,49]
[726,"(04/01/2006)",1,5,7,37,40,47]
[727,"(07/01/2006)",4,12,14,30,42,59]
[728,"(11/01/2006)",8,13,24,32,42,44]
[729,"(14/01/2006)",5,18,33,43,56,57]
[730,"(18/01/2006)",2,15,16,45,50,54]
[731,"(21/01/2006)",6,15,16,23,28,35]
[732,"(25/01/2006)",6,17,19,49,50,53]
[733,"(28/01/2006)",2,12,26,31,43,46]
[734,"(01/02/2006)",27,29,43,44,45,54]
[735,"(04/02/2006)",9,15,38,40,42,52]
[736,"(08/02/2006)",1,21,38,41,49,56]
[737,"(11/02/2006)",11,12,24,32,33,38]
[738,"(15/02/2006)",14,15,26,30,42,54]
[739,"(18/02/2006)",6,10,35,45,49,56]
[740,"(22/02/2006)",12,16,28,29,47,50]
[741,"(25/02/2006)",24,26,27,36,39,59]
[742,"(01/03/2006)",2,7,17,34,41,50]
[743,"(04/03/2006)",20,23,25,32,54,60]
[744,"(08/03/2006)",4,12,23,26,39,46]
[745,"(11/03/2006)",2,16,21,37,43,57]
[746,"(15/03/2006)",1,10,12,25,49,57]
[747,"(18/03/2006)",2,3,12,21,23,56]
[748,"(22/03/2006)",1,2,7,19,35,51]
[749,"(25/03/2006)",4,24,47,48,50,57]
[750,"(29/03/2006)",10,17,33,42,54,58]
[751,"(01/04/2006)",4,7,20,25,38,50]
[752,"(05/04/2006)",4,23,24,25,29,42]
[753,"(08/04/2006)",2,7,22,35,43,59]
[754,"(12/04/2006)",3,4,13,34,42,50]
[755,"(15/04/2006)",4,12,30,47,49,59]
[756,"(19/04/2006)",5,27,37,38,41,50]
[757,"(22/04/2006)",12,17,18,30,32,58]
[758,"(26/04/2006)",1,23,36,43,47,59]
[759,"(29/04/2006)",30,31,39,45,48,59]
[760,"(03/05/2006)",12,17,44,45,46,60]
[761,"(06/05/2006)",13,17,27,29,40,56]
[762,"(10/05/2006)",9,12,21,37,39,54]
[763,"(13/05/2006)",1,9,26,40,47,48]
[764,"(18/05/2006)",3,7,45,47,53,55]
[765,"(21/05/2006)",3,10,16,30,37,50]
[766,"(24/05/2006)",1,19,24,42,50,58]
[767,"(27/05/2006)",15,22,32,38,50,54]
[768,"(31/05/2006)",4,8,30,33,37,59]
[769,"(03/06/2006)",12,16,20,21,29,50]
[770,"(07/06/2006)",4,12,25,34,35,48]
[771,"(10/06/2006)",14,21,29,34,46,47]
[772,"(14/06/2006)",10,35,38,51,52,60]
[773,"(17/06/2006)",3,5,14,29,34,51]
[774,"(21/06/2006)",5,10,37,46,54,58]
[775,"(24/06/2006)",12,27,42,46,47,50]
[776,"(28/06/2006)",3,15,35,41,57,60]
[777,"(01/07/2006)",2,14,23,28,50,56]
[778,"(05/07/2006)",20,31,36,37,45,51]
[779,"(08/07/2006)",25,26,29,36,52,54]
[780,"(12/07/2006)",7,10,28,50,51,59]
[781,"(15/07/2006)",8,10,13,39,54,56]
[782,"(19/07/2006)",2,11,23,35,42,59]
[783,"(22/07/2006)",4,8,21,32,43,48]
[784,"(26/07/2006)",8,27,37,42,53,56]
[785,"(29/07/2006)",5,8,17,35,37,48]
[786,"(02/08/2006)",10,11,26,27,31,41]
[787,"(05/08/2006)",20,31,34,37,54,60]
[788,"(09/08/2006)",17,19,29,31,44,57]
[789,"(12/08/2006)",6,31,38,39,50,60]
[790,"(16/08/2006)",2,6,19,22,28,43]
[791,"(19/08/2006)",9,14,19,35,42,58]
[792,"(23/08/2006)",9,29,34,43,45,56]
[793,"(26/08/2006)",3,15,16,33,51,57]
[794,"(30/08/2006)",3,38,42,47,55,56]
[795,"(02/09/2006)",14,21,26,29,36,48]
[796,"(06/09/2006)",5,19,24,34,39,43]
[797,"(09/09/2006)",6,12,47,48,52,58]
[798,"(13/09/2006)",3,4,9,29,32,52]
[799,"(16/09/2006)",19,29,35,42,55,57]
[800,"(20/09/2006)",1,7,11,37,38,56]
[801,"(23/09/2006)",11,19,20,22,42,48]
[802,"(27/09/2006)",6,14,18,24,48,60]
[803,"(30/09/2006)",3,5,10,21,28,57]
[804,"(04/10/2006)",3,13,37,47,56,59]
[805,"(07/10/2006)",2,30,36,43,48,60]
[806,"(12/10/2006)",18,26,35,41,47,60]
[807,"(14/10/2006)",2,8,27,32,49,56]
[808,"(18/10/2006)",2,15,21,31,46,57]
[809,"(21/10/2006)",5,11,15,23,25,30]
[810,"(25/10/2006)",1,4,5,33,37,48]
[811,"(28/10/2006)",10,28,32,41,47,57]
[812,"(01/11/2006)",11,13,38,39,54,57]
[813,"(04/11/2006)",9,15,23,45,46,56]
[814,"(08/11/2006)",2,8,11,41,46,50]
[815,"(11/11/2006)",9,19,37,39,50,57]
[816,"(16/11/2006)",20,21,30,40,47,52]
[817,"(18/11/2006)",10,29,30,34,43,52]
[818,"(22/11/2006)",8,9,22,25,41,44]
[819,"(25/11/2006)",5,19,25,46,51,58]
[820,"(29/11/2006)",10,17,21,32,45,46]
[821,"(02/12/2006)",4,29,33,36,38,42]
[822,"(06/12/2006)",4,10,17,27,41,52]
[823,"(09/12/2006)",1,15,26,51,54,59]
[824,"(13/12/2006)",6,7,9,20,33,48]
[825,"(16/12/2006)",10,21,28,40,41,47]
[826,"(19/12/2006)",6,7,8,27,45,53]
[827,"(21/12/2006)",18,24,30,42,51,56]
[828,"(23/12/2006)",23,28,38,42,50,53]
[829,"(31/12/2006)",10,14,32,47,50,56]
[830,"(03/01/2007)",2,13,41,49,51,53]
[831,"(06/01/2007)",3,32,33,42,48,50]
[832,"(10/01/2007)",15,17,23,33,39,49]
[833,"(13/01/2007)",13,16,46,53,57,58]
[834,"(17/01/2007)",10,16,17,34,44,51]
[835,"(20/01/2007)",18,31,33,49,57,58]
[836,"(24/01/2007)",17,22,28,38,52,59]
[837,"(27/01/2007)",5,6,16,24,34,60]
[838,"(31/01/2007)",9,23,30,38,44,47]
[839,"(03/02/2007)",7,8,11,18,37,43]
[840,"(07/02/2007)",17,29,31,35,43,59]
[841,"(10/02/2007)",7,22,32,36,38,51]
[842,"(14/02/2007)",7,9,30,44,51,60]
[843,"(17/02/2007)",1,16,34,36,45,48]
[844,"(24/02/2007)",16,24,34,44,54,57]
[845,"(28/02/2007)",14,19,20,40,48,52]
[846,"(03/03/2007)",2,3,44,47,50,54]
[847,"(07/03/2007)",14,15,27,42,44,48]
[848,"(10/03/2007)",17,27,32,34,47,56]
[849,"(14/03/2007)",8,9,39,44,49,58]
[850,"(17/03/2007)",7,22,25,44,59,60]
[851,"(21/03/2007)",3,16,19,32,35,58]
[852,"(24/03/2007)",6,14,23,34,38,44]
[853,"(28/03/2007)",30,38,46,51,56,59]
[854,"(31/03/2007)",3,17,24,25,27,44]
[855,"(04/04/2007)",3,24,31,42,43,53]
[856,"(07/04/2007)",11,15,40,41,42,47]
[857,"(11/04/2007)",2,3,17,49,50,59]
[858,"(14/04/2007)",4,18,23,31,37,54]
[859,"(18/04/2007)",9,12,34,46,47,57]
[860,"(23/04/2007)",2,8,17,22,42,44]
[861,"(25/04/2007)",39,40,42,47,59,60]
[862,"(28/04/2007)",2,8,11,12,19,35]
[863,"(02/05/2007)",15,24,32,50,53,57]
[864,"(05/05/2007)",8,11,31,33,42,57]
[865,"(09/05/2007)",23,26,27,41,51,53]
[866,"(12/05/2007)",5,27,36,40,46,48]
[867,"(16/05/2007)",10,19,26,28,44,54]
[868,"(19/05/2007)",21,22,25,40,51,57]
[869,"(23/05/2007)",27,29,42,49,50,51]
[870,"(26/05/2007)",8,21,34,40,43,52]
[871,"(30/05/2007)",1,5,10,17,47,58]
[872,"(02/06/2007)",5,18,31,43,55,58]
[873,"(06/06/2007)",4,19,30,34,57,59]
[874,"(09/06/2007)",10,20,42,44,52,59]
[875,"(13/06/2007)",18,20,24,36,53,58]
[876,"(16/06/2007)",4,8,12,41,45,60]
[877,"(20/06/2007)",13,15,20,28,31,36]
[878,"(23/06/2007)",11,12,37,38,43,54]
[879,"(27/06/2007)",10,28,29,35,42,46]
[880,"(30/06/2007)",25,30,37,46,49,51]
[881,"(04/07/2007)",4,18,24,43,51,56]
[882,"(07/07/2007)",17,41,42,44,45,60]
[883,"(11/07/2007)",21,32,37,52,53,60]
[884,"(14/07/2007)",2,11,12,14,22,39]
[885,"(18/07/2007)",4,13,31,33,47,51]
[886,"(21/07/2007)",17,33,37,50,55,59]
[887,"(25/07/2007)",1,12,21,32,34,44]
[888,"(28/07/2007)",24,40,50,52,54,60]
[889,"(01/08/2007)",20,24,34,39,54,60]
[890,"(04/08/2007)",7,9,17,21,22,54]
[891,"(08/08/2007)",15,16,19,22,34,35]
[892,"(11/08/2007)",1,19,42,44,49,52]
[893,"(15/08/2007)",3,18,26,51,53,56]
[894,"(18/08/2007)",20,24,28,37,41,44]
[895,"(22/08/2007)",2,41,43,55,57,58]
[896,"(25/08/2007)",5,11,22,31,35,41]
[897,"(29/08/2007)",7,21,22,43,46,57]
[898,"(01/09/2007)",3,4,8,30,45,54]
[899,"(05/09/2007)",18,20,36,53,54,58]
[900,"(08/09/2007)",4,18,21,34,38,59]
[901,"(12/09/2007)",13,16,32,33,34,56]
[902,"(15/09/2007)",18,23,50,52,55,58]
[903,"(19/09/2007)",5,17,20,32,41,55]
[904,"(22/09/2007)",32,44,48,51,53,59]
[905,"(26/09/2007)",2,4,15,16,55,57]
[906,"(29/09/2007)",7,14,24,29,35,39]
[907,"(03/10/2007)",9,36,37,41,51,53]
[908,"(06/10/2007)",1,9,19,25,50,52]
[909,"(10/10/2007)",17,22,26,28,38,42]
[910,"(13/10/2007)",3,15,27,29,36,53]
[911,"(17/10/2007)",1,6,28,29,46,49]
[912,"(20/10/2007)",4,19,21,26,29,54]
[913,"(24/10/2007)",14,30,36,38,46,59]
[914,"(27/10/2007)",9,12,23,33,45,51]
[915,"(31/10/2007)",17,20,26,28,48,49]
[916,"(03/11/2007)",5,28,33,36,37,38]
[917,"(07/11/2007)",23,25,30,46,47,59]
[918,"(10/11/2007)",4,8,12,38,44,52]
[919,"(14/11/2007)",3,25,31,41,43,60]
[920,"(17/11/2007)",5,17,24,52,55,57]
[921,"(21/11/2007)",1,9,35,41,48,57]
[922,"(24/11/2007)",12,13,19,41,45,49]
[923,"(28/11/2007)",2,15,39,50,53,57]
[924,"(01/12/2007)",2,20,21,27,51,60]
[925,"(05/12/2007)",8,22,36,37,46,52]
[926,"(08/12/2007)",21,33,34,40,41,59]
[927,"(12/12/2007)",19,23,26,31,33,36]
[928,"(15/12/2007)",4,10,32,33,49,60]
[929,"(19/12/2007)",16,27,35,39,49,57]
[930,"(22/12/2007)",20,28,37,46,49,55]
[931,"(31/12/2007)",7,17,19,34,36,39]
[932,"(05/01/2008)",2,17,21,36,42,53]
[933,"(09/01/2008)",8,14,25,39,45,51]
[934,"(12/01/2008)",1,3,21,25,44,48]
[935,"(16/01/2008)",7,13,18,29,31,45]
[936,"(19/01/2008)",5,14,22,29,33,44]
[937,"(23/01/2008)",2,21,22,30,41,52]
[938,"(26/01/2008)",15,27,35,50,57,59]
[939,"(30/01/2008)",6,19,23,37,49,50]
[940,"(02/02/2008)",5,25,31,33,37,51]
[941,"(06/02/2008)",10,11,15,27,53,60]
[942,"(09/02/2008)",5,8,18,42,52,59]
[943,"(13/02/2008)",3,12,23,41,47,58]
[944,"(16/02/2008)",16,37,43,52,58,59]
[945,"(20/02/2008)",4,8,27,44,54,59]
[946,"(23/02/2008)",1,5,12,47,52,59]
[947,"(27/02/2008)",3,5,11,14,33,58]
[948,"(01/03/2008)",22,41,44,46,52,54]
[949,"(05/03/2008)",1,23,41,44,51,52]
[950,"(08/03/2008)",23,41,42,48,49,59]
[951,"(12/03/2008)",14,24,34,39,49,55]
[952,"(15/03/2008)",2,11,18,27,30,54]
[953,"(19/03/2008)",1,16,39,42,48,55]
[954,"(22/03/2008)",5,8,18,24,33,57]
[955,"(26/03/2008)",5,12,21,32,33,35]
[956,"(29/03/2008)",46,47,51,54,57,59]
[957,"(02/04/2008)",24,25,32,34,50,57]
[958,"(05/04/2008)",7,13,22,33,48,51]
[959,"(09/04/2008)",3,5,11,33,39,57]
[960,"(12/04/2008)",6,18,19,33,34,53]
[961,"(16/04/2008)",2,4,16,21,36,53]
[962,"(19/04/2008)",2,11,40,48,49,55]
[963,"(23/04/2008)",15,17,37,48,50,59]
[964,"(26/04/2008)",8,13,20,26,33,42]
[965,"(30/04/2008)",5,30,36,39,57,58]
[966,"(03/05/2008)",1,4,26,28,41,58]
[967,"(07/05/2008)",5,13,14,18,30,57]
[968,"(10/05/2008)",1,4,13,30,51,60]
[969,"(14/05/2008)",13,25,35,41,50,56]
[970,"(17/05/2008)",5,21,28,34,54,57]
[971,"(21/05/2008)",4,11,14,33,44,45]
[972,"(24/05/2008)",15,18,31,33,34,56]
[973,"(28/05/2008)",1,8,30,36,47,53]
[974,"(31/05/2008)",12,16,20,31,38,45]
[975,"(04/06/2008)",9,30,33,37,40,41]
[976,"(07/06/2008)",14,23,25,28,38,53]
[977,"(11/06/2008)",3,5,7,9,17,32]
[978,"(14/06/2008)",12,16,18,27,42,58]
[979,"(18/06/2008)",3,15,28,31,39,51]
[980,"(21/06/2008)",15,17,29,35,36,59]
[981,"(25/06/2008)",1,8,34,41,53,58]
[982,"(28/06/2008)",8,12,24,40,43,49]
[983,"(02/07/2008)",16,22,32,38,40,45]
[984,"(05/07/2008)",4,10,20,43,46,47]
[985,"(09/07/2008)",4,16,18,46,56,59]
[986,"(12/07/2008)",6,15,19,24,31,32]
[987,"(16/07/2008)",13,27,31,34,47,58]
[988,"(19/07/2008)",8,17,46,48,56,60]
[989,"(23/07/2008)",2,21,27,29,32,38]
[990,"(26/07/2008)",2,10,15,18,29,39]
[991,"(30/07/2008)",8,9,15,38,41,60]
[992,"(02/08/2008)",1,4,6,8,25,28]
[993,"(06/08/2008)",5,24,25,26,42,60]
[994,"(09/08/2008)",3,20,29,40,44,58]
[995,"(13/08/2008)",4,16,31,36,54,55]
[996,"(16/08/2008)",7,15,20,21,23,29]
[997,"(20/08/2008)",9,17,18,32,53,55]
[998,"(23/08/2008)",3,4,21,22,28,32]
[999,"(27/08/2008)",18,24,36,44,55,58]
[1000,"(30/08/2008)",29,38,39,49,53,58]
[1001,"(03/09/2008)",12,15,27,37,51,60]
[1002,"(06/09/2008)",3,7,25,31,40,58]
[1003,"(10/09/2008)",5,10,16,23,26,27]
[1004,"(13/09/2008)",29,40,43,44,45,47]
[1005,"(17/09/2008)",4,6,12,37,41,42]
[1006,"(20/09/2008)",2,4,17,33,48,55]
[1007,"(24/09/2008)",4,27,36,37,49,52]
[1008,"(27/09/2008)",7,13,15,34,42,48]
[1009,"(01/10/2008)",1,6,12,29,34,58]
[1010,"(04/10/2008)",2,3,13,37,46,54]
[1011,"(08/10/2008)",2,11,21,30,35,52]
[1012,"(11/10/2008)",14,19,40,47,55,58]
[1013,"(15/10/2008)",7,9,12,19,20,41]
[1014,"(18/10/2008)",8,9,25,41,57,60]
[1015,"(22/10/2008)",3,8,17,26,28,49]
[1016,"(25/10/2008)",5,9,11,20,25,60]
[1017,"(29/10/2008)",6,19,31,34,51,56]
[1018,"(01/11/2008)",9,24,44,51,55,58]
[1019,"(05/11/2008)",4,13,23,29,46,47]
[1020,"(08/11/2008)",1,2,19,32,39,52]
[1021,"(12/11/2008)",2,33,42,43,51,55]
[1022,"(16/11/2008)",5,21,31,39,40,56]
[1023,"(19/11/2008)",2,7,8,18,40,45]
[1024,"(22/11/2008)",18,22,28,29,39,53]
[1025,"(26/11/2008)",10,27,28,29,40,52]
[1026,"(29/11/2008)",6,10,17,33,51,53]
[1027,"(03/12/2008)",18,20,33,44,47,60]
[1028,"(06/12/2008)",20,26,34,51,52,54]
[1029,"(10/12/2008)",5,16,17,20,24,32]
[1030,"(13/12/2008)",1,8,23,37,54,57]
[1031,"(17/12/2008)",24,33,40,43,46,49]
[1032,"(20/12/2008)",15,16,26,29,43,57]
[1033,"(24/12/2008)",5,6,17,33,39,54]
[1034,"(27/12/2008)",1,3,18,20,42,49]
[1035,"(31/12/2008)",1,11,26,51,59,60]
[1036,"(03/01/2009)",10,27,36,39,41,52]
[1037,"(07/01/2009)",4,36,44,46,53,56]
[1038,"(10/01/2009)",6,7,28,35,43,51]
[1039,"(14/01/2009)",2,20,24,27,36,52]
[1040,"(17/01/2009)",1,6,28,39,44,55]
[1041,"(21/01/2009)",10,12,36,44,54,57]
[1042,"(24/01/2009)",13,18,25,30,46,51]
[1043,"(28/01/2009)",14,21,25,48,51,60]
[1044,"(31/01/2009)",10,11,13,35,39,58]
[1045,"(04/02/2009)",1,5,6,17,31,50]
[1046,"(07/02/2009)",28,40,42,54,55,57]
[1047,"(11/02/2009)",1,2,8,10,14,48]
[1048,"(14/02/2009)",3,16,21,28,38,57]
[1049,"(18/02/2009)",2,5,17,29,34,52]
[1050,"(21/02/2009)",14,24,26,33,45,60]
[1051,"(25/02/2009)",7,10,11,13,43,57]
[1052,"(28/02/2009)",8,11,15,16,52,57]
[1053,"(04/03/2009)",15,27,34,42,49,53]
[1054,"(07/03/2009)",13,14,18,27,41,60]
[1055,"(11/03/2009)",12,15,16,20,27,32]
[1056,"(14/03/2009)",6,8,38,50,53,59]
[1057,"(18/03/2009)",2,3,4,15,49,59]
[1058,"(21/03/2009)",18,20,24,45,51,57]
[1059,"(25/03/2009)",1,12,14,16,37,45]
[1060,"(28/03/2009)",1,3,16,18,41,42]
[1061,"(01/04/2009)",9,21,23,30,41,56]
[1062,"(04/04/2009)",2,8,23,33,37,55]
[1063,"(08/04/2009)",1,22,44,47,49,50]
[1064,"(11/04/2009)",4,16,19,28,29,49]
[1065,"(15/04/2009)",7,19,30,39,43,57]
[1066,"(18/04/2009)",6,10,25,32,43,49]
[1067,"(22/04/2009)",4,10,14,25,28,56]
[1068,"(25/04/2009)",25,27,44,47,48,57]
[1069,"(29/04/2009)",9,17,28,45,49,53]
[1070,"(02/05/2009)",5,8,16,23,41,53]
[1071,"(06/05/2009)",5,7,37,43,53,54]
[1072,"(09/05/2009)",9,18,19,43,47,54]
[1073,"(13/05/2009)",8,25,32,34,36,44]
[1074,"(16/05/2009)",3,10,23,29,47,50]
[1075,"(20/05/2009)",10,12,16,21,39,53]
[1076,"(23/05/2009)",4,10,19,32,33,42]
[1077,"(27/05/2009)",5,6,9,11,18,37]
[1078,"(30/05/2009)",3,6,34,41,43,45]
[1079,"(03/06/2009)",5,12,24,28,36,37]
[1080,"(06/06/2009)",11,18,20,34,41,56]
[1081,"(10/06/2009)",9,16,24,29,52,56]
[1082,"(13/06/2009)",4,17,38,40,50,55]
[1083,"(17/06/2009)",10,20,23,28,42,43]
[1084,"(20/06/2009)",5,20,29,33,40,59]
[1085,"(24/06/2009)",12,21,39,40,50,55]
[1086,"(27/06/2009)",2,4,6,10,23,45]
[1087,"(01/07/2009)",3,20,28,32,36,46]
[1088,"(04/07/2009)",6,24,31,35,42,57]
[1089,"(08/07/2009)",2,18,20,32,37,48]
[1090,"(11/07/2009)",9,20,24,36,40,42]
[1091,"(15/07/2009)",17,23,24,27,49,56]
[1092,"(18/07/2009)",1,9,30,33,34,40]
[1093,"(22/07/2009)",19,23,27,38,41,49]
[1094,"(25/07/2009)",9,10,21,36,41,48]
[1095,"(29/07/2009)",10,16,21,23,27,36]
[1096,"(01/08/2009)",3,13,14,16,41,52]
[1097,"(05/08/2009)",1,17,21,33,48,56]
[1098,"(08/08/2009)",11,20,21,30,50,52]
[1099,"(12/08/2009)",14,31,35,38,44,55]
[1100,"(15/08/2009)",7,17,18,33,41,42]
[1101,"(19/08/2009)",6,7,10,12,24,57]
[1102,"(22/08/2009)",9,11,23,35,46,51]
[1103,"(26/08/2009)",10,19,28,41,55,56]
[1104,"(29/08/2009)",2,3,6,35,49,58]
[1105,"(02/09/2009)",1,15,28,43,50,57]
[1106,"(05/09/2009)",4,15,43,47,50,60]
[1107,"(09/09/2009)",3,9,20,36,53,54]
[1108,"(12/09/2009)",7,9,39,43,44,60]
[1109,"(16/09/2009)",6,8,11,14,29,52]
[1110,"(19/09/2009)",6,14,26,28,42,45]
[1111,"(23/09/2009)",4,9,25,32,33,43]
[1112,"(26/09/2009)",4,32,34,43,52,58]
[1113,"(30/09/2009)",3,6,29,36,47,59]
[1114,"(03/10/2009)",3,15,16,22,25,54]
[1115,"(07/10/2009)",18,30,37,41,44,50]
[1116,"(10/10/2009)",4,9,13,17,20,47]
[1117,"(14/10/2009)",1,6,17,27,35,40]
[1118,"(17/10/2009)",8,20,21,43,44,55]
[1119,"(21/10/2009)",10,34,41,44,45,54]
[1120,"(24/10/2009)",7,35,40,44,50,55]
[1121,"(28/10/2009)",4,17,18,54,56,59]
[1122,"(31/10/2009)",26,44,46,49,55,56]
[1123,"(04/11/2009)",4,14,19,39,45,60]
[1124,"(07/11/2009)",7,11,16,18,33,49]
[1125,"(11/11/2009)",3,7,29,33,42,56]
[1126,"(14/11/2009)",4,31,42,52,57,59]
[1127,"(18/11/2009)",5,8,14,24,29,30]
[1128,"(21/11/2009)",8,16,24,39,52,60]
[1129,"(25/11/2009)",12,17,19,32,47,55]
[1130,"(28/11/2009)",5,18,23,32,49,54]
[1131,"(02/12/2009)",1,8,16,34,36,49]
[1132,"(05/12/2009)",12,27,30,33,52,55]
[1133,"(09/12/2009)",5,10,16,21,39,58]
[1134,"(12/12/2009)",9,22,29,36,51,56]
[1135,"(16/12/2009)",4,5,6,19,23,39]
[1136,"(19/12/2009)",7,31,32,34,37,43]
[1137,"(22/12/2009)",19,21,25,28,43,50]
[1138,"(24/12/2009)",2,4,15,18,25,36]
[1139,"(26/12/2009)",9,28,31,36,37,42]
[1140,"(31/12/2009)",10,27,40,46,49,58]
[1141,"(02/01/2010)",9,37,40,50,58,60]
[1142,"(06/01/2010)",3,15,26,28,31,58]
[1143,"(09/01/2010)",3,30,35,44,47,60]
[1144,"(13/01/2010)",1,10,18,19,44,49]
[1145,"(16/01/2010)",3,16,19,24,33,60]
[1146,"(20/01/2010)",6,10,28,33,34,53]
[1147,"(23/01/2010)",6,23,31,33,39,52]
[1148,"(27/01/2010)",27,28,29,32,48,55]
[1149,"(30/01/2010)",7,8,23,36,46,54]
[1150,"(03/02/2010)",15,17,28,31,35,52]
[1151,"(06/02/2010)",1,4,14,21,25,51]
[1152,"(10/02/2010)",14,20,29,36,44,47]
[1153,"(13/02/2010)",6,17,19,34,46,55]
[1154,"(17/02/2010)",4,12,14,21,26,28]
[1155,"(20/02/2010)",20,28,40,41,51,58]
[1156,"(24/02/2010)",9,24,31,44,48,49]
[1157,"(27/02/2010)",9,29,41,43,46,49]
[1158,"(03/03/2010)",23,30,31,54,55,60]
[1159,"(06/03/2010)",5,6,34,46,53,55]
[1160,"(10/03/2010)",1,3,5,18,40,48]
[1161,"(13/03/2010)",4,7,42,47,48,51]
[1162,"(17/03/2010)",18,22,25,30,31,41]
[1163,"(20/03/2010)",5,17,31,47,51,53]
[1164,"(24/03/2010)",6,14,17,26,40,49]
[1165,"(27/03/2010)",20,40,42,52,54,60]
[1166,"(31/03/2010)",22,28,30,31,35,54]
[1167,"(03/04/2010)",20,28,43,51,52,56]
[1168,"(07/04/2010)",4,5,20,47,53,56]
[1169,"(10/04/2010)",1,11,14,23,42,48]
[1170,"(14/04/2010)",11,13,27,34,46,49]
[1171,"(17/04/2010)",3,10,13,30,41,57]
[1172,"(20/04/2010)",6,12,28,43,52,56]
[1173,"(24/04/2010)",5,7,24,25,36,47]
[1174,"(28/04/2010)",6,7,39,47,51,52]
[1175,"(30/04/2010)",2,3,12,16,37,47]
[1176,"(05/05/2010)",11,14,21,30,33,49]
[1177,"(08/05/2010)",33,38,47,50,52,55]
[1178,"(12/05/2010)",1,22,30,45,50,53]
[1179,"(15/05/2010)",5,22,28,47,59,60]
[1180,"(19/05/2010)",12,30,34,44,57,60]
[1181,"(22/05/2010)",18,20,26,31,44,45]
[1182,"(26/05/2010)",2,4,29,52,56,60]
[1183,"(29/05/2010)",5,10,12,20,29,37]
[1184,"(02/06/2010)",4,9,23,27,28,30]
[1185,"(05/06/2010)",2,10,21,35,43,54]
[1186,"(09/06/2010)",7,8,12,13,15,41]
[1187,"(12/06/2010)",8,17,19,40,43,49]
[1188,"(16/06/2010)",9,20,44,52,59,60]
[1189,"(19/06/2010)",14,21,27,31,35,50]
[1190,"(23/06/2010)",10,11,19,37,53,56]
[1191,"(26/06/2010)",3,11,16,22,25,33]
[1192,"(30/06/2010)",17,20,49,52,57,59]
[1193,"(03/07/2010)",2,9,12,14,32,54]
[1194,"(07/07/2010)",6,13,24,41,50,53]
[1195,"(10/07/2010)",17,20,26,27,55,57]
[1196,"(14/07/2010)",3,6,19,20,58,60]
[1197,"(17/07/2010)",36,37,39,49,54,60]
[1198,"(21/07/2010)",22,29,36,41,48,58]
[1199,"(24/07/2010)",16,19,23,28,39,58]
[1200,"(28/07/2010)",3,10,11,39,54,56]
[1201,"(31/07/2010)",28,32,36,49,55,60]
[1202,"(04/08/2010)",8,9,11,48,53,60]
[1203,"(07/08/2010)",7,9,30,33,38,55]
[1204,"(11/08/2010)",5,10,25,39,43,52]
[1205,"(14/08/2010)",4,13,14,26,29,35]
[1206,"(18/08/2010)",2,6,11,36,37,48]
[1207,"(21/08/2010)",9,11,22,32,35,56]
[1208,"(25/08/2010)",1,12,20,26,45,54]
[1209,"(28/08/2010)",5,14,17,30,35,38]
[1210,"(01/09/2010)",3,7,9,10,31,34]
[1211,"(04/09/2010)",3,15,31,36,48,54]
[1212,"(08/09/2010)",2,23,33,35,40,50]
[1213,"(11/09/2010)",3,11,26,34,45,53]
[1214,"(15/09/2010)",5,29,30,36,41,48]
[1215,"(18/09/2010)",10,25,30,47,50,51]
[1216,"(22/09/2010)",4,7,13,25,27,58]
[1217,"(25/09/2010)",5,11,15,28,43,50]
[1218,"(29/09/2010)",10,23,29,31,33,46]
[1219,"(02/10/2010)",2,33,34,37,41,53]
[1220,"(06/10/2010)",5,15,43,48,52,55]
[1221,"(09/10/2010)",5,14,37,43,46,58]
[1222,"(13/10/2010)",5,8,19,26,48,57]
[1223,"(16/10/2010)",15,17,35,42,47,48]
[1224,"(20/10/2010)",19,21,27,41,53,57]
[1225,"(23/10/2010)",31,32,34,40,50,55]
[1226,"(27/10/2010)",10,31,40,50,55,56]
[1227,"(30/10/2010)",4,28,30,31,35,54]
[1228,"(03/11/2010)",10,23,36,50,52,60]
[1229,"(06/11/2010)",12,30,32,40,49,60]
[1230,"(10/11/2010)",9,12,19,22,35,37]
[1231,"(13/11/2010)",5,20,23,27,39,49]
[1232,"(17/11/2010)",8,11,12,15,18,22]
[1233,"(20/11/2010)",22,29,32,49,54,59]
[1234,"(24/11/2010)",3,5,19,24,30,35]
[1235,"(27/11/2010)",10,16,20,26,49,55]
[1236,"(01/12/2010)",3,8,17,20,38,53]
[1237,"(04/12/2010)",5,18,21,26,39,59]
[1238,"(08/12/2010)",13,14,24,39,40,45]
[1239,"(11/12/2010)",1,15,37,39,48,52]
[1240,"(15/12/2010)",8,9,12,22,42,49]
[1241,"(18/12/2010)",10,13,25,26,28,45]
[1242,"(20/12/2010)",11,34,45,48,51,54]
[1243,"(22/12/2010)",9,19,23,29,32,57]
[1244,"(24/12/2010)",2,8,15,25,34,45]
[1245,"(31/12/2010)",2,10,34,37,43,50]
[1246,"(05/01/2011)",10,37,40,43,57,59]
[1247,"(08/01/2011)",3,9,11,24,36,51]
[1248,"(12/01/2011)",20,33,34,57,58,60]
[1249,"(15/01/2011)",3,8,36,40,51,53]
[1250,"(19/01/2011)",1,2,24,40,51,59]
[1251,"(22/01/2011)",5,27,34,46,48,52]
[1252,"(26/01/2011)",2,14,35,39,49,51]
[1253,"(29/01/2011)",2,17,23,43,44,51]
[1254,"(02/02/2011)",7,9,14,18,29,39]
[1255,"(05/02/2011)",5,23,38,39,51,54]
[1256,"(09/02/2011)",26,33,35,38,43,53]
[1257,"(12/02/2011)",2,15,26,27,30,52]
[1258,"(16/02/2011)",11,26,47,55,57,59]
[1259,"(19/02/2011)",4,6,39,46,54,58]
[1260,"(23/02/2011)",19,23,29,31,41,53]
[1261,"(26/02/2011)",10,14,22,41,42,53]
[1262,"(02/03/2011)",5,7,8,9,11,39]
[1263,"(05/03/2011)",4,18,26,36,41,53]
[1264,"(09/03/2011)",4,17,36,37,51,56]
[1265,"(12/03/2011)",13,19,24,46,50,60]
[1266,"(16/03/2011)",6,10,33,39,42,60]
[1267,"(19/03/2011)",4,20,30,41,47,58]
[1268,"(23/03/2011)",3,16,17,44,53,60]
[1269,"(26/03/2011)",4,5,15,17,27,51]
[1270,"(30/03/2011)",5,9,24,31,33,42]
[1271,"(02/04/2011)",1,2,39,48,52,59]
[1272,"(06/04/2011)",13,26,27,28,35,52]
[1273,"(09/04/2011)",13,19,26,40,58,60]
[1274,"(13/04/2011)",13,17,21,39,40,59]
[1275,"(16/04/2011)",2,14,48,55,58,60]
[1276,"(20/04/2011)",5,9,11,22,36,40]
[1277,"(23/04/2011)",12,18,31,50,59,60]
[1278,"(27/04/2011)",4,16,24,25,30,56]
[1279,"(30/04/2011)",8,14,29,35,36,40]
[1280,"(04/05/2011)",6,10,16,20,29,54]
[1281,"(07/05/2011)",8,11,14,30,36,38]
[1282,"(11/05/2011)",4,23,39,52,55,56]
[1283,"(14/05/2011)",8,30,40,44,59,60]
[1284,"(18/05/2011)",20,21,26,29,31,36]
[1285,"(21/05/2011)",10,15,28,31,33,38]
[1286,"(25/05/2011)",2,5,28,33,51,52]
[1287,"(28/05/2011)",11,12,31,33,42,52]
[1288,"(01/06/2011)",17,30,32,40,42,56]
[1289,"(04/06/2011)",1,3,8,13,27,52]
[1290,"(08/06/2011)",2,3,14,23,34,50]
[1291,"(11/06/2011)",18,40,47,54,57,58]
[1292,"(15/06/2011)",9,11,23,30,31,54]
[1293,"(18/06/2011)",1,13,24,40,44,50]
[1294,"(22/06/2011)",4,6,29,48,50,51]
[1295,"(25/06/2011)",2,5,15,20,43,57]
[1296,"(29/06/2011)",10,14,43,46,49,53]
[1297,"(02/07/2011)",2,5,11,13,56,59]
[1298,"(06/07/2011)",14,15,30,53,55,60]
[1299,"(09/07/2011)",8,22,32,43,53,56]
[1300,"(13/07/2011)",43,44,46,53,54,59]
[1301,"(16/07/2011)",3,16,23,25,51,56]
[1302,"(20/07/2011)",2,10,15,44,56,57]
[1303,"(23/07/2011)",8,19,46,51,52,54]
[1304,"(27/07/2011)",7,14,15,20,23,35]
[1305,"(30/07/2011)",3,5,11,36,44,46]
[1306,"(03/08/2011)",6,19,22,34,43,45]
[1307,"(06/08/2011)",7,10,32,43,47,54]
[1308,"(09/08/2011)",7,8,24,30,33,47]
[1309,"(11/08/2011)",7,12,25,26,32,39]
[1310,"(13/08/2011)",8,9,14,32,53,59]
[1311,"(17/08/2011)",7,9,12,19,45,54]
[1312,"(20/08/2011)",5,20,22,28,29,30]
[1313,"(24/08/2011)",1,4,26,39,43,49]
[1314,"(27/08/2011)",38,42,44,52,58,60]
[1315,"(31/08/2011)",1,27,29,38,50,52]
[1316,"(03/09/2011)",8,13,25,34,42,48]
[1317,"(08/09/2011)",6,13,29,30,35,37]
[1318,"(10/09/2011)",11,14,16,28,34,46]
[1319,"(14/09/2011)",4,5,16,18,27,51]
[1320,"(17/09/2011)",17,24,25,38,41,55]
[1321,"(21/09/2011)",10,47,51,53,59,60]
[1322,"(24/09/2011)",10,21,43,47,53,55]
[1323,"(28/09/2011)",6,15,25,37,48,55]
[1324,"(01/10/2011)",18,29,31,44,51,57]
[1325,"(05/10/2011)",2,5,16,20,35,43]
[1326,"(08/10/2011)",10,11,18,19,30,50]
[1327,"(13/10/2011)",16,35,36,41,52,54]
[1328,"(15/10/2011)",10,23,27,43,53,59]
[1329,"(19/10/2011)",7,8,11,39,43,50]
[1330,"(22/10/2011)",8,18,21,30,48,49]
[1331,"(26/10/2011)",9,24,26,39,46,57]
[1332,"(29/10/2011)",3,5,13,24,35,59]
[1333,"(03/11/2011)",25,26,28,33,42,51]
[1334,"(05/11/2011)",1,6,8,10,25,27]
[1335,"(09/11/2011)",3,14,20,22,49,51]
[1336,"(12/11/2011)",1,32,38,47,51,54]
[1337,"(16/11/2011)",2,20,35,38,45,51]
[1338,"(19/11/2011)",1,18,19,33,43,60]
[1339,"(23/11/2011)",7,10,14,16,54,59]
[1340,"(26/11/2011)",13,21,30,36,59,60]
[1341,"(30/11/2011)",1,11,20,37,40,52]
[1342,"(03/12/2011)",5,7,42,46,50,60]
[1343,"(07/12/2011)",19,20,31,42,51,56]
[1344,"(10/12/2011)",8,19,21,36,42,59]
[1345,"(14/12/2011)",7,17,19,26,40,50]
[1346,"(17/12/2011)",12,32,40,47,48,59]
[1347,"(20/12/2011)",9,19,45,46,54,56]
[1348,"(22/12/2011)",7,12,38,39,45,56]
[1349,"(24/12/2011)",9,19,20,50,51,60]
[1350,"(31/12/2011)",3,4,29,36,45,55]
[1351,"(04/01/2012)",13,33,36,41,50,56]
[1352,"(07/01/2012)",9,18,24,35,36,59]
[1353,"(11/01/2012)",3,11,13,27,32,47]
[1354,"(14/01/2012)",2,8,38,42,48,49]
[1355,"(18/01/2012)",11,17,24,39,46,49]
[1356,"(21/01/2012)",6,13,21,22,31,46]
[1357,"(25/01/2012)",1,19,24,26,52,55]
[1358,"(28/01/2012)",3,15,16,35,37,47]
[1359,"(01/02/2012)",6,10,12,17,28,53]
[1360,"(04/02/2012)",2,16,17,25,50,54]
[1361,"(08/02/2012)",23,27,30,37,38,44]
[1362,"(11/02/2012)",2,12,19,22,36,58]
[1363,"(15/02/2012)",25,35,42,45,52,57]
[1364,"(18/02/2012)",10,13,20,40,44,53]
[1365,"(22/02/2012)",2,24,26,32,35,50]
[1366,"(25/02/2012)",12,27,37,44,54,59]
[1367,"(01/03/2012)",2,7,13,29,38,43]
[1368,"(03/03/2012)",10,21,26,29,32,38]
[1369,"(07/03/2012)",5,16,24,32,38,46]
[1370,"(10/03/2012)",2,4,5,27,49,59]
[1371,"(14/03/2012)",3,4,8,11,47,49]
[1372,"(17/03/2012)",3,36,40,46,58,60]
[1373,"(21/03/2012)",7,27,39,52,55,57]
[1374,"(24/03/2012)",6,21,28,31,33,43]
[1375,"(28/03/2012)",14,25,28,45,53,58]
[1376,"(31/03/2012)",9,11,21,49,53,54]
[1377,"(04/04/2012)",2,5,12,13,25,35]
[1378,"(07/04/2012)",2,5,17,18,54,59]
[1379,"(11/04/2012)",5,12,36,45,50,58]
[1380,"(14/04/2012)",3,14,52,55,57,60]
[1381,"(18/04/2012)",11,27,30,40,44,57]
[1382,"(20/04/2012)",5,13,16,17,27,55]
[1383,"(25/04/2012)",7,9,23,44,46,55]
[1384,"(28/04/2012)",2,18,30,31,45,56]
[1385,"(02/05/2012)",27,35,36,37,42,59]
[1386,"(05/05/2012)",12,28,38,39,51,56]
[1387,"(09/05/2012)",18,27,32,43,50,52]
[1388,"(12/05/2012)",22,29,31,43,50,54]
[1389,"(16/05/2012)",1,16,28,39,44,57]
[1390,"(19/05/2012)",4,19,27,28,29,31]
[1391,"(23/05/2012)",7,12,19,34,40,53]
[1392,"(26/05/2012)",2,8,12,28,33,43]
[1393,"(30/05/2012)",4,18,24,28,39,44]
[1394,"(02/06/2012)",11,16,24,35,46,50]
[1395,"(06/06/2012)",5,11,17,19,44,48]
[1396,"(09/06/2012)",29,48,52,54,55,58]
[1397,"(13/06/2012)",3,4,7,15,27,56]
[1398,"(16/06/2012)",14,32,33,40,42,51]
[1399,"(20/06/2012)",34,39,43,56,57,60]
[1400,"(23/06/2012)",9,26,34,43,53,54]
[1401,"(27/06/2012)",11,12,25,33,48,54]
[1402,"(30/06/2012)",2,9,10,21,27,38]
[1403,"(04/07/2012)",13,16,20,26,39,42]
[1404,"(07/07/2012)",7,8,27,31,32,51]
[1405,"(11/07/2012)",3,14,17,32,37,39]
[1406,"(14/07/2012)",7,10,17,24,38,57]
[1407,"(18/07/2012)",18,29,31,42,43,53]
[1408,"(21/07/2012)",4,19,20,24,39,43]
[1409,"(25/07/2012)",6,19,26,47,50,58]
[1410,"(28/07/2012)",18,29,40,42,50,54]
[1411,"(01/08/2012)",8,12,32,44,46,48]
[1412,"(04/08/2012)",6,8,24,37,41,45]
[1413,"(07/08/2012)",13,15,33,45,54,55]
[1414,"(09/08/2012)",21,37,44,46,49,57]
[1415,"(11/08/2012)",26,36,40,46,49,51]
[1416,"(15/08/2012)",3,19,22,24,35,49]
[1417,"(18/08/2012)",5,12,45,52,56,59]
[1418,"(22/08/2012)",7,8,10,12,27,56]
[1419,"(25/08/2012)",17,21,30,48,52,58]
[1420,"(29/08/2012)",2,11,16,18,36,45]
[1421,"(01/09/2012)",19,31,39,44,53,59]
[1422,"(05/09/2012)",2,5,13,17,39,44]
[1423,"(08/09/2012)",3,8,21,25,27,43]
[1424,"(12/09/2012)",3,7,15,29,38,60]
[1425,"(15/09/2012)",7,16,29,36,38,50]
[1426,"(19/09/2012)",6,15,18,24,30,44]
[1427,"(22/09/2012)",8,39,44,47,53,56]
[1428,"(26/09/2012)",7,15,19,34,37,55]
[1429,"(29/09/2012)",9,12,22,39,48,60]
[1430,"(03/10/2012)",2,19,22,30,46,52]
[1431,"(06/10/2012)",5,9,13,33,40,54]
[1432,"(10/10/2012)",16,24,25,42,45,59]
[1433,"(13/10/2012)",4,13,14,40,46,52]
[1434,"(17/10/2012)",3,18,22,34,55,58]
[1435,"(20/10/2012)",4,15,45,47,50,52]
[1436,"(24/10/2012)",1,13,23,24,30,57]
[1437,"(27/10/2012)",22,23,26,37,38,48]
[1438,"(31/10/2012)",7,14,31,33,36,49]
[1439,"(03/11/2012)",2,34,35,42,43,55]
[1440,"(07/11/2012)",2,6,28,36,51,56]
[1441,"(10/11/2012)",17,29,36,38,53,56]
[1442,"(14/11/2012)",12,13,20,30,34,49]
[1443,"(17/11/2012)",12,20,32,48,52,54]
[1444,"(21/11/2012)",2,5,27,28,48,55]
[1445,"(24/11/2012)",5,19,32,41,49,58]
[1446,"(28/11/2012)",6,13,24,32,40,51]
[1447,"(01/12/2012)",1,19,28,33,39,41]
[1448,"(05/12/2012)",1,25,29,36,56,60]
[1449,"(08/12/2012)",2,6,18,30,52,56]
[1450,"(12/12/2012)",26,27,31,38,44,45]
[1451,"(15/12/2012)",2,10,11,33,52,57]
[1452,"(18/12/2012)",2,14,28,50,57,58]
[1453,"(20/12/2012)",6,13,25,32,47,57]
[1454,"(22/12/2012)",4,27,29,41,48,52]
[1455,"(31/12/2012)",14,32,33,36,41,52]
[1456,"(02/01/2013)",6,8,14,26,36,40]
[1457,"(05/01/2013)",15,16,34,42,46,59]
[1458,"(09/01/2013)",2,4,16,33,44,51]
[1459,"(12/01/2013)",2,6,30,34,35,52]
[1460,"(16/01/2013)",4,14,27,38,50,52]
[1461,"(19/01/2013)",31,36,44,47,49,54]
[1462,"(23/01/2013)",5,9,25,27,38,40]
[1463,"(26/01/2013)",13,22,28,29,40,48]
[1464,"(30/01/2013)",2,24,32,50,54,59]
[1465,"(02/02/2013)",6,11,16,26,44,53]
[1466,"(06/02/2013)",4,6,13,34,37,51]
[1467,"(09/02/2013)",23,24,26,41,52,53]
[1468,"(13/02/2013)",1,2,10,19,20,37]
[1469,"(16/02/2013)",4,13,35,54,56,58]
[1470,"(20/02/2013)",2,34,36,38,51,55]
[1471,"(23/02/2013)",10,25,33,36,40,58]
[1472,"(27/02/2013)",12,18,23,25,45,50]
[1473,"(02/03/2013)",2,12,33,57,58,60]
[1474,"(06/03/2013)",1,2,3,11,28,43]
[1475,"(09/03/2013)",12,13,37,44,48,51]
[1476,"(13/03/2013)",4,10,26,37,47,57]
[1477,"(16/03/2013)",3,4,46,50,56,59]
[1478,"(20/03/2013)",10,27,37,40,47,55]
[1479,"(23/03/2013)",21,48,50,54,57,60]
[1480,"(27/03/2013)",9,14,21,26,36,52]
[1481,"(30/03/2013)",17,27,28,40,44,55]
[1482,"(03/04/2013)",6,9,11,34,41,53]
[1483,"(06/04/2013)",1,35,39,53,55,56]
[1484,"(10/04/2013)",17,20,24,29,49,53]
[1485,"(13/04/2013)",4,27,30,36,54,59]
[1486,"(17/04/2013)",1,6,10,34,40,54]
[1487,"(20/04/2013)",4,9,17,23,28,53]
[1488,"(24/04/2013)",4,22,25,38,45,51]
[1489,"(27/04/2013)",1,15,24,26,28,48]
[1490,"(02/05/2013)",1,3,31,32,43,52]
[1491,"(04/05/2013)",6,26,45,50,56,60]
[1492,"(08/05/2013)",4,9,18,44,46,48]
[1493,"(11/05/2013)",7,12,24,27,30,49]
[1494,"(15/05/2013)",2,14,24,28,35,50]
[1495,"(18/05/2013)",4,13,14,44,49,57]
[1496,"(22/05/2013)",14,18,28,41,47,54]
[1497,"(25/05/2013)",4,5,7,27,45,58]
[1498,"(29/05/2013)",6,11,27,40,46,49]
[1499,"(01/06/2013)",8,22,26,33,37,54]
[1500,"(05/06/2013)",10,18,31,43,57,59]
[1501,"(08/06/2013)",1,7,13,29,37,54]
[1502,"(12/06/2013)",6,22,43,51,52,57]
[1503,"(15/06/2013)",3,4,16,22,36,42]
[1504,"(19/06/2013)",2,10,12,30,41,42]
[1505,"(22/06/2013)",1,2,6,9,16,32]
[1506,"(26/06/2013)",3,14,18,34,42,49]
[1507,"(29/06/2013)",24,46,50,51,52,56]
[1508,"(03/07/2013)",17,18,30,35,39,58]
[1509,"(06/07/2013)",1,6,27,46,51,59]
[1510,"(10/07/2013)",1,8,17,44,46,53]
[1511,"(13/07/2013)",4,8,17,29,31,45]
[1512,"(17/07/2013)",11,28,35,42,46,58]
[1513,"(20/07/2013)",17,28,31,56,57,58]
[1514,"(24/07/2013)",16,17,23,42,59,60]
[1515,"(27/07/2013)",4,13,14,18,49,59]
[1516,"(31/07/2013)",4,18,20,34,45,60]
[1517,"(03/08/2013)",7,17,38,45,52,56]
[1518,"(06/08/2013)",8,9,28,41,48,55]
[1519,"(08/08/2013)",5,6,15,23,56,59]
[1520,"(10/08/2013)",7,31,35,36,46,48]
[1521,"(14/08/2013)",11,14,18,30,33,39]
[1522,"(17/08/2013)",5,8,23,32,33,56]
[1523,"(21/08/2013)",22,25,31,39,41,44]
[1524,"(24/08/2013)",2,12,40,46,52,53]
[1525,"(28/08/2013)",2,26,30,35,46,54]
[1526,"(31/08/2013)",10,16,28,47,51,59]
[1527,"(04/09/2013)",16,32,36,42,44,48]
[1528,"(06/09/2013)",4,13,15,19,36,58]
[1529,"(11/09/2013)",11,15,17,34,35,49]
[1530,"(14/09/2013)",10,16,28,33,48,53]
[1531,"(18/09/2013)",12,13,24,41,42,44]
[1532,"(21/09/2013)",2,11,23,31,42,44]
[1533,"(25/09/2013)",13,21,29,34,47,57]
[1534,"(28/09/2013)",1,12,28,29,34,48]
[1535,"(02/10/2013)",8,9,25,41,54,55]
[1536,"(05/10/2013)",13,18,29,32,50,58]
[1537,"(09/10/2013)",6,10,33,50,51,56]
[1538,"(11/10/2013)",23,27,35,52,53,57]
[1539,"(16/10/2013)",8,10,20,26,49,58]
[1540,"(19/10/2013)",3,17,27,32,47,54]
[1541,"(23/10/2013)",5,24,37,44,49,58]
[1542,"(26/10/2013)",7,11,12,30,39,57]
[1543,"(30/10/2013)",7,15,20,23,30,41]
[1544,"(01/11/2013)",2,21,30,35,45,50]
[1545,"(06/11/2013)",4,6,11,24,45,48]
[1546,"(09/11/2013)",4,17,38,44,53,60]
[1547,"(13/11/2013)",2,9,10,18,21,28]
[1548,"(16/11/2013)",19,41,42,44,47,54]
[1549,"(20/11/2013)",10,12,16,20,32,53]
[1550,"(23/11/2013)",9,13,21,27,36,56]
[1551,"(27/11/2013)",2,15,19,21,23,38]
[1552,"(30/11/2013)",7,18,24,26,39,46]
[1553,"(04/12/2013)",20,21,22,29,46,60]
[1554,"(07/12/2013)",30,32,49,50,52,53]
[1555,"(11/12/2013)",2,5,23,33,52,59]
[1556,"(14/12/2013)",1,4,7,10,11,52]
[1557,"(17/12/2013)",4,16,18,31,45,46]
[1558,"(19/12/2013)",7,15,17,31,42,54]
[1559,"(21/12/2013)",8,12,16,29,37,58]
[1560,"(31/12/2013)",20,30,36,38,47,53]
[1561,"(02/01/2014)",23,26,28,54,55,60]
[1562,"(04/01/2014)",10,12,23,37,47,51]
[1563,"(09/01/2014)",1,6,13,20,36,43]
[1564,"(11/01/2014)",25,38,44,46,53,54]
[1565,"(15/01/2014)",18,37,39,41,43,51]
[1566,"(18/01/2014)",5,6,11,32,36,60]
[1567,"(22/01/2014)",2,15,30,38,48,53]
[1568,"(25/01/2014)",19,24,25,28,42,58]
[1569,"(29/01/2014)",5,15,18,31,42,53]
[1570,"(01/02/2014)",15,18,24,42,46,56]
[1571,"(05/02/2014)",3,29,32,46,55,60]
[1572,"(08/02/2014)",20,27,42,45,46,47]
[1573,"(12/02/2014)",7,16,21,35,36,38]
[1574,"(15/02/2014)",6,27,28,33,46,48]
[1575,"(19/02/2014)",1,4,5,14,45,56]
[1576,"(22/02/2014)",13,15,21,26,30,46]
[1577,"(26/02/2014)",11,14,25,32,51,59]
[1578,"(01/03/2014)",3,6,30,37,53,56]
[1579,"(05/03/2014)",25,34,40,49,51,60]
[1580,"(08/03/2014)",1,6,14,17,33,36]
[1581,"(12/03/2014)",14,15,25,30,31,34]
[1582,"(15/03/2014)",1,4,13,17,38,48]
[1583,"(19/03/2014)",2,9,17,18,45,47]
[1584,"(22/03/2014)",3,22,27,28,50,54]
[1585,"(26/03/2014)",2,43,47,48,49,55]
[1586,"(29/03/2014)",8,39,43,46,47,58]
[1587,"(02/04/2014)",8,19,21,30,52,56]
[1588,"(05/04/2014)",23,29,32,36,45,49]
[1589,"(09/04/2014)",4,5,11,19,41,51]
[1590,"(12/04/2014)",7,20,34,40,44,55]
[1591,"(16/04/2014)",4,10,23,33,38,55]
[1592,"(19/04/2014)",31,36,38,41,42,49]
[1593,"(23/04/2014)",4,9,17,18,21,38]
[1594,"(26/04/2014)",6,7,8,23,43,53]
[1595,"(30/04/2014)",2,5,8,42,46,59]
[1596,"(03/05/2014)",1,5,7,10,12,45]
[1597,"(07/05/2014)",5,10,16,44,50,52]
[1598,"(10/05/2014)",29,31,36,42,47,53]
[1599,"(14/05/2014)",3,10,15,35,36,58]
[1600,"(17/05/2014)",9,23,32,35,46,57]
[1601,"(21/05/2014)",8,10,24,45,56,60]
[1602,"(24/05/2014)",8,12,22,35,40,44]
[1603,"(28/05/2014)",13,20,27,31,53,60]
[1604,"(31/05/2014)",2,21,24,27,40,51]
[1605,"(04/06/2014)",9,19,21,30,31,42]
[1606,"(07/06/2014)",1,15,37,42,46,54]
[1607,"(11/06/2014)",7,31,32,41,51,52]
[1608,"(14/06/2014)",5,6,17,43,54,59]
[1609,"(18/06/2014)",2,6,13,26,53,60]
[1610,"(21/06/2014)",1,4,9,35,36,53]
[1611,"(25/06/2014)",24,28,47,50,51,58]
[1612,"(28/06/2014)",6,13,17,36,42,51]
[1613,"(02/07/2014)",4,18,31,44,46,49]
[1614,"(05/07/2014)",14,17,21,27,43,49]
[1615,"(09/07/2014)",5,20,26,31,33,44]
[1616,"(12/07/2014)",28,31,40,42,46,58]
[1617,"(16/07/2014)",3,23,26,31,47,54]
[1618,"(19/07/2014)",9,20,24,43,51,52]
[1619,"(23/07/2014)",5,8,17,42,46,47]
[1620,"(26/07/2014)",13,23,27,34,38,57]
[1621,"(30/07/2014)",10,22,24,38,39,49]
[1622,"(02/08/2014)",4,5,7,21,45,53]
[1623,"(05/08/2014)",33,43,49,50,56,59]
[1624,"(07/08/2014)",2,27,32,41,47,58]
[1625,"(09/08/2014)",11,22,36,40,45,52]
[1626,"(13/08/2014)",3,5,14,35,43,52]
[1627,"(16/08/2014)",20,26,32,41,45,57]
[1628,"(20/08/2014)",26,29,34,38,50,60]
[1629,"(23/08/2014)",4,20,24,35,47,59]
[1630,"(27/08/2014)",1,7,30,43,44,54]
[1631,"(30/08/2014)",4,29,44,47,48,60]
[1632,"(03/09/2014)",6,18,24,27,56,59]
[1633,"(06/09/2014)",1,2,11,13,36,49]
[1634,"(10/09/2014)",9,10,23,33,44,51]
[1635,"(13/09/2014)",8,23,28,30,32,51]
[1636,"(17/09/2014)",19,26,33,35,51,52]
[1637,"(20/09/2014)",1,5,24,47,55,56]
[1638,"(24/09/2014)",1,2,38,41,42,58]
[1639,"(27/09/2014)",16,29,34,35,49,51]
[1640,"(01/10/2014)",2,6,18,23,31,46]
[1641,"(04/10/2014)",23,29,30,33,46,51]
[1642,"(08/10/2014)",3,23,42,43,47,60]
[1643,"(11/10/2014)",16,19,20,28,37,60]
[1644,"(15/10/2014)",10,13,16,22,34,60]
[1645,"(18/10/2014)",8,18,21,31,37,38]
[1646,"(22/10/2014)",19,23,34,40,41,58]
[1647,"(25/10/2014)",12,17,23,38,53,54]
[1648,"(29/10/2014)",15,16,18,20,22,48]
[1649,"(01/11/2014)",24,33,38,42,44,54]
[1650,"(05/11/2014)",17,23,29,38,57,60]
[1651,"(08/11/2014)",8,27,35,38,41,44]
[1652,"(12/11/2014)",7,24,26,28,44,57]
[1653,"(14/11/2014)",1,21,22,27,32,45]
[1654,"(19/11/2014)",7,16,33,42,50,58]
[1655,"(22/11/2014)",7,24,28,46,53,56]
[1656,"(26/11/2014)",4,6,11,43,54,56]
[1657,"(29/11/2014)",7,10,14,37,45,54]
[1658,"(03/12/2014)",7,11,19,23,40,49]
[1659,"(06/12/2014)",4,10,20,33,37,49]
[1660,"(10/12/2014)",8,17,34,38,42,51]
[1661,"(13/12/2014)",13,16,27,43,48,58]
[1662,"(17/12/2014)",10,14,25,29,33,57]
[1663,"(20/12/2014)",18,20,27,40,49,55]
[1664,"(24/12/2014)",8,21,23,29,36,48]
[1665,"(31/12/2014)",1,5,11,16,20,56]
[1666,"(03/01/2015)",1,2,23,27,45,51]
[1667,"(07/01/2015)",7,12,24,44,51,56]
[1668,"(10/01/2015)",5,40,47,52,55,57]
[1669,"(14/01/2015)",28,29,31,45,48,49]
[1670,"(17/01/2015)",1,17,19,30,33,47]
[1671,"(21/01/2015)",21,27,31,45,55,56]
[1672,"(24/01/2015)",1,3,5,10,20,42]
[1673,"(28/01/2015)",5,10,23,24,35,47]
[1674,"(31/01/2015)",22,30,42,50,58,59]
[1675,"(04/02/2015)",3,18,34,35,36,56]
[1676,"(07/02/2015)",1,2,11,37,48,51]
[1677,"(11/02/2015)",10,15,28,33,51,52]
[1678,"(14/02/2015)",9,11,17,19,35,52]
[1679,"(18/02/2015)",1,2,27,28,46,47]
[1680,"(21/02/2015)",23,37,38,46,47,51]
[1681,"(25/02/2015)",1,6,8,11,33,50]
[1682,"(28/02/2015)",7,13,35,37,39,51]
[1683,"(04/03/2015)",4,12,32,33,34,48]
[1684,"(07/03/2015)",9,12,18,31,39,50]
[1685,"(11/03/2015)",3,18,31,39,46,51]
[1686,"(14/03/2015)",9,14,37,44,46,55]
[1687,"(18/03/2015)",15,24,37,46,49,58]
[1688,"(21/03/2015)",18,23,30,32,42,56]
[1689,"(25/03/2015)",2,5,13,27,41,53]
[1690,"(28/03/2015)",21,24,26,35,45,53]
[1691,"(01/04/2015)",1,10,24,39,45,58]
[1692,"(04/04/2015)",11,13,14,27,44,56]
[1693,"(08/04/2015)",5,15,18,19,21,38]
[1694,"(11/04/2015)",20,29,34,37,45,57]
[1695,"(15/04/2015)",24,36,38,43,44,58]
[1696,"(18/04/2015)",1,12,17,31,37,46]
[1697,"(22/04/2015)",8,23,30,51,53,58]
[1698,"(25/04/2015)",11,13,24,28,44,45]
[1699,"(29/04/2015)",1,6,10,30,33,38]
[1700,"(02/05/2015)",15,18,41,48,50,58]
[1701,"(05/05/2015)",3,9,18,32,40,56]
[1702,"(07/05/2015)",17,19,33,35,39,52]
[1703,"(09/05/2015)",3,23,26,35,39,49]
[1704,"(13/05/2015)",1,7,11,32,51,59]
[1705,"(16/05/2015)",25,27,29,37,50,51]
[1706,"(20/05/2015)",12,31,34,36,48,56]
[1707,"(23/05/2015)",7,16,20,27,36,52]
[1708,"(27/05/2015)",17,29,32,38,45,50]
[1709,"(30/05/2015)",7,19,30,35,42,47]
[1710,"(03/06/2015)",7,21,28,56,58,59]
[1711,"(06/06/2015)",22,26,38,39,45,50]
[1712,"(10/06/2015)",2,12,19,29,50,59]
[1713,"(13/06/2015)",3,10,16,23,27,29]
[1714,"(17/06/2015)",2,8,24,36,51,52]
[1715,"(20/06/2015)",16,20,35,40,53,60]
[1716,"(24/06/2015)",2,25,36,41,42,53]
[1717,"(27/06/2015)",2,9,16,37,44,58]
[1718,"(01/07/2015)",4,30,31,32,47,53]
[1719,"(04/07/2015)",1,22,31,34,44,54]
[1720,"(07/07/2015)",18,23,31,39,49,57]
[1721,"(09/07/2015)",4,12,19,33,36,38]
[1722,"(11/07/2015)",9,23,39,41,49,58]
[1723,"(15/07/2015)",14,27,30,46,52,60]
[1724,"(18/07/2015)",27,33,37,39,58,60]
[1725,"(22/07/2015)",16,18,26,30,31,34]
[1726,"(25/07/2015)",3,10,42,49,54,57]
[1727,"(29/07/2015)",4,6,19,20,40,41]
[1728,"(01/08/2015)",3,8,28,39,42,59]
[1729,"(04/08/2015)",7,14,23,43,44,53]
[1730,"(06/08/2015)",1,10,17,24,42,51]
[1731,"(08/08/2015)",5,18,27,43,49,59]
[1732,"(12/08/2015)",25,34,38,45,53,60]
[1733,"(15/08/2015)",3,5,9,14,41,46]
[1734,"(19/08/2015)",12,17,25,29,41,52]
[1735,"(22/08/2015)",6,16,33,34,45,46]
[1736,"(26/08/2015)",12,13,24,29,32,41]
[1737,"(29/08/2015)",5,8,42,50,51,59]
[1738,"(02/09/2015)",12,28,37,46,48,53]
[1739,"(05/09/2015)",9,10,17,32,34,46]
[1740,"(09/09/2015)",10,15,25,38,47,53]
[1741,"(12/09/2015)",15,18,20,32,48,49]
[1742,"(16/09/2015)",11,19,21,23,27,52]
[1743,"(19/09/2015)",4,10,29,31,34,35]
[1744,"(23/09/2015)",9,12,14,29,42,56]
[1745,"(26/09/2015)",9,13,18,47,52,60]
[1746,"(30/09/2015)",6,18,37,40,41,58]
[1747,"(03/10/2015)",6,33,34,48,53,59]
[1748,"(07/10/2015)",2,10,13,41,49,53]
[1749,"(10/10/2015)",3,13,14,29,33,43]
[1750,"(13/10/2015)",15,17,20,31,41,48]
[1751,"(15/10/2015)",15,22,23,42,51,57]
[1752,"(17/10/2015)",9,36,37,53,55,60]
[1753,"(21/10/2015)",8,15,29,35,45,54]
[1754,"(24/10/2015)",20,27,30,31,40,53]
[1755,"(28/10/2015)",2,5,8,18,30,48]
[1756,"(31/10/2015)",6,13,14,28,35,45]
[1757,"(04/11/2015)",13,25,28,37,43,56]
[1758,"(07/11/2015)",6,11,16,23,36,42]
[1759,"(10/11/2015)",2,14,21,22,51,60]
[1760,"(13/11/2015)",10,24,25,36,47,48]
[1761,"(14/11/2015)",9,10,36,50,53,55]
[1762,"(18/11/2015)",26,32,42,45,55,59]
[1763,"(21/11/2015)",9,12,15,21,31,36]
[1764,"(25/11/2015)",6,7,29,39,41,55]
[1765,"(28/11/2015)",1,6,28,37,56,58]
[1766,"(02/12/2015)",22,23,41,46,53,60]
[1767,"(05/12/2015)",16,26,35,39,44,45]
[1768,"(09/12/2015)",5,7,11,34,35,50]
[1769,"(12/12/2015)",32,37,44,47,54,60]
[1770,"(16/12/2015)",11,26,27,30,34,41]
[1771,"(19/12/2015)",2,20,27,28,32,38]
[1772,"(22/12/2015)",12,19,27,39,41,45]
[1773,"(24/12/2015)",15,30,39,41,45,59]
[1774,"(26/12/2015)",1,12,20,30,52,60]
[1775,"(31/12/2015)",2,18,31,42,51,56]
[1776,"(02/01/2016)",10,11,14,19,39,48]
[1777,"(06/01/2016)",4,19,38,44,52,55]
[1778,"(09/01/2016)",4,10,38,40,45,48]
[1779,"(12/01/2016)",12,25,30,39,56,57]
[1780,"(14/01/2016)",6,20,22,31,33,34]
[1781,"(16/01/2016)",1,8,22,49,52,53]
[1782,"(20/01/2016)",6,18,34,47,52,57]
[1783,"(23/01/2016)",4,6,16,18,21,38]
[1784,"(27/01/2016)",4,15,26,30,54,55]
[1785,"(30/01/2016)",5,11,27,41,42,54]
[1786,"(02/02/2016)",2,6,8,21,25,34]
[1787,"(04/02/2016)",1,5,13,25,26,29]
[1788,"(06/02/2016)",3,13,42,45,56,59]
[1789,"(10/02/2016)",6,25,43,57,58,59]
[1790,"(13/02/2016)",11,13,26,27,28,50]
[1791,"(17/02/2016)",12,18,46,50,53,55]
[1792,"(20/02/2016)",2,16,17,18,41,47]
[1793,"(24/02/2016)",13,14,22,54,56,58]
[1794,"(27/02/2016)",1,5,34,37,40,60]
[1795,"(02/03/2016)",30,42,47,50,55,58]
[1796,"(05/03/2016)",22,23,34,48,53,54]
[1797,"(08/03/2016)",2,13,14,35,54,57]
[1798,"(10/03/2016)",2,9,23,28,45,53]
[1799,"(12/03/2016)",1,3,4,39,51,53]
[1800,"(16/03/2016)",6,11,16,19,31,56]
[1801,"(19/03/2016)",6,19,34,43,45,54]
[1802,"(23/03/2016)",2,6,13,14,17,44]
[1803,"(26/03/2016)",4,8,29,38,49,50]
[1804,"(30/03/2016)",20,21,28,48,50,59]
[1805,"(02/04/2016)",17,22,27,31,49,57]
[1806,"(06/04/2016)",11,20,35,42,55,58]
[1807,"(09/04/2016)",1,15,16,22,25,43]
[1808,"(13/04/2016)",2,14,20,25,41,45]
[1809,"(16/04/2016)",9,12,23,24,46,54]
[1810,"(20/04/2016)",1,10,25,43,50,56]
[1811,"(23/04/2016)",5,17,32,35,37,57]
[1812,"(27/04/2016)",20,23,32,34,37,45]
[1813,"(30/04/2016)",9,11,13,15,19,51]
[1814,"(03/05/2016)",9,11,27,46,51,53]
[1815,"(05/05/2016)",8,11,25,39,41,60]
[1816,"(07/05/2016)",5,10,12,22,28,46]
[1817,"(11/05/2016)",1,4,26,39,47,55]
[1818,"(14/05/2016)",2,6,10,15,53,56]
[1819,"(18/05/2016)",17,18,26,30,33,37]
[1820,"(21/05/2016)",3,19,23,27,40,45]
[1821,"(25/05/2016)",19,22,31,36,52,53]
[1822,"(28/05/2016)",1,22,26,43,50,53]
[1823,"(01/06/2016)",4,9,21,34,54,59]
[1824,"(04/06/2016)",5,6,12,19,30,60]
[1825,"(07/06/2016)",10,11,21,50,51,54]
[1826,"(09/06/2016)",17,19,32,43,48,51]
[1827,"(11/06/2016)",26,33,42,43,53,54]
[1828,"(15/06/2016)",6,11,32,40,48,59]
[1829,"(18/06/2016)",7,13,24,30,32,53]
[1830,"(22/06/2016)",3,7,29,37,54,60]
[1831,"(25/06/2016)",15,27,28,32,48,55]
[1832,"(29/06/2016)",14,34,46,47,56,57]
[1833,"(02/07/2016)",2,3,7,16,27,42]
[1834,"(06/07/2016)",2,17,22,24,48,51]
[1835,"(09/07/2016)",8,28,36,47,50,58]
[1836,"(12/07/2016)",8,15,18,45,59,60]
[1837,"(14/07/2016)",41,44,48,50,54,57]
[1838,"(16/07/2016)",5,8,24,30,57,59]
[1839,"(20/07/2016)",7,22,28,32,56,58]
[1840,"(23/07/2016)",15,17,33,41,47,48]
[1841,"(27/07/2016)",3,6,13,38,49,51]
[1842,"(30/07/2016)",16,18,22,24,34,43]
[1843,"(03/08/2016)",8,26,28,33,41,54]
[1844,"(06/08/2016)",3,4,37,39,48,50]
[1845,"(09/08/2016)",3,9,13,29,30,51]
[1846,"(11/08/2016)",6,24,26,30,34,49]
[1847,"(13/08/2016)",1,6,45,49,50,57]
[1848,"(17/08/2016)",9,40,41,50,55,58]
[1849,"(20/08/2016)",3,5,11,27,35,44]
[1850,"(24/08/2016)",23,24,32,38,40,41]
[1851,"(27/08/2016)",8,18,21,22,35,37]
[1852,"(31/08/2016)",13,17,29,45,49,50]
[1853,"(03/09/2016)",1,2,34,39,41,45]
[1854,"(08/09/2016)",25,30,31,34,43,59]
[1855,"(10/09/2016)",6,10,15,24,38,39]
[1856,"(14/09/2016)",2,9,14,22,32,37]
[1857,"(17/09/2016)",13,23,25,35,52,53]
[1858,"(20/09/2016)",22,28,30,33,55,59]
[1859,"(22/09/2016)",1,13,14,21,26,51]
[1860,"(24/09/2016)",10,30,36,40,44,60]
[1861,"(28/09/2016)",2,4,9,35,45,60]
[1862,"(01/10/2016)",2,8,35,42,49,56]
[1863,"(05/10/2016)",16,23,45,56,58,59]
[1864,"(08/10/2016)",4,5,14,37,40,60]
[1865,"(13/10/2016)",1,5,31,32,37,42]
[1866,"(15/10/2016)",14,17,36,38,44,60]
[1867,"(18/10/2016)",3,10,17,21,22,43]
[1868,"(20/10/2016)",1,5,23,25,28,31]
[1869,"(22/10/2016)",11,23,24,26,40,52]
[1870,"(26/10/2016)",18,20,30,32,33,40]
[1871,"(29/10/2016)",3,11,17,33,52,58]
[1872,"(03/11/2016)",11,13,25,39,46,56]
[1873,"(05/11/2016)",5,25,28,41,53,54]
[1874,"(08/11/2016)",10,28,37,43,44,47]
[1875,"(10/11/2016)",1,45,47,52,53,55]
[1876,"(12/11/2016)",7,18,39,41,44,51]
[1877,"(16/11/2016)",13,16,23,24,32,35]
[1878,"(19/11/2016)",12,16,26,40,56,57]
[1879,"(23/11/2016)",5,10,20,57,58,59]
[1880,"(26/11/2016)",5,16,19,37,51,56]
[1881,"(30/11/2016)",3,10,30,44,53,56]
[1882,"(03/12/2016)",9,10,19,35,37,41]
[1883,"(07/12/2016)",16,27,28,47,59,60]
[1884,"(10/12/2016)",1,4,23,32,38,59]
[1885,"(14/12/2016)",7,14,18,23,32,59]
[1886,"(17/12/2016)",3,7,15,40,45,54]
[1887,"(20/12/2016)",11,23,34,41,46,56]
[1888,"(22/12/2016)",1,10,17,18,45,48]
[1889,"(24/12/2016)",16,23,25,28,30,44]
[1890,"(31/12/2016)",5,11,22,24,51,53]
[1891,"(04/01/2017)",1,3,19,23,47,58]
[1892,"(07/01/2017)",6,17,22,30,37,50]
[1893,"(11/01/2017)",16,17,19,28,45,58]
[1894,"(14/01/2017)",21,31,35,53,54,57]
[1895,"(18/01/2017)",2,3,5,10,15,34]
[1896,"(21/01/2017)",3,6,14,15,21,25]
[1897,"(25/01/2017)",9,22,25,47,52,58]
[1898,"(28/01/2017)",12,34,45,53,55,58]
[1899,"(01/02/2017)",20,23,35,36,44,48]
[1900,"(04/02/2017)",8,11,27,28,43,46]
[1901,"(08/02/2017)",11,12,26,30,37,53]
[1902,"(11/02/2017)",2,7,9,18,21,25]
[1903,"(15/02/2017)",9,10,15,28,43,45]
[1904,"(18/02/2017)",12,15,18,21,51,56]
[1905,"(21/02/2017)",29,35,43,54,56,57]
[1906,"(23/02/2017)",6,27,33,39,40,60]
[1907,"(25/02/2017)",3,25,35,38,44,48]
[1908,"(01/03/2017)",4,10,13,23,27,57]
[1909,"(04/03/2017)",11,40,43,45,47,57]
[1910,"(08/03/2017)",6,9,15,22,39,48]
[1911,"(11/03/2017)",16,18,23,30,32,33]
[1912,"(15/03/2017)",10,13,33,35,36,42]
[1913,"(18/03/2017)",4,14,17,43,52,56]
[1914,"(22/03/2017)",16,29,33,39,42,44]
[1915,"(25/03/2017)",2,20,21,33,48,57]
[1916,"(29/03/2017)",3,9,18,23,50,52]
[1917,"(01/04/2017)",4,21,25,33,36,46]
[1918,"(05/04/2017)",16,17,20,22,38,50]
[1919,"(08/04/2017)",11,28,37,45,54,60]
[1920,"(12/04/2017)",25,31,33,39,43,45]
[1921,"(15/04/2017)",10,15,16,19,28,35]
[1922,"(19/04/2017)",20,22,36,38,41,43]
[1923,"(22/04/2017)",9,34,42,45,46,59]
[1924,"(26/04/2017)",12,16,30,52,53,58]
[1925,"(29/04/2017)",1,17,38,43,45,47]
[1926,"(03/05/2017)",2,3,14,20,30,46]
[1927,"(06/05/2017)",5,11,13,19,30,31]
[1928,"(09/05/2017)",10,26,28,51,53,59]
[1929,"(11/05/2017)",3,10,23,36,43,52]
[1930,"(13/05/2017)",4,17,18,37,52,56]
[1931,"(17/05/2017)",2,8,9,15,22,34]
[1932,"(20/05/2017)",10,16,21,29,44,55]
[1933,"(24/05/2017)",2,14,15,19,35,59]
[1934,"(27/05/2017)",8,23,35,39,56,59]
[1935,"(31/05/2017)",1,3,10,17,23,24]
[1936,"(03/06/2017)",3,12,24,40,51,52]
[1937,"(07/06/2017)",6,10,24,29,43,55]
[1938,"(10/06/2017)",10,16,32,40,42,54]
[1939,"(14/06/2017)",7,24,29,39,45,52]
[1940,"(17/06/2017)",9,13,16,17,36,47]
[1941,"(21/06/2017)",1,9,24,38,48,49]
[1942,"(24/06/2017)",6,18,20,24,43,48]
[1943,"(28/06/2017)",9,11,12,30,39,43]
[1944,"(01/07/2017)",8,9,39,47,57,59]
[1945,"(04/07/2017)",4,8,10,21,45,54]
[1946,"(06/07/2017)",4,6,39,44,52,60]
[1947,"(08/07/2017)",8,33,40,52,55,59]
[1948,"(12/07/2017)",12,20,24,28,33,57]
[1949,"(15/07/2017)",1,6,14,22,30,56]
[1950,"(19/07/2017)",10,21,32,34,48,57]
[1951,"(22/07/2017)",14,16,19,21,33,55]
[1952,"(26/07/2017)",9,21,36,38,52,53]
[1953,"(29/07/2017)",9,26,29,42,43,45]
[1954,"(02/08/2017)",9,25,33,35,40,49]
[1955,"(05/08/2017)",15,27,33,36,41,45]
[1956,"(08/08/2017)",5,8,20,28,40,45]
[1957,"(10/08/2017)",2,14,22,23,29,47]
[1958,"(12/08/2017)",15,20,22,24,34,55]
[1959,"(16/08/2017)",8,21,27,35,43,56]
[1960,"(19/08/2017)",1,18,25,37,39,43]
[1961,"(23/08/2017)",17,25,26,30,32,50]
[1962,"(26/08/2017)",5,6,15,25,39,53]
[1963,"(30/08/2017)",4,5,7,34,42,60]
[1964,"(02/09/2017)",2,27,32,36,48,50]
[1965,"(06/09/2017)",26,28,35,38,48,55]
[1966,"(09/09/2017)",10,13,19,32,40,60]
[1967,"(13/09/2017)",13,30,32,39,46,54]
[1968,"(16/09/2017)",35,36,39,44,48,52]
[1969,"(19/09/2017)",8,20,30,32,48,59]
[1970,"(21/09/2017)",5,10,18,24,39,52]
[1971,"(23/09/2017)",4,10,41,44,52,54]
[1972,"(27/09/2017)",9,16,20,54,57,59]
[1973,"(30/09/2017)",1,12,16,17,52,60]
[1974,"(04/10/2017)",4,19,27,38,54,57]
[1975,"(07/10/2017)",8,11,24,26,47,57]
[1976,"(11/10/2017)",12,14,19,25,52,59]
[1977,"(14/10/2017)",3,16,28,32,34,37]
[1978,"(17/10/2017)",2,6,22,44,55,57]
[1979,"(19/10/2017)",22,23,29,32,38,45]
[1980,"(21/10/2017)",12,16,17,18,34,37]
[1981,"(25/10/2017)",6,15,19,37,39,53]
[1982,"(28/10/2017)",4,14,20,24,46,50]
[1983,"(01/11/2017)",5,6,10,14,22,36]
[1984,"(04/11/2017)",21,29,32,35,43,50]
[1985,"(07/11/2017)",9,28,29,34,36,55]
[1986,"(09/11/2017)",23,36,43,44,55,56]
[1987,"(11/11/2017)",10,14,31,34,45,58]
[1988,"(16/11/2017)",5,10,39,42,46,54]
[1989,"(18/11/2017)",15,22,30,32,40,58]
[1990,"(22/11/2017)",11,24,26,34,37,59]
[1991,"(25/11/2017)",19,20,28,34,36,44]
[1992,"(29/11/2017)",5,11,13,21,53,54]
[1993,"(02/12/2017)",6,17,33,48,50,57]
[1994,"(06/12/2017)",2,5,12,32,40,44]
[1995,"(09/12/2017)",14,26,29,35,37,39]
[1996,"(13/12/2017)",7,20,21,24,40,56]
[1997,"(16/12/2017)",1,7,14,31,35,46]
[1998,"(19/12/2017)",8,21,24,25,52,57]
[1999,"(21/12/2017)",15,37,38,42,49,50]
[2000,"(31/12/2017)",3,6,10,17,34,37]
[2001,"(03/01/2018)",20,22,36,42,52,60]
[2002,"(06/01/2018)",4,28,30,38,46,59]
[2003,"(10/01/2018)",28,34,40,43,50,51]
[2004,"(13/01/2018)",1,5,14,23,35,45]
[2005,"(17/01/2018)",11,19,22,33,34,53]
[2006,"(20/01/2018)",1,9,14,20,25,54]
[2007,"(24/01/2018)",4,14,39,41,54,58]
[2008,"(27/01/2018)",22,27,33,42,58,59]
[2009,"(31/01/2018)",1,37,44,46,48,50]
[2010,"(03/02/2018)",8,10,18,34,39,56]
[2011,"(06/02/2018)",2,28,32,35,54,58]
[2012,"(08/02/2018)",8,11,27,35,36,51]
[2013,"(10/02/2018)",6,23,30,36,53,56]
[2014,"(14/02/2018)",16,32,40,46,53,56]
[2015,"(17/02/2018)",17,18,27,32,39,58]
[2016,"(21/02/2018)",4,11,17,18,21,48]
[2017,"(24/02/2018)",2,10,11,24,38,56]
[2018,"(28/02/2018)",11,22,25,27,55,59]
[2019,"(03/03/2018)",23,41,46,52,54,59]
[2020,"(07/03/2018)",2,36,46,48,57,60]
[2021,"(10/03/2018)",7,14,32,37,40,60]
[2022,"(14/03/2018)",4,28,45,48,52,60]
[2023,"(17/03/2018)",1,6,7,8,23,56]
[2024,"(21/03/2018)",16,20,23,29,35,47]
[2025,"(24/03/2018)",4,24,46,52,55,56]
[2026,"(28/03/2018)",10,23,31,33,51,52]
[2027,"(31/03/2018)",11,15,29,37,39,44]
[2028,"(04/04/2018)",7,11,24,36,42,58]
[2029,"(07/04/2018)",6,15,18,33,37,40]
[2030,"(11/04/2018)",4,27,38,40,58,59]
[2031,"(14/04/2018)",18,23,37,39,50,55]
[2032,"(17/04/2018)",6,14,19,20,39,53]
[2033,"(20/04/2018)",10,18,33,38,40,43]
[2034,"(25/04/2018)",6,7,13,17,22,56]

{"sheet":"TABELA MEGA-SENA","index":2,"n_rows":30,"n_cols":77,"rows_kept":30,"cut":false,"hidden":false,"merged":[[0,0,0,6],[1,0,1,6],[8,0,8,6],[9,0,9,6],[14,0,14,6],[15,0,15,6],[10,73,10,74],[1,19,1,20],[1,9,1,12],[1,15,1,16],[5,27,6,28],[5,29,6,30],[5,31,6,32],[5,13,6,14],[5,15,6,16],[5,17,6,18],[5,19,6,20],[5,21,6,22],[12,31,13,32],[8,8,8,12],[12,8,14,10],[7,8,7,12],[12,21,13,22],[12,23,13,24],[10,75,10,76],[10,57,10,58],[10,59,10,60],[10,61,10,62],[10,63,10,64],[10,65,10,66],[15,23,16,24],[15,25,16,26],[15,27,16,28],[15,29,16,30],[12,27,13,28],[10,67,10,68],[10,69,10,70],[10,71,10,72],[9,27,10,28],[9,29,10,30],[9,31,10,32],[15,31,16,32],[12,25,13,26],[12,29,13,30],[1,27,1,28],[0,9,0,32],[9,25,10,26],[9,15,10,16],[9,17,10,18],[9,19,10,20],[9,21,10,22],[9,23,10,24],[3,13,3,14],[3,15,3,16],[3,17,3,18],[3,19,3,20],[3,21,3,22],[3,23,3,24],[3,9,3,12],[1,23,1,24],[1,21,1,22],[5,23,6,24],[4,13,4,32],[5,25,6,26],[1,29,1,30],[1,13,1,14],[1,17,1,18],[1,25,1,26],[9,8,11,10],[9,13,10,14],[2,0,3,2],[2,3,3,6],[16,0,17,2],[16,3,17,6],[28,0,28,6],[15,19,16,20],[15,21,16,22],[21,19,22,20],[12,13,13,14],[15,13,16,14],[24,19,25,20],[24,21,25,22],[21,21,22,22],[18,19,19,20],[18,21,19,22],[12,19,13,20],[12,15,13,16],[12,17,13,18],[21,15,22,16],[21,17,22,18],[15,15,16,16],[15,17,16,18],[15,8,17,10],[18,8,20,10],[18,15,19,16],[18,17,19,18],[24,15,25,16],[24,31,25,32],[24,8,26,10],[24,29,25,30],[21,29,22,30],[18,31,19,32],[21,31,22,32],[18,29,19,30],[29,0,30,2],[29,3,30,6],[18,13,19,14],[21,13,22,14],[24,13,25,14],[28,8,30,12],[24,23,25,24],[24,25,25,26],[24,27,25,28],[21,27,22,28],[21,23,22,24],[21,25,22,26],[18,27,19,28],[18,25,19,26],[18,23,19,24],[24,17,25,18],[21,8,23,10]]}
["ATRASOS =",null,null,null,null,null,null,null,{"$f":"SMALL('REST MEGA-SENA'!C:C,1)","v":1},"HISTORICO DE ACERTOS DAS DEZENAS MARCADAS NA TABELA DE ANALISES",null,null,null,null,null,null,null,null,null,null,null,null,null,null,null,null,null,null,null,null,null,null,null,null,null,null,null,null,null,null,null,null,null,null,null,null,null,null,null,null,null,null,null,null,null,null,null,null,null,null,null,null,null,null,null,null,null,null,{"$f":"J4-A10","v":2005},0,6]
[2,null,null,null,null,null,null,null,null,"SENA",null,null,null,{"$f":"COUNTIF('REST MEGA-SENA'!DZ:DZ,\"6\")","v":0},null,"QUINA",null,{"$f":"COUNTIF('REST MEGA-SENA'!DZ:DZ,\"5\")","v":0},null,"QUADRA",null,{"$f":"COUNTIF('REST MEGA-SENA'!DZ:DZ,\"4\")","v":0},null,"TERNO",null,{"$f":"COUNTIF('REST MEGA-SENA'!DZ:DZ,\"3\")","v":0},null,"DUQUE",null,{"$f":"COUNTIF('REST MEGA-SENA'!DZ:DZ,\"2\")","v":0},null,"UM",{"$f":"COUNTIF('REST MEGA-SENA'!DZ:DZ,\"1\")","v":0}]
["DZS",null,null,{"$f":"COUNTIF($AJ$12:$AS$27,A2)","v":5}]
[null,null,null,null,null,null,null,null,null,{"$f":"LARGE('REST MEGA-SENA'!A:A,1)","v":2035},null,null,null,{"$f":"IFERROR(VLOOKUP($J$4,ATRASOS,3,0),\"ATU\")","v":30},null,{"$f":"IFERROR(VLOOKUP($J$4,ATRASOS,4,0),\"A\")","v":35},null,{"$f":"IFERROR(VLOOKUP($J$4,ATRASOS,5,0),\"LI\")","v":36},null,{"$f":"IFERROR(VLOOKUP($J$4,ATRASOS,6,0),\"Z\")","v":38},null,{"$f":"IFERROR(VLOOKUP($J$4,ATRASOS,7,0),\"A\")","v":49},null,{"$f":"IFERROR(VLOOKUP($J$4,ATRASOS,8,0),\"R\")","v":52}]
[null,null,null,null,null,null,null,null,null,null,null,null,null,"TABELA DE CONTROLE DE FREQUENCIAS E ATRASOS MEGA-SENA"]
[null,null,null,null,null,null,null,null,null,null,null,null,null,"C1",null,"C2",null,"C3",null,"C4",null,"C5",null,"C6",null,"C7",null,"C8",null,"C9",null,"C10"]
[]
[null,null,null,null,null,null,null,null,"MAIOR",null,null,null,null,{"$f":"LARGE(BF12:BF27,1)","v":19},6,41,5,35,6,25,5,31,4,40,7,15,5,{"$f":"LARGE(BT12:BT27,1)","v":13},6,29,6,{"$f":"LARGE(BX12:BX27,1)","v":13},5]
["FAIXA DE ANALISE",null,null,null,null,null,null,null,"MENOR",null,null,null,null,{"$f":"SMALL(BF12:BF27,1)","v":7},1,0,0,1,0,3,1,0,0,0,0,1,1,0,2,0,1,{"$f":"SMALL(BX12:BX27,1)","v":0},2]
[30,null,null,null,null,null,null,null,"L1",null,null,"+","-",1,null,2,null,3,null,4,null,5,null,6,null,7,null,8,null,9,null,10]
[null,null,null,null,null,null,null,null,null,null,null,{"$f":"LARGE(BF13:BY13,1)","v":35},{"$f":"SMALL(BF13:BY13,1)","v":1},null,null,null,null,null,null,null,null,null,null,null,null,null,null,null,null,null,null,null,null,null,null,null,null,null,null,null,null,null,null,null,null,null,null,null,null,null,null,null,null,null,null,null,null,"C1",null,"C2",null,"C3",null,"C4",null,"C5",null,"C6",null,"C7",null,"C8",null,"C9",null,"C10"]
[null,null,null,null,null,null,null,null,null,null,null,{"$f":"LARGE(BF14:BY14,1)","v":5},{"$f":"SMALL(BF14:BY14,1)","v":0},{"$f":"VLOOKUP($J$4,ATRASOS,9,0)","v":12},{"$f":"COUNTIF(OFFSET('REST MEGA-SENA'!$C$3,$BQ$1,$BR$1,$A$10,$BS$1),N10)","v":3},{"$f":"VLOOKUP($J$4,ATRASOS,10,0)","v":15},{"$f":"COUNTIF(OFFSET('REST MEGA-SENA'!$C$3,$BQ$1,$BR$1,$A$10,$BS$1),P10)","v":3},{"$f":"VLOOKUP($J$4,ATRASOS,11,0)","v":35},{"$f":"COUNTIF(OFFSET('REST MEGA-SENA'!$C$3,$BQ$1,$BR$1,$A$10,$BS$1),R10)","v":0},{"$f":"VLOOKUP($J$4,ATRASOS,12,0)","v":5},{"$f":"COUNTIF(OFFSET('REST MEGA-SENA'!$C$3,$BQ$1,$BR$1,$A$10,$BS$1),T10)","v":5},{"$f":"VLOOKUP($J$4,ATRASOS,13,0)","v":31},{"$f":"COUNTIF(OFFSET('REST MEGA-SENA'!$C$3,$BQ$1,$BR$1,$A$10,$BS$1),V10)","v":0},{"$f":"VLOOKUP($J$4,ATRASOS,14,0)","v":1},{"$f":"COUNTIF(OFFSET('REST MEGA-SENA'!$C$3,$BQ$1,$BR$1,$A$10,$BS$1),X10)","v":5},{"$f":"VLOOKUP($J$4,ATRASOS,15,0)","v":1},{"$f":"COUNTIF(OFFSET('REST MEGA-SENA'!$C$3,$BQ$1,$BR$1,$A$10,$BS$1),Z10)","v":4},{"$f":"VLOOKUP($J$4,ATRASOS,16,0)","v":12},{"$f":"COUNTIF(OFFSET('REST MEGA-SENA'!$C$3,$BQ$1,$BR$1,$A$10,$BS$1),AB10)","v":3},{"$f":"VLOOKUP($J$4,ATRASOS,17,0)","v":29},{"$f":"COUNTIF(OFFSET('REST MEGA-SENA'!$C$3,$BQ$1,$BR$1,$A$10,$BS$1),AD10)","v":1},{"$f":"VLOOKUP($J$4,ATRASOS,18,0)","v":2},{"$f":"COUNTIF(OFFSET('REST MEGA-SENA'!$C$3,$BQ$1,$BR$1,$A$10,$BS$1),AF10)","v":4},null,null,{"$f":"N12","v":12},{"$f":"P12","v":15},{"$f":"R12","v":35},{"$f":"T12","v":5},{"$f":"V12","v":31},{"$f":"X12","v":1},{"$f":"Z12","v":1},{"$f":"AB12","v":12},{"$f":"AD12","v":29},{"$f":"AF12","v":2},null,{"$f":"O12","v":3},{"$f":"Q12","v":3},{"$f":"S12","v":0},{"$f":"U12","v":5},{"$f":"W12","v":0},{"$f":"Y12","v":5},{"$f":"AA12","v":4},{"$f":"AC12","v":3},{"$f":"AE12","v":1},{"$f":"AG12","v":4},null,{"$f":"N12","v":12},{"$f":"O12","v":3},15,3,35,0,5,5,31,0,1,5,1,4,12,3,29,1,2,4]
[null,null,null,null,null,null,null,null,"L2",null,null,"+","-",11,null,12,null,13,null,14,null,15,null,16,null,17,null,18,null,19,null,20,null,null,null,null,null,null,null,null,null,null,null,null,null,null,null,null,null,null,null,null,null,null,null,null,null,{"$f":"BF12","v":12},null,{"$f":"BH12","v":15},null,{"$f":"BJ12","v":35},null,{"$f":"BL12","v":5},null,{"$f":"BN12","v":31},null,{"$f":"BP12","v":1},null,{"$f":"BR12","v":1},null,{"$f":"BT12","v":12},null,{"$f":"BV12","v":29},null,{"$f":"BX12","v":2}]
[null,null,null,null,null,null,null,null,null,null,null,{"$f":"LARGE(BF16:BY16,1)","v":41},{"$f":"SMALL(BF16:BY16,1)","v":1},null,null,null,null,null,null,null,null,null,null,null,null,null,null,null,null,null,null,null,null,null,null,null,null,null,null,null,null,null,null,null,null,null,null,null,null,null,null,null,null,null,null,null,null,null,{"$f":"BG12","v":3},null,{"$f":"BI12","v":3},null,{"$f":"BK12","v":0},null,{"$f":"BM12","v":5},null,{"$f":"BO12","v":0},null,{"$f":"BQ12","v":5},null,{"$f":"BS12","v":4},null,{"$f":"BU12","v":3},null,{"$f":"BW12","v":1},null,{"$f":"BY12","v":4}]
["FREQUENCIAS =",null,null,null,null,null,null,null,null,null,null,{"$f":"LARGE(BF17:BY17,1)","v":6},{"$f":"SMALL(BF17:BY17,1)","v":0},{"$f":"VLOOKUP($J$4,ATRASOS,19,0)","v":7},{"$f":"COUNTIF(OFFSET('REST MEGA-SENA'!$C$3,$BQ$1,$BR$1,$A$10,$BS$1),N13)","v":6},{"$f":"VLOOKUP($J$4,ATRASOS,20,0)","v":41},{"$f":"COUNTIF(OFFSET('REST MEGA-SENA'!$C$3,$BQ$1,$BR$1,$A$10,$BS$1),P13)","v":0},{"$f":"VLOOKUP($J$4,ATRASOS,21,0)","v":1},{"$f":"COUNTIF(OFFSET('REST MEGA-SENA'!$C$3,$BQ$1,$BR$1,$A$10,$BS$1),R13)","v":1},{"$f":"VLOOKUP($J$4,ATRASOS,22,0)","v":3},{"$f":"COUNTIF(OFFSET('REST MEGA-SENA'!$C$3,$BQ$1,$BR$1,$A$10,$BS$1),T13)","v":4},{"$f":"VLOOKUP($J$4,ATRASOS,23,0)","v":6},{"$f":"COUNTIF(OFFSET('REST MEGA-SENA'!$C$3,$BQ$1,$BR$1,$A$10,$BS$1),V13)","v":2},{"$f":"VLOOKUP($J$4,ATRASOS,24,0)","v":11},{"$f":"COUNTIF(OFFSET('REST MEGA-SENA'!$C$3,$BQ$1,$BR$1,$A$10,$BS$1),X13)","v":2},{"$f":"VLOOKUP($J$4,ATRASOS,25,0)","v":1},{"$f":"COUNTIF(OFFSET('REST MEGA-SENA'!$C$3,$BQ$1,$BR$1,$A$10,$BS$1),Z13)","v":3},{"$f":"VLOOKUP($J$4,ATRASOS,26,0)","v":2},{"$f":"COUNTIF(OFFSET('REST MEGA-SENA'!$C$3,$BQ$1,$BR$1,$A$10,$BS$1),AB13)","v":6},{"$f":"VLOOKUP($J$4,ATRASOS,27,0)","v":3},{"$f":"COUNTIF(OFFSET('REST MEGA-SENA'!$C$3,$BQ$1,$BR$1,$A$10,$BS$1),AD13)","v":1},{"$f":"VLOOKUP($J$4,ATRASOS,28,0)","v":3},{"$f":"COUNTIF(OFFSET('REST MEGA-SENA'!$C$3,$BQ$1,$BR$1,$A$10,$BS$1),AF13)","v":3},null,null,{"$f":"N15","v":7},{"$f":"P15","v":41},{"$f":"R15","v":1},{"$f":"T15","v":3},{"$f":"V15","v":6},{"$f":"X15","v":11},{"$f":"Z15","v":1},{"$f":"AB15","v":2},{"$f":"AD15","v":3},{"$f":"AF15","v":3},null,{"$f":"O15","v":6},{"$f":"Q15","v":0},{"$f":"S15","v":1},{"$f":"U15","v":4},{"$f":"W15","v":2},{"$f":"Y15","v":2},{"$f":"AA15","v":3},{"$f":"AC15","v":6},{"$f":"AE15","v":1},{"$f":"AG15","v":3},null,{"$f":"N15","v":7},6,41,0,1,1,3,4,6,2,11,2,1,3,2,6,3,1,3,3]
[5,null,null,null,null,null,null,null,"L3",null,null,"+","-",21,null,22,null,23,null,24,null,25,null,26,null,27,null,28,null,29,null,30,null,null,null,null,null,null,null,null,null,null,null,null,null,null,null,null,null,null,null,null,null,null,null,null,null,{"$f":"BF15","v":7},null,{"$f":"BH15","v":41},null,{"$f":"BJ15","v":1},null,{"$f":"BL15","v":3},null,{"$f":"BN15","v":6},null,{"$f":"BP15","v":11},null,{"$f":"BR15","v":1},null,{"$f":"BT15","v":2},null,{"$f":"BV15","v":3},null,{"$f":"BX15","v":3}]
["DZS",null,null,{"$f":"COUNTIF($AU$12:$BD$27,A16)","v":8},null,null,null,null,null,null,null,{"$f":"LARGE(BF19:BY19,1)","v":40},{"$f":"SMALL(BF19:BY19,1)","v":0},null,null,null,null,null,null,null,null,null,null,null,null,null,null,null,null,null,null,null,null,null,null,null,null,null,null,null,null,null,null,null,null,null,null,null,null,null,null,null,null,null,null,null,null,null,{"$f":"BG15","v":6},null,{"$f":"BI15","v":0},null,{"$f":"BK15","v":1},null,{"$f":"BM15","v":4},null,{"$f":"BO15","v":2},null,{"$f":"BQ15","v":2},null,{"$f":"BS15","v":3},null,{"$f":"BU15","v":6},null,{"$f":"BW15","v":1},null,{"$f":"BY15","v":3}]
[null,null,null,null,null,null,null,null,null,null,null,{"$f":"LARGE(BF20:BY20,1)","v":6},{"$f":"SMALL(BF20:BY20,1)","v":0},{"$f":"VLOOKUP($J$4,ATRASOS,29,0)","v":19},{"$f":"COUNTIF(OFFSET('REST MEGA-SENA'!$C$3,$BQ$1,$BR$1,$A$10,$BS$1),N16)","v":1},{"$f":"VLOOKUP($J$4,ATRASOS,30,0)","v":1},{"$f":"COUNTIF(OFFSET('REST MEGA-SENA'!$C$3,$BQ$1,$BR$1,$A$10,$BS$1),P16)","v":3},{"$f":"VLOOKUP($J$4,ATRASOS,31,0)","v":4},{"$f":"COUNTIF(OFFSET('REST MEGA-SENA'!$C$3,$BQ$1,$BR$1,$A$10,$BS$1),R16)","v":6},{"$f":"VLOOKUP($J$4,ATRASOS,32,0)","v":7},{"$f":"COUNTIF(OFFSET('REST MEGA-SENA'!$C$3,$BQ$1,$BR$1,$A$10,$BS$1),T16)","v":3},{"$f":"VLOOKUP($J$4,ATRASOS,33,0)","v":17},{"$f":"COUNTIF(OFFSET('REST MEGA-SENA'!$C$3,$BQ$1,$BR$1,$A$10,$BS$1),V16)","v":2},{"$f":"VLOOKUP($J$4,ATRASOS,34,0)","v":40},{"$f":"COUNTIF(OFFSET('REST MEGA-SENA'!$C$3,$BQ$1,$BR$1,$A$10,$BS$1),X16)","v":0},{"$f":"VLOOKUP($J$4,ATRASOS,35,0)","v":5},{"$f":"COUNTIF(OFFSET('REST MEGA-SENA'!$C$3,$BQ$1,$BR$1,$A$10,$BS$1),Z16)","v":5},{"$f":"VLOOKUP($J$4,ATRASOS,36,0)","v":13},{"$f":"COUNTIF(OFFSET('REST MEGA-SENA'!$C$3,$BQ$1,$BR$1,$A$10,$BS$1),AB16)","v":2},{"$f":"VLOOKUP($J$4,ATRASOS,37,0)","v":8},{"$f":"COUNTIF(OFFSET('REST MEGA-SENA'!$C$3,$BQ$1,$BR$1,$A$10,$BS$1),AD16)","v":2},{"$f":"VLOOKUP($J$4,ATRASOS,38,0)","v":0},{"$f":"COUNTIF(OFFSET('REST MEGA-SENA'!$C$3,$BQ$1,$BR$1,$A$10,$BS$1),AF16)","v":2},null,null,{"$f":"N18","v":19},{"$f":"P18","v":1},{"$f":"R18","v":4},{"$f":"T18","v":7},{"$f":"V18","v":17},{"$f":"X18","v":40},{"$f":"Z18","v":5},{"$f":"AB18","v":13},{"$f":"AD18","v":8},{"$f":"AF18","v":0},null,{"$f":"O18","v":1},{"$f":"Q18","v":3},{"$f":"S18","v":6},{"$f":"U18","v":3},{"$f":"W18","v":2},{"$f":"Y18","v":0},{"$f":"AA18","v":5},{"$f":"AC18","v":2},{"$f":"AE18","v":2},{"$f":"AG18","v":2},null,{"$f":"N18","v":19},1,1,3,4,6,7,3,17,2,40,0,5,5,13,2,8,2,0,2]
[null,null,null,null,null,null,null,null,"L4",null,null,"+","-",31,null,32,null,33,null,34,null,35,null,36,null,37,null,38,null,39,null,40,null,null,null,null,null,null,null,null,null,null,null,null,null,null,null,null,null,null,null,null,null,null,null,null,null,{"$f":"BF18","v":19},null,{"$f":"BH18","v":1},null,{"$f":"BJ18","v":4},null,{"$f":"BL18","v":7},null,{"$f":"BN18","v":17},null,{"$f":"BP18","v":40},null,{"$f":"BR18","v":5},null,{"$f":"BT18","v":13},null,{"$f":"BV18","v":8},null,{"$f":"BX18","v":0}]
[null,null,null,null,null,null,null,null,null,null,null,{"$f":"LARGE(BF22:BY22,1)","v":25},{"$f":"SMALL(BF22:BY22,1)","v":0},null,null,null,null,null,null,null,null,null,null,null,null,null,null,null,null,null,null,null,null,null,null,null,null,null,null,null,null,null,null,null,null,null,null,null,null,null,null,null,null,null,null,null,null,null,{"$f":"BG18","v":1},null,{"$f":"BI18","v":3},null,{"$f":"BK18","v":6},null,{"$f":"BM18","v":3},null,{"$f":"BO18","v":2},null,{"$f":"BQ18","v":0},null,{"$f":"BS18","v":5},null,{"$f":"BU18","v":2},null,{"$f":"BW18","v":2},null,{"$f":"BY18","v":2}]
[null,null,null,null,null,null,null,null,null,null,null,{"$f":"LARGE(BF23:BY23,1)","v":6},{"$f":"SMALL(BF23:BY23,1)","v":1},{"$f":"VLOOKUP($J$4,ATRASOS,39,0)","v":9},{"$f":"COUNTIF(OFFSET('REST MEGA-SENA'!$C$3,$BQ$1,$BR$1,$A$10,$BS$1),N19)","v":1},{"$f":"VLOOKUP($J$4,ATRASOS,40,0)","v":14},{"$f":"COUNTIF(OFFSET('REST MEGA-SENA'!$C$3,$BQ$1,$BR$1,$A$10,$BS$1),P19)","v":4},{"$f":"VLOOKUP($J$4,ATRASOS,41,0)","v":2},{"$f":"COUNTIF(OFFSET('REST MEGA-SENA'!$C$3,$BQ$1,$BR$1,$A$10,$BS$1),R19)","v":4},{"$f":"VLOOKUP($J$4,ATRASOS,42,0)","v":25},{"$f":"COUNTIF(OFFSET('REST MEGA-SENA'!$C$3,$BQ$1,$BR$1,$A$10,$BS$1),T19)","v":1},{"$f":"VLOOKUP($J$4,ATRASOS,43,0)","v":0},{"$f":"COUNTIF(OFFSET('REST MEGA-SENA'!$C$3,$BQ$1,$BR$1,$A$10,$BS$1),V19)","v":4},{"$f":"VLOOKUP($J$4,ATRASOS,44,0)","v":0},{"$f":"COUNTIF(OFFSET('REST MEGA-SENA'!$C$3,$BQ$1,$BR$1,$A$10,$BS$1),X19)","v":5},{"$f":"VLOOKUP($J$4,ATRASOS,45,0)","v":4},{"$f":"COUNTIF(OFFSET('REST MEGA-SENA'!$C$3,$BQ$1,$BR$1,$A$10,$BS$1),Z19)","v":5},{"$f":"VLOOKUP($J$4,ATRASOS,46,0)","v":0},{"$f":"COUNTIF(OFFSET('REST MEGA-SENA'!$C$3,$BQ$1,$BR$1,$A$10,$BS$1),AB19)","v":4},{"$f":"VLOOKUP($J$4,ATRASOS,47,0)","v":3},{"$f":"COUNTIF(OFFSET('REST MEGA-SENA'!$C$3,$BQ$1,$BR$1,$A$10,$BS$1),AD19)","v":6},{"$f":"VLOOKUP($J$4,ATRASOS,48,0)","v":2},{"$f":"COUNTIF(OFFSET('REST MEGA-SENA'!$C$3,$BQ$1,$BR$1,$A$10,$BS$1),AF19)","v":5},null,null,{"$f":"N21","v":9},{"$f":"P21","v":14},{"$f":"R21","v":2},{"$f":"T21","v":25},{"$f":"V21","v":0},{"$f":"X21","v":0},{"$f":"Z21","v":4},{"$f":"AB21","v":0},{"$f":"AD21","v":3},{"$f":"AF21","v":2},null,{"$f":"O21","v":1},{"$f":"Q21","v":4},{"$f":"S21","v":4},{"$f":"U21","v":1},{"$f":"W21","v":4},{"$f":"Y21","v":5},{"$f":"AA21","v":5},{"$f":"AC21","v":4},{"$f":"AE21","v":6},{"$f":"AG21","v":5},null,{"$f":"N21","v":9},1,14,4,2,4,25,1,0,4,0,5,4,5,0,4,3,6,2,5]
[null,null,null,null,null,null,null,null,"L5",null,null,"+","-",41,null,42,null,43,null,44,null,45,null,46,null,47,null,48,null,49,null,50,null,null,null,null,null,null,null,null,null,null,null,null,null,null,null,null,null,null,null,null,null,null,null,null,null,{"$f":"BF21","v":9},null,{"$f":"BH21","v":14},null,{"$f":"BJ21","v":2},null,{"$f":"BL21","v":25},null,{"$f":"BN21","v":0},null,{"$f":"BP21","v":0},null,{"$f":"BR21","v":4},null,{"$f":"BT21","v":0},null,{"$f":"BV21","v":3},null,{"$f":"BX21","v":2}]
[null,null,null,null,null,null,null,null,null,null,null,{"$f":"LARGE(BF25:BY25,1)","v":16},{"$f":"SMALL(BF25:BY25,1)","v":0},null,null,null,null,null,null,null,null,null,null,null,null,null,null,null,null,null,null,null,null,null,null,null,null,null,null,null,null,null,null,null,null,null,null,null,null,null,null,null,null,null,null,null,null,null,{"$f":"BG21","v":1},null,{"$f":"BI21","v":4},null,{"$f":"BK21","v":4},null,{"$f":"BM21","v":1},null,{"$f":"BO21","v":4},null,{"$f":"BQ21","v":5},null,{"$f":"BS21","v":5},null,{"$f":"BU21","v":4},null,{"$f":"BW21","v":6},null,{"$f":"BY21","v":5}]
[null,null,null,null,null,null,null,null,null,null,null,{"$f":"LARGE(BF26:BY26,1)","v":5},{"$f":"SMALL(BF26:BY26,1)","v":1},{"$f":"VLOOKUP($J$4,ATRASOS,49,0)","v":16},{"$f":"COUNTIF(OFFSET('REST MEGA-SENA'!$C$3,$BQ$1,$BR$1,$A$10,$BS$1),N22)","v":2},{"$f":"VLOOKUP($J$4,ATRASOS,50,0)","v":7},{"$f":"COUNTIF(OFFSET('REST MEGA-SENA'!$C$3,$BQ$1,$BR$1,$A$10,$BS$1),P22)","v":2},{"$f":"VLOOKUP($J$4,ATRASOS,51,0)","v":2},{"$f":"COUNTIF(OFFSET('REST MEGA-SENA'!$C$3,$BQ$1,$BR$1,$A$10,$BS$1),R22)","v":1},{"$f":"VLOOKUP($J$4,ATRASOS,52,0)","v":8},{"$f":"COUNTIF(OFFSET('REST MEGA-SENA'!$C$3,$BQ$1,$BR$1,$A$10,$BS$1),T22)","v":2},{"$f":"VLOOKUP($J$4,ATRASOS,53,0)","v":13},{"$f":"COUNTIF(OFFSET('REST MEGA-SENA'!$C$3,$BQ$1,$BR$1,$A$10,$BS$1),V22)","v":1},{"$f":"VLOOKUP($J$4,ATRASOS,54,0)","v":10},{"$f":"COUNTIF(OFFSET('REST MEGA-SENA'!$C$3,$BQ$1,$BR$1,$A$10,$BS$1),X22)","v":5},{"$f":"VLOOKUP($J$4,ATRASOS,55,0)","v":11},{"$f":"COUNTIF(OFFSET('REST MEGA-SENA'!$C$3,$BQ$1,$BR$1,$A$10,$BS$1),Z22)","v":1},{"$f":"VLOOKUP($J$4,ATRASOS,56,0)","v":13},{"$f":"COUNTIF(OFFSET('REST MEGA-SENA'!$C$3,$BQ$1,$BR$1,$A$10,$BS$1),AB22)","v":4},{"$f":"VLOOKUP($J$4,ATRASOS,57,0)","v":0},{"$f":"COUNTIF(OFFSET('REST MEGA-SENA'!$C$3,$BQ$1,$BR$1,$A$10,$BS$1),AD22)","v":1},{"$f":"VLOOKUP($J$4,ATRASOS,58,0)","v":4},{"$f":"COUNTIF(OFFSET('REST MEGA-SENA'!$C$3,$BQ$1,$BR$1,$A$10,$BS$1),AF22)","v":2},null,null,{"$f":"N24","v":16},{"$f":"P24","v":7},{"$f":"R24","v":2},{"$f":"T24","v":8},{"$f":"V24","v":13},{"$f":"X24","v":10},{"$f":"Z24","v":11},{"$f":"AB24","v":13},{"$f":"AD24","v":0},{"$f":"AF24","v":4},null,{"$f":"O24","v":2},{"$f":"Q24","v":2},{"$f":"S24","v":1},{"$f":"U24","v":2},{"$f":"W24","v":1},{"$f":"Y24","v":5},{"$f":"AA24","v":1},{"$f":"AC24","v":4},{"$f":"AE24","v":1},{"$f":"AG24","v":2},null,{"$f":"N24","v":16},2,7,2,2,1,8,2,13,1,10,5,11,1,13,4,0,1,4,2]
[null,null,null,null,null,null,null,null,"L6",null,null,"+","-",51,null,52,null,53,null,54,null,55,null,56,null,57,null,58,null,59,null,60,null,null,null,null,null,null,null,null,null,null,null,null,null,null,null,null,null,null,null,null,null,null,null,null,null,{"$f":"BF24","v":16},null,{"$f":"BH24","v":7},null,{"$f":"BJ24","v":2},null,{"$f":"BL24","v":8},null,{"$f":"BN24","v":13},null,{"$f":"BP24","v":10},null,{"$f":"BR24","v":11},null,{"$f":"BT24","v":13},null,{"$f":"BV24","v":0},null,{"$f":"BX24","v":4}]
[null,null,null,null,null,null,null,null,null,null,null,{"$f":"LARGE(BF28:BY28,1)","v":16},{"$f":"SMALL(BF28:BY28,1)","v":0},null,null,null,null,null,null,null,null,null,null,null,null,null,null,null,null,null,null,null,null,null,null,null,null,null,null,null,null,null,null,null,null,null,null,null,null,null,null,null,null,null,null,null,null,null,{"$f":"BG24","v":2},null,{"$f":"BI24","v":2},null,{"$f":"BK24","v":1},null,{"$f":"BM24","v":2},null,{"$f":"BO24","v":1},null,{"$f":"BQ24","v":5},null,{"$f":"BS24","v":1},null,{"$f":"BU24","v":4},null,{"$f":"BW24","v":1},null,{"$f":"BY24","v":2}]
[null,null,null,null,null,null,null,null,null,null,null,{"$f":"LARGE(BF29:BY29,1)","v":7},{"$f":"SMALL(BF29:BY29,1)","v":1},{"$f":"VLOOKUP($J$4,ATRASOS,59,0)","v":9},{"$f":"COUNTIF(OFFSET('REST MEGA-SENA'!$C$3,$BQ$1,$BR$1,$A$10,$BS$1),N25)","v":2},{"$f":"VLOOKUP($J$4,ATRASOS,60,0)","v":0},{"$f":"COUNTIF(OFFSET('REST MEGA-SENA'!$C$3,$BQ$1,$BR$1,$A$10,$BS$1),P25)","v":5},{"$f":"VLOOKUP($J$4,ATRASOS,61,0)","v":3},{"$f":"COUNTIF(OFFSET('REST MEGA-SENA'!$C$3,$BQ$1,$BR$1,$A$10,$BS$1),R25)","v":3},{"$f":"VLOOKUP($J$4,ATRASOS,62,0)","v":16},{"$f":"COUNTIF(OFFSET('REST MEGA-SENA'!$C$3,$BQ$1,$BR$1,$A$10,$BS$1),T25)","v":4},{"$f":"VLOOKUP($J$4,ATRASOS,63,0)","v":4},{"$f":"COUNTIF(OFFSET('REST MEGA-SENA'!$C$3,$BQ$1,$BR$1,$A$10,$BS$1),V25)","v":3},{"$f":"VLOOKUP($J$4,ATRASOS,64,0)","v":1},{"$f":"COUNTIF(OFFSET('REST MEGA-SENA'!$C$3,$BQ$1,$BR$1,$A$10,$BS$1),X25)","v":7},{"$f":"VLOOKUP($J$4,ATRASOS,65,0)","v":15},{"$f":"COUNTIF(OFFSET('REST MEGA-SENA'!$C$3,$BQ$1,$BR$1,$A$10,$BS$1),Z25)","v":1},{"$f":"VLOOKUP($J$4,ATRASOS,66,0)","v":5},{"$f":"COUNTIF(OFFSET('REST MEGA-SENA'!$C$3,$BQ$1,$BR$1,$A$10,$BS$1),AB25)","v":6},{"$f":"VLOOKUP($J$4,ATRASOS,67,0)","v":5},{"$f":"COUNTIF(OFFSET('REST MEGA-SENA'!$C$3,$BQ$1,$BR$1,$A$10,$BS$1),AD25)","v":4},{"$f":"VLOOKUP($J$4,ATRASOS,68,0)","v":13},{"$f":"COUNTIF(OFFSET('REST MEGA-SENA'!$C$3,$BQ$1,$BR$1,$A$10,$BS$1),AF25)","v":3},null,null,{"$f":"N27","v":9},{"$f":"P27","v":0},{"$f":"R27","v":3},{"$f":"T27","v":16},{"$f":"V27","v":4},{"$f":"X27","v":1},{"$f":"Z27","v":15},{"$f":"AB27","v":5},{"$f":"AD27","v":5},{"$f":"AF27","v":13},null,{"$f":"O27","v":2},{"$f":"Q27","v":5},{"$f":"S27","v":3},{"$f":"U27","v":4},{"$f":"W27","v":3},{"$f":"Y27","v":7},{"$f":"AA27","v":1},{"$f":"AC27","v":6},{"$f":"AE27","v":4},{"$f":"AG27","v":3},null,{"$f":"N27","v":9},2,0,5,3,3,16,4,4,3,1,7,15,1,5,6,5,4,13,3]
[null,null,null,null,null,null,null,null,null,null,null,null,null,null,null,null,null,null,null,null,null,null,null,null,null,null,null,null,null,null,null,null,null,null,null,null,null,null,null,null,null,null,null,null,null,null,null,null,null,null,null,null,null,null,null,null,null,{"$f":"BF27","v":9},null,{"$f":"BH27","v":0},null,{"$f":"BJ27","v":3},null,{"$f":"BL27","v":16},null,{"$f":"BN27","v":4},null,{"$f":"BP27","v":1},null,{"$f":"BR27","v":15},null,{"$f":"BT27","v":5},null,{"$f":"BV27","v":5},null,{"$f":"BX27","v":13}]
["DZS MARCADAS",null,null,null,null,null,null,null,null,null,null,null,null,null,null,null,null,null,null,null,null,null,null,null,null,null,null,null,null,null,null,null,null,null,null,null,null,null,null,null,null,null,null,null,null,null,null,null,null,null,null,null,null,null,null,null,null,null,{"$f":"BG27","v":2},null,{"$f":"BI27","v":5},null,{"$f":"BK27","v":3},null,{"$f":"BM27","v":4},null,{"$f":"BO27","v":3},null,{"$f":"BQ27","v":7},null,{"$f":"BS27","v":1},null,{"$f":"BU27","v":6},null,{"$f":"BW27","v":4},null,{"$f":"BY27","v":3}]
[{"$f":"COUNT(N29:AG31)","v":0},null,null,"DZS"]