{"text_format":"1","workbook":"xlsx","n_sheets":6,"sheets":["J","Matrix","20Fx30Fr=40","20Fx30Fr=12","Conferidor","Plan1"],"not_rendered":{"charts":0,"images":6,"macros":1,"external_links":0,"defined_names":0,"comments":4,"pivot_tables":0},"unopened":[],"bounds":{"document_bytes":16777216,"sheet_cells":100000,"rows_first":2000,"rows_last":500,"rows_between":2000,"halvings":0,"cell_chars":16384,"cell_head_chars":4096},"cells_cut":0,"cells_raw":0,"read":"whole","date_system":"1900"}

{"sheet":"J","index":0,"n_rows":2002,"n_cols":124,"rows_kept":1125,"cut":true,"hidden":false,"merged":[[7,98,7,109],[36,96,36,111],[1769,75,1769,86],[25,93,29,93],[7,93,11,93],[13,93,17,93],[19,77,23,77],[19,81,23,81],[19,85,23,85],[19,89,23,89],[19,93,23,93],[1,77,5,77],[1,81,5,81],[7,77,11,77],[7,81,11,81],[7,85,11,85],[25,77,29,77],[25,81,29,81],[25,85,29,85],[25,89,29,89],[7,89,11,89],[13,77,17,77],[13,81,17,81],[13,85,17,85],[13,89,17,89],[1,85,5,85],[1,89,5,89],[1,93,5,93],[16,26,17,26],[18,26,19,26],[20,26,21,26],[22,26,23,26],[24,26,25,26],[11,29,11,30],[6,29,6,30],[7,29,7,30],[8,29,8,30],[9,29,9,30],[10,29,10,30],[1,29,1,30],[2,29,2,30],[3,29,3,30],[4,29,4,30],[5,29,5,30],[9,33,9,34],[9,35,9,36],[9,39,9,40],[9,41,9,42],[11,39,11,40],[10,39,10,40],[1,38,11,38],[3,33,3,34],[3,35,3,36],[5,33,5,34],[5,35,5,36],[11,35,11,36],[7,35,7,36],[4,35,4,36],[10,41,10,42],[8,41,8,42],[5,39,5,40],[5,41,5,42],[8,39,8,40],[11,41,11,42],[8,33,8,34],[8,35,8,36],[7,33,7,34],[1,35,1,36],[4,41,4,42],[6,39,6,40],[7,41,7,42],[6,41,6,42],[4,39,4,40],[3,41,3,42],[1,39,1,40],[1,41,1,42],[2,39,2,40],[2,41,2,42],[3,39,3,40],[7,39,7,40],[14,27,15,36],[14,38,15,47],[42,27,42,28],[26,27,26,28],[26,29,26,30],[26,31,26,32],[26,33,26,34],[26,35,26,36],[0,11,0,12],[1,27,11,27],[42,36,42,37],[42,39,42,40],[28,27,29,36],[28,38,29,47],[1,32,11,32],[1,33,1,34],[4,33,4,34],[10,33,10,34],[10,35,10,36],[2,33,2,34],[2,35,2,36],[11,33,11,34],[6,33,6,34],[6,35,6,36],[45,28,62,28],[45,31,62,31],[112,28,127,28],[112,31,129,31],[108,29,108,30],[108,31,108,32],[99,28,100,28],[101,28,102,28],[103,28,104,28],[105,28,106,28],[107,28,108,28],[42,29,42,33],[42,46,42,47],[43,29,43,30],[43,32,43,33],[43,36,43,37],[43,39,43,40],[43,42,43,44],[43,45,43,47],[108,33,108,34],[108,35,108,36],[108,37,108,38],[96,29,97,38],[45,35,57,35],[45,38,57,38],[177,27,177,28],[180,28,195,28],[180,31,197,31],[109,29,109,33],[110,29,110,30],[110,32,110,33],[178,29,178,30],[178,32,178,33],[177,29,177,33],[164,29,165,38],[167,28,168,28],[169,28,170,28],[171,28,172,28],[173,28,174,28],[175,28,176,28],[176,29,176,30],[176,31,176,32],[176,33,176,34],[176,35,176,36],[176,37,176,38],[109,27,109,28]],"bounds":{"rows_first":500,"rows_last":125,"rows_between":500,"halvings":2}}
[{"$f":"COUNT(C3:V2503)/20","v":1870},null,"Último concurso cadastrado",null,null,null,null,null,null,null,null,null,null,null,null,null,null,null,null,null,null,null,null,null,null,null,null,null,null,null,null,null,null,null,null,null,null,null,null,null,null,null,null,null,null,null,null,null,null,"Estatística das VINDAS por QUADRAS",null,null,null,null,null,null,null,null,null,null,null,null,null,null,null,null,null,null,null,null,null,null,null,null,null,"GERAL Todos",null,null,"Média","Total",null,null,"Média","Total",null,null,"Média","Total",null,null,"Média","Total",null,null,"Média","Total"]
["Concursos",null,1,2,3,4,5,6,7,8,9,10,11,12,13,14,15,16,17,18,19,20,null,"Repete","Pares","Soma",null,"Repetições do jogo anterior","de 00 = ",{"$f":"SUM(COUNTIF($X$3:$X$3000,0))","v":149},null,null,"PARES","de 05 = ",null,{"$f":"SUM(COUNTIF($Y$3:$Y$3000,5))","v":31},null,null,"Faixa das Somas","< 160= ",null,{"$f":"SUM(COUNTIF($Z$3:$Z$3000,\"<160\"))","v":130},null,null,null,null,null,null,null,"A 1","A 2","A 3","A 4","A 5","B 1","B 2","B 3","B 4","B 5","C 1","C 2","C 3","C 4","C 5","D 1","D 2","D 3","D 4","D 5","E 1","E 2","E 3","E 4","E 5",null," = 00",null,"A 1",{"$f":"SUM($A$1/$CB2)","v":2.0640176600441502},{"$f":"SUM(COUNTIF($AX$3:$AX$3000,0))","v":906},null,"A 2",{"$f":"SUM($A$1/$CB2)","v":2.0640176600441502},{"$f":"SUM(COUNTIF($AY$3:$AY$3000,0))","v":864},null,"A 3",{"$f":"SUM($A$1/$CJ2)","v":2.125},{"$f":"SUM(COUNTIF($AZ$3:$AZ$3000,0))","v":880},null,"A 4",{"$f":"SUM($A$1/$CN2)","v":2.1082299887260429},{"$f":"SUM(COUNTIF($BA$3:$BA$3000,0))","v":887},null,"A 5",{"$f":"SUM($A$1/$CR2)","v":2.2077922077922079},{"$f":"SUM(COUNTIF($BB$3:$BB$3000,0))","v":847},null,null,null,null,null,"A1","A2","A3","A4","A5"]
[1,null,16,11,88,32,25,0,70,78,73,61,90,89,46,95,6,33,34,21,14,22,null,{"$f":"SUMPRODUCT(COUNTIF(C3:V3,C2:V2))","v":4},{"$f":"SUMPRODUCT(N(MOD((C3:V3),2)=0)*(C3:V3>0))","v":11},{"$f":"SUM(C3:V3)","v":904},null,null,"de 01 = ",{"$f":"SUM(COUNTIF($X$3:$X$3000,1))","v":90},null,null,null,"de 06 = ",null,{"$f":"SUM(COUNTIF($Y$3:$Y$3000,6))","v":61},null,null,null,"> 160 e < 170 = ",null,{"$f":"COUNTIFS($Z$3:$Z$3000,\">=160\",$Z$3:$Z$3000,\"<170\")","v":0},null,null,null,null,null,null,null,{"$f":"SUMPRODUCT(COUNTIF($C3:$V3,$AB$17:$AC$18))","v":2},{"$f":"SUMPRODUCT(COUNTIF($C3:$V3,$AD$17:$AE$18))","v":2},{"$f":"SUMPRODUCT(COUNTIF($C3:$V3,$AF$17:$AG$18))","v":1},{"$f":"SUMPRODUCT(COUNTIF($C3:$V3,$AH$17:$AI$18))","v":0},{"$f":"SUMPRODUCT(COUNTIF($C3:$V3,$AJ$17:$AK$18))","v":0},{"$f":"SUMPRODUCT(COUNTIF($C3:$V3,$AB$19:$AC$20))","v":1},{"$f":"SUMPRODUCT(COUNTIF($C3:$V3,$AD$19:$AE$20))","v":0},{"$f":"SUMPRODUCT(COUNTIF($C3:$V3,$AF$19:$AG$20))","v":1},{"$f":"SUMPRODUCT(COUNTIF($C3:$V3,$AH$19:$AI$20))","v":0},{"$f":"SUMPRODUCT(COUNTIF($C3:$V3,$AJ$19:$AK$20))","v":1},{"$f":"SUMPRODUCT(COUNTIF($C3:$V3,$AB$21:$AC$22))","v":0},{"$f":"SUMPRODUCT(COUNTIF($C3:$V3,$AD$21:$AE$22))","v":1},{"$f":"SUMPRODUCT(COUNTIF($C3:$V3,$AF$21:$AG$22))","v":1},{"$f":"SUMPRODUCT(COUNTIF($C3:$V3,$AH$21:$AI$22))","v":0},{"$f":"SUMPRODUCT(COUNTIF($C3:$V3,$AJ$21:$AK$22))","v":0},{"$f":"SUMPRODUCT(COUNTIF($C3:$V3,$AB$23:$AC$24))","v":2},{"$f":"SUMPRODUCT(COUNTIF($C3:$V3,$AD$23:$AE$24))","v":2},{"$f":"SUMPRODUCT(COUNTIF($C3:$V3,$AF$23:$AG$24))","v":0},{"$f":"SUMPRODUCT(COUNTIF($C3:$V3,$AH$23:$AI$24))","v":2},{"$f":"SUMPRODUCT(COUNTIF($C3:$V3,$AJ$23:$AK$24))","v":0},{"$f":"SUMPRODUCT(COUNTIF($C3:$V3,$AB$25:$AC$26))","v":1},{"$f":"SUMPRODUCT(COUNTIF($C3:$V3,$AD$25:$AE$26))","v":1},{"$f":"SUMPRODUCT(COUNTIF($C3:$V3,$AF$25:$AG$26))","v":0},{"$f":"SUMPRODUCT(COUNTIF($C3:$V3,$AH$25:$AI$26))","v":1},{"$f":"SUMPRODUCT(COUNTIF($C3:$V3,$AJ$25:$AK$26))","v":1},null," = 01",null,"A 3ª",{"$f":"SUM($A$1/$CB3)","v":2.4605263157894739},{"$f":"SUM(COUNTIF($AX$3:$AX$3000,1))","v":760},null,"A 3ª",{"$f":"SUM($A$1/$CB3)","v":2.4605263157894739},{"$f":"SUM(COUNTIF($AY$3:$AY$3000,1))","v":795},null,"A 3ª",{"$f":"SUM($A$1/$CJ3)","v":2.3821656050955413},{"$f":"SUM(COUNTIF($AZ$3:$AZ$3000,1))","v":785},null,"A 3ª",{"$f":"SUM($A$1/$CN3)","v":2.4066924066924065},{"$f":"SUM(COUNTIF($BA$3:$BA$3000,1))","v":777},null,"A 3ª",{"$f":"SUM($A$1/$CR3)","v":2.3522012578616351},{"$f":"SUM(COUNTIF($BB$3:$BB$3000,1))","v":795},null,null,null,null,null,"B1","B2","B3","B4","B5",null,null,"Inclui Base Inicial para iniciar/partir as outras variacoes dos 13x",null,null,null,null,null,null,null,null,null,null,null,null,null,null,"Para dar o ponto de partida"]
[2,null,76,63,18,44,84,11,55,93,8,29,82,62,17,64,24,14,37,97,49,51,null,{"$f":"SUMPRODUCT(COUNTIF(C4:V4,C3:V3))","v":2},{"$f":"SUMPRODUCT(N(MOD((C4:V4),2)=0)*(C4:V4>0))","v":10},{"$f":"SUM(C4:V4)","v":978},null,null,"de 02 = ",{"$f":"SUM(COUNTIF($X$3:$X$3000,2))","v":223},null,null,null,"de 07 = ",null,{"$f":"SUM(COUNTIF($Y$3:$Y$3000,7))","v":139},null,null,null,"> 170 e < 180 = ",null,{"$f":"COUNTIFS($Z$3:$Z$3000,\">=170\",$Z$3:$Z$3000,\"<180\")","v":0},null,null,null,null,null,null,null,1,0,0,1,0,0,1,0,2,1,0,1,1,1,1,2,0,2,2,2,0,1,0,1,0,null," = 02",null,"A 3ª",{"$f":"SUM($A$1/$CB4)","v":6.5384615384615383},{"$f":"SUM(COUNTIF($AX$3:$AX$3000,2))","v":286},null,"A 3ª",{"$f":"SUM($A$1/$CB4)","v":6.5384615384615383},{"$f":"SUM(COUNTIF($AY$3:$AY$3000,2))","v":287},null,"A 3ª",{"$f":"SUM($A$1/$CJ4)","v":6.4482758620689653},{"$f":"SUM(COUNTIF($AZ$3:$AZ$3000,2))","v":290},null,"A 3ª",{"$f":"SUM($A$1/$CN4)","v":6.3822525597269628},{"$f":"SUM(COUNTIF($BA$3:$BA$3000,2))","v":293},null,"A 3ª",{"$f":"SUM($A$1/$CR4)","v":5.9935897435897436},{"$f":"SUM(COUNTIF($BB$3:$BB$3000,2))","v":312},null,null,null,null,null,"C1","C2","C3","C4","C5"]
[3,null,34,8,10,11,99,28,67,20,55,74,45,48,85,91,79,57,47,22,17,54,null,4,9,951,null,null,"de 03 = ",{"$f":"SUM(COUNTIF($X$3:$X$3000,3))","v":395},null,null,null,"de 08 = ",null,{"$f":"SUM(COUNTIF($Y$3:$Y$3000,8))","v":263},null,null,null,"> 180 e < 190 = ",null,{"$f":"COUNTIFS($Z$3:$Z$3000,\">=180\",$Z$3:$Z$3000,\"<190\")","v":0},null,null,null,null,null,null,null,1,1,3,0,0,0,2,1,1,0,1,0,0,3,1,1,1,1,0,2,0,0,0,1,0,null," = 03",null,"A 3ª",{"$f":"SUM($A$1/$CB5)","v":41.555555555555557},{"$f":"SUM(COUNTIF($AX$3:$AX$3000,3))","v":45},null,"A 3ª",{"$f":"SUM($A$1/$CB5)","v":41.555555555555557},{"$f":"SUM(COUNTIF($AY$3:$AY$3000,3))","v":53},null,"A 3ª",{"$f":"SUM($A$1/$CJ5)","v":43.488372093023258},{"$f":"SUM(COUNTIF($AZ$3:$AZ$3000,3))","v":43},null,"A 3ª",{"$f":"SUM($A$1/$CN5)","v":43.488372093023258},{"$f":"SUM(COUNTIF($BA$3:$BA$3000,3))","v":43},null,"A 3ª",{"$f":"SUM($A$1/$CR5)","v":44.523809523809526},{"$f":"SUM(COUNTIF($BB$3:$BB$3000,3))","v":42},null,null,null,null,null,"D1","D2","D3","D4","D5",null,null,"(Pretendo fazer isso para cada Forca 100, 50, 25)",null,null,null,null,null,null,null,null,null,null,null,null,null,null,"Inclui esta tabela na Aba Quadras"]
[4,null,14,67,12,55,25,60,51,30,41,35,78,83,93,64,98,39,44,49,5,63,null,2,8,1006,null,null,"de 04 = ",{"$f":"SUM(COUNTIF($X$3:$X$3000,4))","v":456},null,null,null,"de 09 = ",null,{"$f":"SUM(COUNTIF($Y$3:$Y$3000,9))","v":352},null,null,null,"> 190 e < 200 = ",null,{"$f":"COUNTIFS($Z$3:$Z$3000,\">=190\",$Z$3:$Z$3000,\"<200\")","v":0},null,null,null,null,null,null,null,0,0,0,3,1,0,1,1,0,1,1,0,1,1,1,1,0,1,1,2,1,1,0,2,0,null," = 04",null,"A 3ª",{"$f":"IF($CB6>0,SUM($A$1/$CB6),$A$1)","v":623.33333333333337},{"$f":"SUM(COUNTIF($AX$3:$AX$3000,4))","v":3},null,"A 3ª",{"$f":"IF($CF6>0,SUM($A$1/$CF6),$A$1)","v":1870},{"$f":"SUM(COUNTIF($AY$3:$AY$3000,4))","v":1},null,"A 3ª",{"$f":"IF($CJ6>0,SUM($A$1/$CJ6),$A$1)","v":935},{"$f":"SUM(COUNTIF($AZ$3:$AZ$3000,4))","v":2},null,"A 3ª",{"$f":"IF($CN6>0,SUM($A$1/$CN6),$A$1)","v":1870},{"$f":"SUM(COUNTIF($BA$3:$BA$3000,4))","v":0},null,"A 3ª",{"$f":"IF($CR6>0,SUM($A$1/$CR6),$A$1)","v":467.5},{"$f":"SUM(COUNTIF($BB$3:$BB$3000,4))","v":4},null,null,null,null,null,"E1","E2","E3","E4","E5"]
[5,null,39,32,65,8,51,42,17,92,43,71,28,73,98,69,59,54,20,87,99,0,null,3,8,1047,null,null,"de 05 = ",{"$f":"SUM(COUNTIF($X$3:$X$3000,5))","v":357},null,null,null,"de 10 = ",null,{"$f":"SUM(COUNTIF($Y$3:$Y$3000,10))","v":371},null,null,null,"> 200 e < 210 = ",null,{"$f":"COUNTIFS($Z$3:$Z$3000,\">=200\",$Z$3:$Z$3000,\"<210\")","v":0},null,null,null,null,null,null,null,0,1,1,1,0,1,1,1,1,0,0,1,1,1,0,0,2,2,1,0,1,0,2,2,0]
[6,null,48,12,24,76,33,58,27,13,93,42,35,74,17,72,73,47,75,30,20,80,null,4,11,949,null,null,"de 06 = ",{"$f":"SUM(COUNTIF($X$3:$X$3000,6))","v":207},null,null,null,"de 11 = ",null,{"$f":"SUM(COUNTIF($Y$3:$Y$3000,11))","v":294},null,null,null,"> 210 e < 220 = ",null,{"$f":"COUNTIFS($Z$3:$Z$3000,\">=210\",$Z$3:$Z$3000,\"<220\")","v":0},null,null,null,null,null,null,null,0,0,2,2,1,0,0,1,0,2,0,1,2,1,1,0,1,1,1,1,1,1,1,0,0,null," = 00",null,"B 1",{"$f":"SUM($A$1/$CB8)","v":2.1769499417927825},{"$f":"SUM(COUNTIF($BC$3:$BC$3000,0))","v":859},null,"B 2",{"$f":"SUM($A$1/$CF8)","v":2.0964125560538118},{"$f":"SUM(COUNTIF($BD$3:$BD$3000,0))","v":892},null,"B 3",{"$f":"SUM($A$1/$CJ8)","v":2.0594713656387666},{"$f":"SUM(COUNTIF($BE$3:$BE$3000,0))","v":908},null,"B 4",{"$f":"SUM($A$1/$CN8)","v":2.139588100686499},{"$f":"SUM(COUNTIF($BF$3:$BF$3000,0))","v":874},null,"B 5",{"$f":"SUM($A$1/$CR8)","v":2.0964125560538118},{"$f":"SUM(COUNTIF($BG$3:$BG$3000,0))","v":892},null,null,"GERAL TODOS - Indicação Base para Variações dos 13x"]
[7,null,97,19,94,23,85,39,50,59,46,45,99,36,70,64,92,3,56,18,6,73,null,1,10,1074,null,null,"de 07 = ",{"$f":"SUM(COUNTIF($X$3:$X$3000,7))","v":83},null,null,null,"de 12 = ",null,{"$f":"SUM(COUNTIF($Y$3:$Y$3000,12))","v":195},null,null,null,"> 220 e < 230 = ",null,{"$f":"COUNTIFS($Z$3:$Z$3000,\">=220\",$Z$3:$Z$3000,\"<=230\")","v":0},null,null,null,null,null,null,null,1,2,1,0,0,1,1,0,0,0,1,0,2,1,2,0,1,1,0,2,0,2,0,1,1,null," = 01",null,null,{"$f":"SUM($A$1/$CB9)","v":2.308641975308642},{"$f":"SUM(COUNTIF($BC$3:$BC$3000,1))","v":810},null,null,{"$f":"SUM($A$1/$CF9)","v":2.3404255319148937},{"$f":"SUM(COUNTIF($BD$3:$BD$3000,1))","v":799},null,null,{"$f":"SUM($A$1/$CJ9)","v":2.4702774108322325},{"$f":"SUM(COUNTIF($BE$3:$BE$3000,1))","v":757},null,null,{"$f":"SUM($A$1/$CN9)","v":2.3913043478260869},{"$f":"SUM(COUNTIF($BF$3:$BF$3000,1))","v":782},null,null,{"$f":"SUM($A$1/$CR9)","v":2.4222797927461142},{"$f":"SUM(COUNTIF($BG$3:$BG$3000,1))","v":772},null,null,"Baixa","Incid",null,"Alta","Incid",null,null,"Baixa","Incid",null,"Alta","Incid"]
[8,null,19,41,26,65,47,75,5,94,10,0,59,33,99,57,84,11,74,83,7,53,null,4,5,942,null,null,"de 08 = ",{"$f":"SUM(COUNTIF($X$3:$X$3000,8))","v":30},null,null,null,"de 13 = ",null,{"$f":"SUM(COUNTIF($Y$3:$Y$3000,13))","v":99},null,null,null,"> 220 e < 230 = ",null,{"$f":"COUNTIFS($Z$3:$Z$3000,\">=220\",$Z$3:$Z$3000,\"<=230\")","v":0},null,null,null,null,null,null,null,1,0,1,0,2,0,1,1,0,2,1,1,0,2,0,1,1,1,1,1,0,1,0,1,1,null," = 02",null,null,{"$f":"SUM($A$1/$CB10)","v":6.7509025270758123},{"$f":"SUM(COUNTIF($BC$3:$BC$3000,2))","v":277},null,null,{"$f":"SUM($A$1/$CF10)","v":6.9003690036900371},{"$f":"SUM(COUNTIF($BD$3:$BD$3000,2))","v":271},null,null,{"$f":"SUM($A$1/$CJ10)","v":6.3175675675675675},{"$f":"SUM(COUNTIF($BE$3:$BE$3000,2))","v":296},null,null,{"$f":"SUM($A$1/$CN10)","v":6.3175675675675675},{"$f":"SUM(COUNTIF($BF$3:$BF$3000,2))","v":296},null,null,{"$f":"SUM($A$1/$CR10)","v":6.404109589041096},{"$f":"SUM(COUNTIF($BG$3:$BG$3000,2))","v":292}]
[9,null,73,36,21,98,30,17,70,60,67,22,29,0,3,10,7,32,9,1,69,77,null,3,8,731,null,null,"de 09 = ",{"$f":"SUM(COUNTIF($X$3:$X$3000,9))","v":8},null,null,null,"de 14 = ",null,{"$f":"SUM(COUNTIF($Y$3:$Y$3000,14))","v":42},null,null,null,"> 220 e < 230 = ",null,{"$f":"COUNTIFS($Z$3:$Z$3000,\">=220\",$Z$3:$Z$3000,\"<=230\")","v":0},null,null,null,null,null,null,null,0,2,0,1,1,1,1,2,1,0,1,1,0,1,1,0,2,1,0,0,3,0,0,0,1,null," = 03",null,null,{"$f":"SUM($A$1/$CB11)","v":36.666666666666664},{"$f":"SUM(COUNTIF($BC$3:$BC$3000,3))","v":51},null,null,{"$f":"SUM($A$1/$CF11)","v":50.54054054054054},{"$f":"SUM(COUNTIF($BD$3:$BD$3000,3))","v":37},null,null,{"$f":"SUM($A$1/$CJ11)","v":49.210526315789473},{"$f":"SUM(COUNTIF($BE$3:$BE$3000,3))","v":38},null,null,{"$f":"SUM($A$1/$CN11)","v":40.652173913043477},{"$f":"SUM(COUNTIF($BF$3:$BF$3000,3))","v":46},null,null,{"$f":"SUM($A$1/$CR11)","v":45.609756097560975},{"$f":"SUM(COUNTIF($BG$3:$BG$3000,3))","v":41},null,null,"A1",{"$f":"SUM(CB2:CB3)","v":1666},null,"A1",{"$f":"SUM(CB4:CB6)","v":334},null,null,"E1",1701,null,"C1",362]
[10,null,47,42,51,28,25,81,34,41,8,60,86,38,65,55,63,79,9,87,95,98,null,3,8,1092,null,null,"de 10 = ",{"$f":"SUM(COUNTIF($X$3:$X$3000,10))","v":2},null,null,null,"de 15 = ",null,{"$f":"SUM(COUNTIF($Y$3:$Y$3000,15))","v":16},null,null,null,"> 230 = ",null,{"$f":"SUM(COUNTIF($Z$3:$Z$3000,\">230\"))","v":1870},null,null,null,null,null,null,null,2,0,0,2,1,0,1,1,1,0,0,0,0,1,1,0,1,0,0,2,0,1,4,2,0,null," = 04",null,null,{"$f":"IF($CB12>0,SUM($A$1/$CB12),$A$1)","v":623.33333333333337},{"$f":"SUM(COUNTIF($BC$3:$BC$3000,4))","v":3},null,null,{"$f":"IF($CF12>0,SUM($A$1/$CF12),$A$1)","v":1870},{"$f":"SUM(COUNTIF($BD$3:$BD$3000,4))","v":1},null,null,{"$f":"IF($CJ12>0,SUM($A$1/$CJ12),$A$1)","v":1870},{"$f":"SUM(COUNTIF($BE$3:$BE$3000,4))","v":1},null,null,{"$f":"IF($CN12>0,SUM($A$1/$CN12),$A$1)","v":935},{"$f":"SUM(COUNTIF($BF$3:$BF$3000,4))","v":2},null,null,{"$f":"IF($CR12>0,SUM($A$1/$CR12),$A$1)","v":623.33333333333337},{"$f":"SUM(COUNTIF($BG$3:$BG$3000,4))","v":3},null,null,"A2",{"$f":"SUM(CF2:CF3)","v":1659},null,"A2",{"$f":"SUM(CF4:CF6)","v":341},null,null,"B2",1691,null,"A5",354]
[11,null,16,54,53,93,46,87,79,24,14,83,34,58,74,8,94,78,51,71,64,35,null,5,12,1116,null,null,null,null,null,null,null,null,null,null,null,null,null,null,null,null,null,null,null,null,null,null,null,1,1,1,2,0,1,1,0,1,2,1,0,2,0,0,0,0,0,2,1,0,1,1,2,0,null,null,null,null,null,null,null,null,null,null,null,null,null,null,null,null,null,null,null,null,null,null,null,null,"A3",{"$f":"SUM(CJ2:CJ3)","v":1665},null,"A3",{"$f":"SUM(CJ4:CJ6)","v":335},null,null,"D2",1682,null,"E3",351,null,null,null,null,"Obs: Veja lá em Baixo"]
[12,null,89,81,37,16,56,63,5,21,22,49,20,36,39,32,65,10,88,28,52,43,null,1,10,852,null,null,null,null,null,null,null,null,null,null,null,null,null,null,null,null,null,null,null,null,null,null,null,0,0,2,0,0,2,2,1,0,0,1,0,1,2,0,2,3,0,0,1,1,0,1,1,0,null," = 00",null,"C 1",{"$f":"SUM($A$1/$CB14)","v":2.0731707317073171},{"$f":"SUM(COUNTIF($BH$3:$BH$3000,0))","v":902},null,"C 2",{"$f":"SUM($A$1/$CF14)","v":2.1871345029239766},{"$f":"SUM(COUNTIF($BI$3:$BI$3000,0))","v":855},null,"C 3",{"$f":"SUM($A$1/$CJ14)","v":2.110609480812641},{"$f":"SUM(COUNTIF($BJ$3:$BJ$3000,0))","v":886},null,"C 4",{"$f":"SUM($A$1/$CN14)","v":2.0987654320987654},{"$f":"SUM(COUNTIF($BK$3:$BK$3000,0))","v":891},null,"C 5",{"$f":"SUM($A$1/$CR14)","v":2.0940649496080628},{"$f":"SUM(COUNTIF($BL$3:$BL$3000,0))","v":893},null,null,"A4",{"$f":"SUM(CN2:CN3)","v":1664},null,"A4",{"$f":"SUM(CN4:CN6)","v":336},null,null,"E5",1681,null,"C5",348]
[13,null,75,84,0,79,32,42,76,58,2,47,59,82,3,66,91,6,35,56,68,88,null,3,12,1049,null,"Da FORÇA pela FREQUÊNCIA dos 100\nPARES & ÍMPARES",null,null,null,null,null,null,null,null,null,null,"Da FORÇA pela FREQUÊNCIA de TODOS\nPARES & ÍMPARES",null,null,null,null,null,null,null,null,null,null,3,1,0,1,0,0,0,1,1,2,2,2,0,0,0,1,0,1,0,2,1,1,1,0,0,null," = 01",null,null,{"$f":"SUM($A$1/$CB15)","v":2.5442176870748301},{"$f":"SUM(COUNTIF($BH$3:$BH$3000,1))","v":735},null,null,{"$f":"SUM($A$1/$CF15)","v":2.2721749696233293},{"$f":"SUM(COUNTIF($BI$3:$BI$3000,1))","v":823},null,null,{"$f":"SUM($A$1/$CJ15)","v":2.3670886075949369},{"$f":"SUM(COUNTIF($BJ$3:$BJ$3000,1))","v":790},null,null,{"$f":"SUM($A$1/$CN15)","v":2.4035989717223649},{"$f":"SUM(COUNTIF($BK$3:$BK$3000,1))","v":778},null,null,{"$f":"SUM($A$1/$CR15)","v":2.4801061007957559},{"$f":"SUM(COUNTIF($BL$3:$BL$3000,1))","v":754},null,null,"A5",{"$f":"SUM(CR2:CR3)","v":1642},null,"A5",{"$f":"SUM(CR4:CR6)","v":358},null,null,"C2",1680,null,"D3",344]
[14,null,83,36,85,43,3,52,30,59,97,76,13,11,29,4,37,40,86,55,81,18,null,3,8,938,null,null,null,null,null,null,null,null,null,null,null,null,null,null,null,null,null,null,null,null,null,null,null,0,1,1,0,0,1,1,0,1,1,2,0,1,0,1,2,1,2,0,1,1,1,2,0,0,null," = 02",null,null,{"$f":"SUM($A$1/$CB16)","v":5.8255451713395638},{"$f":"SUM(COUNTIF($BH$3:$BH$3000,2))","v":321},null,null,{"$f":"SUM($A$1/$CF16)","v":6.6548042704626331},{"$f":"SUM(COUNTIF($BI$3:$BI$3000,2))","v":281},null,null,{"$f":"SUM($A$1/$CJ16)","v":6.7266187050359711},{"$f":"SUM(COUNTIF($BJ$3:$BJ$3000,2))","v":278},null,null,{"$f":"SUM($A$1/$CN16)","v":6.584507042253521},{"$f":"SUM(COUNTIF($BK$3:$BK$3000,2))","v":284},null,null,{"$f":"SUM($A$1/$CR16)","v":6.012861736334405},{"$f":"SUM(COUNTIF($BL$3:$BL$3000,2))","v":311},null,null,"B1",{"$f":"SUM(CB8:CB9)","v":1669},null,"B1",{"$f":"SUM(CB10:CB12)","v":331},null,null,"C3",1677,null,"B4",342]
[15,null,14,12,13,54,92,38,26,31,5,48,4,29,73,97,15,22,19,41,65,94,null,4,10,792,"A",{"$f":"$AD$45","v":6},{"$f":"$AD$46","v":84},{"$f":"$AD$47","v":70},{"$f":"$AD$48","v":54},{"$f":"$AD$49","v":20},{"$f":"$AD$50","v":74},{"$f":"$AD$51","v":98},{"$f":"$AD$52","v":38},{"$f":"$AD$53","v":26},{"$f":"$AD$54","v":80},null,{"$f":"AK$45","v":48},{"$f":"$AK$46","v":92},{"$f":"$AK$47","v":54},{"$f":"$AK$48","v":26},{"$f":"$AK$49","v":6},{"$f":"$AK$50","v":38},{"$f":"$AK$51","v":58},{"$f":"$AK$52","v":76},{"$f":"$AK$53","v":4},{"$f":"$AK$54","v":64},null,0,1,0,1,2,0,1,1,2,0,0,1,1,1,1,0,3,1,1,0,0,1,0,2,0,null," = 03",null,null,{"$f":"SUM($A$1/$CB17)","v":45.609756097560975},{"$f":"SUM(COUNTIF($BH$3:$BH$3000,3))","v":41},null,null,{"$f":"SUM($A$1/$CF17)","v":47.948717948717949},{"$f":"SUM(COUNTIF($BI$3:$BI$3000,3))","v":39},null,null,{"$f":"SUM($A$1/$CJ17)","v":45.609756097560975},{"$f":"SUM(COUNTIF($BJ$3:$BJ$3000,3))","v":41},null,null,{"$f":"SUM($A$1/$CN17)","v":42.5},{"$f":"SUM(COUNTIF($BK$3:$BK$3000,3))","v":44},null,null,{"$f":"SUM($A$1/$CR17)","v":45.609756097560975},{"$f":"SUM(COUNTIF($BL$3:$BL$3000,3))","v":41},null,null,"B2",{"$f":"SUM(CF8:CF9)","v":1691},null,"B2",{"$f":"SUM(CF10:CF12)","v":309},null,null,"D4",1673,null,"E2",342]
[16,null,91,57,59,49,94,1,45,51,73,16,13,46,48,63,10,12,78,11,22,29,null,7,8,868,null,{"$f":"$AG$45","v":79},{"$f":"$AG$46","v":95},{"$f":"$AG$47","v":61},{"$f":"$AG$48","v":3},{"$f":"$AG$49","v":89},{"$f":"$AG$50","v":85},{"$f":"$AG$51","v":35},{"$f":"$AG$52","v":93},{"$f":"$AG$53","v":41},{"$f":"$AG$54","v":1},null,{"$f":"$AN$45","v":47},{"$f":"$AN$46","v":41},{"$f":"$AN$47","v":49},{"$f":"$AN$48","v":17},{"$f":"$AN$49","v":43},{"$f":"$AN$50","v":45},{"$f":"$AN$51","v":91},{"$f":"$AN$52","v":85},{"$f":"$AN$53","v":31},{"$f":"$AN$54","v":19},null,0,0,0,0,1,1,1,2,1,1,1,0,2,3,1,2,2,1,0,0,0,0,0,1,0,null," = 04",null,null,{"$f":"IF($CB18>0,SUM($A$1/$CB18),$A$1)","v":1870},{"$f":"SUM(COUNTIF($BH$3:$BH$3000,4))","v":1},null,null,{"$f":"IF($CF18>0,SUM($A$1/$CF18),$A$1)","v":935},{"$f":"SUM(COUNTIF($BI$3:$BI$3000,4))","v":2},null,null,{"$f":"IF($CJ18>0,SUM($A$1/$CJ18),$A$1)","v":374},{"$f":"SUM(COUNTIF($BJ$3:$BJ$3000,4))","v":5},null,null,{"$f":"IF($CN18>0,SUM($A$1/$CN18),$A$1)","v":623.33333333333337},{"$f":"SUM(COUNTIF($BK$3:$BK$3000,4))","v":3},null,null,{"$f":"IF($CR18>0,SUM($A$1/$CR18),$A$1)","v":1870},{"$f":"SUM(COUNTIF($BL$3:$BL$3000,4))","v":1},null,null,"B3",{"$f":"SUM(CJ8:CJ9)","v":1665},null,"B3",{"$f":"SUM(CJ10:CJ12)","v":335},null,null,"C4",1671,null,"E4",341]
[17,null,98,39,38,29,43,78,19,97,92,79,1,37,47,30,96,59,13,31,22,61,null,6,7,1009,"B",{"$f":"$AD$55","v":16},{"$f":"$AD$56","v":50},{"$f":"$AD$57","v":28},{"$f":"$AD$58","v":94},{"$f":"$AD$59","v":12},{"$f":"$AD$60","v":32},{"$f":"$AD$61","v":68},{"$f":"$AD$62","v":8},{"$f":"$AD$63","v":76},{"$f":"$AD$64","v":78},null,{"$f":"$AK$55","v":78},{"$f":"$AK$56","v":42},{"$f":"$AK$57","v":44},{"$f":"$AK$58","v":16},{"$f":"$AK$59","v":82},{"$f":"$AK$60","v":68},{"$f":"$AK$61","v":20},{"$f":"$AK$62","v":8},{"$f":"$AK$63","v":24},{"$f":"$AK$64","v":14},null,1,1,0,2,1,1,1,0,2,1,0,0,2,0,1,0,1,1,0,1,1,1,0,1,1,null,null,null,null,null,null,null,null,null,null,null,null,null,null,null,null,null,null,null,null,null,null,null,null,"B4",{"$f":"SUM(CN8:CN9)","v":1656},null,"B4",{"$f":"SUM(CN10:CN12)","v":344},null,null,"A1",1670,null,"A2",339]
[18,null,92,34,69,85,16,97,47,46,0,60,79,96,59,91,70,78,5,40,32,76,null,7,11,1172,null,{"$f":"$AG$55","v":77},{"$f":"$AG$56","v":43},{"$f":"$AG$57","v":37},{"$f":"$AG$58","v":67},{"$f":"$AG$59","v":57},{"$f":"$AG$60","v":9},{"$f":"$AG$61","v":31},{"$f":"$AG$62","v":29},{"$f":"$AG$63","v":53},{"$f":"$AG$64","v":75},null,{"$f":"$AN$55","v":11},{"$f":"$AN$56","v":55},{"$f":"$AN$57","v":23},{"$f":"$AN$58","v":1},{"$f":"$AN$59","v":27},{"$f":"$AN$60","v":37},{"$f":"$AN$61","v":73},{"$f":"$AN$62","v":93},{"$f":"$AN$63","v":3},{"$f":"$AN$64","v":51},null,1,1,1,0,0,1,0,1,0,2,1,1,1,0,2,1,0,1,0,1,1,0,0,3,1,null," = 00",null,"D 1",{"$f":"SUM($A$1/$CB20)","v":2.2051886792452828},{"$f":"SUM(COUNTIF($BM$3:$BM$3000,0))","v":848},null,"D 2",{"$f":"SUM($A$1/$CF20)","v":2.0281995661605206},{"$f":"SUM(COUNTIF($BN$3:$BN$3000,0))","v":922},null,"D 3",{"$f":"SUM($A$1/$CJ20)","v":2.1494252873563218},{"$f":"SUM(COUNTIF($BO$3:$BO$3000,0))","v":870},null,"D 4",{"$f":"SUM($A$1/$CN20)","v":2.0150862068965516},{"$f":"SUM(COUNTIF($BP$3:$BP$3000,0))","v":928},null,"D 5",{"$f":"SUM($A$1/$CR20)","v":2.2639225181598062},{"$f":"SUM(COUNTIF($BQ$3:$BQ$3000,0))","v":826},null,null,"B5",{"$f":"SUM(CR8:CR9)","v":1664},null,"B5",{"$f":"SUM(CR10:CR12)","v":336},null,null,"B1",1670,null,"A3",334]
[19,null,67,31,86,8,53,82,94,36,21,0,25,13,11,77,98,33,48,10,18,99,null,1,9,910,"C",{"$f":"$AD$65","v":66},{"$f":"$AD$66","v":36},{"$f":"$AD$67","v":82},{"$f":"$AD$68","v":0},{"$f":"$AD$69","v":46},{"$f":"$AD$70","v":24},{"$f":"$AD$71","v":10},{"$f":"$AD$72","v":48},{"$f":"$AD$73","v":60},{"$f":"$AD$74","v":72},null,{"$f":"$AK$65","v":66},{"$f":"$AK$66","v":12},{"$f":"$AK$67","v":72},{"$f":"$AK$68","v":0},{"$f":"$AK$69","v":50},{"$f":"$AK$70","v":74},{"$f":"$AK$71","v":18},{"$f":"$AK$72","v":86},{"$f":"$AK$73","v":28},{"$f":"$AK$74","v":70},null,0,0,0,1,0,1,2,0,2,1,1,2,1,3,0,1,0,0,1,0,1,2,1,0,0,null," = 01",null,null,{"$f":"SUM($A$1/$CB21)","v":2.2860635696821516},{"$f":"SUM(COUNTIF($BM$3:$BM$3000,1))","v":818},null,null,{"$f":"SUM($A$1/$CF21)","v":2.4702774108322325},{"$f":"SUM(COUNTIF($BN$3:$BN$3000,1))","v":757},null,null,{"$f":"SUM($A$1/$CJ21)","v":2.3821656050955413},{"$f":"SUM(COUNTIF($BO$3:$BO$3000,1))","v":785},null,null,{"$f":"SUM($A$1/$CN21)","v":2.5202156334231804},{"$f":"SUM(COUNTIF($BP$3:$BP$3000,1))","v":742},null,null,{"$f":"SUM($A$1/$CR21)","v":2.2261904761904763},{"$f":"SUM(COUNTIF($BQ$3:$BQ$3000,1))","v":840},null,null,"C1",{"$f":"SUM(CB14:CB15)","v":1637},null,"C1",{"$f":"SUM(CB16:CB18)","v":363},null,null,"D1",1668,null,"A4",334]
[20,null,84,72,59,90,97,30,75,26,42,55,31,93,71,65,61,60,70,43,51,20,null,1,9,1195,null,{"$f":"$AG$65","v":83},{"$f":"$AG$66","v":91},{"$f":"$AG$67","v":27},{"$f":"$AG$68","v":15},{"$f":"$AG$69","v":39},{"$f":"$AG$70","v":13},{"$f":"$AG$71","v":63},{"$f":"$AG$72","v":99},{"$f":"$AG$73","v":97},{"$f":"$AG$74","v":45},null,{"$f":"$AN$65","v":15},{"$f":"$AN$66","v":61},{"$f":"$AN$67","v":29},{"$f":"$AN$68","v":25},{"$f":"$AN$69","v":39},{"$f":"$AN$70","v":35},{"$f":"$AN$71","v":95},{"$f":"$AN$72","v":97},{"$f":"$AN$73","v":13},{"$f":"$AN$74","v":53},null,1,2,1,1,1,1,0,0,1,1,0,0,0,0,3,0,1,1,1,1,1,0,1,1,1,null," = 02",null,null,{"$f":"SUM($A$1/$CB22)","v":6.4705882352941178},{"$f":"SUM(COUNTIF($BM$3:$BM$3000,2))","v":289},null,null,{"$f":"SUM($A$1/$CF22)","v":6.515679442508711},{"$f":"SUM(COUNTIF($BN$3:$BN$3000,2))","v":287},null,null,{"$f":"SUM($A$1/$CJ22)","v":6.4705882352941178},{"$f":"SUM(COUNTIF($BO$3:$BO$3000,2))","v":289},null,null,{"$f":"SUM($A$1/$CN22)","v":6.6548042704626331},{"$f":"SUM(COUNTIF($BP$3:$BP$3000,2))","v":281},null,null,{"$f":"SUM($A$1/$CR22)","v":6.2962962962962967},{"$f":"SUM(COUNTIF($BQ$3:$BQ$3000,2))","v":297},null,null,"C2",{"$f":"SUM(CF14:CF15)","v":1678},null,"C2",{"$f":"SUM(CF16:CF18)","v":322},null,null,"D5",1668,null,"B3",333]
[21,null,71,54,67,38,59,16,89,2,92,77,45,75,7,73,26,99,97,29,41,8,null,5,7,1065,"D",{"$f":"$AD$75","v":40},{"$f":"$AD$76","v":88},{"$f":"$AD$77","v":22},{"$f":"$AD$78","v":52},{"$f":"$AD$79","v":4},{"$f":"$AD$80","v":44},{"$f":"$AD$81","v":14},{"$f":"$AD$82","v":62},{"$f":"$AD$83","v":56},{"$f":"$AD$84","v":64},null,{"$f":"$AK$75","v":36},{"$f":"$AK$76","v":88},{"$f":"$AK$77","v":30},{"$f":"$AK$78","v":34},{"$f":"$AK$79","v":40},{"$f":"$AK$80","v":62},{"$f":"$AK$81","v":46},{"$f":"$AK$82","v":32},{"$f":"$AK$83","v":10},{"$f":"$AK$84","v":56},null,0,1,1,1,2,2,1,0,2,1,0,0,0,1,2,0,1,1,1,0,1,0,0,1,1,null," = 03",null,null,{"$f":"SUM($A$1/$CB23)","v":43.488372093023258},{"$f":"SUM(COUNTIF($BM$3:$BM$3000,3))","v":43},null,null,{"$f":"SUM($A$1/$CF23)","v":56.666666666666664},{"$f":"SUM(COUNTIF($BN$3:$BN$3000,3))","v":33},null,null,{"$f":"SUM($A$1/$CJ23)","v":38.958333333333336},{"$f":"SUM(COUNTIF($BO$3:$BO$3000,3))","v":48},null,null,{"$f":"SUM($A$1/$CN23)","v":39.787234042553195},{"$f":"SUM(COUNTIF($BP$3:$BP$3000,3))","v":47},null,null,{"$f":"SUM($A$1/$CR23)","v":51.944444444444443},{"$f":"SUM(COUNTIF($BQ$3:$BQ$3000,3))","v":36},null,null,"C3",{"$f":"SUM(CJ14:CJ15)","v":1676},null,"C3",{"$f":"SUM(CJ16:CJ18)","v":324},null,null,"B3",1667,null,"B5",333]
[22,null,13,94,0,5,37,56,84,85,93,11,38,29,41,23,33,42,49,95,45,79,null,4,5,952,null,{"$f":"$AG$75","v":11},{"$f":"$AG$76","v":49},{"$f":"$AG$77","v":65},{"$f":"$AG$78","v":73},{"$f":"$AG$79","v":59},{"$f":"$AG$80","v":17},{"$f":"$AG$81","v":71},{"$f":"$AG$82","v":33},{"$f":"$AG$83","v":47},{"$f":"$AG$84","v":55},null,{"$f":"$AN$75","v":87},{"$f":"$AN$76","v":83},{"$f":"$AN$77","v":79},{"$f":"$AN$78","v":67},{"$f":"$AN$79","v":77},{"$f":"$AN$80","v":99},{"$f":"$AN$81","v":57},{"$f":"$AN$82","v":71},{"$f":"$AN$83","v":89},{"$f":"$AN$84","v":81},null,3,0,1,2,1,0,2,0,1,0,0,1,1,0,1,2,0,0,1,1,0,0,1,1,1,null," = 04",null,null,{"$f":"IF($CB24>0,SUM($A$1/$CB24),$A$1)","v":935},{"$f":"SUM(COUNTIF($BM$3:$BM$3000,4))","v":2},null,null,{"$f":"IF($CF24>0,SUM($A$1/$CF24),$A$1)","v":1870},{"$f":"SUM(COUNTIF($BN$3:$BN$3000,4))","v":1},null,null,{"$f":"IF($CJ24>0,SUM($A$1/$CJ24),$A$1)","v":233.75},{"$f":"SUM(COUNTIF($BO$3:$BO$3000,4))","v":8},null,null,{"$f":"IF($CN24>0,SUM($A$1/$CN24),$A$1)","v":935},{"$f":"SUM(COUNTIF($BP$3:$BP$3000,4))","v":2},null,null,{"$f":"IF($CR24>0,SUM($A$1/$CR24),$A$1)","v":1870},{"$f":"SUM(COUNTIF($BQ$3:$BQ$3000,4))","v":1},null,null,"C4",{"$f":"SUM(CN14:CN15)","v":1669},null,"C4",{"$f":"SUM(CN16:CN18)","v":331},null,null,"B5",1667,null,"D1",332]
[23,null,77,4,41,53,28,17,40,19,99,24,26,18,32,78,60,64,37,25,89,31,null,2,10,862,"E",{"$f":"$AD$85","v":2},{"$f":"$AD$86","v":30},{"$f":"$AD$87","v":58},{"$f":"$AD$88","v":18},{"$f":"$AD$89","v":42},{"$f":"$AD$90","v":86},{"$f":"$AD$91","v":34},{"$f":"$AD$92","v":92},{"$f":"$AD$93","v":90},{"$f":"$AD$94","v":96},null,{"$f":"$AK$85","v":80},{"$f":"$AK$86","v":60},{"$f":"$AK$87","v":2},{"$f":"$AK$88","v":22},{"$f":"$AK$89","v":90},{"$f":"$AK$90","v":98},{"$f":"$AK$91","v":96},{"$f":"$AK$92","v":94},{"$f":"$AK$93","v":84},{"$f":"$AK$94","v":52},null,0,0,1,0,2,1,2,1,1,2,0,0,1,1,1,1,0,2,0,1,0,3,0,0,0,null,null,null,null,null,null,null,null,null,null,null,null,null,null,null,null,null,null,null,null,null,null,null,null,"C5",{"$f":"SUM(CR14:CR15)","v":1647},null,"C5",{"$f":"SUM(CR16:CR18)","v":353},null,null,"A3",1666,null,"D5",332]
[24,null,95,42,13,66,48,46,51,75,43,49,32,1,11,50,23,94,41,45,59,86,null,2,8,970,null,{"$f":"$AG$85","v":21},{"$f":"$AG$86","v":69},{"$f":"$AG$87","v":25},{"$f":"$AG$88","v":19},{"$f":"$AG$89","v":87},{"$f":"$AG$90","v":81},{"$f":"$AG$91","v":5},{"$f":"$AG$92","v":51},{"$f":"$AG$93","v":23},{"$f":"$AG$94","v":7},null,{"$f":"$AN$85","v":9},{"$f":"$AN$86","v":65},{"$f":"$AN$87","v":59},{"$f":"$AN$88","v":63},{"$f":"$AN$89","v":7},{"$f":"$AN$90","v":21},{"$f":"$AN$91","v":5},{"$f":"$AN$92","v":69},{"$f":"$AN$93","v":33},{"$f":"$AN$94","v":75},null,1,0,0,0,2,2,1,1,0,1,1,0,2,1,1,2,0,1,0,0,0,0,2,1,1,null," = 00",null,"E 1",{"$f":"SUM($A$1/$CB26)","v":2.0549450549450547},{"$f":"SUM(COUNTIF($BR$3:$BR$3000,0))","v":910},null,"E 2",{"$f":"SUM($A$1/$CB26)","v":2.0549450549450547},{"$f":"SUM(COUNTIF($BS$3:$BS$3000,0))","v":872},null,"E 3",{"$f":"SUM($A$1/$CJ26)","v":2.0572057205720573},{"$f":"SUM(COUNTIF($BT$3:$BT$3000,0))","v":909},null,"E 4",{"$f":"SUM($A$1/$CN26)","v":2.125},{"$f":"SUM(COUNTIF($BU$3:$BU$3000,0))","v":880},null,"E 5",{"$f":"SUM($A$1/$CR26)","v":2.0172599784250269},{"$f":"SUM(COUNTIF($BV$3:$BV$3000,0))","v":927},null,null,"D1",{"$f":"SUM(CB20:CB21)","v":1666},null,"D1",{"$f":"SUM(CB22:CB24)","v":334},null,null,"A4",1666,null,"A1",330]
[25,null,98,48,85,5,21,73,95,49,64,46,45,94,88,47,59,31,19,82,93,92,null,7,8,1234,null,1,null,2,null,3,null,4,null,5,null,null,null,null,null,null,null,null,null,null,null,null,null,1,0,1,2,0,0,1,0,1,0,0,1,1,1,1,2,1,1,0,2,1,1,0,2,0,null," = 01",null,null,{"$f":"SUM($A$1/$CB27)","v":2.370088719898606},{"$f":"SUM(COUNTIF($BR$3:$BR$3000,1))","v":789},null,null,{"$f":"SUM($A$1/$CB27)","v":2.370088719898606},{"$f":"SUM(COUNTIF($BS$3:$BS$3000,1))","v":785},null,null,{"$f":"SUM($A$1/$CJ27)","v":2.5338753387533877},{"$f":"SUM(COUNTIF($BT$3:$BT$3000,1))","v":738},null,null,{"$f":"SUM($A$1/$CN27)","v":2.4129032258064518},{"$f":"SUM(COUNTIF($BU$3:$BU$3000,1))","v":775},null,null,{"$f":"SUM($A$1/$CR27)","v":2.4833997343957503},{"$f":"SUM(COUNTIF($BV$3:$BV$3000,1))","v":753},null,null,"D2",{"$f":"SUM(CF20:CF21)","v":1679},null,"D2",{"$f":"SUM(CF22:CF24)","v":321},null,null,"A2",1661,null,"B1",330]
[26,null,33,81,42,51,66,78,19,92,13,88,53,15,3,5,27,4,30,48,32,49,null,6,9,829,null,"IFRAP é uma índice baseado no atraso de um número dividido por quantas vezes eles saiu na historia",null,null,null,null,null,null,null,null,null,null,null,null,null,null,null,null,null,null,null,null,null,0,1,0,0,0,0,0,1,0,2,1,2,1,1,0,2,0,1,1,0,1,1,2,3,0,null," = 02",null,null,{"$f":"SUM($A$1/$CB28)","v":6.9776119402985071},{"$f":"SUM(COUNTIF($BR$3:$BR$3000,2))","v":268},null,null,{"$f":"SUM($A$1/$CB28)","v":6.9776119402985071},{"$f":"SUM(COUNTIF($BS$3:$BS$3000,2))","v":296},null,null,{"$f":"SUM($A$1/$CJ28)","v":5.9744408945686898},{"$f":"SUM(COUNTIF($BT$3:$BT$3000,2))","v":313},null,null,{"$f":"SUM($A$1/$CN28)","v":6.0912052117263844},{"$f":"SUM(COUNTIF($BU$3:$BU$3000,2))","v":307},null,null,{"$f":"SUM($A$1/$CR28)","v":6.6312056737588652},{"$f":"SUM(COUNTIF($BV$3:$BV$3000,2))","v":282},null,null,"D3",{"$f":"SUM(CJ20:CJ21)","v":1655},null,"D3",{"$f":"SUM(CJ22:CJ24)","v":345},null,null,"E4",1659,null,"C4",329]
[27,null,3,56,86,84,31,58,59,32,61,6,21,91,82,75,16,71,98,19,39,1,null,3,9,989,null,"Da FORÇA pela FREQUÊNCIA de todos os Sorteios",null,null,null,null,null,null,null,null,null,null,"Da FORÇA pela FREQUÊNCIA dos 100",null,null,null,null,null,null,null,null,null,null,2,2,0,1,1,1,0,1,1,1,1,1,1,0,0,0,0,1,1,1,1,2,1,0,0,null," = 03",null,null,{"$f":"SUM($A$1/$CB29)","v":60.322580645161288},{"$f":"SUM(COUNTIF($BR$3:$BR$3000,3))","v":31},null,null,{"$f":"SUM($A$1/$CB29)","v":60.322580645161288},{"$f":"SUM(COUNTIF($BS$3:$BS$3000,3))","v":47},null,null,{"$f":"SUM($A$1/$CJ29)","v":50.54054054054054},{"$f":"SUM(COUNTIF($BT$3:$BT$3000,3))","v":37},null,null,{"$f":"SUM($A$1/$CN29)","v":55},{"$f":"SUM(COUNTIF($BU$3:$BU$3000,3))","v":34},null,null,{"$f":"SUM($A$1/$CR29)","v":50.54054054054054},{"$f":"SUM(COUNTIF($BV$3:$BV$3000,3))","v":37},null,null,"D4",{"$f":"SUM(CN20:CN21)","v":1670},null,"D4",{"$f":"SUM(CN22:CN24)","v":330},null,null,"B4",1658,null,"D4",327]
[28,null,85,37,96,5,89,64,24,67,68,49,54,33,73,65,57,60,45,44,56,41,null,1,8,1112,null,null,null,null,null,null,null,null,null,null,null,null,null,null,null,null,null,null,null,null,null,null,null,0,1,2,0,1,0,2,1,1,0,0,0,1,0,2,1,2,1,1,2,0,0,0,1,1,null," = 04",null,null,{"$f":"IF($CB30>0,SUM($A$1/$CB30),$A$1)","v":935},{"$f":"SUM(COUNTIF($BR$3:$BR$3000,4))","v":2},null,null,{"$f":"IF($CF30>0,SUM($A$1/$CF30),$A$1)","v":1870},{"$f":"SUM(COUNTIF($BS$3:$BS$3000,4))","v":0},null,null,{"$f":"IF($CJ30>0,SUM($A$1/$CJ30),$A$1)","v":623.33333333333337},{"$f":"SUM(COUNTIF($BT$3:$BT$3000,4))","v":3},null,null,{"$f":"IF($CN30>0,SUM($A$1/$CN30),$A$1)","v":467.5},{"$f":"SUM(COUNTIF($BU$3:$BU$3000,4))","v":4},null,null,{"$f":"IF($CR30>0,SUM($A$1/$CR30),$A$1)","v":1870},{"$f":"SUM(COUNTIF($BV$3:$BV$3000,4))","v":1},null,null,"D5",{"$f":"SUM(CR20:CR21)","v":1666},null,"D5",{"$f":"SUM(CR22:CR24)","v":334},null,null,"E2",1658,null,"C3",323]
[29,null,84,11,42,96,5,29,9,27,86,87,61,68,78,69,85,1,2,53,74,93,null,4,8,1060,null,{"$f":"$AR$45","v":47},{"$f":"$AR$46","v":41},{"$f":"$AR$47","v":49},{"$f":"$AR$48","v":17},{"$f":"$AR$49","v":43},{"$f":"$AR$50","v":92},{"$f":"$AR$51","v":48},{"$f":"$AR$52","v":54},{"$f":"$AR$53","v":26},{"$f":"$AR$54","v":45},null,{"$f":"AU$45","v":6},{"$f":"$AU$46","v":84},{"$f":"$AU$47","v":70},{"$f":"$AU$48","v":79},{"$f":"$AU$49","v":95},{"$f":"$AU$50","v":54},{"$f":"$AU$51","v":20},{"$f":"$AU$52","v":61},{"$f":"$AU$53","v":74},{"$f":"$AU$54","v":98},null,1,1,2,1,1,0,0,1,2,2,0,1,0,0,0,1,0,0,0,0,2,0,3,1,1,null,null,null,null,null,null,null,null,null,null,null,null,null,null,null,null,null,null,null,null,null,null,null,null,"E1",{"$f":"SUM(CB26:CB27)","v":1699},null,"E1",{"$f":"SUM(CB28:CB30)","v":301},null,null,"D3",1656,null,"C2",320]
[30,null,79,33,0,15,60,5,61,23,97,40,29,34,42,43,71,24,36,49,22,72,null,4,8,835,null,{"$f":"$AR$55","v":6},{"$f":"$AR$56","v":91},{"$f":"$AR$57","v":85},{"$f":"$AR$58","v":38},{"$f":"$AR$59","v":76},{"$f":"$AR$60","v":58},{"$f":"$AR$61","v":31},{"$f":"$AR$62","v":78},{"$f":"$AR$63","v":64},{"$f":"$AR$64","v":19},null,{"$f":"$AU$55","v":38},{"$f":"$AU$56","v":26},{"$f":"$AU$57","v":3},{"$f":"$AU$58","v":89},{"$f":"$AU$59","v":85},{"$f":"$AU$60","v":35},{"$f":"$AU$61","v":80},{"$f":"$AU$62","v":93},{"$f":"$AU$63","v":41},{"$f":"$AU$64","v":16},null,1,1,0,0,0,1,0,0,1,0,1,2,1,0,3,2,1,0,2,0,0,0,1,2,1,null,null,null,null,null,null,null,null,null,null,null,null,null,null,null,null,null,null,null,null,null,null,null,null,"E2",{"$f":"SUM(CF26:CF27)","v":1657},null,"E2",{"$f":"SUM(CF28:CF30)","v":343},null,null,"C5",1652,null,"E5",319]
[31,null,15,7,52,94,24,64,73,35,14,10,53,44,0,68,48,8,1,79,13,43,null,5,10,745,null,{"$f":"$AR$65","v":4},{"$f":"$AR$66","v":42},{"$f":"$AR$67","v":44},{"$f":"$AR$68","v":55},{"$f":"$AR$69","v":11},{"$f":"$AR$70","v":23},{"$f":"$AR$71","v":93},{"$f":"$AR$72","v":73},{"$f":"$AR$73","v":37},{"$f":"$AR$74","v":27},null,{"$f":"$AU$65","v":1},{"$f":"$AU$66","v":50},{"$f":"$AU$67","v":28},{"$f":"$AU$68","v":77},{"$f":"$AU$69","v":94},{"$f":"$AU$70","v":12},{"$f":"$AU$71","v":32},{"$f":"$AU$72","v":43},{"$f":"$AU$73","v":37},{"$f":"$AU$74","v":68},null,1,0,0,1,1,1,1,0,2,1,0,2,2,2,0,0,2,1,1,1,0,0,0,0,1,null,null,null,null,null,null,null,null,null,null,null,null,null,null,null,null,null,null,null,null,null,null,null,null,"E3",{"$f":"SUM(CJ26:CJ27)","v":1647},null,"E3",{"$f":"SUM(CJ28:CJ30)","v":353},null,null,"E3",1649,null,"D2",318]
[32,null,5,20,29,49,12,83,23,28,41,80,79,42,95,67,94,66,92,39,76,17,null,2,9,1037,null,{"$f":"$AR$75","v":16},{"$f":"$AR$76","v":1},{"$f":"$AR$77","v":82},{"$f":"$AR$78","v":68},{"$f":"$AR$79","v":20},{"$f":"$AR$80","v":24},{"$f":"$AR$81","v":8},{"$f":"$AR$82","v":3},{"$f":"$AR$83","v":66},{"$f":"$AR$84","v":14},null,{"$f":"$AU$75","v":67},{"$f":"$AU$76","v":57},{"$f":"$AU$77","v":8},{"$f":"$AU$78","v":9},{"$f":"$AU$79","v":76},{"$f":"$AU$80","v":31},{"$f":"$AU$81","v":78},{"$f":"$AU$82","v":66},{"$f":"$AU$83","v":29},{"$f":"$AU$84","v":53},null,2,0,1,0,2,0,3,1,1,1,2,0,1,0,0,1,0,1,0,0,0,0,1,2,1,null,null,null,null,null,null,null,null,null,null,null,null,null,null,null,null,null,null,null,null,null,null,null,null,"E4",{"$f":"SUM(CN26:CN27)","v":1655},null,"E4",{"$f":"SUM(CN28:CN30)","v":345},null,null,"A5",1646,null,"B2",309]
[33,null,49,13,82,93,14,52,34,11,6,23,90,76,60,28,71,56,39,86,33,12,null,6,12,928,null,{"$f":"$AR$85","v":51},{"$f":"$AR$86","v":12},{"$f":"$AR$87","v":61},{"$f":"$AR$88","v":15},{"$f":"$AR$89","v":29},{"$f":"$AR$90","v":39},{"$f":"$AR$91","v":25},{"$f":"$AR$92","v":35},{"$f":"$AR$93","v":72},{"$f":"$AR$94","v":0},null,{"$f":"$AU$85","v":36},{"$f":"$AU$86","v":82},{"$f":"$AU$87","v":75},{"$f":"$AU$88","v":83},{"$f":"$AU$89","v":91},{"$f":"$AU$90","v":27},{"$f":"$AU$91","v":15},{"$f":"$AU$92","v":39},{"$f":"$AU$93","v":0},{"$f":"$AU$94","v":13},null,1,0,0,1,0,0,1,1,0,1,0,1,2,0,1,2,1,0,3,1,0,0,1,1,2,null,null,null,null,null,null,null,null,null,null,null,null,null,null,null,null,null,null,null,null,null,null,null,null,"E5",{"$f":"SUM(CR26:CR27)","v":1680},null,"E5",{"$f":"SUM(CR28:CR30)","v":320},null,null,"C1",1638,null,"E1",299]
[34,null,66,45,77,82,61,24,23,28,51,20,19,89,44,54,9,58,2,14,79,12,null,5,11,857,null,{"$f":"$AR$95","v":50},{"$f":"$AR$96","v":74},{"$f":"$AR$97","v":97},{"$f":"$AR$98","v":95},{"$f":"$AR$99","v":86},{"$f":"$AR$100","v":18},{"$f":"$AR$101","v":70},{"$f":"$AR$102","v":53},{"$f":"$AR$103","v":28},{"$f":"$AR$104","v":13},null,{"$f":"$AU$95","v":46},{"$f":"$AU$96","v":63},{"$f":"$AU$97","v":24},{"$f":"$AU$98","v":10},{"$f":"$AU$99","v":99},{"$f":"$AU$100","v":48},{"$f":"$AU$101","v":97},{"$f":"$AU$102","v":60},{"$f":"$AU$103","v":72},{"$f":"$AU$104","v":40},null,1,2,2,0,0,1,1,2,0,0,1,1,1,0,1,0,0,1,1,0,1,2,0,1,1]
[35,null,23,48,85,47,88,12,11,42,99,67,22,4,14,49,28,54,53,8,36,60,null,5,12,850,null,{"$f":"$AR$105","v":87},{"$f":"$AR$106","v":83},{"$f":"$AR$107","v":79},{"$f":"$AR$108","v":77},{"$f":"$AR$109","v":67},{"$f":"$AR$110","v":36},{"$f":"$AR$111","v":99},{"$f":"$AR$112","v":88},{"$f":"$AR$113","v":57},{"$f":"$AR$114","v":30},null,{"$f":"$AU$105","v":45},{"$f":"$AU$106","v":11},{"$f":"$AU$107","v":88},{"$f":"$AU$108","v":22},{"$f":"$AU$109","v":52},{"$f":"$AU$110","v":49},{"$f":"$AU$111","v":65},{"$f":"$AU$112","v":4},{"$f":"$AU$113","v":44},{"$f":"$AU$114","v":73},null,0,1,1,0,0,0,2,1,1,1,1,0,0,2,1,3,1,1,1,1,0,0,1,0,1,null,null,null,null,null,null,null,null,null,null,null,null,null,null,null,null,null,null,null,null,null,null,"Ver Intervalos de Baixa/Alta Incidencia no Ultimo Concurso lá em baixo."]
[36,null,71,56,58,5,16,17,85,86,65,50,88,76,78,57,43,69,51,55,9,89,null,2,8,1124,null,{"$f":"$AR$115","v":89},{"$f":"$AR$116","v":71},{"$f":"$AR$117","v":40},{"$f":"$AR$118","v":34},{"$f":"$AR$119","v":81},{"$f":"$AR$120","v":62},{"$f":"$AR$121","v":9},{"$f":"$AR$122","v":46},{"$f":"$AR$123","v":65},{"$f":"$AR$124","v":32},null,{"$f":"$AU$115","v":14},{"$f":"$AU$116","v":62},{"$f":"$AU$117","v":59},{"$f":"$AU$118","v":56},{"$f":"$AU$119","v":17},{"$f":"$AU$120","v":71},{"$f":"$AU$121","v":33},{"$f":"$AU$122","v":47},{"$f":"$AU$123","v":64},{"$f":"$AU$124","v":55},null,0,0,2,0,0,3,0,2,0,2,0,0,0,0,0,1,1,1,1,2,1,1,1,2,0]
[37,null,44,43,74,73,99,1,20,3,82,97,98,50,9,55,17,35,38,21,52,6,null,5,9,917,null,{"$f":"$AR$125","v":63},{"$f":"$AR$126","v":59},{"$f":"$AR$127","v":10},{"$f":"$AR$128","v":56},{"$f":"$AR$129","v":21},{"$f":"$AR$130","v":7},{"$f":"$AR$131","v":80},{"$f":"$AR$132","v":60},{"$f":"$AR$133","v":5},{"$f":"$AR$134","v":22},null,{"$f":"$AU$125","v":21},{"$f":"$AU$126","v":2},{"$f":"$AU$127","v":69},{"$f":"$AU$128","v":30},{"$f":"$AU$129","v":25},{"$f":"$AU$130","v":58},{"$f":"$AU$131","v":19},{"$f":"$AU$132","v":18},{"$f":"$AU$133","v":87},{"$f":"$AU$134","v":81},null,1,1,2,3,1,2,0,1,0,0,0,1,0,1,1,0,2,2,0,1,1,0,0,0,0]
[38,null,56,4,58,55,30,35,66,36,57,2,11,20,83,99,12,53,61,49,23,98,null,5,10,908,null,{"$f":"$AR$135","v":2},{"$f":"$AR$136","v":90},{"$f":"$AR$137","v":69},{"$f":"$AR$138","v":98},{"$f":"$AR$139","v":33},{"$f":"$AR$140","v":96},{"$f":"$AR$141","v":94},{"$f":"$AR$142","v":75},{"$f":"$AR$143","v":84},{"$f":"$AR$144","v":52},null,{"$f":"$AU$135","v":5},{"$f":"$AU$136","v":42},{"$f":"$AU$137","v":86},{"$f":"$AU$138","v":34},{"$f":"$AU$139","v":51},{"$f":"$AU$140","v":92},{"$f":"$AU$141","v":90},{"$f":"$AU$142","v":96},{"$f":"$AU$143","v":23},{"$f":"$AU$144","v":7},null,0,1,1,2,0,0,0,2,0,1,3,0,0,1,0,2,0,1,0,2,2,1,0,0,1]
[39,null,84,24,17,26,33,57,78,70,72,2,0,5,38,30,81,52,44,9,11,18,null,4,12,751,null,null,null,null,null,null,null,null,null,null,null,null,null,null,null,null,null,null,null,null,null,null,null,1,1,0,1,1,0,0,2,0,1,0,1,1,0,1,1,1,2,1,0,2,1,1,1,0]
[40,null,55,74,7,5,62,9,77,57,80,41,83,16,90,67,51,8,99,86,43,25,null,3,7,1035,null,null,null,null,null,null,null,null,null,null,null,null,null,null,null,null,null,null,null,null,null,null,null,0,0,1,0,2,3,1,2,1,0,1,0,0,1,0,0,0,0,1,1,0,1,1,2,2]
[41,null,98,50,37,33,47,4,86,64,26,82,29,58,11,9,71,77,22,41,52,65,null,4,10,962,null,{"$f":"A$1-100","v":1770},null,"Dos últimos 100 Sorteios",null,null,null,null,null,null,"DeTodos",null,null,"DeTodos",null,null,null,"DeTodos",null,null,"Dos 100",null,null,0,0,0,1,2,2,1,1,1,0,0,1,0,0,0,1,3,1,2,2,0,1,1,0,0]
[42,null,12,18,48,74,75,29,35,41,83,64,3,80,86,89,67,73,99,21,20,47,null,5,8,1064,null,null,null,"Dos 50 Pares",null,null,"Dos 50 Ímp",null,null,null,"Dos 50 Pares",null,null,"Dos 50 Ímpares",null,null,"Pares & Ímpares",null,null,"Pares & Ímpares",null,null,null,0,1,3,1,2,0,1,1,1,1,1,0,0,2,0,0,1,0,0,2,1,1,1,0,0]
[43,null,17,54,93,31,96,32,8,94,18,39,30,53,75,77,86,90,58,84,6,19,null,3,12,1060,null,null,null,6,{"$f":"COUNTIF($C$1763:$V$3000,AD45)","v":33},null,79,{"$f":"COUNTIF($C$1763:$V$3000,AG45)","v":33},null,null,48,{"$f":"COUNTIF($C$3:$V$3000,AK45)","v":408},null,47,{"$f":"COUNTIF($C$3:$V$3000,AN45)","v":422},null,null,47,{"$f":"COUNTIF($C$3:$V$3000,AR45)","v":422},null,6,{"$f":"COUNTIF($C$1756:$V$3000,AU45)","v":33},null,2,1,0,1,0,1,1,1,2,2,0,0,1,0,0,0,0,1,0,0,1,3,1,0,2]
[44,null,78,15,40,28,32,87,36,52,44,72,23,38,80,18,54,0,81,77,8,99,null,5,13,962,null,null,"Dos últimos 100 sorteios - PARES",84,{"$f":"COUNTIF($C$1763:$V$3000,AD46)","v":29},"Dos últimos 100 sorteios - ÍMPARES",95,{"$f":"COUNTIF($C$1763:$V$3000,AG46)","v":33},null,"De todos PARES",92,407,"De todos ÍMPARES",41,423,null,null,41,423,null,84,30,null,0,1,0,1,1,1,1,1,1,1,1,2,0,1,1,1,1,1,0,0,0,1,2,0,1]
[45,null,3,33,74,80,18,70,90,24,1,30,67,69,37,68,42,57,14,41,86,0,null,3,11,904,null,null,null,70,29,null,61,30,null,null,54,403,null,49,418,null,null,49,418,null,70,32,null,0,2,1,0,3,0,2,1,1,0,0,1,1,0,0,0,0,0,2,0,2,1,2,0,1]
[46,null,5,2,98,97,28,50,93,94,24,12,78,25,63,45,0,9,81,32,31,41,null,3,9,908,null,null,null,54,26,null,3,27,null,null,26,400,null,17,414,null,null,17,414,null,79,35,null,0,0,0,2,1,1,2,3,1,1,0,1,1,1,2,0,0,0,0,0,1,1,1,1,0]
[47,null,7,21,18,95,80,75,10,78,31,96,50,11,92,42,89,97,82,70,34,39,null,4,11,1117,null,null,null,20,28,null,89,25,null,null,6,392,null,43,411,null,null,43,411,null,95,33,null,1,1,1,0,1,1,0,0,1,2,0,1,1,1,1,1,0,0,0,0,1,1,1,2,2]
[48,null,34,64,15,14,37,13,56,0,30,5,98,9,68,47,45,35,88,18,74,70,null,3,11,820,null,null,null,74,25,null,85,27,null,null,38,394,null,45,400,null,null,92,407,null,54,27,null,0,1,1,2,0,0,1,1,1,0,0,2,1,0,1,1,0,0,1,3,1,1,0,2,0]
[49,null,29,45,50,85,86,55,21,80,61,81,79,40,44,62,37,95,83,97,88,31,null,3,7,1249,null,null,null,98,26,null,35,23,null,null,58,389,null,91,391,null,null,48,408,null,20,28,null,2,1,1,0,1,1,1,0,2,0,1,0,0,0,2,2,0,1,1,1,1,0,2,0,0]
[50,null,34,20,26,24,73,68,6,54,8,40,28,0,27,71,30,66,82,39,43,42,null,1,14,781,null,null,null,38,31,null,93,24,null,null,76,389,null,85,390,null,null,54,403,null,61,31,null,1,1,1,0,1,1,1,0,2,0,1,3,2,0,0,1,1,0,1,0,1,0,1,1,0]
[51,null,41,21,1,53,10,83,3,98,16,89,51,82,40,46,60,75,63,47,57,4,null,2,8,940,null,null,null,26,26,null,41,27,null,null,4,383,null,31,387,null,null,26,400,null,74,27,null,0,1,1,1,2,1,0,1,0,2,1,1,1,2,1,1,0,1,0,1,1,0,0,1,0]
[52,null,85,50,81,9,53,26,89,87,31,18,65,37,80,45,73,99,69,6,1,13,null,3,5,1017,null,null,null,80,25,null,1,29,null,null,64,388,null,19,384,null,null,45,400,null,98,28,null,1,0,2,0,3,1,1,1,1,1,0,0,1,1,1,0,2,0,0,0,1,1,2,0,0]
[53,null,56,8,28,42,82,18,12,41,10,34,86,49,59,32,62,95,21,50,39,6,null,3,14,830,null,null,null,16,23,null,77,26,null,null,78,386,null,11,386,null,null,6,392,null,38,33,null,2,0,0,0,1,1,1,2,1,0,0,1,1,1,0,1,0,1,1,1,1,1,2,1,0]
[54,null,97,88,23,98,6,87,45,22,18,43,56,40,17,38,74,94,15,53,91,86,null,4,11,1091,null,null,null,50,23,null,43,24,null,null,42,387,null,55,380,null,null,91,391,null,26,28,null,1,0,1,2,0,1,1,0,0,1,1,1,0,0,2,2,1,1,0,1,0,1,2,0,1]
[55,null,97,37,5,4,96,26,44,49,40,99,50,89,54,3,64,63,32,74,67,73,null,3,10,1066,null,null,null,28,21,null,37,21,null,null,44,386,null,23,380,null,null,85,390,null,3,28,null,0,2,2,0,1,1,2,1,0,0,0,0,0,2,1,2,1,2,0,1,0,0,0,1,1]
[56,null,82,74,88,92,47,56,28,60,30,24,12,16,91,31,8,35,36,17,80,63,null,2,14,970,null,null,null,94,23,null,67,24,null,null,16,379,null,1,383,null,null,38,394,null,89,27,null,0,0,1,1,1,1,1,1,2,0,2,1,1,1,1,1,0,1,0,2,1,0,0,1,0]
[57,null,41,67,98,58,85,79,64,44,9,78,93,83,73,97,50,5,28,2,95,25,null,1,8,1174,null,null,null,12,27,null,57,23,null,null,82,378,null,27,382,null,null,76,389,null,85,27,null,2,0,1,2,1,1,2,1,0,1,1,0,0,0,1,0,1,1,0,1,1,2,0,1,0]
[58,null,8,80,92,23,25,22,78,85,48,95,16,19,13,74,90,11,51,61,56,66,null,4,11,1013,null,null,null,32,26,null,9,21,null,null,68,378,null,37,379,null,null,58,389,null,35,25,null,1,1,2,0,1,1,0,0,1,1,1,0,1,1,0,1,1,0,0,1,0,2,0,2,2]
[59,null,27,81,92,63,14,83,35,96,7,89,45,76,56,53,52,94,20,91,16,30,null,3,10,1120,null,null,null,68,22,null,31,25,null,null,20,378,null,73,380,null,null,31,387,null,80,27,null,0,0,2,1,0,1,1,0,0,2,2,1,0,1,1,0,1,0,1,1,1,0,1,1,2]
[60,null,60,76,4,41,88,12,14,42,22,17,87,93,45,40,26,67,68,43,47,2,null,3,12,894,null,null,null,8,27,null,29,23,null,null,8,381,null,93,379,null,null,78,386,null,93,25,null,0,0,0,1,2,1,1,1,1,1,0,0,0,0,2,2,1,2,1,1,1,0,2,0,0]
[61,null,64,60,84,70,68,6,0,53,40,74,88,27,26,61,30,14,35,34,55,51,null,6,13,940,null,null,null,76,24,null,53,23,null,null,24,380,null,3,379,null,null,64,388,null,41,28,null,2,2,1,1,1,0,0,0,1,1,0,2,0,0,1,2,0,0,1,2,1,0,0,2,0]
[62,null,33,32,66,43,44,31,27,19,20,14,24,62,49,61,9,81,36,41,25,23,null,3,8,740,null,null,null,78,23,null,75,26,null,null,14,377,null,51,379,null,null,19,384,null,16,25,null,0,1,1,0,1,1,0,2,1,0,2,1,1,0,0,1,0,1,3,0,0,2,1,0,1]
[63,null,82,52,78,24,74,91,92,41,54,47,69,1,99,36,65,48,57,33,3,18,null,4,10,1064,null,null,null,66,21,null,83,24,null,null,66,377,null,15,376,null,null,4,383,null,1,29,null,0,2,1,0,2,0,0,1,0,1,2,1,1,2,0,0,2,0,1,1,1,1,0,1,0]
[64,null,6,54,38,21,93,66,5,9,69,47,16,37,85,98,84,68,29,51,11,3,null,4,8,890,null,null,null,36,24,null,91,23,null,null,12,379,null,61,379,null,null,42,387,null,50,26,null,2,2,1,3,0,1,1,1,2,0,1,0,0,0,0,1,0,0,0,1,2,0,0,2,0]
[65,null,98,83,72,23,79,7,69,14,8,58,21,39,18,1,27,45,31,86,11,92,null,4,8,882,null,null,null,82,22,null,27,23,null,null,72,375,null,29,374,null,null,44,386,null,28,25,null,{"$f":"SUMPRODUCT(COUNTIF($C67:$V67,$AB$17:$AC$18))","v":1},{"$f":"SUMPRODUCT(COUNTIF($C67:$V67,$AD$17:$AE$18))","v":0},{"$f":"SUMPRODUCT(COUNTIF($C67:$V67,$AF$17:$AG$18))","v":0},{"$f":"SUMPRODUCT(COUNTIF($C67:$V67,$AH$17:$AI$18))","v":1},{"$f":"SUMPRODUCT(COUNTIF($C67:$V67,$AJ$17:$AK$18))","v":1},{"$f":"SUMPRODUCT(COUNTIF($C67:$V67,$AB$19:$AC$20))","v":0},{"$f":"SUMPRODUCT(COUNTIF($C67:$V67,$AD$19:$AE$20))","v":0},{"$f":"SUMPRODUCT(COUNTIF($C67:$V67,$AF$19:$AG$20))","v":0},{"$f":"SUMPRODUCT(COUNTIF($C67:$V67,$AH$19:$AI$20))","v":2},{"$f":"SUMPRODUCT(COUNTIF($C67:$V67,$AJ$19:$AK$20))","v":0},{"$f":"SUMPRODUCT(COUNTIF($C67:$V67,$AB$21:$AC$22))","v":1},{"$f":"SUMPRODUCT(COUNTIF($C67:$V67,$AD$21:$AE$22))","v":1},{"$f":"SUMPRODUCT(COUNTIF($C67:$V67,$AF$21:$AG$22))","v":1},{"$f":"SUMPRODUCT(COUNTIF($C67:$V67,$AH$21:$AI$22))","v":0},{"$f":"SUMPRODUCT(COUNTIF($C67:$V67,$AJ$21:$AK$22))","v":2},{"$f":"SUMPRODUCT(COUNTIF($C67:$V67,$AB$23:$AC$24))","v":1},{"$f":"SUMPRODUCT(COUNTIF($C67:$V67,$AD$23:$AE$24))","v":0},{"$f":"SUMPRODUCT(COUNTIF($C67:$V67,$AF$23:$AG$24))","v":0},{"$f":"SUMPRODUCT(COUNTIF($C67:$V67,$AH$23:$AI$24))","v":1},{"$f":"SUMPRODUCT(COUNTIF($C67:$V67,$AJ$23:$AK$24))","v":0},{"$f":"SUMPRODUCT(COUNTIF($C67:$V67,$AB$25:$AC$26))","v":2},{"$f":"SUMPRODUCT(COUNTIF($C67:$V67,$AD$25:$AE$26))","v":2},{"$f":"SUMPRODUCT(COUNTIF($C67:$V67,$AF$25:$AG$26))","v":1},{"$f":"SUMPRODUCT(COUNTIF($C67:$V67,$AH$25:$AI$26))","v":1},{"$f":"SUMPRODUCT(COUNTIF($C67:$V67,$AJ$25:$AK$26))","v":2}]
[66,null,16,54,76,92,62,99,38,4,66,36,23,88,14,94,33,17,57,78,44,26,null,{"$f":"SUMPRODUCT(COUNTIF(C68:V68,C67:V67))","v":3},{"$f":"SUMPRODUCT(N(MOD((C68:V68),2)=0)*(C68:V68>0))","v":15},{"$f":"SUM(C68:V68)","v":1017},null,null,null,0,24,null,15,21,null,null,0,374,null,25,373,null,null,55,380,null,77,27,null,0,1,0,1,1,1,1,1,0,2,2,0,0,1,0,1,0,3,3,0,0,0,0,1,1]
[67,null,14,64,46,62,9,18,76,7,50,25,49,91,26,89,85,3,36,98,94,75,null,6,11,1017,null,null,null,46,22,null,39,24,null,null,50,372,null,39,377,null,null,11,386,null,94,25,null,0,1,2,1,1,1,1,1,0,2,2,0,1,0,0,1,0,0,2,1,0,2,0,0,1]
[68,null,82,8,28,88,3,46,78,94,32,54,71,6,23,5,24,25,45,22,57,53,null,4,12,844,null,null,null,24,25,null,13,24,null,null,74,370,null,35,372,null,null,23,380,null,12,28,null,1,2,0,0,0,0,2,2,1,2,0,1,2,0,1,1,1,0,1,0,0,1,0,1,1]
[69,null,55,0,95,45,94,15,72,34,76,24,69,73,98,58,86,30,29,14,1,83,null,3,10,1051,null,null,null,10,20,null,63,21,null,null,18,372,null,95,374,null,null,93,379,null,32,26,null,1,0,0,1,1,0,1,0,1,1,1,2,1,0,2,0,1,0,1,1,2,1,1,1,0]
[70,null,17,44,89,66,90,80,38,94,81,12,46,30,83,41,91,13,0,39,47,33,null,4,9,1034,null,null,null,48,21,null,99,24,null,null,86,370,null,97,370,null,null,73,380,null,43,26,null,0,0,1,1,2,0,1,1,0,0,3,1,3,0,0,0,0,2,1,1,1,0,1,0,1]
[71,null,39,30,66,69,24,81,90,61,94,59,44,53,73,36,63,46,55,50,27,11,null,8,9,1071,null,null,null,60,25,null,97,21,null,null,28,368,null,13,371,null,null,37,379,null,37,24,null,0,1,0,0,0,1,1,0,0,1,2,1,3,1,0,1,1,2,0,1,2,0,1,0,1]
[72,null,74,93,0,35,31,25,16,11,39,52,68,70,87,64,47,90,45,8,9,20,null,3,9,884,null,null,null,72,23,null,45,21,null,null,70,371,null,53,370,null,null,27,382,null,68,24,null,0,1,2,2,0,1,0,1,3,0,0,1,1,0,1,1,1,0,0,2,0,1,1,0,1]
[73,null,81,39,50,94,69,18,91,92,73,11,71,99,83,59,41,98,93,74,14,30,null,4,8,1280,null,null,null,40,21,null,11,22,null,null,36,367,null,87,368,null,null,16,379,null,67,25,null,0,0,1,2,1,1,1,0,0,0,2,0,1,1,0,1,1,1,2,0,2,1,1,1,0]
[74,null,13,48,53,99,11,96,57,71,92,17,42,28,40,24,49,87,41,61,46,43,null,5,8,1018,null,null,null,88,17,null,49,23,null,null,88,363,null,83,369,null,null,1,383,null,57,25,null,0,1,0,0,1,1,1,1,0,1,0,0,3,2,0,3,0,1,1,0,0,0,2,1,1]
[75,null,98,64,87,78,15,73,37,85,1,95,94,76,48,26,59,57,11,27,38,39,null,4,8,1108,null,null,null,22,21,null,65,22,null,null,30,{"$f":"COUNTIF($C$3:$V$3000,AK77)","v":367},null,79,{"$f":"COUNTIF($C$3:$V$3000,AN77)","v":373},null,null,82,{"$f":"COUNTIF($C$3:$V$3000,AR77)","v":378},null,8,{"$f":"COUNTIF($C$1756:$V$3000,AU77)","v":28},null,1,0,1,2,2,0,2,1,0,2,0,2,1,1,0,1,1,1,0,1,0,0,1,0,0]
[76,null,0,22,61,80,96,31,30,7,67,48,29,56,10,55,68,50,6,52,86,18,null,1,13,872,null,null,null,52,19,null,73,20,null,null,34,365,null,67,366,null,null,68,378,null,9,24,null,1,1,0,0,1,1,1,0,3,0,0,1,0,2,0,0,2,0,0,2,1,1,1,0,2]
[77,null,56,98,38,83,31,85,80,28,0,2,89,16,41,76,5,7,32,27,91,49,null,5,9,934,null,null,null,4,17,null,59,18,null,null,40,366,null,77,367,null,null,20,378,null,76,25,null,0,0,2,2,2,1,1,1,1,1,2,2,0,0,0,1,0,0,0,1,1,0,0,1,1]
[78,null,83,87,94,72,71,86,33,29,84,41,24,81,21,46,7,53,45,36,63,67,null,3,7,1123,null,null,null,44,18,null,17,21,null,null,62,365,null,99,369,null,null,24,380,null,31,25,null,1,0,0,0,1,0,2,0,1,1,2,0,2,1,2,0,0,0,2,0,1,0,3,0,1]
[79,null,30,20,51,85,15,26,86,9,87,37,7,2,67,43,47,77,4,3,55,38,null,4,7,789,null,null,null,14,19,null,71,18,null,null,46,361,null,57,365,null,null,8,381,null,78,25,null,0,1,2,1,1,2,2,1,0,0,0,1,0,0,0,0,0,1,0,2,2,0,2,1,1]
[80,null,0,6,12,17,20,22,30,36,41,42,50,55,77,81,86,88,91,93,95,98,null,5,11,1040,null,null,null,62,19,null,33,19,null,null,32,361,null,71,364,null,null,3,379,null,66,24,null,2,0,1,2,1,2,0,1,0,0,2,1,0,0,0,1,1,1,0,1,1,0,3,0,0]
[81,null,14,16,23,30,33,39,43,47,52,63,65,67,68,74,83,86,87,92,94,97,null,2,9,1173,null,null,null,56,20,null,47,18,null,null,10,355,null,89,364,null,null,66,377,null,29,23,null,0,0,1,0,0,2,2,0,1,0,1,0,1,1,1,0,2,0,2,1,1,0,2,1,1]
[82,null,1,6,14,21,22,42,47,48,49,52,53,59,62,64,69,79,85,88,90,93,null,3,10,1044,null,null,null,64,21,null,55,15,null,null,56,356,null,81,362,null,null,14,377,null,53,25,null,2,0,1,1,1,0,0,0,0,1,0,0,0,1,0,2,2,1,2,2,2,0,1,0,1]
[83,null,0,4,11,13,30,37,40,43,44,45,50,51,61,65,71,74,76,79,83,85,null,2,7,962,null,null,null,2,18,null,21,17,null,null,80,355,null,9,362,null,null,51,379,null,36,25,null,1,1,2,0,0,2,1,0,0,1,1,1,1,0,1,2,1,2,1,0,1,0,0,1,0]
[84,null,2,3,4,8,11,12,16,19,22,25,42,45,50,55,57,65,68,81,88,95,null,5,10,768,null,null,null,30,20,null,69,16,null,null,60,358,null,65,363,null,null,12,379,null,82,22,null,1,1,0,0,0,2,0,2,2,0,0,0,0,0,1,2,2,1,0,1,1,2,2,0,0]
[85,null,2,4,7,10,13,23,25,30,31,36,44,45,47,51,58,60,63,71,84,92,null,4,10,796,null,null,null,58,18,null,25,16,null,null,2,354,null,59,356,null,null,61,379,null,75,27,null,1,0,0,0,0,0,0,0,1,0,1,0,1,2,2,0,0,2,1,1,2,2,0,2,2]
[86,null,1,14,19,24,26,33,38,42,45,47,51,59,60,61,64,71,87,96,98,99,null,5,9,1035,null,null,null,18,20,null,19,16,null,null,22,356,null,63,358,null,null,15,376,null,83,24,null,0,1,0,2,2,0,0,0,0,0,0,0,1,1,2,0,0,1,3,2,0,1,2,1,1]
[87,null,6,15,17,24,30,42,43,47,51,53,54,59,67,83,85,87,93,96,98,99,null,9,7,1149,null,null,null,42,18,null,87,18,null,null,90,350,null,7,355,null,null,29,374,null,91,24,null,1,1,1,2,0,1,1,0,0,1,1,1,1,1,0,0,0,2,0,1,1,0,2,1,1]
[88,null,11,17,23,28,30,33,41,45,46,47,51,57,60,66,76,77,84,86,94,95,null,4,9,1067,null,null,null,86,15,null,81,16,null,null,98,347,null,21,355,null,null,39,377,null,27,25,null,2,0,0,0,1,1,2,1,0,1,1,0,1,0,2,1,0,1,1,1,1,0,1,1,1]
[89,null,1,11,17,25,33,41,44,48,50,56,59,60,63,64,67,68,76,83,86,88,null,7,10,1040,null,null,null,34,16,null,5,18,null,null,96,347,null,5,356,null,null,25,373,null,15,23,null,0,0,0,0,2,1,1,0,1,1,1,0,0,2,1,2,0,3,1,2,0,1,1,0,0]
[90,null,17,20,24,25,26,31,32,34,37,52,55,57,62,66,73,80,88,92,93,94,null,3,12,1058,null,null,null,92,14,null,51,17,null,null,94,343,null,69,350,null,null,35,372,null,39,26,null,0,0,1,1,2,0,2,2,1,0,1,0,1,0,0,1,2,1,1,1,0,1,0,2,0]
[91,null,0,8,14,22,23,25,26,27,31,34,35,36,55,58,64,66,67,81,85,91,null,6,9,848,null,null,null,90,13,null,23,12,null,null,84,340,null,33,347,null,null,72,375,null,0,25,null,0,0,1,1,1,0,1,0,2,0,3,2,0,0,0,0,1,0,1,2,0,2,1,1,1]
[92,null,5,13,21,27,29,35,42,48,51,55,58,60,61,62,63,70,86,89,90,92,null,4,9,1057,null,null,null,96,16,null,7,14,null,null,52,335,null,75,346,null,null,0,374,null,13,25,null,0,2,1,1,0,0,0,0,1,0,0,1,1,2,1,0,0,0,1,1,1,1,2,3,1]
[93,null,1,7,14,19,20,28,34,43,49,52,53,54,69,74,77,81,82,84,90,94,null,1,11,1025,null,null,null,null,null,null,null,null,null,null,null,null,null,null,null,null,null,50,372,null,46,22,null,1,1,2,0,1,2,2,0,0,1,0,1,0,0,0,1,1,0,1,0,1,1,1,1,2]
[94,null,7,13,14,21,23,26,37,42,46,47,54,59,60,67,72,83,84,88,90,94,null,6,11,1027,null,null,null,null,null,null,null,null,null,null,null,null,null,null,null,null,null,74,370,null,63,23,null,1,1,0,0,1,0,3,0,0,0,1,0,2,0,2,1,0,1,1,1,1,0,1,0,3]
[95,null,1,16,20,23,27,41,44,48,53,55,57,69,72,79,84,85,86,87,91,94,null,4,8,1132,null,null,null,"Da FORÇA pela FREQUÊNCIA dos 50\nPARES & ÍMPARES",null,null,null,null,null,null,null,null,null,null,null,null,null,97,370,null,24,25,null,2,0,2,0,2,1,1,1,0,1,1,1,0,1,1,0,0,1,0,1,1,0,2,0,1]
[96,null,3,6,9,15,18,19,22,24,32,42,51,62,64,65,70,73,75,86,94,95,null,2,11,925,null,null,null,null,null,null,null,null,null,null,null,null,null,null,null,null,null,95,374,null,10,21,null,2,2,0,0,0,0,1,2,0,1,0,1,1,0,0,0,3,0,1,1,0,2,2,1,0]
[97,null,1,5,8,16,31,34,38,39,43,44,45,49,50,51,55,57,63,85,92,97,null,1,7,903,null,null,null,{"$f":"$AD$112","v":6},{"$f":"$AD$113","v":70},{"$f":"$AD$114","v":38},{"$f":"$AD$115","v":8},{"$f":"$AD$116","v":32},{"$f":"$AD$117","v":78},{"$f":"$AD$118","v":82},{"$f":"$AD$119","v":20},{"$f":"$AD$120","v":26},{"$f":"$AD$121","v":94},null,null,null,null,86,370,null,99,25,null,0,0,1,1,1,3,0,1,2,0,0,0,1,1,2,1,0,1,0,1,0,0,0,4,0]
[98,null,2,18,26,27,38,39,45,46,51,55,63,64,68,70,72,73,76,84,89,96,null,6,12,1102,null,null,"A",{"$f":"$AG$112","v":93},{"$f":"$AG$113","v":61},{"$f":"$AG$114","v":79},{"$f":"$AG$115","v":85},{"$f":"$AG$116","v":77},{"$f":"$AG$117","v":95},{"$f":"$AG$118","v":3},{"$f":"$AG$119","v":75},{"$f":"$AG$120","v":41},{"$f":"$AG$121","v":63},null,null,null,null,18,372,null,48,24,null,1,1,1,1,1,0,0,0,1,1,0,1,2,1,2,0,1,0,0,2,1,1,0,1,1]
[99,null,2,4,6,10,16,26,28,32,34,38,39,42,53,62,69,82,89,90,92,97,null,5,15,911,null,null,null,{"$f":"$AD$122","v":80},{"$f":"$AD$123","v":14},{"$f":"$AD$124","v":76},{"$f":"$AD$125","v":60},{"$f":"$AD$126","v":56},{"$f":"$AD$127","v":98},{"$f":"$AD$128","v":74},{"$f":"$AD$129","v":50},{"$f":"$AD$130","v":12},{"$f":"$AD$131","v":48},null,null,null,null,70,371,null,97,22,null,1,0,1,1,1,1,1,1,0,1,0,1,1,1,1,0,0,1,1,0,2,0,1,2,1]
[100,null,2,6,7,11,12,21,27,28,38,48,51,56,58,60,66,67,77,90,91,95,null,5,11,911,null,null,"B",{"$f":"$AG$122","v":67},{"$f":"$AG$123","v":1},{"$f":"$AG$124","v":37},{"$f":"$AG$125","v":71},{"$f":"$AG$126","v":35},{"$f":"$AG$127","v":43},{"$f":"$AG$128","v":9},{"$f":"$AG$129","v":91},{"$f":"$AG$130","v":53},{"$f":"$AG$131","v":45},null,null,null,null,53,370,null,60,26,null,2,0,0,1,0,1,2,1,0,0,2,1,0,1,1,1,0,0,0,1,2,1,0,1,2]
[101,null,1,2,3,5,12,16,19,20,27,30,33,39,49,51,59,68,74,80,82,83,null,4,9,753,null,null,null,{"$f":"$AD$132","v":24},{"$f":"$AD$133","v":72},{"$f":"$AD$134","v":84},{"$f":"$AD$135","v":16},{"$f":"$AD$136","v":30},{"$f":"$AD$137","v":0},{"$f":"$AD$138","v":66},{"$f":"$AD$139","v":54},{"$f":"$AD$140","v":68},{"$f":"$AD$141","v":46},null,null,null,null,28,368,null,72,23,null,0,1,2,0,2,1,0,1,1,0,1,2,1,0,0,1,0,1,1,0,2,1,0,2,0]
[102,null,4,9,11,13,21,24,35,47,48,57,62,64,70,72,76,85,89,91,94,95,null,0,9,1067,null,null,"C",{"$f":"$AG$132","v":97},{"$f":"$AG$133","v":31},{"$f":"$AG$134","v":13},{"$f":"$AG$135","v":51},{"$f":"$AG$136","v":99},{"$f":"$AG$137","v":57},{"$f":"$AG$138","v":27},{"$f":"$AG$139","v":59},{"$f":"$AG$140","v":83},{"$f":"$AG$141","v":15},null,null,null,null,13,371,null,40,23,null,1,1,2,1,0,0,1,2,0,1,1,0,2,1,1,1,0,1,1,2,1,0,0,0,0]
[103,null,5,24,25,26,29,30,32,35,45,58,61,72,77,85,86,91,92,95,97,99,null,6,8,1164,null,null,null,{"$f":"$AD$142","v":36},{"$f":"$AD$143","v":58},{"$f":"$AD$144","v":64},{"$f":"$AD$145","v":62},{"$f":"$AD$146","v":4},{"$f":"$AD$147","v":44},{"$f":"$AD$148","v":52},{"$f":"$AD$149","v":18},{"$f":"$AD$150","v":42},{"$f":"$AD$151","v":34},null,null,null,null,87,368,null,45,22,null,1,1,1,1,1,1,0,1,1,0,1,0,1,1,3,0,0,0,0,0,1,2,1,2,0]
[104,null,7,10,17,20,23,31,33,35,37,41,44,49,50,53,64,65,68,70,71,85,null,2,7,873,null,null,"D",{"$f":"$AG$142","v":11},{"$f":"$AG$143","v":87},{"$f":"$AG$144","v":73},{"$f":"$AG$145","v":39},{"$f":"$AG$146","v":65},{"$f":"$AG$147","v":55},{"$f":"$AG$148","v":69},{"$f":"$AG$149","v":5},{"$f":"$AG$150","v":49},{"$f":"$AG$151","v":17},null,null,null,null,83,369,null,11,25,null,0,1,2,1,1,1,1,0,2,1,0,0,0,1,0,1,1,2,2,1,0,0,0,0,2]
[105,null,0,1,2,3,4,9,10,15,23,25,28,34,41,48,54,72,76,86,87,93,null,3,10,711,null,null,null,{"$f":"$AD$152","v":88},{"$f":"$AD$153","v":10},{"$f":"$AD$154","v":28},{"$f":"$AD$155","v":22},{"$f":"$AD$156","v":92},{"$f":"$AD$157","v":40},{"$f":"$AD$158","v":86},{"$f":"$AD$159","v":2},{"$f":"$AD$160","v":90},{"$f":"$AD$161","v":96},null,null,null,null,79,373,null,88,19,null,0,2,0,1,2,0,1,1,0,1,0,2,0,2,1,0,0,1,0,0,1,1,2,1,1]
[106,null,1,9,10,12,15,20,21,25,29,40,55,68,72,75,77,78,82,87,88,97,null,7,9,961,null,null,"E",{"$f":"$AG$152","v":89},{"$f":"$AG$153","v":29},{"$f":"$AG$154","v":19},{"$f":"$AG$155","v":33},{"$f":"$AG$156","v":7},{"$f":"$AG$157","v":81},{"$f":"$AG$158","v":21},{"$f":"$AG$159","v":47},{"$f":"$AG$160","v":25},{"$f":"$AG$161","v":23},null,null,null,null,77,367,null,22,24,null,0,0,1,0,1,1,0,2,2,2,0,2,0,1,2,2,0,0,0,1,1,1,1,0,0]
[107,null,6,13,18,22,26,30,33,34,36,38,40,45,53,54,61,62,64,69,75,91,null,2,12,870,null,null,null,1,null,2,null,3,null,4,null,5,null,null,null,null,null,67,{"$f":"COUNTIF($C$3:$V$3000,AR109)","v":366},null,52,{"$f":"COUNTIF($C$1756:$V$3000,AU109)","v":22},null,1,2,0,1,1,0,0,0,0,2,2,0,1,0,1,1,1,0,2,1,2,1,0,1,0]
[108,null,1,9,18,25,28,32,35,41,43,44,48,53,59,61,62,67,85,86,90,97,null,4,8,984,null,{"$f":"A$1-50","v":1820},null,"Dos últimos 50 Sorteios",null,null,null,null,null,null,null,null,null,null,null,null,null,36,367,null,49,24,null,0,1,1,1,2,1,2,2,0,1,0,0,0,1,1,0,0,2,1,0,0,2,1,0,1]
[109,null,0,1,6,13,16,19,20,29,39,40,49,50,65,77,79,80,89,92,94,98,null,1,9,956,null,null,null,"Dos 50 Pares",null,null,"Dos 50 Ímp",null,null,null,null,null,null,null,null,null,null,99,369,null,65,22,null,2,0,2,1,2,3,1,0,1,0,0,1,2,0,0,2,1,0,0,0,0,1,0,1,0]
[110,null,1,13,16,21,22,23,30,35,39,53,61,62,63,65,66,67,72,75,81,92,null,6,7,957,null,null,null,6,{"$f":"COUNTIF($C$1815:$V$3000,AD112)","v":16},null,93,{"$f":"COUNTIF($C$1815:$V$3000,AG112)","v":16},null,null,null,null,null,null,null,null,null,88,363,null,4,18,null,0,1,0,1,1,1,1,0,0,2,1,0,2,1,1,0,2,0,1,0,2,0,1,1,1]
[111,null,7,18,25,30,32,41,44,52,56,58,59,61,71,72,79,82,86,88,96,98,null,3,13,1155,null,null,"Dos últimos 50 PARES",70,16,"Dos últimos 50 ÍMPARES",61,18,null,null,null,null,null,null,null,null,null,57,365,null,44,22,null,1,1,0,1,1,0,0,1,0,0,0,1,0,0,1,1,1,2,1,1,1,3,1,0,2]
[112,null,0,9,10,15,18,24,37,47,51,57,58,60,61,63,67,74,78,88,94,97,null,4,9,1008,null,null,null,38,17,null,79,19,null,null,null,null,null,null,null,null,null,30,367,null,73,20,null,0,1,1,0,0,0,3,2,0,1,0,2,1,2,2,1,0,0,0,1,0,2,0,1,0]
[113,null,4,11,13,17,27,31,32,34,36,37,38,41,52,71,81,83,84,87,88,91,null,2,8,958,null,null,null,8,16,null,85,16,null,null,null,null,null,null,null,null,null,89,364,null,14,20,null,1,0,0,1,1,0,1,1,1,0,3,1,1,0,0,2,1,2,1,0,0,0,2,1,0]
[114,null,1,7,11,13,17,25,27,29,32,44,48,49,50,71,74,76,80,88,90,91,null,8,9,923,null,null,null,32,15,null,77,15,null,null,null,null,null,null,null,null,null,71,364,null,62,22,null,0,0,1,0,2,1,0,1,1,1,1,1,1,1,0,3,0,2,1,0,0,1,0,0,2]
[115,null,2,9,10,17,19,23,26,30,31,32,38,39,40,47,56,63,72,84,88,92,null,3,12,818,null,null,null,78,14,null,95,17,null,null,null,null,null,null,null,null,null,40,366,null,59,18,null,1,0,0,1,1,0,0,2,1,0,0,0,1,2,1,2,0,1,0,2,2,1,0,1,1]
[116,null,3,4,7,8,11,21,31,35,39,45,46,47,53,56,59,64,80,82,83,92,null,5,8,866,null,null,null,82,13,null,3,16,null,null,null,null,null,null,null,null,null,34,365,null,56,21,null,0,1,0,1,1,0,0,0,2,1,1,1,2,0,1,1,0,2,0,3,1,0,0,1,1]
[117,null,0,2,14,23,25,30,31,36,37,42,45,46,48,64,65,66,67,73,74,99,null,4,10,887,null,null,null,20,15,null,75,16,null,null,null,null,null,null,null,null,null,81,362,null,17,21,null,0,0,1,0,0,0,2,0,1,0,2,1,1,2,1,0,2,0,1,1,2,1,1,0,1]
[118,null,2,11,12,14,15,23,29,32,33,41,53,56,60,63,65,74,82,83,90,92,null,5,10,930,null,null,null,26,15,null,41,14,null,null,null,null,null,null,null,null,null,62,365,null,71,19,null,0,0,1,0,1,0,0,2,1,1,1,2,0,1,1,1,1,0,2,1,1,0,0,1,2]
[119,null,2,3,5,8,25,29,36,38,41,45,50,52,55,64,69,73,79,81,82,87,null,4,8,924,null,null,null,94,13,null,63,13,null,null,null,null,null,null,null,null,null,9,362,null,33,20,null,1,1,0,1,1,1,0,0,2,0,1,1,0,0,1,0,2,0,0,2,2,1,2,1,0]
[120,null,2,9,10,11,12,19,21,27,29,31,35,47,48,56,61,74,75,77,84,94,null,2,8,822,null,null,null,80,14,null,67,13,null,null,null,null,null,null,null,null,null,46,361,null,47,19,null,1,1,1,1,0,1,1,2,2,1,0,1,0,2,0,1,0,0,0,2,2,1,0,0,0]
[121,null,0,2,3,9,10,15,27,34,35,40,59,69,70,71,73,75,82,89,91,99,null,6,6,953,null,null,null,14,13,null,1,13,null,null,null,null,null,null,null,null,null,65,363,null,64,22,null,0,2,1,1,0,0,0,1,0,1,1,4,0,2,0,1,1,1,1,0,2,0,0,1,0]
[122,null,8,12,14,20,21,24,27,30,35,36,43,58,59,77,82,84,85,86,88,95,null,4,12,984,null,null,null,76,13,null,37,12,null,null,null,null,null,null,null,null,null,32,361,null,55,17,null,2,0,2,1,0,2,0,1,1,0,1,2,1,0,0,1,0,1,1,0,2,1,1,0,0]
[123,null,6,8,19,26,30,33,44,45,50,54,58,60,64,65,66,69,76,81,85,90,null,4,13,1029,null,null,null,60,15,null,71,12,null,null,null,null,null,null,null,null,null,63,358,null,21,19,null,1,1,1,0,1,1,0,0,1,1,1,0,0,0,2,0,1,1,1,1,2,2,1,0,1]
[124,null,2,6,8,11,25,26,28,32,39,40,41,59,64,67,69,70,76,81,84,95,null,7,11,923,null,null,null,56,13,null,35,11,null,null,null,null,null,null,null,null,null,59,356,null,2,20,null,3,1,0,0,2,0,2,1,1,1,0,0,1,0,0,2,0,1,0,1,2,1,1,0,0]
[125,null,0,8,12,23,26,34,45,48,51,52,62,66,68,69,71,77,82,86,92,94,null,3,13,1066,null,null,null,98,13,null,43,12,null,null,null,null,null,null,null,null,null,10,355,null,69,19,null,0,0,0,0,1,1,1,1,2,0,1,2,0,1,1,0,1,0,2,0,1,0,1,3,1]
[126,null,1,3,7,8,9,12,14,20,29,37,38,40,41,46,56,63,68,83,96,97,null,3,10,768,null,null,null,74,12,null,9,11,null,null,null,null,null,null,null,null,null,56,356,null,30,21,null,0,1,1,1,2,0,1,2,3,0,1,0,1,1,1,1,0,0,1,1,0,0,0,0,2]
[127,null,3,7,22,24,27,29,38,39,41,45,48,54,59,62,65,67,71,78,79,86,null,5,8,944,null,null,null,50,13,null,91,11,null,null,null,null,null,null,null,null,null,21,355,null,25,17,null,1,2,0,1,1,0,1,0,1,1,0,1,2,1,1,0,2,1,2,0,0,0,1,0,1]
[128,null,3,5,17,24,31,34,43,45,46,47,49,52,57,58,59,74,84,86,88,97,null,5,9,999,null,null,null,12,15,null,53,12,null,null,null,null,null,null,null,null,null,7,355,null,58,19,null,1,1,1,0,0,1,0,1,1,0,0,0,2,0,2,2,1,2,0,1,0,1,1,2,0]
[129,null,10,13,17,21,26,28,36,37,38,41,43,44,47,60,65,76,78,80,84,90,null,4,12,934,null,null,null,48,14,null,45,12,null,null,null,null,null,null,null,null,null,80,355,null,19,17,null,{"$f":"SUMPRODUCT(COUNTIF($C131:$V131,$AB$17:$AC$18))","v":1},{"$f":"SUMPRODUCT(COUNTIF($C131:$V131,$AD$17:$AE$18))","v":0},{"$f":"SUMPRODUCT(COUNTIF($C131:$V131,$AF$17:$AG$18))","v":0},{"$f":"SUMPRODUCT(COUNTIF($C131:$V131,$AH$17:$AI$18))","v":1},{"$f":"SUMPRODUCT(COUNTIF($C131:$V131,$AJ$17:$AK$18))","v":3},{"$f":"SUMPRODUCT(COUNTIF($C131:$V131,$AB$19:$AC$20))","v":1},{"$f":"SUMPRODUCT(COUNTIF($C131:$V131,$AD$19:$AE$20))","v":2},{"$f":"SUMPRODUCT(COUNTIF($C131:$V131,$AF$19:$AG$20))","v":0},{"$f":"SUMPRODUCT(COUNTIF($C131:$V131,$AH$19:$AI$20))","v":0},{"$f":"SUMPRODUCT(COUNTIF($C131:$V131,$AJ$19:$AK$20))","v":2},{"$f":"SUMPRODUCT(COUNTIF($C131:$V131,$AB$21:$AC$22))","v":1},{"$f":"SUMPRODUCT(COUNTIF($C131:$V131,$AD$21:$AE$22))","v":0},{"$f":"SUMPRODUCT(COUNTIF($C131:$V131,$AF$21:$AG$22))","v":1},{"$f":"SUMPRODUCT(COUNTIF($C131:$V131,$AH$21:$AI$22))","v":1},{"$f":"SUMPRODUCT(COUNTIF($C131:$V131,$AJ$21:$AK$22))","v":1},{"$f":"SUMPRODUCT(COUNTIF($C131:$V131,$AB$23:$AC$24))","v":0},{"$f":"SUMPRODUCT(COUNTIF($C131:$V131,$AD$23:$AE$24))","v":1},{"$f":"SUMPRODUCT(COUNTIF($C131:$V131,$AF$23:$AG$24))","v":2},{"$f":"SUMPRODUCT(COUNTIF($C131:$V131,$AH$23:$AI$24))","v":0},{"$f":"SUMPRODUCT(COUNTIF($C131:$V131,$AJ$23:$AK$24))","v":1},{"$f":"SUMPRODUCT(COUNTIF($C131:$V131,$AB$25:$AC$26))","v":1},{"$f":"SUMPRODUCT(COUNTIF($C131:$V131,$AD$25:$AE$26))","v":0},{"$f":"SUMPRODUCT(COUNTIF($C131:$V131,$AF$25:$AG$26))","v":0},{"$f":"SUMPRODUCT(COUNTIF($C131:$V131,$AH$25:$AI$26))","v":0},{"$f":"SUMPRODUCT(COUNTIF($C131:$V131,$AJ$25:$AK$26))","v":1}]
[130,null,3,5,10,15,16,17,19,21,37,38,41,44,49,51,52,76,84,85,94,99,null,{"$f":"SUMPRODUCT(COUNTIF(C132:V132,C131:V131))","v":9},{"$f":"SUMPRODUCT(N(MOD((C132:V132),2)=0)*(C132:V132>0))","v":8},{"$f":"SUM(C132:V132)","v":856},null,null,null,24,13,null,97,11,null,null,null,null,null,null,null,null,null,60,358,null,18,20,null,1,1,1,1,1,1,2,0,0,1,0,1,0,2,0,1,1,2,0,0,1,1,0,2,0]
[131,null,9,10,12,23,24,27,42,43,45,47,48,55,62,69,70,75,80,90,94,98,null,2,11,1023,null,null,null,72,13,null,31,12,null,null,null,null,null,null,null,null,null,5,356,null,87,18,null,0,1,0,1,1,1,1,2,0,1,0,1,1,2,1,0,0,0,1,2,1,0,1,0,2]
[132,null,2,6,7,10,12,21,27,29,40,42,45,49,51,58,71,74,76,79,86,96,null,5,11,881,null,null,null,84,11,null,13,12,null,null,null,null,null,null,null,null,null,22,356,null,81,17,null,2,0,1,0,0,0,0,1,1,1,0,1,0,1,1,2,0,0,1,0,2,1,2,1,2]
[133,null,2,13,21,32,34,38,42,45,48,52,53,57,62,66,71,75,79,86,92,95,null,7,11,1063,null,null,null,16,11,null,51,12,null,null,null,null,null,null,null,null,null,2,354,null,5,20,null,2,0,0,1,0,0,0,2,0,2,1,0,1,1,1,0,1,0,2,0,2,0,2,2,0]
[134,null,7,13,15,20,21,22,24,25,27,38,47,48,55,63,65,67,71,73,85,99,null,5,5,885,null,null,null,30,12,null,99,13,null,null,null,null,null,null,null,null,null,90,350,null,42,20,null,0,0,2,1,0,0,1,0,0,0,0,2,2,3,0,0,3,0,1,2,1,1,0,0,1]
[135,null,5,13,27,33,37,41,48,49,53,54,58,59,60,68,78,80,84,86,95,97,null,3,9,1125,null,null,null,0,13,null,57,11,null,null,null,null,null,null,null,null,null,69,350,null,86,17,null,2,1,0,0,2,0,1,0,1,2,0,1,1,1,2,1,0,1,1,0,0,1,1,1,0]
[136,null,6,7,16,20,22,30,33,35,41,47,50,53,54,55,59,71,80,87,89,91,null,6,8,946,null,null,null,66,10,null,27,12,null,null,null,null,null,null,null,null,null,98,347,null,34,18,null,1,1,2,1,2,2,0,0,0,1,1,0,0,0,0,0,1,1,2,2,1,0,1,0,1]
[137,null,3,10,18,19,29,32,42,44,50,54,55,64,65,69,74,80,81,82,87,91,null,6,11,1049,null,null,null,54,10,null,59,10,null,null,null,null,null,null,null,null,null,33,347,null,51,18,null,0,2,1,0,1,1,0,1,1,0,1,1,0,1,0,0,1,1,0,2,1,2,3,0,0]
[138,null,3,10,12,15,20,25,29,32,41,48,52,53,54,58,69,77,79,81,82,88,null,8,10,928,null,null,null,68,10,null,83,12,null,null,null,null,null,null,null,null,null,96,347,null,92,17,null,1,2,1,0,1,1,0,2,1,1,0,2,0,2,0,1,1,0,0,0,1,2,1,0,0]
[139,null,2,6,8,10,11,13,23,24,33,43,49,51,55,65,66,71,75,85,89,93,null,1,6,872,null,null,null,46,10,null,15,11,null,null,null,null,null,null,null,null,null,94,{"$f":"COUNTIF($C$3:$V$3000,AR141)","v":343},null,90,{"$f":"COUNTIF($C$1756:$V$3000,AU141)","v":14},null,1,0,2,1,0,1,0,0,1,1,1,0,2,1,0,2,1,0,2,1,1,0,0,1,1]
[140,null,4,10,14,15,16,20,28,30,43,50,51,56,57,60,62,65,78,83,92,95,null,4,13,929,null,null,null,36,12,null,11,11,null,null,null,null,null,null,null,null,null,75,346,null,96,18,null,1,0,1,0,0,3,1,1,0,1,1,1,0,1,1,0,1,1,2,1,1,0,0,2,0]
[141,null,4,10,14,19,24,25,30,40,46,51,56,66,79,84,87,89,90,92,93,99,null,7,12,1098,null,null,null,58,10,null,87,11,null,null,null,null,null,null,null,null,null,84,340,null,23,14,null,2,0,1,1,0,0,0,0,0,0,1,0,2,2,0,1,0,1,1,1,1,2,1,2,1]
[142,null,7,13,14,24,25,31,35,38,44,51,54,55,60,63,68,82,89,94,96,98,null,5,11,1041,null,null,null,64,{"$f":"COUNTIF($C$1815:$V$3000,AD144)","v":13},null,73,{"$f":"COUNTIF($C$1815:$V$3000,AG144)","v":10},null,null,null,null,null,null,null,null,null,52,335,null,7,14,null,0,1,1,3,0,0,1,0,2,0,0,1,2,1,1,0,0,1,1,1,0,1,0,1,2]
[143,null,5,18,22,26,32,33,38,45,47,48,53,54,58,69,76,78,80,81,82,83,null,3,12,1028,null,null,null,62,11,null,39,12,null,null,null,null,null,null,null,null,null,null,null,null,null,null,null,0,1,0,1,2,0,0,1,0,3,1,1,0,1,1,0,1,0,1,1,1,2,1,1,0]
[144,null,14,15,25,36,38,41,45,46,50,51,59,60,62,66,74,81,85,87,95,99,null,3,9,1129,null,null,null,4,9,null,65,10,null,null,null,null,null,null,null,null,null,null,null,null,null,null,null,1,0,2,1,1,1,0,0,0,0,2,1,1,1,2,0,0,1,2,0,0,1,2,1,0]
[145,null,3,5,22,33,34,39,40,41,42,43,45,46,50,57,64,70,76,79,85,99,null,6,9,973,null,null,null,44,10,null,55,9,null,null,null,null,null,null,null,null,null,null,null,null,null,null,null,1,2,1,0,1,2,0,1,0,1,0,0,2,1,1,1,1,0,1,1,0,0,1,2,0]
[146,null,3,6,17,24,26,37,43,47,49,57,59,60,67,73,75,87,88,92,93,96,null,3,7,1099,null,null,null,52,10,null,69,10,null,null,null,null,null,null,null,null,null,null,null,null,null,null,null,1,1,0,1,1,1,2,1,0,1,0,0,1,0,1,2,1,2,0,1,0,0,1,1,1]
[147,null,2,4,6,7,8,21,23,26,35,40,48,56,59,65,73,81,82,85,88,98,null,5,11,907,null,null,null,18,11,null,5,11,null,null,null,null,null,null,null,null,null,null,null,null,null,null,null,1,0,1,2,1,0,0,0,1,0,0,1,0,1,0,2,2,2,0,1,2,0,1,0,2]
[148,null,0,9,10,12,22,24,26,33,40,41,43,45,49,60,77,81,84,85,91,98,null,5,9,930,null,null,null,42,11,null,49,11,null,null,null,null,null,null,null,null,null,null,null,null,null,null,null,1,0,1,1,2,2,0,2,0,0,1,1,1,1,2,2,1,0,1,0,0,0,1,0,0]
[149,null,10,18,24,25,29,38,39,43,45,49,50,55,58,63,66,70,82,85,90,93,null,6,10,1032,null,null,null,34,9,null,17,10,null,null,null,null,null,null,null,null,null,null,null,null,null,null,null,0,1,1,2,0,2,0,0,1,0,1,1,2,2,1,1,0,0,0,1,0,3,0,0,1]
[150,null,7,9,15,18,20,23,25,26,29,37,38,39,48,50,52,54,55,79,89,96,null,7,9,809,null,null,null,88,8,null,89,9,null,null,null,null,null,null,null,null,null,null,null,null,null,null,null,1,1,2,1,1,1,1,1,1,0,0,1,1,1,0,0,1,0,0,1,0,2,0,0,3]
[151,null,4,7,11,12,25,33,34,39,45,48,50,51,56,73,78,81,84,85,90,94,null,5,10,1000,null,null,null,10,9,null,29,9,null,null,null,null,null,null,null,null,null,null,null,null,null,null,null,1,0,1,0,0,1,1,1,0,1,0,0,1,1,1,1,1,1,1,1,0,1,1,2,2]
[152,null,6,8,9,18,19,27,28,46,48,51,52,60,66,73,75,81,83,86,87,95,null,4,10,1018,null,null,null,28,8,null,19,9,null,null,null,null,null,null,null,null,null,null,null,null,null,null,null,2,0,0,0,0,0,1,1,1,1,2,1,1,1,1,0,2,0,0,0,0,2,3,1,0]
[153,null,4,9,10,11,12,28,36,39,43,50,51,63,64,67,69,71,75,76,79,97,null,4,8,954,null,null,null,22,10,null,33,9,null,null,null,null,null,null,null,null,null,null,null,null,null,null,null,1,0,0,0,0,2,2,2,0,2,1,0,1,2,1,1,0,1,1,1,1,0,0,1,0]
[154,null,4,6,12,28,30,43,44,45,49,51,55,62,65,66,73,79,81,88,92,98,null,6,11,1071,null,null,null,92,8,null,7,7,null,null,null,null,null,null,null,null,null,null,null,null,null,null,null,2,0,0,1,0,1,1,1,0,0,1,0,0,0,1,2,2,2,1,1,1,0,1,2,0]
[155,null,1,5,15,17,18,24,26,27,29,32,33,34,37,38,42,47,50,70,72,93,null,0,10,710,null,null,null,40,10,null,81,6,null,null,null,null,null,null,null,null,null,null,null,null,null,null,null,0,1,0,2,2,1,1,1,1,0,0,2,1,0,1,0,0,1,1,1,0,1,1,2,0]
[156,null,1,10,19,20,24,32,38,40,42,48,50,59,66,68,77,82,85,91,95,98,null,6,13,1045,null,null,null,86,8,null,21,8,null,null,null,null,null,null,null,null,null,null,null,null,null,null,null,1,0,2,2,1,2,0,1,1,0,2,1,1,2,0,1,0,1,0,0,0,1,1,0,0]
[157,null,4,8,16,17,23,30,38,44,51,54,57,59,62,63,66,81,84,86,88,90,null,3,13,1021,null,null,null,2,6,null,47,7,null,null,null,null,null,null,null,null,null,null,null,null,null,null,null,1,1,0,1,0,1,0,1,1,0,1,0,0,1,0,1,0,4,1,0,1,0,2,1,2]
[158,null,6,13,24,31,36,51,52,53,54,55,56,62,63,66,70,72,86,89,93,98,null,6,12,1130,null,null,null,90,6,null,25,6,null,null,null,null,null,null,null,null,null,null,null,null,null,null,null,1,2,1,2,0,0,0,0,1,1,2,0,2,1,1,0,1,0,1,2,0,0,1,1,0]
[159,null,5,8,11,14,29,35,45,48,53,55,61,65,67,68,73,74,75,79,86,96,null,3,7,1047,null,null,null,96,8,null,23,5,null,null,null,null,null,null,null,null,null,null,null,null,null,null,null,1,1,1,1,0,0,1,0,3,2,0,0,0,1,1,1,2,0,1,1,0,0,1,1,1]
[160,null,0,1,23,25,26,29,33,37,38,42,48,56,62,65,66,68,83,89,92,94,null,4,10,977,null,null,null,null,null,null,null,null,null,null,null,null,null,null,null,null,null,null,null,null,null,null,null,0,0,1,1,2,0,2,0,2,0,2,1,0,1,0,0,1,0,2,1,0,1,1,1,1]
[161,null,2,4,11,13,16,32,33,43,50,55,58,60,61,69,73,80,82,83,92,98,null,3,11,1015,null,null,null,null,null,null,null,null,null,null,null,null,null,null,null,null,null,null,null,null,null,null,null,0,1,0,1,1,3,0,1,0,0,1,1,1,0,1,1,1,1,1,1,2,1,0,1,0]
[162,null,1,8,12,18,25,27,29,41,49,61,62,70,74,80,81,83,86,91,95,98,null,4,9,1091,null,null,null,null,null,null,null,null,null,null,null,null,null,null,null,null,null,null,null,null,null,null,null,1,2,1,1,3,0,0,1,2,0,2,1,0,0,0,1,0,0,1,0,0,2,2,0,0]
[163,null,6,9,11,13,15,18,19,26,30,33,47,52,53,59,69,78,81,83,85,96,null,3,7,883,null,null,null,"Da FORÇA pela FREQUÊNCIA dos 25\nPARES & ÍMPARES",null,null,null,null,null,null,null,null,null,null,null,null,null,null,null,null,null,null,null,1,0,1,0,1,0,0,1,0,2,1,1,1,0,0,1,1,1,1,1,2,2,1,0,1]
[164,null,12,15,24,40,45,47,49,54,55,59,63,64,69,73,77,80,81,84,87,96,null,6,8,1174,null,null,null,null,null,null,null,null,null,null,null,null,null,null,null,null,null,null,null,null,null,null,null,1,1,0,0,1,1,0,1,0,0,0,1,1,1,1,2,1,1,0,3,1,0,2,0,1]
[165,null,1,9,14,15,29,39,41,43,45,46,49,60,61,65,67,71,76,82,89,92,null,3,6,994,null,null,null,{"$f":"$AD$180","v":38},{"$f":"$AD$181","v":72},{"$f":"$AD$182","v":60},{"$f":"$AD$183","v":14},{"$f":"$AD$184","v":64},{"$f":"$AD$185","v":6},{"$f":"$AD$186","v":32},{"$f":"$AD$187","v":12},{"$f":"$AD$188","v":8},{"$f":"$AD$189","v":26},null,null,null,null,null,null,null,null,null,null,0,1,1,0,2,1,1,1,1,1,0,2,2,0,2,1,1,0,2,0,0,0,0,1,0]
[166,null,12,15,17,21,22,24,30,31,34,38,62,70,72,76,77,81,87,89,92,94,null,4,12,1044,null,null,"A",{"$f":"$AG$180","v":61},{"$f":"$AG$181","v":95},{"$f":"$AG$182","v":79},{"$f":"$AG$183","v":75},{"$f":"$AG$184","v":41},{"$f":"$AG$185","v":39},{"$f":"$AG$186","v":99},{"$f":"$AG$187","v":65},{"$f":"$AG$188","v":35},{"$f":"$AG$189","v":1},null,null,null,null,null,null,null,null,null,null,0,1,1,1,0,1,1,1,1,1,0,1,1,0,1,0,1,1,1,0,2,0,2,2,0]
[167,null,1,17,23,29,30,35,36,43,51,52,57,59,63,65,76,82,86,95,96,99,null,3,7,1095,null,null,null,{"$f":"$AD$190","v":20},{"$f":"$AD$191","v":0},{"$f":"$AD$192","v":70},{"$f":"$AD$193","v":80},{"$f":"$AD$194","v":74},{"$f":"$AD$195","v":56},{"$f":"$AD$196","v":48},{"$f":"$AD$197","v":78},{"$f":"$AD$198","v":30},{"$f":"$AD$199","v":94},null,null,null,null,null,null,null,null,null,null,1,0,0,1,1,1,0,1,1,1,1,1,0,2,0,0,2,2,0,0,1,0,1,1,2]
[168,null,0,1,13,14,15,19,20,23,25,27,40,46,53,55,57,69,77,79,83,89,null,3,4,805,null,null,"B",{"$f":"$AG$190","v":51},{"$f":"$AG$191","v":53},{"$f":"$AG$192","v":85},{"$f":"$AG$193","v":9},{"$f":"$AG$194","v":71},{"$f":"$AG$195","v":93},{"$f":"$AG$196","v":3},{"$f":"$AG$197","v":91},{"$f":"$AG$198","v":77},{"$f":"$AG$199","v":5},null,null,null,null,null,null,null,null,null,null,1,0,2,0,1,1,0,1,0,1,1,3,2,0,0,1,0,0,1,1,1,2,0,0,1]
[169,null,4,11,23,24,25,39,42,43,53,54,55,59,65,68,75,78,91,94,95,96,null,4,8,1094,null,null,null,{"$f":"$AD$200","v":84},{"$f":"$AD$201","v":46},{"$f":"$AD$202","v":76},{"$f":"$AD$203","v":50},{"$f":"$AD$204","v":24},{"$f":"$AD$205","v":44},{"$f":"$AD$206","v":92},{"$f":"$AD$207","v":62},{"$f":"$AD$208","v":40},{"$f":"$AD$209","v":22},null,null,null,null,null,null,null,null,null,null,1,1,0,0,0,1,1,0,1,3,1,0,2,0,0,1,1,2,0,1,0,1,1,0,2]
[170,null,0,13,14,22,27,29,34,36,47,53,56,61,65,66,69,73,77,89,97,98,null,2,7,1026,null,null,"C",{"$f":"$AG$200","v":31},{"$f":"$AG$201","v":45},{"$f":"$AG$202","v":43},{"$f":"$AG$203","v":37},{"$f":"$AG$204","v":13},{"$f":"$AG$205","v":97},{"$f":"$AG$206","v":19},{"$f":"$AG$207","v":57},{"$f":"$AG$208","v":63},{"$f":"$AG$209","v":49},null,null,null,null,null,null,null,null,null,null,0,1,1,1,0,1,0,0,1,1,2,2,1,0,1,0,3,0,1,2,1,0,0,1,0]
[171,null,4,6,10,12,14,35,41,48,51,57,60,62,69,71,76,81,84,86,91,92,null,2,12,1050,null,null,null,{"$f":"$AD$210","v":36},{"$f":"$AD$211","v":58},{"$f":"$AD$212","v":16},{"$f":"$AD$213","v":4},{"$f":"$AD$214","v":42},{"$f":"$AD$215","v":96},{"$f":"$AD$216","v":10},{"$f":"$AD$217","v":34},{"$f":"$AD$218","v":82},{"$f":"$AD$219","v":98},null,null,null,null,null,null,null,null,null,null,2,0,0,1,1,0,0,2,0,1,1,0,0,2,1,0,0,1,3,0,1,0,2,2,0]
[172,null,12,13,14,19,26,30,34,35,38,46,52,53,55,56,57,67,71,73,91,95,null,6,9,937,null,null,"D",{"$f":"$AG$210","v":33},{"$f":"$AG$211","v":67},{"$f":"$AG$212","v":17},{"$f":"$AG$213","v":11},{"$f":"$AG$214","v":83},{"$f":"$AG$215","v":27},{"$f":"$AG$216","v":73},{"$f":"$AG$217","v":69},{"$f":"$AG$218","v":59},{"$f":"$AG$219","v":89},null,null,null,null,null,null,null,null,null,null,1,0,0,2,1,0,1,2,0,1,1,0,2,0,0,0,2,0,2,2,1,1,0,1,0]
[173,null,1,3,4,6,11,15,21,22,28,32,43,44,47,51,52,57,63,73,84,88,null,3,9,745,null,null,null,{"$f":"$AD$220","v":28},{"$f":"$AD$221","v":52},{"$f":"$AD$222","v":68},{"$f":"$AD$223","v":88},{"$f":"$AD$224","v":2},{"$f":"$AD$225","v":86},{"$f":"$AD$226","v":90},{"$f":"$AD$227","v":54},{"$f":"$AD$228","v":18},{"$f":"$AD$229","v":66},null,null,null,null,null,null,null,null,null,null,2,1,0,0,1,1,1,2,0,0,0,1,0,1,0,2,3,2,0,1,1,0,0,1,0]
[174,null,0,5,11,12,17,23,26,31,33,35,41,58,63,68,69,72,76,83,91,92,null,2,7,906,null,null,"E",{"$f":"$AG$220","v":15},{"$f":"$AG$221","v":21},{"$f":"$AG$222","v":87},{"$f":"$AG$223","v":7},{"$f":"$AG$224","v":47},{"$f":"$AG$225","v":29},{"$f":"$AG$226","v":81},{"$f":"$AG$227","v":23},{"$f":"$AG$228","v":55},{"$f":"$AG$229","v":25},null,null,null,null,null,null,null,null,null,null,0,0,0,1,2,0,0,1,2,1,2,1,0,1,1,1,0,1,1,0,1,1,0,2,1]
[175,null,2,19,25,29,39,43,45,51,56,57,63,64,75,77,82,83,84,91,92,98,null,4,7,1175,null,null,null,1,null,2,null,3,null,4,null,5,null,null,null,null,null,null,null,null,null,null,null,1,0,0,1,0,2,0,1,1,1,2,1,1,1,1,0,0,0,0,2,1,2,0,2,0]
[176,null,0,5,9,15,21,30,31,41,47,49,50,53,55,65,72,75,76,82,89,91,null,3,5,956,null,{"$f":"A$1-25","v":1845},null,"Dos últimos 25 Sorteios",null,null,null,null,null,null,null,null,null,null,null,null,null,null,null,null,null,null,null,0,0,1,0,1,1,0,1,1,3,1,3,0,0,1,1,1,0,0,2,2,0,0,1,0]
[177,null,1,3,5,16,19,22,29,33,34,39,42,43,54,71,77,80,83,88,89,98,null,2,8,926,null,null,null,"Dos 25 Pares",null,null,"Dos 25 Ímp",null,null,null,null,null,null,null,null,null,null,null,null,null,null,null,null,0,2,1,1,2,3,0,0,1,0,1,0,1,0,0,1,1,0,2,0,0,1,1,2,0]
[178,null,0,4,11,12,17,18,27,33,37,39,42,44,48,51,59,85,91,94,97,98,null,4,8,907,null,null,null,38,{"$f":"COUNTIF($C$1843:$V$3000,AD180)","v":13},null,61,{"$f":"COUNTIF($C$1843:$V$3000,AG180)","v":11},null,null,null,null,null,null,null,null,null,null,null,null,null,null,null,0,0,1,1,0,0,2,1,0,0,1,2,1,1,1,1,0,4,1,0,0,1,1,1,0]
[179,null,2,11,23,25,30,33,35,38,39,48,50,52,58,61,64,65,73,83,84,99,null,4,9,973,null,null,"Dos últimos 50 PARES",72,10,"Dos últimos 50 ÍMPARES",95,12,null,null,null,null,null,null,null,null,null,null,null,null,null,null,null,1,1,0,2,0,1,0,0,0,0,1,0,1,2,0,1,3,0,1,1,2,2,0,0,1]
[180,null,1,7,16,24,33,34,40,45,48,51,54,55,56,64,71,72,74,76,77,95,null,3,11,993,null,null,null,60,10,null,79,11,null,null,null,null,null,null,null,null,null,null,null,null,null,null,null,1,1,1,0,1,2,0,0,0,1,0,0,1,1,2,1,0,0,2,3,0,0,0,2,1]
[181,null,2,6,17,19,24,25,26,28,37,41,49,50,63,71,72,78,82,93,95,97,null,4,9,975,null,null,null,14,9,null,75,10,null,null,null,null,null,null,null,null,null,null,null,null,null,null,null,2,0,0,1,2,1,2,0,0,1,0,1,1,1,2,1,0,1,1,0,1,2,0,0,0]
[182,null,0,1,8,10,12,18,25,26,30,35,44,55,61,62,65,67,69,84,85,93,null,3,9,850,null,null,null,64,9,null,41,9,null,null,null,null,null,null,null,null,null,null,null,null,null,null,null,1,1,1,2,2,0,1,1,1,0,0,1,0,1,0,0,1,1,1,1,2,2,0,0,0]
[183,null,9,14,24,28,33,40,41,42,48,54,59,62,64,65,73,74,79,84,96,97,null,3,12,1086,null,null,null,6,8,null,39,9,null,null,null,null,null,null,null,null,null,null,null,null,null,null,null,2,1,1,0,1,0,1,1,0,0,0,0,1,1,1,1,2,1,3,1,0,0,1,0,1]
[184,null,0,4,16,19,21,24,27,29,31,45,50,58,72,86,88,92,93,94,95,96,null,2,11,1040,null,null,null,32,9,null,99,8,null,null,null,null,null,null,null,null,null,null,null,null,null,null,null,1,0,0,1,0,2,1,0,2,0,0,2,1,0,2,1,0,1,0,0,1,2,1,1,1]
[185,null,19,21,27,31,37,40,47,48,51,56,58,60,66,72,73,78,81,83,94,98,null,7,10,1140,null,null,null,12,10,null,65,8,null,null,null,null,null,null,null,null,null,null,null,null,null,null,null,0,0,0,1,0,0,2,0,1,1,2,1,0,1,2,1,1,0,0,2,1,2,1,1,0]
[186,null,4,5,11,17,21,23,24,25,27,38,40,62,64,68,69,88,90,94,96,97,null,4,11,963,null,null,null,8,8,null,35,7,null,null,null,null,null,null,null,null,null,null,null,null,null,null,null,0,0,0,1,0,0,1,0,1,0,0,1,1,0,1,3,0,2,1,1,2,1,0,1,3]
[187,null,3,7,12,20,23,27,28,31,36,42,44,55,58,76,79,80,83,84,88,93,null,3,11,969,null,null,null,26,9,null,1,8,null,null,null,null,null,null,null,null,null,null,null,null,null,null,null,2,1,1,1,1,0,1,1,1,1,2,1,0,0,0,1,0,1,0,1,0,1,1,0,2]
[188,null,0,1,21,25,26,30,33,39,47,54,57,62,64,71,78,86,90,92,94,95,null,0,10,1065,null,null,null,20,9,null,51,7,null,null,null,null,null,null,null,null,null,null,null,null,null,null,null,1,1,0,0,2,0,1,1,0,1,0,1,1,0,0,0,0,0,3,2,2,1,1,1,1]
[189,null,20,21,29,31,32,34,35,37,46,47,48,49,51,52,74,77,79,81,83,86,null,3,8,1012,null,null,null,0,9,null,53,7,null,null,null,null,null,null,null,null,null,null,null,null,null,null,null,1,0,2,1,0,1,1,1,2,0,1,0,1,1,0,1,1,0,0,1,1,0,2,2,0]
[190,null,0,1,16,17,22,23,25,29,30,42,46,49,51,53,81,83,84,87,88,90,null,6,8,917,null,null,null,70,7,null,85,6,null,null,null,null,null,null,null,null,null,null,null,null,null,null,null,1,0,0,0,1,1,0,0,1,1,1,1,1,0,0,2,1,1,0,0,1,1,3,1,2]
[191,null,2,6,7,9,13,14,18,25,27,36,47,50,53,68,69,75,79,80,88,90,null,4,10,856,null,null,null,80,8,null,9,6,null,null,null,null,null,null,null,null,null,null,null,null,null,null,null,2,0,0,0,1,1,0,1,1,2,1,1,1,0,0,1,0,0,1,1,2,2,0,0,2]
[192,null,5,6,10,17,23,34,35,44,53,54,56,61,65,68,69,75,77,80,86,88,null,7,10,1006,null,null,null,74,7,null,71,6,null,null,null,null,null,null,null,null,null,null,null,null,null,null,null,1,2,0,1,1,1,0,0,1,2,0,0,0,1,0,1,1,2,0,1,1,0,1,2,1]
[193,null,6,11,13,15,20,22,24,28,44,49,54,59,61,66,70,74,86,95,96,97,null,5,12,990,null,null,null,56,7,null,93,6,null,null,null,null,null,null,null,null,null,null,null,null,null,null,null,{"$f":"SUMPRODUCT(COUNTIF($C195:$V195,$AB$17:$AC$18))","v":2},{"$f":"SUMPRODUCT(COUNTIF($C195:$V195,$AD$17:$AE$18))","v":3},{"$f":"SUMPRODUCT(COUNTIF($C195:$V195,$AF$17:$AG$18))","v":2},{"$f":"SUMPRODUCT(COUNTIF($C195:$V195,$AH$17:$AI$18))","v":0},{"$f":"SUMPRODUCT(COUNTIF($C195:$V195,$AJ$17:$AK$18))","v":0},{"$f":"SUMPRODUCT(COUNTIF($C195:$V195,$AB$19:$AC$20))","v":0},{"$f":"SUMPRODUCT(COUNTIF($C195:$V195,$AD$19:$AE$20))","v":1},{"$f":"SUMPRODUCT(COUNTIF($C195:$V195,$AF$19:$AG$20))","v":0},{"$f":"SUMPRODUCT(COUNTIF($C195:$V195,$AH$19:$AI$20))","v":0},{"$f":"SUMPRODUCT(COUNTIF($C195:$V195,$AJ$19:$AK$20))","v":0},{"$f":"SUMPRODUCT(COUNTIF($C195:$V195,$AB$21:$AC$22))","v":1},{"$f":"SUMPRODUCT(COUNTIF($C195:$V195,$AD$21:$AE$22))","v":1},{"$f":"SUMPRODUCT(COUNTIF($C195:$V195,$AF$21:$AG$22))","v":2},{"$f":"SUMPRODUCT(COUNTIF($C195:$V195,$AH$21:$AI$22))","v":0},{"$f":"SUMPRODUCT(COUNTIF($C195:$V195,$AJ$21:$AK$22))","v":1},{"$f":"SUMPRODUCT(COUNTIF($C195:$V195,$AB$23:$AC$24))","v":2},{"$f":"SUMPRODUCT(COUNTIF($C195:$V195,$AD$23:$AE$24))","v":1},{"$f":"SUMPRODUCT(COUNTIF($C195:$V195,$AF$23:$AG$24))","v":2},{"$f":"SUMPRODUCT(COUNTIF($C195:$V195,$AH$23:$AI$24))","v":0},{"$f":"SUMPRODUCT(COUNTIF($C195:$V195,$AJ$23:$AK$24))","v":0},{"$f":"SUMPRODUCT(COUNTIF($C195:$V195,$AB$25:$AC$26))","v":0},{"$f":"SUMPRODUCT(COUNTIF($C195:$V195,$AD$25:$AE$26))","v":0},{"$f":"SUMPRODUCT(COUNTIF($C195:$V195,$AF$25:$AG$26))","v":1},{"$f":"SUMPRODUCT(COUNTIF($C195:$V195,$AH$25:$AI$26))","v":0},{"$f":"SUMPRODUCT(COUNTIF($C195:$V195,$AJ$25:$AK$26))","v":1}]
[194,null,9,13,18,22,28,33,34,37,41,46,48,62,63,65,72,76,77,85,87,93,null,{"$f":"SUMPRODUCT(COUNTIF(C196:V196,C195:V195))","v":3},{"$f":"SUMPRODUCT(N(MOD((C196:V196),2)=0)*(C196:V196>0))","v":9},{"$f":"SUM(C196:V196)","v":1009},null,null,null,48,7,null,3,7,null,null,null,null,null,null,null,null,null,null,null,null,null,null,null,0,0,1,1,1,1,2,1,0,1,0,0,2,2,1,0,2,0,2,0,0,1,1,1,0]
[195,null,4,8,12,14,16,25,28,36,42,45,48,49,51,52,53,54,61,66,81,92,null,2,13,837,null,null,null,78,6,null,91,6,null,null,null,null,null,null,null,null,null,null,null,null,null,null,null,0,2,0,0,0,1,1,1,1,1,2,0,0,1,1,1,1,1,1,0,0,1,2,2,0]
[196,null,3,4,12,14,16,17,19,23,33,34,35,38,48,51,58,66,78,84,93,97,null,7,11,823,null,null,null,30,7,null,77,6,null,null,null,null,null,null,null,null,null,null,null,null,null,null,null,1,1,0,3,0,1,0,1,0,1,1,0,0,1,1,0,0,2,2,0,0,2,0,2,1]
[197,null,8,11,12,13,14,24,26,36,37,38,42,52,54,57,58,61,90,91,92,99,null,4,13,915,null,null,null,94,6,null,5,6,null,null,null,null,null,null,null,null,null,null,null,null,null,null,null,0,2,0,1,1,0,1,2,1,0,2,0,2,1,0,1,1,0,1,0,0,1,1,1,1]
[198,null,1,7,12,14,16,25,33,55,57,59,64,65,66,68,76,77,78,85,92,93,null,4,9,1043,null,null,null,84,6,null,31,6,null,null,null,null,null,null,null,null,null,null,null,null,null,null,null,0,0,1,1,1,2,0,2,1,2,1,0,0,0,0,0,1,1,2,2,0,1,0,1,1]
[199,null,1,8,10,16,19,25,31,34,37,38,43,47,68,70,80,83,85,89,91,99,null,5,8,974,null,null,null,46,6,null,45,6,null,null,null,null,null,null,null,null,null,null,null,null,null,null,null,0,1,2,1,2,2,1,0,3,0,2,0,0,2,0,0,0,0,0,1,0,2,0,1,0]
[200,null,12,20,23,27,29,32,33,35,38,56,58,66,74,76,79,82,84,90,93,97,null,1,12,1104,null,null,null,76,6,null,43,6,null,null,null,null,null,null,null,null,null,null,null,null,null,null,null,2,0,2,3,0,0,0,2,1,1,1,2,0,0,1,0,0,0,1,1,0,1,0,0,2]
[201,null,1,4,15,16,19,38,40,48,59,61,62,64,74,75,82,83,87,88,89,96,null,3,11,1101,null,null,null,50,6,null,37,5,null,null,null,null,null,null,null,null,null,null,null,null,null,null,null,0,1,2,1,1,1,0,0,0,1,1,2,0,1,0,2,0,2,1,1,0,1,1,0,1]
[202,null,5,7,9,11,15,26,39,45,56,60,61,62,64,70,73,80,81,82,85,96,null,6,9,1027,null,null,null,24,6,null,13,6,null,null,null,null,null,null,null,null,null,null,null,null,null,null,null,0,2,1,0,2,0,0,1,0,0,0,2,1,0,2,1,1,0,1,2,0,0,1,1,2]
[203,null,1,14,22,29,31,34,37,39,40,67,68,71,72,74,83,84,88,90,91,99,null,1,10,1134,null,null,null,44,7,null,97,5,null,null,null,null,null,null,null,null,null,null,null,null,null,null,null,1,0,1,0,1,0,2,0,3,0,2,0,1,1,1,2,1,0,2,0,0,0,0,1,1]
[204,null,6,16,17,27,30,38,40,44,45,46,49,50,55,59,62,67,70,88,89,96,null,3,12,994,null,null,null,92,6,null,19,5,null,null,null,null,null,null,null,null,null,null,null,null,null,null,null,1,1,1,1,0,2,1,0,0,0,0,1,1,0,1,3,0,3,1,1,1,0,0,0,1]
[205,null,9,10,28,33,41,44,47,48,49,57,64,71,74,75,76,80,81,85,86,99,null,2,9,1157,null,null,null,62,6,null,57,5,null,null,null,null,null,null,null,null,null,null,null,null,null,null,null,0,0,2,0,2,0,1,2,0,2,0,0,0,3,0,1,0,1,2,2,0,0,2,0,0]
[206,null,5,6,11,17,23,25,32,37,41,44,49,58,59,62,65,67,76,80,89,99,null,6,7,945,null,null,null,40,7,null,63,5,null,null,null,null,null,null,null,null,null,null,null,null,null,null,null,1,0,1,0,2,0,2,1,0,1,0,0,0,1,0,2,1,3,1,0,0,2,0,1,1]
[207,null,5,10,11,14,17,28,32,33,38,39,46,64,65,70,71,74,77,80,81,90,null,6,11,945,null,null,null,22,6,null,49,7,null,null,null,null,null,null,null,null,null,null,null,null,null,null,null,0,1,1,1,1,1,1,1,0,0,0,0,2,1,0,1,1,1,3,1,0,0,1,1,1]
[208,null,3,7,8,11,17,29,31,37,43,44,59,60,66,68,69,77,87,90,95,96,null,4,7,997,null,null,null,36,7,null,33,6,null,null,null,null,null,null,null,null,null,null,null,null,null,null,null,1,1,0,0,0,2,1,0,4,0,1,0,0,0,1,1,0,3,0,0,1,0,1,0,3]
[209,null,3,4,8,13,32,38,39,41,50,53,55,57,64,76,77,85,88,90,94,97,null,4,10,1064,null,null,null,58,5,null,67,5,null,null,null,null,null,null,null,null,null,null,null,null,null,null,null,0,1,1,1,1,2,1,2,1,2,0,0,2,0,1,1,0,1,0,2,0,0,0,0,1]
[210,null,6,7,14,20,35,40,41,47,49,57,60,66,70,76,77,79,83,84,86,98,null,4,11,1095,null,null,null,16,{"$f":"COUNTIF($C$1843:$V$3000,AD212)","v":5},null,17,{"$f":"COUNTIF($C$1843:$V$3000,AG212)","v":5},null,null,null,null,null,null,null,null,null,null,null,null,null,null,null,3,1,1,2,1,1,0,1,0,1,2,0,0,0,1,2,0,0,1,1,0,0,1,0,1]
[211,null,3,9,13,15,20,26,32,38,41,44,46,47,50,59,60,61,64,70,87,97,null,5,10,882,null,null,null,4,5,null,11,6,null,null,null,null,null,null,null,null,null,null,null,null,null,null,null,0,3,1,1,2,1,0,2,0,0,0,1,2,0,2,0,0,2,0,2,0,0,1,0,0]
[212,null,3,6,8,9,12,15,22,27,37,40,43,44,46,47,54,61,80,89,96,99,null,7,10,838,null,null,null,42,6,null,83,6,null,null,null,null,null,null,null,null,null,null,null,null,null,null,null,1,3,1,0,1,1,1,2,1,0,0,2,1,1,0,1,1,1,0,1,0,0,0,0,1]
[213,null,1,5,15,17,22,23,28,31,41,44,47,54,55,56,57,67,71,72,78,82,null,5,8,866,null,null,null,96,6,null,27,6,null,null,null,null,null,null,null,null,null,null,null,null,null,null,null,0,1,0,0,2,0,2,1,1,1,0,2,0,0,1,0,1,2,1,3,0,0,0,1,1]
[214,null,1,5,8,9,14,16,23,28,47,50,54,56,65,66,70,74,75,90,96,99,null,7,12,946,null,null,null,10,5,null,73,5,null,null,null,null,null,null,null,null,null,null,null,null,null,null,null,0,2,1,0,1,2,1,1,1,1,1,0,0,1,0,0,1,0,1,2,0,0,0,1,3]
[215,null,8,14,20,31,39,42,43,54,55,56,62,64,65,67,69,73,74,85,92,98,null,6,11,1111,null,null,null,34,4,null,69,5,null,null,null,null,null,null,null,null,null,null,null,null,null,null,null,0,1,3,1,0,1,1,0,2,0,0,0,1,0,0,0,2,0,2,3,1,0,1,1,0]
[216,null,2,6,9,13,14,22,28,33,36,42,44,47,52,53,61,62,64,77,82,99,null,4,12,846,null,null,null,82,4,null,59,4,null,null,null,null,null,null,null,null,null,null,null,null,null,null,null,1,1,0,0,0,1,1,1,0,1,1,1,1,1,0,0,2,1,3,2,1,0,1,0,0]
[217,null,9,12,18,21,22,35,43,46,52,59,60,72,74,75,76,77,82,95,96,99,null,6,11,1123,null,null,null,98,4,null,89,4,null,null,null,null,null,null,null,null,null,null,null,null,null,null,null,1,0,1,1,0,2,0,2,0,2,0,1,1,1,2,0,2,1,0,0,1,1,0,0,1]
[218,null,5,12,15,25,34,43,45,48,54,60,61,65,68,70,72,78,79,80,87,95,null,5,10,1096,null,null,null,28,3,null,15,4,null,null,null,null,null,null,null,null,null,null,null,null,null,null,null,2,3,0,0,1,1,0,1,1,1,0,1,0,1,3,0,1,0,0,0,0,1,1,2,0]
[219,null,5,7,18,21,23,27,32,33,39,42,58,65,72,75,76,77,78,83,91,94,null,4,8,1016,null,null,null,52,3,null,21,6,null,null,null,null,null,null,null,null,null,null,null,null,null,null,null,0,0,0,0,0,1,1,1,0,3,2,1,1,0,1,0,1,0,1,0,1,2,1,1,2]
[220,null,8,12,16,23,24,26,27,30,36,45,48,49,56,62,69,72,73,74,81,87,null,3,12,918,null,null,null,68,3,null,87,4,null,null,null,null,null,null,null,null,null,null,null,null,null,null,null,0,0,1,0,1,1,0,1,1,0,1,1,1,1,2,1,1,0,1,1,2,0,2,0,1]
[221,null,10,24,25,28,34,37,41,44,45,46,48,49,51,55,66,78,84,91,94,98,null,4,12,1048,null,null,null,88,3,null,7,3,null,null,null,null,null,null,null,null,null,null,null,null,null,null,null,1,0,0,1,1,0,3,0,0,1,2,0,2,2,1,1,0,1,0,1,0,1,0,2,0]
[222,null,4,10,11,24,32,33,34,38,43,50,53,62,65,75,79,89,92,96,97,99,null,3,10,1086,null,null,null,2,3,null,47,3,null,null,null,null,null,null,null,null,null,null,null,null,null,null,null,1,0,1,1,0,2,0,1,0,2,0,0,1,2,1,1,1,1,2,0,0,0,0,2,1]
[223,null,5,6,16,17,25,26,32,39,43,48,52,58,72,75,83,92,94,95,97,99,null,6,10,1074,null,null,null,86,3,null,29,2,null,null,null,null,null,null,null,null,null,null,null,null,null,null,null,2,0,0,0,1,2,1,1,0,1,1,0,1,2,2,0,1,1,0,0,0,2,0,2,0]
[224,null,2,6,8,10,15,18,21,23,24,33,41,43,45,55,64,65,67,74,81,90,null,2,9,785,null,null,null,90,2,null,81,1,null,null,null,null,null,null,null,null,null,null,null,null,null,null,null,1,0,1,0,1,1,1,0,1,0,0,1,1,1,1,0,1,0,1,2,2,1,1,0,2]
[225,null,3,14,15,16,23,29,32,33,34,36,41,44,49,54,60,64,65,66,78,99,null,6,11,855,null,null,null,54,2,null,23,2,null,null,null,null,null,null,null,null,null,null,null,null,null,null,null,0,2,0,0,1,1,0,1,1,1,2,1,0,1,1,1,1,1,2,1,0,0,0,1,1]
[226,null,5,12,14,16,20,23,24,25,28,29,32,33,42,46,49,52,64,68,87,92,null,8,13,761,null,null,null,18,4,null,55,1,null,null,null,null,null,null,null,null,null,null,null,null,null,null,null,0,0,1,0,0,1,1,2,2,0,0,0,2,0,0,1,1,0,2,1,0,1,2,2,1]
[227,null,2,6,10,26,28,31,37,41,42,45,58,61,68,69,71,74,78,85,94,97,null,3,11,1023,null,null,null,66,2,null,25,1,null,null,null,null,null,null,null,null,null,null,null,null,null,null,null,1,1,2,0,2,0,3,0,2,1,0,0,0,1,2,0,0,0,1,0,2,1,1,0,0]
[228,null,1,5,7,19,21,22,27,35,42,56,60,62,64,67,68,71,86,93,94,96,null,4,10,996,null,null,null,null,null,null,null,null,null,null,null,null,null,null,null,null,null,null,null,null,null,null,null,0,0,0,2,1,0,2,0,1,0,0,1,0,0,1,0,1,0,2,2,1,1,2,1,2]
[229,null,1,4,20,33,40,49,52,56,59,64,66,75,78,81,84,85,91,92,94,98,null,4,12,1222,null,null,null,null,null,null,null,null,null,null,null,null,null,null,null,null,null,null,null,null,null,null,null,1,0,2,1,1,0,1,0,0,2,2,0,0,0,0,2,1,2,1,2,0,0,1,1,0]
[230,null,5,20,21,24,36,41,50,55,57,62,63,64,65,74,79,81,83,85,87,91,null,5,7,1143,null,null,null,null,null,null,null,null,null,null,null,null,null,null,null,null,null,null,null,null,null,null,null,1,0,3,0,1,1,0,1,0,0,3,0,1,1,0,0,1,0,1,2,1,0,2,1,0]
[231,null,0,11,15,19,22,24,25,26,27,32,34,38,41,48,51,53,69,70,80,87,null,3,9,772,null,null,null,null,null,null,null,null,null,null,null,null,null,null,null,null,null,null,null,null,null,null,null,0,1,0,1,3,0,0,1,0,1,0,3,1,1,0,1,1,0,0,0,1,2,1,2,0]
[232,null,1,4,7,10,12,17,20,22,23,33,41,49,53,59,63,68,69,73,87,99,null,5,6,810,null,null,null,null,null,null,null,null,null,null,null,null,null,null,null,null,null,null,null,null,null,null,null,0,0,1,0,2,0,0,1,1,1,0,0,0,3,0,1,2,3,1,0,1,0,1,0,2]
[233,null,12,25,33,34,35,36,40,45,47,56,57,64,70,72,78,79,94,97,98,99,null,3,11,1171,null,null,null,null,null,null,null,null,null,null,null,null,null,null,null,null,null,null,null,null,null,null,null,1,1,0,2,0,0,1,2,0,1,1,0,0,1,3,1,0,0,1,3,0,1,0,1,0]
[234,null,5,6,12,13,15,43,44,47,54,61,66,67,73,78,85,87,90,91,92,96,null,3,9,1125,null,null,null,null,null,null,null,null,null,null,null,null,null,null,null,null,null,null,null,null,null,null,null,1,2,1,0,0,1,1,1,0,1,2,1,1,0,0,0,1,1,0,1,0,0,1,2,2]
[235,null,13,15,16,19,34,35,40,45,47,50,67,70,77,78,82,83,87,92,95,96,null,8,9,1141,null,null,null,null,null,null,null,null,null,null,null,null,null,null,null,null,null,null,null,null,null,null,null,1,1,0,1,0,3,1,0,0,1,1,2,1,0,1,1,0,0,0,1,0,1,1,2,1]
[236,null,4,7,11,12,16,19,20,22,30,33,36,47,48,49,60,63,68,78,81,91,null,4,11,795,null,null,null,null,null,null,null,null,null,null,null,null,null,null,null,null,null,null,null,null,null,null,null,0,0,1,0,0,1,0,1,1,1,2,0,0,2,1,2,1,1,1,1,1,1,1,0,1]
[237,null,3,6,12,13,14,17,19,20,26,32,44,45,50,51,58,62,83,84,92,93,null,3,12,824,null,null,null,null,null,null,null,null,null,null,null,null,null,null,null,null,null,null,null,null,null,null,null,2,1,1,1,1,1,0,2,0,0,1,0,1,0,1,0,0,2,2,0,0,2,0,2,0]
[238,null,4,5,13,15,20,22,24,30,35,48,64,67,69,75,83,84,87,90,91,95,null,4,9,1021,null,null,null,null,null,null,null,null,null,null,null,null,null,null,null,null,null,null,null,null,null,null,null,2,0,1,1,0,0,1,0,0,1,2,1,2,1,0,0,1,1,0,1,2,0,1,1,1]
[239,null,9,20,26,32,36,37,42,48,52,54,55,58,70,74,84,85,90,97,98,99,null,4,14,1166,null,null,null,null,null,null,null,null,null,null,null,null,null,null,null,null,null,null,null,null,null,null,null,1,2,3,1,1,0,1,2,0,0,1,0,0,2,1,0,1,0,0,1,0,1,1,0,1]
[240,null,4,11,29,38,39,44,46,48,49,51,60,71,72,73,76,77,84,87,88,89,null,2,10,1136,null,null,null,null,null,null,null,null,null,null,null,null,null,null,null,null,null,null,null,null,null,null,null,1,0,1,1,0,1,0,0,1,1,0,0,2,1,2,3,1,2,1,0,0,0,1,1,0]
[241,null,7,8,10,24,25,28,29,32,34,35,39,54,55,56,58,73,83,87,88,98,null,5,11,923,null,null,null,null,null,null,null,null,null,null,null,null,null,null,null,null,null,null,null,null,null,null,null,0,1,0,2,0,0,1,1,2,0,1,0,2,1,0,1,1,0,0,2,0,2,1,1,1]
[242,null,1,4,6,9,13,22,23,27,29,33,35,45,50,53,55,65,70,76,87,97,null,4,6,800,null,null,null,null,null,null,null,null,null,null,null,null,null,null,null,null,null,null,null,null,null,null,null,1,1,0,1,1,1,0,1,1,2,0,1,1,0,2,0,2,1,1,1,0,0,1,0,1]
[243,null,12,14,27,32,42,49,50,52,61,66,68,72,76,77,78,86,90,92,94,96,null,3,16,1234,null,null,null,null,null,null,null,null,null,null,null,null,null,null,null,null,null,null,null,null,null,null,null,0,1,0,0,0,2,1,2,1,2,1,1,0,0,1,1,1,0,1,0,0,0,2,1,2]
[244,null,0,8,15,16,24,32,37,41,43,48,49,54,55,60,70,82,87,91,95,98,null,2,10,1005,null,null,null,null,null,null,null,null,null,null,null,null,null,null,null,null,null,null,null,null,null,null,null,1,2,0,1,1,2,1,1,1,0,1,3,1,1,1,1,0,0,0,1,0,0,1,0,0]
[245,null,3,4,9,12,15,18,22,33,36,42,43,48,55,58,68,69,75,76,93,95,null,5,10,874,null,null,null,null,null,null,null,null,null,null,null,null,null,null,null,null,null,null,null,null,null,null,null,1,1,0,1,0,1,0,2,1,2,1,1,0,1,0,0,1,1,1,1,1,2,1,0,0]
[246,null,7,9,12,14,18,20,22,37,41,43,44,53,55,71,73,74,78,84,90,97,null,6,10,942,null,null,null,null,null,null,null,null,null,null,null,null,null,null,null,null,null,null,null,null,null,null,null,1,0,2,0,1,1,1,2,0,2,0,0,0,0,1,0,2,1,2,1,0,1,0,0,2]
[247,null,0,4,11,13,20,25,29,39,40,42,44,53,54,62,65,82,86,90,93,96,null,4,11,948,null,null,null,null,null,null,null,null,null,null,null,null,null,null,null,null,null,null,null,null,null,null,null,0,1,1,1,0,0,0,0,1,1,0,2,2,0,0,2,1,2,1,0,0,1,2,0,2]
[248,null,1,5,10,12,16,18,22,31,38,42,44,48,52,66,69,74,81,82,86,89,null,4,14,886,null,null,null,null,null,null,null,null,null,null,null,null,null,null,null,null,null,null,null,null,null,null,null,0,0,2,1,1,1,0,1,1,0,1,1,0,2,0,0,2,1,0,0,1,1,3,1,0]
[249,null,4,14,27,29,30,31,35,46,47,48,53,56,58,60,71,78,80,88,89,94,null,3,12,1038,null,null,null,null,null,null,null,null,null,null,null,null,null,null,null,null,null,null,null,null,null,null,null,0,0,1,1,1,0,1,0,2,2,0,1,1,1,1,1,0,1,2,2,1,1,0,0,0]
[250,null,7,9,14,25,38,42,48,50,55,57,59,64,65,67,85,91,92,95,97,99,null,2,7,1159,null,null,null,null,null,null,null,null,null,null,null,null,null,null,null,null,null,null,null,null,null,null,null,1,0,1,1,0,1,1,2,0,0,1,0,0,2,1,0,1,1,1,2,0,1,1,1,1]
[251,null,0,14,15,25,26,30,32,43,47,49,53,62,65,66,69,72,76,85,94,98,null,4,10,1021,null,null,null,null,null,null,null,null,null,null,null,null,null,null,null,null,null,null,null,null,null,null,null,0,0,1,1,1,1,1,1,0,2,1,2,0,0,1,1,1,0,2,1,2,1,0,0,0]
[252,null,9,13,21,23,25,30,34,36,37,38,47,53,57,61,72,73,74,85,87,88,null,6,7,963,null,null,null,null,null,null,null,null,null,null,null,null,null,null,null,null,null,null,null,null,null,null,null,0,1,2,1,0,0,1,2,0,1,1,0,1,0,1,1,1,0,0,1,2,1,1,1,1]
[253,null,1,2,4,6,10,12,17,21,22,24,48,52,54,62,66,72,76,77,95,99,null,2,14,820,null,null,null,null,null,null,null,null,null,null,null,null,null,null,null,null,null,null,null,null,null,null,null,2,1,0,0,1,1,0,1,0,1,1,0,1,3,1,0,2,2,1,0,2,0,0,0,0]
[254,null,1,2,3,4,10,21,23,29,33,43,49,50,51,60,66,70,74,77,78,80,null,7,10,824,null,null,null,null,null,null,null,null,null,null,null,null,null,null,null,null,null,null,null,null,null,null,null,0,2,1,0,2,3,0,0,1,1,1,0,0,1,1,1,0,1,1,0,2,0,0,1,1]
[255,null,0,11,15,23,32,33,34,47,50,56,65,66,68,70,71,72,73,75,77,97,null,6,8,1035,null,null,null,null,null,null,null,null,null,null,null,null,null,null,null,null,null,null,null,null,null,null,null,0,1,0,0,0,2,0,1,1,1,1,2,0,0,2,1,2,0,2,2,0,0,0,1,1]
[256,null,2,7,12,20,28,32,34,36,37,39,48,54,58,65,73,77,90,92,98,99,null,5,13,1001,null,null,null,null,null,null,null,null,null,null,null,null,null,null,null,null,null,null,null,null,null,null,null,0,1,1,1,0,1,2,2,0,0,1,0,1,2,0,0,2,0,0,0,1,1,0,2,2]
[257,null,4,8,12,14,22,32,39,40,52,62,66,67,68,74,76,86,88,89,91,93,null,3,15,1083,null,null,null,null,null,null,null,null,null,null,null,null,null,null,null,null,null,null,null,null,null,null,null,{"$f":"SUMPRODUCT(COUNTIF($C259:$V259,$AB$17:$AC$18))","v":0},{"$f":"SUMPRODUCT(COUNTIF($C259:$V259,$AD$17:$AE$18))","v":0},{"$f":"SUMPRODUCT(COUNTIF($C259:$V259,$AF$17:$AG$18))","v":2},{"$f":"SUMPRODUCT(COUNTIF($C259:$V259,$AH$17:$AI$18))","v":1},{"$f":"SUMPRODUCT(COUNTIF($C259:$V259,$AJ$17:$AK$18))","v":0},{"$f":"SUMPRODUCT(COUNTIF($C259:$V259,$AB$19:$AC$20))","v":0},{"$f":"SUMPRODUCT(COUNTIF($C259:$V259,$AD$19:$AE$20))","v":1},{"$f":"SUMPRODUCT(COUNTIF($C259:$V259,$AF$19:$AG$20))","v":2},{"$f":"SUMPRODUCT(COUNTIF($C259:$V259,$AH$19:$AI$20))","v":2},{"$f":"SUMPRODUCT(COUNTIF($C259:$V259,$AJ$19:$AK$20))","v":1},{"$f":"SUMPRODUCT(COUNTIF($C259:$V259,$AB$21:$AC$22))","v":2},{"$f":"SUMPRODUCT(COUNTIF($C259:$V259,$AD$21:$AE$22))","v":0},{"$f":"SUMPRODUCT(COUNTIF($C259:$V259,$AF$21:$AG$22))","v":1},{"$f":"SUMPRODUCT(COUNTIF($C259:$V259,$AH$21:$AI$22))","v":0},{"$f":"SUMPRODUCT(COUNTIF($C259:$V259,$AJ$21:$AK$22))","v":0},{"$f":"SUMPRODUCT(COUNTIF($C259:$V259,$AB$23:$AC$24))","v":2},{"$f":"SUMPRODUCT(COUNTIF($C259:$V259,$AD$23:$AE$24))","v":2},{"$f":"SUMPRODUCT(COUNTIF($C259:$V259,$AF$23:$AG$24))","v":1},{"$f":"SUMPRODUCT(COUNTIF($C259:$V259,$AH$23:$AI$24))","v":2},{"$f":"SUMPRODUCT(COUNTIF($C259:$V259,$AJ$23:$AK$24))","v":0},{"$f":"SUMPRODUCT(COUNTIF($C259:$V259,$AB$25:$AC$26))","v":0},{"$f":"SUMPRODUCT(COUNTIF($C259:$V259,$AD$25:$AE$26))","v":0},{"$f":"SUMPRODUCT(COUNTIF($C259:$V259,$AF$25:$AG$26))","v":1},{"$f":"SUMPRODUCT(COUNTIF($C259:$V259,$AH$25:$AI$26))","v":0},{"$f":"SUMPRODUCT(COUNTIF($C259:$V259,$AJ$25:$AK$26))","v":0}]
[258,null,17,22,23,27,37,39,42,49,55,58,59,63,64,73,77,78,79,80,87,94,null,{"$f":"SUMPRODUCT(COUNTIF(C260:V260,C259:V259))","v":2},{"$f":"SUMPRODUCT(N(MOD((C260:V260),2)=0)*(C260:V260>0))","v":7},{"$f":"SUM(C260:V260)","v":1123},null,null,null,null,null,null,null,null,null,null,null,null,null,null,null,null,null,null,null,null,null,null,null,1,0,0,0,1,1,2,0,0,1,0,1,1,1,0,1,2,2,0,2,0,1,2,0,1]
[259,null,0,3,9,11,12,25,29,31,32,46,54,60,63,66,67,68,72,75,82,84,null,1,10,889,null,null,null,null,null,null,null,null,null,null,null,null,null,null,null,null,null,null,null,null,null,null,null,1,2,0,0,0,0,1,3,3,1,1,2,1,1,2,1,0,0,0,0,0,1,0,0,0]
[260,null,4,13,20,24,26,32,36,37,47,50,51,56,58,61,62,67,68,90,92,94,null,3,14,988,null,null,null,null,null,null,null,null,null,null,null,null,null,null,null,null,null,null,null,null,null,null,null,0,1,1,0,1,1,3,1,1,0,1,0,2,0,0,0,0,1,1,2,0,1,0,2,1]
[261,null,0,7,11,16,24,28,33,34,37,42,44,47,50,54,61,64,80,92,93,95,null,6,11,912,null,null,null,null,null,null,null,null,null,null,null,null,null,null,null,null,null,null,null,null,null,null,null,1,2,0,1,1,2,2,0,0,0,0,1,1,0,0,1,0,1,1,2,0,0,1,2,1]
[262,null,9,11,12,14,16,35,36,44,52,53,54,61,64,69,84,92,94,97,98,99,null,7,12,1094,null,null,null,null,null,null,null,null,null,null,null,null,null,null,null,null,null,null,null,null,null,null,null,1,2,0,2,0,1,1,2,0,1,1,0,0,1,1,1,1,1,1,1,1,0,0,1,0]
[263,null,0,19,26,31,32,36,41,48,49,52,53,57,59,78,79,83,85,86,93,96,null,3,8,1103,null,null,null,null,null,null,null,null,null,null,null,null,null,null,null,null,null,null,null,null,null,null,null,1,0,1,1,2,0,0,2,1,2,2,1,0,1,0,1,1,1,0,0,0,1,1,0,1]
[264,null,10,21,25,26,29,33,39,48,49,52,53,57,58,59,63,68,73,76,77,81,null,7,7,997,null,null,null,null,null,null,null,null,null,null,null,null,null,null,null,null,null,null,null,null,null,null,null,0,0,0,0,1,1,0,1,2,2,0,0,1,3,0,1,2,1,1,0,1,2,1,0,0]
[265,null,4,9,18,29,30,33,41,43,48,53,58,60,69,74,76,85,86,88,90,95,null,6,11,1089,null,null,null,null,null,null,null,null,null,null,null,null,null,null,null,null,null,null,null,null,null,null,null,1,0,2,0,1,1,0,1,1,2,0,0,0,1,1,1,0,1,1,0,2,2,1,0,1]
[266,null,12,13,14,17,19,20,29,36,38,48,62,69,74,76,78,80,83,93,97,99,null,5,11,1057,null,null,null,null,null,null,null,null,null,null,null,null,null,null,null,null,null,null,null,null,null,null,null,0,0,2,2,1,0,0,1,1,2,2,0,1,2,1,0,0,1,2,0,1,1,0,0,0]
[267,null,3,10,17,20,22,38,46,48,49,50,51,55,57,61,69,71,72,85,89,96,null,5,9,1009,null,null,null,null,null,null,null,null,null,null,null,null,null,null,null,null,null,null,null,null,null,null,null,0,2,3,1,0,1,0,1,0,0,0,0,1,2,1,1,1,1,1,1,1,0,0,1,1]
[268,null,2,7,11,15,19,21,28,35,36,38,40,43,54,60,63,64,72,73,85,91,null,3,9,857,null,null,null,null,null,null,null,null,null,null,null,null,null,null,null,null,null,null,null,null,null,null,null,0,1,1,2,0,1,1,0,0,0,2,1,0,1,2,2,1,0,0,1,2,1,0,0,1]
[269,null,3,10,23,27,28,32,33,35,38,40,48,54,56,57,59,67,69,83,91,95,null,6,8,948,null,null,null,null,null,null,null,null,null,null,null,null,null,null,null,null,null,null,null,null,null,null,null,1,2,0,2,0,0,2,2,0,0,2,1,0,2,0,1,0,1,1,1,1,0,0,0,1]
[270,null,0,1,10,12,29,30,32,34,35,36,39,43,46,55,58,61,69,71,95,97,null,5,8,853,null,null,null,null,null,null,null,null,null,null,null,null,null,null,null,null,null,null,null,null,null,null,null,1,1,0,1,1,1,0,2,1,0,1,1,2,1,1,0,0,0,1,1,2,1,0,1,0]
[271,null,4,6,11,21,26,29,35,39,40,42,57,60,65,70,74,76,78,84,89,92,null,3,12,998,null,null,null,null,null,null,null,null,null,null,null,null,null,null,null,null,null,null,null,null,null,null,null,2,1,2,1,1,0,0,1,1,2,0,0,1,0,1,2,1,1,0,0,1,0,1,1,0]
[272,null,3,6,15,22,23,42,44,50,51,55,63,65,69,70,90,93,94,95,97,99,null,4,8,1146,null,null,null,null,null,null,null,null,null,null,null,null,null,null,null,null,null,null,null,null,null,null,null,2,2,0,1,0,1,1,0,0,0,0,1,0,2,1,0,2,1,0,1,1,0,1,1,2]
[273,null,2,3,5,6,10,20,22,25,42,45,59,61,65,71,74,77,79,85,96,97,null,6,8,944,null,null,null,null,null,null,null,null,null,null,null,null,null,null,null,null,null,null,null,null,null,null,null,2,2,3,0,0,1,0,0,0,0,0,0,0,1,2,0,2,1,1,0,1,1,1,1,1]
[274,null,0,4,8,15,18,19,20,41,42,47,54,55,60,71,76,89,93,97,98,99,null,4,9,1006,null,null,null,null,null,null,null,null,null,null,null,null,null,null,null,null,null,null,null,null,null,null,null,0,1,2,2,1,0,0,0,1,1,0,2,0,1,2,0,0,1,1,2,0,2,1,0,0]
[275,null,10,14,20,22,23,25,32,33,34,42,43,51,65,71,75,84,85,87,90,91,null,3,9,997,null,null,null,null,null,null,null,null,null,null,null,null,null,null,null,null,null,null,null,null,null,null,null,1,0,2,0,0,1,0,1,0,1,1,0,0,1,0,0,2,0,3,0,0,1,2,2,2]
[276,null,3,5,7,25,26,29,30,41,45,47,56,59,62,76,77,78,82,84,90,99,null,3,9,1021,null,null,null,null,null,null,null,null,null,null,null,null,null,null,null,null,null,null,null,null,null,null,null,1,1,0,0,2,1,0,0,1,2,0,1,0,1,1,0,0,1,1,2,1,1,0,1,2]
[277,null,4,6,8,12,14,33,37,47,50,55,60,61,67,71,72,78,82,87,92,94,null,3,12,1030,null,null,null,null,null,null,null,null,null,null,null,null,null,null,null,null,null,null,null,null,null,null,null,1,1,0,0,0,1,3,1,1,1,0,1,0,0,2,0,0,1,3,2,0,0,1,1,0]
[278,null,3,5,14,17,21,35,39,44,47,48,50,52,64,67,68,78,94,96,98,99,null,6,11,1039,null,null,null,null,null,null,null,null,null,null,null,null,null,null,null,null,null,null,null,null,null,null,null,0,1,0,2,0,1,2,0,1,1,0,0,1,2,0,0,1,2,1,2,1,0,0,1,1]
[279,null,1,5,7,16,20,25,30,35,36,51,58,59,62,73,79,81,86,87,91,94,null,3,8,996,null,null,null,null,null,null,null,null,null,null,null,null,null,null,null,null,null,null,null,null,null,null,null,1,0,1,1,1,1,1,0,0,0,2,0,0,0,0,0,1,1,1,0,1,2,3,2,1]
[280,null,2,3,10,22,23,33,45,49,53,57,61,63,64,65,72,82,84,90,95,99,null,0,8,1072,null,null,null,null,null,null,null,null,null,null,null,null,null,null,null,null,null,null,null,null,null,null,null,2,2,0,0,0,0,0,1,0,1,0,1,0,3,2,1,2,0,1,1,1,0,0,0,2]
[281,null,1,2,7,14,17,21,30,32,34,36,49,50,52,53,61,64,71,74,76,80,null,5,12,824,null,null,null,null,null,null,null,null,null,null,null,null,null,null,null,null,null,null,null,null,null,null,null,0,1,1,0,2,1,0,1,0,2,1,0,0,0,0,1,1,1,2,1,3,0,0,1,1]
[282,null,1,11,15,17,18,20,21,31,36,44,55,56,59,60,61,66,69,77,87,98,null,5,8,902,null,null,null,null,null,null,null,null,null,null,null,null,null,null,null,null,null,null,null,null,null,null,null,0,1,1,1,1,1,0,0,1,0,2,1,0,0,1,1,0,3,0,2,2,1,1,0,0]
[283,null,5,7,19,27,30,39,40,45,47,48,49,50,51,54,60,61,64,81,82,91,null,2,8,950,null,null,null,null,null,null,null,null,null,null,null,null,null,null,null,null,null,null,null,null,null,null,null,0,2,0,0,0,1,0,0,0,0,1,2,1,1,2,2,0,0,0,2,1,1,1,2,1]
[284,null,1,7,14,17,23,26,29,31,33,35,36,47,48,51,61,69,71,81,82,91,null,8,5,853,null,null,null,null,null,null,null,null,null,null,null,null,null,null,null,null,null,null,null,null,null,null,null,0,1,0,1,2,0,0,0,2,0,2,1,0,1,0,0,0,1,3,1,1,0,1,1,2]
[285,null,4,5,10,23,26,38,46,49,50,52,61,63,75,76,81,82,85,86,97,98,null,5,11,1107,null,null,null,null,null,null,null,null,null,null,null,null,null,null,null,null,null,null,null,null,null,null,null,0,1,1,2,1,1,0,0,0,2,0,1,1,2,1,1,1,1,0,0,0,0,2,1,1]
[286,null,1,5,14,17,19,21,23,27,35,37,39,43,44,50,55,64,68,71,92,96,null,3,7,821,null,null,null,null,null,null,null,null,null,null,null,null,null,null,null,null,null,null,null,null,null,null,null,0,0,0,1,1,2,1,0,1,0,0,1,1,0,0,0,0,2,2,2,1,1,0,2,2]
[287,null,3,6,15,16,22,31,43,50,51,58,64,70,73,74,77,78,82,92,93,96,null,5,12,1094,null,null,null,null,null,null,null,null,null,null,null,null,null,null,null,null,null,null,null,null,null,null,null,1,2,1,1,0,4,0,0,1,1,0,2,0,0,0,0,2,0,0,1,0,1,0,2,1]
[288,null,1,8,15,20,29,34,40,41,44,52,53,54,57,67,70,84,87,91,94,95,null,2,10,1036,null,null,null,null,null,null,null,null,null,null,null,null,null,null,null,null,null,null,null,null,null,null,null,2,2,1,0,2,0,2,1,2,1,1,1,0,0,0,1,1,1,0,0,0,0,1,1,0]
[289,null,3,5,6,15,16,18,25,26,27,33,39,43,49,61,64,65,70,72,74,99,null,2,8,810,null,null,null,null,null,null,null,null,null,null,null,null,null,null,null,null,null,null,null,null,null,null,null,1,3,1,0,1,2,0,0,0,0,0,2,1,1,1,1,1,0,1,1,0,2,0,1,0]
[290,null,3,4,17,18,20,22,24,25,30,34,41,50,55,62,65,76,81,85,86,99,null,5,11,897,null,null,null,null,null,null,null,null,null,null,null,null,null,null,null,null,null,null,null,null,null,null,null,0,1,2,0,1,1,0,0,0,1,0,0,1,1,0,0,2,2,1,1,1,2,2,1,0]
[291,null,3,8,12,24,25,30,36,37,42,44,47,49,50,52,54,59,70,82,85,91,null,6,12,900,null,null,null,null,null,null,null,null,null,null,null,null,null,null,null,null,null,null,null,null,null,null,null,0,3,1,0,0,1,1,1,1,0,2,1,1,0,0,1,1,2,0,1,1,1,1,0,0]
[292,null,7,9,12,18,22,23,28,37,49,50,55,58,67,71,73,76,83,94,95,96,null,4,9,1023,null,null,null,null,null,null,null,null,null,null,null,null,null,null,null,null,null,null,null,null,null,null,null,1,0,0,0,0,1,4,2,0,1,1,0,0,0,0,1,2,0,1,1,0,2,0,0,3]
[293,null,6,8,18,19,23,27,28,29,45,46,54,63,72,76,77,78,80,89,93,96,null,5,11,1027,null,null,null,null,null,null,null,null,null,null,null,null,null,null,null,null,null,null,null,null,null,null,null,1,1,1,1,1,1,1,0,2,2,0,1,1,1,2,0,0,0,0,0,0,2,0,0,2]
[294,null,1,7,8,11,24,26,32,38,39,43,46,51,54,63,66,70,80,90,92,95,null,5,12,936,null,null,null,null,null,null,null,null,null,null,null,null,null,null,null,null,null,null,null,null,null,null,null,1,2,0,1,3,1,0,1,1,0,1,0,3,1,0,1,0,0,0,0,0,0,0,2,2]
[295,null,12,18,23,25,26,27,34,35,36,37,61,63,65,73,78,79,82,86,95,96,null,3,9,1051,null,null,null,null,null,null,null,null,null,null,null,null,null,null,null,null,null,null,null,null,null,null,null,2,1,0,1,1,0,1,1,0,1,1,2,0,1,0,0,2,0,0,0,0,2,1,1,2]
[296,null,12,14,15,17,21,32,34,37,42,44,48,55,56,74,78,82,90,93,95,97,null,6,12,1036,null,null,null,null,null,null,null,null,null,null,null,null,null,null,null,null,null,null,null,null,null,null,null,1,0,1,1,0,0,1,2,0,1,0,2,0,1,1,0,0,2,1,2,1,0,1,1,1]
[297,null,8,12,13,24,27,30,31,34,37,38,39,46,47,59,63,66,67,71,85,88,null,3,9,885,null,null,null,null,null,null,null,null,null,null,null,null,null,null,null,null,null,null,null,null,null,null,null,0,0,1,1,0,0,2,1,2,0,1,1,4,1,0,1,0,1,1,1,1,0,0,1,0]
[298,null,3,14,16,17,18,30,41,46,47,52,59,61,62,68,69,75,79,84,96,99,null,4,10,1036,null,null,null,null,null,null,null,null,null,null,null,null,null,null,null,null,null,null,null,null,null,null,null,2,2,0,0,1,1,0,0,1,1,0,0,1,1,0,0,1,2,2,1,2,1,0,0,1]
[299,null,7,8,12,13,24,26,27,48,49,54,57,58,59,62,66,71,81,88,90,97,null,2,11,997,null,null,null,null,null,null,null,null,null,null,null,null,null,null,null,null,null,null,null,null,null,null,null,0,1,0,0,1,0,0,2,1,0,1,1,2,1,1,2,0,1,2,0,0,1,1,0,2]
[300,null,5,6,12,13,19,20,21,24,30,54,55,59,72,76,77,82,84,91,95,97,null,6,10,992,null,null,null,null,null,null,null,null,null,null,null,null,null,null,null,null,null,null,null,null,null,null,null,3,1,1,0,0,1,0,1,0,1,1,1,2,0,2,0,0,1,0,1,2,1,0,1,0]
[301,null,10,14,25,41,45,48,55,61,64,65,70,72,73,82,85,88,94,96,97,98,null,4,11,1283,null,null,null,null,null,null,null,null,null,null,null,null,null,null,null,null,null,null,null,null,null,null,null,0,2,1,1,1,0,1,0,0,0,0,1,0,2,3,1,2,0,1,2,0,1,0,0,1]
[302,null,0,2,3,5,17,19,22,31,33,38,41,49,56,58,71,84,87,90,92,96,null,2,9,894,null,null,null,null,null,null,null,null,null,null,null,null,null,null,null,null,null,null,null,null,null,null,null,1,1,0,1,1,0,0,0,1,0,0,1,0,0,0,1,1,1,2,1,1,2,1,2,2]
[303,null,0,4,7,15,21,27,38,39,54,55,58,71,74,75,85,88,90,91,94,95,null,5,8,1081,null,null,null,null,null,null,null,null,null,null,null,null,null,null,null,null,null,null,null,null,null,null,null,1,1,2,1,0,0,1,0,0,1,1,3,1,0,0,1,0,1,1,1,1,1,0,0,2]
[304,null,0,1,11,15,19,20,24,27,34,41,47,62,63,66,68,71,75,85,91,94,null,8,7,914,null,null,null,null,null,null,null,null,null,null,null,null,null,null,null,null,null,null,null,null,null,null,null,0,0,2,0,2,0,1,0,1,1,2,3,1,1,0,1,0,0,2,1,0,1,0,1,0]
[305,null,1,2,3,10,24,27,32,52,53,62,70,72,78,79,80,87,91,94,97,98,null,6,12,1112,null,null,null,null,null,null,null,null,null,null,null,null,null,null,null,null,null,null,null,null,null,null,null,1,2,0,1,2,0,1,1,0,2,1,1,1,1,2,0,1,0,1,0,1,0,1,0,0]
[306,null,4,19,24,28,34,35,37,46,47,49,58,59,71,81,86,88,89,93,97,98,null,3,9,1143,null,null,null,null,null,null,null,null,null,null,null,null,null,null,null,null,null,null,null,null,null,null,null,0,0,1,3,0,0,2,0,0,0,0,0,2,0,1,2,0,2,1,1,0,2,2,1,0]
[307,null,9,14,15,30,47,52,57,60,64,66,68,73,74,76,78,79,81,88,91,97,null,4,11,1219,null,null,null,null,null,null,null,null,null,null,null,null,null,null,null,null,null,null,null,null,null,null,null,1,0,1,0,0,0,0,2,1,2,2,1,0,0,2,1,2,0,1,2,1,0,1,0,0]
[308,null,2,8,12,15,19,20,42,44,55,56,65,67,73,75,76,79,85,88,94,99,null,5,10,1074,null,null,null,null,null,null,null,null,null,null,null,null,null,null,null,null,null,null,null,null,null,null,null,1,0,2,0,0,0,2,1,1,2,0,1,0,1,0,1,2,1,0,2,1,1,1,0,0]
[309,null,6,7,9,14,24,31,37,42,43,52,54,60,64,65,74,82,84,85,90,95,null,3,12,1018,null,null,null,null,null,null,null,null,null,null,null,null,null,null,null,null,null,null,null,null,null,null,null,3,1,2,0,0,1,1,1,1,0,0,1,1,0,1,0,2,0,1,1,0,0,1,0,2]
[310,null,0,7,15,24,37,39,42,46,56,61,62,64,65,68,72,76,78,79,80,86,null,6,12,1057,null,null,null,null,null,null,null,null,null,null,null,null,null,null,null,null,null,null,null,null,null,null,null,1,1,0,0,1,0,1,0,1,2,0,2,3,0,1,0,1,0,1,2,0,0,2,0,1]
[311,null,5,13,19,25,31,32,36,41,48,52,55,70,72,73,76,79,83,88,89,96,null,3,9,1083,null,null,null,null,null,null,null,null,null,null,null,null,null,null,null,null,null,null,null,null,null,null,null,1,1,1,0,1,0,0,1,1,1,2,0,1,1,1,1,2,0,0,1,0,2,0,1,1]
[312,null,11,14,21,29,36,43,45,51,53,56,57,62,64,67,68,70,81,90,91,97,null,2,8,1106,null,null,null,null,null,null,null,null,null,null,null,null,null,null,null,null,null,null,null,null,null,null,null,0,1,0,0,0,1,1,1,2,1,2,0,0,0,2,1,0,0,2,2,1,0,1,1,1]
[313,null,3,9,11,20,23,25,26,27,38,43,45,56,60,68,72,73,80,89,91,92,null,6,9,951,null,null,null,null,null,null,null,null,null,null,null,null,null,null,null,null,null,null,null,null,null,null,null,0,1,2,1,2,1,0,1,1,0,1,1,0,0,3,1,1,0,0,1,0,1,0,1,1]
[314,null,2,3,8,12,16,18,22,28,29,43,48,53,63,68,75,76,91,93,96,97,null,4,11,941,null,null,null,null,null,null,null,null,null,null,null,null,null,null,null,null,null,null,null,null,null,null,null,0,1,0,1,0,2,1,1,3,3,1,0,0,2,1,0,1,0,0,0,1,1,0,0,1]
[315,null,2,8,11,17,18,22,32,35,39,40,45,46,53,55,62,65,68,76,91,99,null,8,10,884,null,null,null,null,null,null,null,null,null,null,null,null,null,null,null,null,null,null,null,null,null,null,null,0,0,0,1,0,0,0,1,2,2,1,0,2,1,1,2,2,1,1,1,1,1,0,0,0]
[316,null,1,17,20,22,23,25,27,28,49,51,58,64,67,68,71,74,76,84,92,95,null,4,10,1012,null,null,null,null,null,null,null,null,null,null,null,null,null,null,null,null,null,null,null,null,null,null,null,2,0,2,0,1,0,2,0,1,1,0,1,0,0,0,1,1,1,1,1,0,2,0,2,1]
[317,null,3,14,19,22,35,43,52,54,56,57,67,71,79,83,84,87,90,91,96,99,null,4,8,1202,null,null,null,null,null,null,null,null,null,null,null,null,null,null,null,null,null,null,null,null,null,null,null,2,2,0,1,0,1,1,1,0,0,2,0,0,1,0,0,2,0,2,1,0,1,1,0,2]
[318,null,0,3,11,16,20,22,23,24,25,33,37,39,43,47,69,72,84,86,87,93,null,5,7,834,null,null,null,null,null,null,null,null,null,null,null,null,null,null,null,null,null,null,null,null,null,null,null,1,1,1,1,0,2,1,0,0,0,0,1,2,0,1,1,1,0,1,1,1,1,2,0,1]
[319,null,0,1,2,10,21,23,31,34,36,50,52,59,66,70,71,72,78,85,90,94,null,3,12,945,null,null,null,null,null,null,null,null,null,null,null,null,null,null,null,null,null,null,null,null,null,null,null,0,1,1,0,1,1,1,0,1,1,2,1,0,1,1,0,1,1,1,0,2,0,0,1,2]
[320,null,1,12,19,23,25,29,34,35,36,42,44,45,48,56,60,63,66,69,85,94,null,7,10,886,null,null,null,null,null,null,null,null,null,null,null,null,null,null,null,null,null,null,null,null,null,null,null,0,0,1,1,1,0,1,1,1,0,2,0,0,2,2,0,0,1,0,1,1,2,1,1,1]
[321,null,1,4,13,15,21,30,32,37,43,50,57,59,60,62,76,79,82,92,93,94,null,3,10,1000,null,null,null,null,null,null,null,null,null,null,null,null,null,null,null,null,null,null,null,null,null,null,null,{"$f":"SUMPRODUCT(COUNTIF($C323:$V323,$AB$17:$AC$18))","v":1},{"$f":"SUMPRODUCT(COUNTIF($C323:$V323,$AD$17:$AE$18))","v":0},{"$f":"SUMPRODUCT(COUNTIF($C323:$V323,$AF$17:$AG$18))","v":0},{"$f":"SUMPRODUCT(COUNTIF($C323:$V323,$AH$17:$AI$18))","v":1},{"$f":"SUMPRODUCT(COUNTIF($C323:$V323,$AJ$17:$AK$18))","v":1},{"$f":"SUMPRODUCT(COUNTIF($C323:$V323,$AB$19:$AC$20))","v":2},{"$f":"SUMPRODUCT(COUNTIF($C323:$V323,$AD$19:$AE$20))","v":2},{"$f":"SUMPRODUCT(COUNTIF($C323:$V323,$AF$19:$AG$20))","v":2},{"$f":"SUMPRODUCT(COUNTIF($C323:$V323,$AH$19:$AI$20))","v":0},{"$f":"SUMPRODUCT(COUNTIF($C323:$V323,$AJ$19:$AK$20))","v":1},{"$f":"SUMPRODUCT(COUNTIF($C323:$V323,$AB$21:$AC$22))","v":0},{"$f":"SUMPRODUCT(COUNTIF($C323:$V323,$AD$21:$AE$22))","v":2},{"$f":"SUMPRODUCT(COUNTIF($C323:$V323,$AF$21:$AG$22))","v":1},{"$f":"SUMPRODUCT(COUNTIF($C323:$V323,$AH$21:$AI$22))","v":0},{"$f":"SUMPRODUCT(COUNTIF($C323:$V323,$AJ$21:$AK$22))","v":1},{"$f":"SUMPRODUCT(COUNTIF($C323:$V323,$AB$23:$AC$24))","v":0},{"$f":"SUMPRODUCT(COUNTIF($C323:$V323,$AD$23:$AE$24))","v":0},{"$f":"SUMPRODUCT(COUNTIF($C323:$V323,$AF$23:$AG$24))","v":2},{"$f":"SUMPRODUCT(COUNTIF($C323:$V323,$AH$23:$AI$24))","v":1},{"$f":"SUMPRODUCT(COUNTIF($C323:$V323,$AJ$23:$AK$24))","v":0},{"$f":"SUMPRODUCT(COUNTIF($C323:$V323,$AB$25:$AC$26))","v":2},{"$f":"SUMPRODUCT(COUNTIF($C323:$V323,$AD$25:$AE$26))","v":0},{"$f":"SUMPRODUCT(COUNTIF($C323:$V323,$AF$25:$AG$26))","v":0},{"$f":"SUMPRODUCT(COUNTIF($C323:$V323,$AH$25:$AI$26))","v":1},{"$f":"SUMPRODUCT(COUNTIF($C323:$V323,$AJ$25:$AK$26))","v":0}]
[322,null,0,3,5,12,34,40,41,48,49,54,60,61,62,65,67,74,78,86,93,96,null,{"$f":"SUMPRODUCT(COUNTIF(C324:V324,C323:V323))","v":3},{"$f":"SUMPRODUCT(N(MOD((C324:V324),2)=0)*(C324:V324>0))","v":11},{"$f":"SUM(C324:V324)","v":1028},null,null,null,null,null,null,null,null,null,null,null,null,null,null,null,null,null,null,null,null,null,null,null,0,3,1,1,1,0,1,1,0,1,0,1,0,1,1,2,1,0,1,0,0,0,1,2,1]
[323,null,6,13,16,30,41,48,55,56,60,61,64,65,66,73,75,81,88,89,94,97,null,5,10,1178,null,null,null,null,null,null,null,null,null,null,null,null,null,null,null,null,null,null,null,null,null,null,null,1,1,1,0,1,1,1,0,0,1,1,0,1,1,2,1,2,0,0,3,1,0,1,0,0]
[324,null,2,6,10,14,16,18,20,23,24,32,39,42,44,46,51,66,70,78,85,99,null,3,15,785,null,null,null,null,null,null,null,null,null,null,null,null,null,null,null,null,null,null,null,null,null,null,null,1,1,2,0,0,1,0,1,0,1,1,0,3,2,0,0,0,1,1,0,1,1,1,1,1]
[325,null,1,7,10,32,36,39,40,43,46,58,59,61,69,74,78,80,83,86,95,99,null,6,10,1096,null,null,null,null,null,null,null,null,null,null,null,null,null,null,null,null,null,null,null,null,null,null,null,1,1,1,0,2,1,0,1,0,1,2,0,2,2,0,1,0,1,0,0,1,1,1,0,1]
[326,null,10,12,13,14,25,29,36,41,45,50,51,54,57,63,66,76,80,83,84,96,null,4,11,985,null,null,null,null,null,null,null,null,null,null,null,null,null,null,null,null,null,null,null,null,null,null,null,1,1,0,0,2,1,0,2,1,1,3,0,1,2,1,0,0,0,1,0,0,1,0,1,1]
[327,null,0,9,13,14,16,22,32,33,38,39,43,49,51,76,79,82,89,90,93,95,null,4,8,963,null,null,null,null,null,null,null,null,null,null,null,null,null,null,null,null,null,null,null,null,null,null,null,2,0,1,2,0,2,0,2,0,1,0,2,2,0,0,1,1,0,2,0,0,0,0,1,1]
[328,null,0,3,11,27,30,31,33,45,53,54,55,64,65,74,81,89,90,91,94,96,null,4,7,1086,null,null,null,null,null,null,null,null,null,null,null,null,null,null,null,null,null,null,null,null,null,null,null,0,2,2,0,0,0,1,0,1,1,1,2,0,0,1,1,1,0,1,2,1,0,1,0,2]
[329,null,2,9,10,16,24,26,27,29,32,33,35,42,48,61,65,75,82,86,95,98,null,3,11,895,null,null,null,null,null,null,null,null,null,null,null,null,null,null,null,null,null,null,null,null,null,null,null,1,1,0,2,1,1,0,2,1,1,0,2,1,2,0,0,1,0,1,0,1,0,2,0,0]
[330,null,1,2,3,8,14,23,29,33,34,38,43,44,49,52,55,62,65,71,74,94,null,4,10,794,null,null,null,null,null,null,null,null,null,null,null,null,null,null,null,null,null,null,null,null,null,null,null,0,1,1,1,1,1,1,0,2,0,0,0,0,0,0,1,2,1,4,1,1,0,0,1,1]
[331,null,1,2,10,12,14,18,40,45,46,47,50,53,59,75,77,79,82,85,92,95,null,3,10,982,null,null,null,null,null,null,null,null,null,null,null,null,null,null,null,null,null,null,null,null,null,null,null,2,0,1,0,1,2,0,1,0,2,0,1,1,1,1,1,0,1,1,1,1,1,0,1,0]
[332,null,6,16,18,25,26,27,29,30,39,42,44,48,50,58,62,82,89,94,97,98,null,3,14,980,null,null,null,null,null,null,null,null,null,null,null,null,null,null,null,null,null,null,null,null,null,null,null,1,0,1,1,1,2,1,0,1,0,0,2,1,1,1,0,0,1,1,0,1,3,1,0,0]
[333,null,4,17,21,32,36,46,47,54,57,58,60,61,67,70,81,83,94,95,97,98,null,4,10,1178,null,null,null,null,null,null,null,null,null,null,null,null,null,null,null,null,null,null,null,null,null,null,null,1,3,0,1,0,0,2,2,0,0,2,0,1,0,2,0,0,2,0,1,1,1,1,0,0]
[334,null,2,10,12,16,20,31,40,43,47,48,50,51,54,61,63,67,75,86,91,98,null,5,11,965,null,null,null,null,null,null,null,null,null,null,null,null,null,null,null,null,null,null,null,null,null,null,null,0,2,1,1,0,3,1,1,1,1,1,0,0,3,0,1,0,0,0,1,1,0,1,1,0]
[335,null,19,22,23,30,34,35,37,44,49,51,54,55,68,72,76,78,83,85,90,92,null,2,11,1097,null,null,null,null,null,null,null,null,null,null,null,null,null,null,null,null,null,null,null,null,null,null,null,0,1,1,1,0,0,1,0,1,2,1,0,0,0,1,1,1,1,0,1,1,1,0,3,2]
[336,null,4,7,17,19,47,49,50,51,54,55,57,58,73,75,81,82,86,88,89,96,null,5,8,1138,null,null,null,null,null,null,null,null,null,null,null,null,null,null,null,null,null,null,null,null,null,null,null,0,1,1,0,0,1,0,1,0,1,0,1,0,0,0,2,1,2,0,2,0,2,2,1,2]
[337,null,3,11,12,13,15,22,24,32,34,39,42,43,51,52,64,65,77,80,92,93,null,1,10,864,null,null,null,null,null,null,null,null,null,null,null,null,null,null,null,null,null,null,null,null,null,null,null,0,1,0,1,1,2,0,2,0,0,0,1,3,0,0,1,3,0,0,1,0,0,1,3,0]
[338,null,4,6,8,18,26,27,43,44,45,54,56,57,62,69,70,73,74,89,93,97,null,2,11,1015,null,null,null,null,null,null,null,null,null,null,null,null,null,null,null,null,null,null,null,null,null,null,null,1,2,2,1,1,1,0,1,1,0,0,1,0,0,2,0,1,2,1,1,1,1,0,0,0]
[339,null,0,4,7,9,15,19,22,27,35,37,46,59,63,64,68,75,77,78,87,99,null,2,6,891,null,null,null,null,null,null,null,null,null,null,null,null,null,null,null,null,null,null,null,null,null,null,null,0,0,0,1,0,1,1,1,1,2,0,3,1,2,0,0,1,2,0,1,0,1,1,0,1]
[340,null,2,4,6,7,12,20,40,41,42,55,64,68,70,74,76,82,90,94,97,99,null,5,15,1043,null,null,null,null,null,null,null,null,null,null,null,null,null,null,null,null,null,null,null,null,null,null,null,1,1,2,0,1,0,1,1,1,1,0,1,0,1,1,1,0,1,0,2,1,0,1,0,2]
[341,null,1,4,12,15,22,25,26,33,36,41,48,52,63,71,73,79,80,85,92,95,null,3,9,953,null,null,null,null,null,null,null,null,null,null,null,null,null,null,null,null,null,null,null,null,null,null,null,2,0,1,0,4,0,0,1,0,0,1,1,0,2,0,0,3,1,2,0,0,1,0,1,0]
[342,null,12,18,19,21,22,36,40,43,46,49,50,51,61,62,63,64,72,75,78,79,null,5,11,961,null,null,null,null,null,null,null,null,null,null,null,null,null,null,null,null,null,null,null,null,null,null,null,1,1,0,0,0,2,0,1,0,2,1,0,1,1,1,2,1,0,1,1,1,2,0,1,0]
[343,null,3,9,16,18,35,39,41,43,44,45,46,47,51,53,56,71,77,84,92,94,null,4,8,964,null,null,null,null,null,null,null,null,null,null,null,null,null,null,null,null,null,null,null,null,null,null,null,1,1,0,1,1,3,1,1,0,1,0,0,2,0,1,0,0,1,1,2,0,1,0,2,0]
[344,null,10,13,18,23,33,38,47,54,55,58,59,63,64,67,71,89,91,94,98,99,null,4,8,1144,null,null,null,null,null,null,null,null,null,null,null,null,null,null,null,null,null,null,null,null,null,null,null,0,1,1,2,0,0,2,0,0,0,1,0,1,3,0,0,0,1,2,3,0,2,0,0,1]
[345,null,1,2,6,19,25,28,39,43,44,45,51,56,59,70,78,85,86,92,93,95,null,1,9,1017,null,null,null,null,null,null,null,null,null,null,null,null,null,null,null,null,null,null,null,null,null,null,null,2,1,1,1,1,1,1,0,0,1,0,0,1,0,1,0,0,2,0,1,1,2,1,2,0]
[346,null,2,4,6,11,17,21,31,35,38,44,48,49,52,54,67,69,78,86,93,94,null,6,11,899,null,null,null,null,null,null,null,null,null,null,null,null,null,null,null,null,null,null,null,null,null,null,null,1,1,0,3,0,0,2,0,1,1,0,0,0,1,0,2,1,3,0,0,3,0,1,0,0]
[347,null,3,5,6,9,10,13,15,23,25,33,42,45,46,62,75,79,82,83,84,96,null,1,8,836,null,null,null,null,null,null,null,null,null,null,null,null,null,null,null,null,null,null,null,null,null,null,null,3,1,0,0,0,0,0,1,0,1,1,2,2,1,1,0,0,0,2,0,0,1,1,1,2]
[348,null,4,11,22,29,30,31,33,34,46,53,61,82,83,87,90,93,94,96,98,99,null,5,10,1176,null,null,null,null,null,null,null,null,null,null,null,null,null,null,null,null,null,null,null,null,null,null,null,0,1,0,2,0,0,1,0,2,1,1,1,1,1,0,1,1,1,1,0,1,0,1,1,2]
[349,null,4,9,13,16,21,25,27,28,33,46,49,51,65,67,80,81,82,85,96,99,null,6,7,977,null,null,null,null,null,null,null,null,null,null,null,null,null,null,null,null,null,null,null,null,null,null,null,0,0,1,0,1,1,2,1,0,0,0,2,2,1,0,1,1,1,1,0,1,1,1,1,1]
[350,null,11,24,25,28,31,40,42,47,48,51,52,54,56,65,67,70,75,81,86,92,null,6,11,1045,null,null,null,null,null,null,null,null,null,null,null,null,null,null,null,null,null,null,null,null,null,null,null,0,2,0,0,0,0,2,0,1,1,0,0,1,1,0,2,2,0,0,2,0,1,3,2,0]
[351,null,1,9,11,13,15,25,30,32,41,43,50,52,56,65,72,75,76,80,83,84,null,6,9,913,null,null,null,null,null,null,null,null,null,null,null,null,null,null,null,null,null,null,null,null,null,null,null,1,0,0,0,3,2,0,2,0,2,1,1,1,0,1,1,2,0,0,1,1,1,0,0,0]
[352,null,0,16,20,30,39,43,48,54,56,66,70,75,79,81,82,83,88,91,92,96,null,5,12,1209,null,null,null,null,null,null,null,null,null,null,null,null,null,null,null,null,null,null,null,null,null,null,null,1,2,1,0,0,2,0,0,0,1,3,2,1,1,0,1,0,0,0,1,1,0,1,1,1]
[353,null,4,9,13,15,18,21,22,27,33,39,40,43,55,60,61,63,65,66,74,99,null,3,7,827,null,null,null,null,null,null,null,null,null,null,null,null,null,null,null,null,null,null,null,null,null,null,null,0,1,1,0,0,1,0,1,0,0,1,2,2,2,1,1,2,1,1,1,1,1,0,0,0]
[354,null,0,4,13,14,19,23,24,27,29,33,40,53,55,72,76,77,81,86,90,91,null,6,8,907,null,null,null,null,null,null,null,null,null,null,null,null,null,null,null,null,null,null,null,null,null,null,null,0,0,0,0,0,1,0,0,1,2,1,2,2,0,1,1,0,1,2,1,0,1,2,0,2]
[355,null,6,7,15,18,19,24,28,39,40,45,52,53,56,72,84,88,89,92,98,99,null,5,12,1024,null,null,null,null,null,null,null,null,null,null,null,null,null,null,null,null,null,null,null,null,null,null,null,2,0,1,1,0,0,1,0,0,1,0,1,2,1,2,2,1,0,0,1,0,2,0,1,1]
[356,null,1,2,7,14,15,22,25,29,38,40,41,45,55,62,66,78,82,85,92,98,null,6,11,897,null,null,null,null,null,null,null,null,null,null,null,null,null,null,null,null,null,null,null,null,null,null,null,0,0,1,2,2,0,0,0,1,1,1,2,0,0,1,1,1,0,2,1,1,1,0,1,1]
[357,null,11,22,28,29,31,33,34,35,36,40,50,58,68,71,72,79,80,85,88,95,null,4,11,1045,null,null,null,null,null,null,null,null,null,null,null,null,null,null,null,null,null,null,null,null,null,null,null,2,0,1,1,1,1,1,0,3,0,1,0,0,0,1,3,1,0,2,0,0,1,0,1,0]
[358,null,0,10,12,24,34,39,46,49,54,61,62,65,68,70,71,77,78,83,91,95,null,4,10,1089,null,null,null,null,null,null,null,null,null,null,null,null,null,null,null,null,null,null,null,null,null,null,null,1,3,0,0,0,1,0,1,1,1,2,1,3,1,0,1,1,0,2,0,0,0,0,1,0]
[359,null,1,4,9,13,16,17,20,22,26,28,33,49,50,57,68,77,82,93,97,99,null,3,9,861,null,null,null,null,null,null,null,null,null,null,null,null,null,null,null,null,null,null,null,null,null,null,null,0,0,1,1,2,3,1,2,1,0,0,1,1,1,1,1,1,2,1,0,0,0,0,0,0]
[360,null,2,4,6,23,41,46,50,51,55,57,59,64,67,76,80,81,88,93,96,98,null,4,11,1137,null,null,null,null,null,null,null,null,null,null,null,null,null,null,null,null,null,null,null,null,null,null,null,1,0,0,2,2,1,1,1,0,1,0,0,1,0,0,1,0,2,0,2,1,0,1,1,2]
[361,null,5,15,29,33,38,40,42,43,48,57,58,64,67,68,69,70,81,83,88,97,null,5,9,1095,null,null,null,null,null,null,null,null,null,null,null,null,null,null,null,null,null,null,null,null,null,null,null,0,1,0,1,0,1,1,1,2,0,1,1,0,1,1,2,0,0,1,1,1,1,2,1,0]
[362,null,1,3,9,11,18,20,24,26,31,32,33,35,41,48,50,62,66,86,93,98,null,2,11,787,null,null,null,null,null,null,null,null,null,null,null,null,null,null,null,null,null,null,null,null,null,null,null,0,1,1,3,3,1,0,2,1,0,1,0,1,1,0,1,0,0,2,0,0,1,1,0,0]
[363,null,0,4,5,11,18,26,28,33,40,49,53,54,70,79,80,82,83,89,92,99,null,4,10,995,null,null,null,null,null,null,null,null,null,null,null,null,null,null,null,null,null,null,null,null,null,null,null,1,2,1,0,2,0,1,0,0,1,1,2,0,1,0,3,0,1,1,0,0,1,0,2,0]
[364,null,1,10,22,23,27,28,32,38,44,45,46,51,70,77,86,88,90,93,94,95,null,2,12,1060,null,null,null,null,null,null,null,null,null,null,null,null,null,null,null,null,null,null,null,null,null,null,null,1,1,0,2,1,1,2,1,0,0,0,1,1,1,1,1,1,1,0,0,0,0,1,1,2]
[365,null,5,6,8,10,11,17,18,26,28,29,31,35,38,50,63,69,77,80,93,97,null,5,9,791,null,null,null,null,null,null,null,null,null,null,null,null,null,null,null,null,null,null,null,null,null,null,null,1,0,0,3,2,2,1,0,3,0,0,0,0,2,1,1,0,1,0,0,1,1,0,1,0]
[366,null,4,9,11,16,21,22,24,29,42,44,49,51,55,65,67,69,71,75,82,93,null,4,7,899,null,null,null,null,null,null,null,null,null,null,null,null,null,null,null,null,null,null,null,null,null,null,null,0,0,0,1,0,1,1,1,1,1,0,1,1,0,0,2,2,2,1,1,2,0,1,1,0]
[367,null,4,16,17,22,35,38,40,42,43,54,56,61,62,64,67,70,82,87,89,96,null,6,13,1045,null,null,null,null,null,null,null,null,null,null,null,null,null,null,null,null,null,null,null,null,null,null,null,0,3,1,2,0,2,1,0,0,0,0,1,0,0,0,1,1,2,1,2,0,0,2,0,1]
[368,null,3,9,12,14,17,21,23,28,37,45,46,49,52,56,63,73,79,81,89,91,null,3,6,888,null,null,null,null,null,null,null,null,null,null,null,null,null,null,null,null,null,null,null,null,null,null,null,1,1,1,0,0,0,2,2,0,0,1,0,1,1,1,1,2,1,1,1,1,0,1,0,1]
[369,null,3,5,6,9,15,17,19,29,30,53,56,62,64,66,68,69,72,73,84,95,null,5,9,895,null,null,null,null,null,null,null,null,null,null,null,null,null,null,null,null,null,null,null,null,null,null,null,3,1,0,0,0,0,0,1,2,1,1,1,0,0,1,0,1,1,1,2,2,1,0,1,0]
[370,null,5,12,13,15,18,19,24,27,28,43,50,52,54,57,58,68,72,80,83,93,null,5,11,871,null,null,null,null,null,null,null,null,null,null,null,null,null,null,null,null,null,null,null,null,null,null,null,0,1,0,1,1,2,1,2,1,0,1,2,2,0,1,0,1,0,0,0,0,3,0,1,0]
[371,null,2,7,8,15,23,37,41,45,48,50,52,53,58,59,62,66,67,78,87,90,null,4,10,948,null,null,null,null,null,null,null,null,null,null,null,null,null,null,null,null,null,null,null,null,null,null,null,0,0,0,0,1,1,2,0,1,2,1,1,0,1,1,0,1,1,1,0,1,1,1,0,3]
[372,null,22,31,40,42,44,48,58,61,62,65,68,71,74,77,78,81,83,84,95,96,null,4,12,1280,null,null,null,null,null,null,null,null,null,null,null,null,null,null,null,null,null,null,null,null,null,null,null,2,1,1,0,0,1,0,0,2,1,1,0,0,1,0,1,2,1,2,0,0,1,2,0,1]
[373,null,0,1,3,13,25,29,30,36,38,48,50,53,54,61,71,77,78,85,87,89,null,5,7,928,null,null,null,null,null,null,null,null,null,null,null,null,null,null,null,null,null,null,null,null,null,null,null,0,3,2,1,1,2,0,0,1,2,1,1,1,1,0,0,0,0,1,0,1,1,1,0,0]
[374,null,4,8,16,19,27,30,35,42,43,46,51,54,56,57,58,59,74,78,79,83,null,3,11,919,null,null,null,null,null,null,null,null,null,null,null,null,null,null,null,null,null,null,null,null,null,null,null,1,1,1,1,0,2,0,1,1,1,1,1,1,0,0,0,0,2,0,1,1,2,1,1,0]
[375,null,0,2,3,14,22,24,26,32,44,56,60,64,68,74,75,78,86,91,95,97,null,3,14,1011,null,null,null,null,null,null,null,null,null,null,null,null,null,null,null,null,null,null,null,null,null,null,null,1,1,1,0,1,0,0,1,1,2,1,1,1,0,2,0,1,1,1,2,1,0,1,0,0]
[376,null,6,13,14,16,17,19,24,25,36,54,62,65,66,73,77,84,86,92,95,98,null,4,12,1022,null,null,null,null,null,null,null,null,null,null,null,null,null,null,null,null,null,null,null,null,null,null,null,3,1,0,1,0,2,0,0,0,0,2,0,2,0,0,0,2,1,2,0,0,2,1,1,0]
[377,null,5,6,10,14,16,17,24,32,35,42,48,58,68,71,77,83,85,91,96,98,null,7,12,976,null,null,null,null,null,null,null,null,null,null,null,null,null,null,null,null,null,null,null,null,null,null,null,1,0,1,2,0,2,0,1,1,0,2,0,1,2,0,0,0,1,2,0,0,1,1,1,1]
[378,null,12,14,17,19,21,22,27,35,38,52,63,71,73,75,77,81,85,91,92,94,null,7,7,1059,null,null,null,null,null,null,null,null,null,null,null,null,null,null,null,null,null,null,null,null,null,null,null,0,0,1,2,0,1,1,1,0,1,1,1,0,1,0,0,3,1,2,0,1,1,1,1,0]
[379,null,5,8,9,15,16,24,33,44,49,50,55,63,69,73,77,86,87,90,94,97,null,4,8,1044,null,null,null,null,null,null,null,null,null,null,null,null,null,null,null,null,null,null,null,null,null,null,null,0,0,0,0,0,3,1,1,1,0,0,1,1,1,1,1,1,1,1,1,1,0,2,1,1]
[380,null,3,7,13,14,16,20,23,25,30,31,35,44,51,59,65,78,81,85,92,93,null,2,7,865,null,null,null,null,null,null,null,null,null,null,null,null,null,null,null,null,null,null,null,null,null,null,null,0,1,2,2,0,1,0,0,1,1,0,0,1,0,0,0,1,2,1,0,1,1,1,2,2]
[381,null,2,3,4,8,14,16,40,45,49,62,66,70,72,76,77,84,85,96,98,99,null,4,14,1066,null,null,null,null,null,null,null,null,null,null,null,null,null,null,null,null,null,null,null,null,null,null,null,1,2,1,1,0,2,0,0,1,1,1,0,0,1,2,2,0,1,2,0,1,0,0,0,1]
[382,null,0,5,7,10,11,15,18,20,24,25,26,32,33,35,51,61,82,83,84,89,null,1,8,711,null,null,null,null,null,null,null,null,null,null,null,null,null,null,null,null,null,null,null,null,null,null,null,1,1,2,1,1,0,0,1,0,0,1,3,1,1,0,1,0,0,1,0,0,2,0,2,1]
[383,null,9,12,17,18,21,33,47,48,50,61,62,68,72,78,88,89,91,93,94,96,null,4,11,1147,null,null,null,null,null,null,null,null,null,null,null,null,null,null,null,null,null,null,null,null,null,null,null,0,1,1,1,0,1,1,2,1,1,1,0,0,1,1,1,0,1,2,1,1,1,0,0,1]
[384,null,0,4,6,10,13,21,24,31,33,41,43,44,47,53,62,65,90,91,98,99,null,5,8,875,null,null,null,null,null,null,null,null,null,null,null,null,null,null,null,null,null,null,null,null,null,null,null,1,0,0,1,1,1,0,0,1,1,1,1,2,2,0,0,1,2,2,1,1,0,0,0,1]
[385,null,6,8,14,16,22,25,34,39,40,43,47,48,52,53,54,62,64,77,89,92,null,5,13,885,null,null,null,null,null,null,null,null,null,null,null,null,null,null,null,null,null,null,null,null,null,null,null,{"$f":"SUMPRODUCT(COUNTIF($C387:$V387,$AB$17:$AC$18))","v":1},{"$f":"SUMPRODUCT(COUNTIF($C387:$V387,$AD$17:$AE$18))","v":1},{"$f":"SUMPRODUCT(COUNTIF($C387:$V387,$AF$17:$AG$18))","v":1},{"$f":"SUMPRODUCT(COUNTIF($C387:$V387,$AH$17:$AI$18))","v":0},{"$f":"SUMPRODUCT(COUNTIF($C387:$V387,$AJ$17:$AK$18))","v":0},{"$f":"SUMPRODUCT(COUNTIF($C387:$V387,$AB$19:$AC$20))","v":3},{"$f":"SUMPRODUCT(COUNTIF($C387:$V387,$AD$19:$AE$20))","v":0},{"$f":"SUMPRODUCT(COUNTIF($C387:$V387,$AF$19:$AG$20))","v":0},{"$f":"SUMPRODUCT(COUNTIF($C387:$V387,$AH$19:$AI$20))","v":1},{"$f":"SUMPRODUCT(COUNTIF($C387:$V387,$AJ$19:$AK$20))","v":1},{"$f":"SUMPRODUCT(COUNTIF($C387:$V387,$AB$21:$AC$22))","v":0},{"$f":"SUMPRODUCT(COUNTIF($C387:$V387,$AD$21:$AE$22))","v":0},{"$f":"SUMPRODUCT(COUNTIF($C387:$V387,$AF$21:$AG$22))","v":1},{"$f":"SUMPRODUCT(COUNTIF($C387:$V387,$AH$21:$AI$22))","v":1},{"$f":"SUMPRODUCT(COUNTIF($C387:$V387,$AJ$21:$AK$22))","v":0},{"$f":"SUMPRODUCT(COUNTIF($C387:$V387,$AB$23:$AC$24))","v":1},{"$f":"SUMPRODUCT(COUNTIF($C387:$V387,$AD$23:$AE$24))","v":2},{"$f":"SUMPRODUCT(COUNTIF($C387:$V387,$AF$23:$AG$24))","v":0},{"$f":"SUMPRODUCT(COUNTIF($C387:$V387,$AH$23:$AI$24))","v":2},{"$f":"SUMPRODUCT(COUNTIF($C387:$V387,$AJ$23:$AK$24))","v":2},{"$f":"SUMPRODUCT(COUNTIF($C387:$V387,$AB$25:$AC$26))","v":0},{"$f":"SUMPRODUCT(COUNTIF($C387:$V387,$AD$25:$AE$26))","v":1},{"$f":"SUMPRODUCT(COUNTIF($C387:$V387,$AF$25:$AG$26))","v":0},{"$f":"SUMPRODUCT(COUNTIF($C387:$V387,$AH$25:$AI$26))","v":2},{"$f":"SUMPRODUCT(COUNTIF($C387:$V387,$AJ$25:$AK$26))","v":0}]
[386,null,1,5,14,34,39,41,42,43,47,49,53,56,61,69,73,76,82,86,92,96,null,{"$f":"SUMPRODUCT(COUNTIF(C388:V388,C387:V387))","v":7},{"$f":"SUMPRODUCT(N(MOD((C388:V388),2)=0)*(C388:V388>0))","v":9},{"$f":"SUM(C388:V388)","v":1059},null,null,null,null,null,null,null,null,null,null,null,null,null,null,null,null,null,null,null,null,null,null,null,0,1,0,0,2,1,0,0,0,2,0,1,1,0,0,1,1,0,1,2,1,0,2,3,1]
[387,null,4,10,15,19,20,24,26,34,53,56,70,72,73,78,85,87,88,91,92,95,null,5,12,1092,null,null,null,null,null,null,null,null,null,null,null,null,null,null,null,null,null,null,null,null,null,null,null,1,1,2,0,1,0,0,0,0,2,1,1,1,1,1,1,1,1,0,1,0,1,1,2,0]
[388,null,7,13,22,27,34,37,39,43,46,47,57,67,68,70,77,79,83,89,93,94,null,2,6,1092,null,null,null,null,null,null,null,null,null,null,null,null,null,null,null,null,null,null,null,null,null,null,null,1,1,1,1,0,2,3,1,1,0,1,1,3,0,0,0,1,0,0,1,0,0,0,1,1]
[389,null,0,11,19,24,26,28,32,34,38,39,40,41,45,63,66,68,73,75,80,91,null,3,10,893,null,null,null,null,null,null,null,null,null,null,null,null,null,null,null,null,null,null,null,null,null,null,null,0,0,0,1,3,0,1,1,1,1,2,1,2,1,1,2,1,0,0,0,0,1,0,1,0]
[390,null,2,8,15,16,21,22,24,25,27,33,36,47,51,56,60,71,80,87,90,91,null,3,10,862,null,null,null,null,null,null,null,null,null,null,null,null,null,null,null,null,null,null,null,null,null,null,null,0,0,0,0,1,1,0,0,1,0,2,2,1,0,1,0,1,0,2,2,2,1,1,1,1]
[391,null,0,1,13,19,20,29,30,32,41,45,53,58,61,63,66,69,71,73,88,91,null,2,6,923,null,null,null,null,null,null,null,null,null,null,null,null,null,null,null,null,null,null,null,null,null,null,null,0,1,1,0,2,0,0,1,1,1,2,1,1,1,1,1,1,0,1,0,2,2,0,0,0]
[392,null,3,7,12,19,27,31,32,36,41,44,46,59,65,68,72,73,78,82,87,94,null,4,10,976,null,null,null,null,null,null,null,null,null,null,null,null,null,null,null,null,null,null,null,null,null,null,null,0,1,0,0,1,0,1,2,2,1,1,2,1,0,1,0,2,2,0,0,0,1,1,0,1]
[393,null,2,3,7,15,24,25,38,43,45,46,47,57,60,75,81,87,89,90,95,97,null,4,6,1026,null,null,null,null,null,null,null,null,null,null,null,null,null,null,null,null,null,null,null,null,null,null,null,1,1,1,1,0,1,0,1,0,1,0,1,2,0,3,0,0,0,0,1,1,1,2,0,2]
[394,null,4,11,16,30,39,41,46,47,48,57,69,71,73,74,79,82,88,94,95,97,null,5,9,1161,null,null,null,null,null,null,null,null,null,null,null,null,null,null,null,null,null,null,null,null,null,null,null,2,0,1,0,1,1,1,1,0,0,0,1,2,1,1,2,1,1,1,1,2,0,0,0,0]
[395,null,4,7,8,14,17,24,26,30,39,42,47,54,56,60,63,65,71,80,81,89,null,5,11,877,null,null,null,null,null,null,null,null,null,null,null,null,null,null,null,null,null,null,null,null,null,null,null,0,1,1,0,2,0,0,0,1,0,0,0,2,1,1,0,1,2,2,2,1,0,2,0,1]
[396,null,11,13,16,19,20,22,26,28,42,43,49,52,55,58,59,60,69,86,93,96,null,3,11,917,null,null,null,null,null,null,null,null,null,null,null,null,null,null,null,null,null,null,null,null,null,null,null,0,0,1,1,1,2,1,0,0,0,0,0,1,0,1,2,2,1,0,1,1,2,2,0,1]
[397,null,2,15,17,19,20,27,32,34,36,37,59,63,69,70,71,72,74,80,85,88,null,4,10,970,null,null,null,null,null,null,null,null,null,null,null,null,null,null,null,null,null,null,null,null,null,null,null,0,1,3,0,1,0,1,1,0,0,1,2,0,1,1,1,0,2,1,0,2,1,0,1,0]
[398,null,2,5,6,8,10,14,17,21,39,43,47,55,64,71,76,81,89,93,94,99,null,3,8,934,null,null,null,null,null,null,null,null,null,null,null,null,null,null,null,null,null,null,null,null,null,null,null,1,0,1,1,0,1,1,0,1,1,0,0,1,2,0,0,0,1,2,3,2,0,1,1,0]
[399,null,0,1,3,4,10,18,20,29,30,49,52,57,61,63,64,73,77,88,89,96,null,3,9,884,null,null,null,null,null,null,null,null,null,null,null,null,null,null,null,null,null,null,null,null,null,null,null,0,2,2,0,1,1,0,1,1,0,0,1,0,2,0,2,2,1,0,1,1,1,0,0,1]
[400,null,7,8,10,12,18,20,21,39,40,41,44,50,52,61,65,67,73,78,91,99,null,6,10,896,null,null,null,null,null,null,null,null,null,null,null,null,null,null,null,null,null,null,null,null,null,null,null,0,1,1,0,1,1,1,1,1,1,1,0,1,2,0,1,3,1,0,0,1,1,0,0,1]
[401,null,0,19,22,25,31,36,40,43,45,46,47,48,51,56,73,75,76,87,93,97,null,2,7,1010,null,null,null,null,null,null,null,null,null,null,null,null,null,null,null,null,null,null,null,null,null,null,null,0,0,0,1,0,1,0,0,1,2,1,1,1,1,2,1,2,0,0,2,0,2,1,1,0]
[402,null,3,6,14,20,22,27,33,37,46,53,61,63,64,68,70,72,75,79,84,95,null,3,10,992,null,null,null,null,null,null,null,null,null,null,null,null,null,null,null,null,null,null,null,null,null,null,null,4,3,1,0,0,0,1,0,1,2,0,1,1,1,1,0,1,0,2,1,0,0,0,0,0]
[403,null,17,25,36,37,38,40,42,48,50,55,57,62,71,72,73,79,80,82,92,93,null,3,11,1149,null,null,null,null,null,null,null,null,null,null,null,null,null,null,null,null,null,null,null,null,null,null,null,1,0,0,2,1,1,1,1,0,0,1,1,0,1,1,1,1,1,2,1,0,1,1,1,0]
[404,null,3,4,5,7,12,19,20,24,27,30,31,35,38,43,44,77,78,81,88,90,null,1,10,756,null,null,null,null,null,null,null,null,null,null,null,null,null,null,null,null,null,null,null,null,null,null,null,0,1,1,2,0,2,0,1,1,1,0,1,1,0,0,1,0,2,0,0,1,1,1,1,2]
[405,null,5,7,16,22,26,33,37,38,39,43,44,58,59,61,68,70,81,83,89,92,null,6,9,971,null,null,null,null,null,null,null,null,null,null,null,null,null,null,null,null,null,null,null,null,null,null,null,0,2,1,1,1,2,1,0,1,0,1,0,1,0,0,0,1,2,1,0,0,1,1,2,1]
[406,null,1,7,17,22,37,38,40,43,47,49,51,61,67,80,81,84,90,93,97,99,null,7,6,1104,null,null,null,null,null,null,null,null,null,null,null,null,null,null,null,null,null,null,null,null,null,null,null,1,1,0,2,2,1,2,0,0,0,0,0,0,1,1,2,1,1,0,1,0,0,1,1,2]
[407,null,5,6,7,10,15,24,29,34,40,44,45,72,74,75,87,89,93,94,98,99,null,4,10,1040,null,null,null,null,null,null,null,null,null,null,null,null,null,null,null,null,null,null,null,null,null,null,null,1,0,2,2,0,0,1,0,1,1,0,1,1,2,2,1,0,1,0,0,0,0,1,2,1]
[408,null,2,4,5,17,18,20,23,26,27,28,34,40,43,66,70,74,78,85,88,93,null,5,13,841,null,null,null,null,null,null,null,null,null,null,null,null,null,null,null,null,null,null,null,null,null,null,null,0,1,3,1,1,1,1,0,0,1,1,1,0,0,0,2,0,2,0,0,1,1,0,2,1]
[409,null,5,11,19,21,22,31,35,40,46,55,60,61,66,67,77,80,84,92,95,97,null,3,8,1064,null,null,null,null,null,null,null,null,null,null,null,null,null,null,null,null,null,null,null,null,null,null,null,2,1,0,1,1,1,1,0,1,0,1,0,1,0,2,2,1,0,0,1,1,1,0,2,0]
[410,null,0,3,11,17,23,31,36,55,60,62,73,76,79,84,85,88,92,93,94,96,null,6,9,1158,null,null,null,null,null,null,null,null,null,null,null,null,null,null,null,null,null,null,null,null,null,null,null,2,1,1,1,0,0,1,0,1,1,1,1,0,0,1,2,1,1,1,1,0,0,0,1,2]
[411,null,1,14,17,18,19,22,28,32,43,46,47,51,61,70,73,87,92,93,95,98,null,4,9,1007,null,null,null,null,null,null,null,null,null,null,null,null,null,null,null,null,null,null,null,null,null,null,null,1,2,0,2,1,1,1,1,0,0,0,0,1,0,0,0,2,1,1,1,0,2,1,2,0]
[412,null,4,5,10,14,18,22,27,34,37,45,48,49,50,56,63,68,71,81,89,99,null,3,10,890,null,null,null,null,null,null,null,null,null,null,null,null,null,null,null,null,null,null,null,null,null,null,null,0,0,1,0,0,1,1,0,1,0,0,1,0,4,1,1,1,1,2,1,0,1,1,2,0]
[413,null,9,11,14,18,20,23,30,34,42,44,45,46,64,71,76,77,85,86,88,96,null,5,13,979,null,null,null,null,null,null,null,null,null,null,null,null,null,null,null,null,null,null,null,null,null,null,null,0,0,2,0,0,1,0,1,0,1,0,0,1,0,1,2,0,1,2,1,1,1,2,1,2]
[414,null,7,8,21,25,31,49,50,53,54,56,61,64,66,73,78,81,85,92,94,99,null,2,9,1147,null,null,null,null,null,null,null,null,null,null,null,null,null,null,null,null,null,null,null,null,null,null,null,0,2,1,0,0,1,1,0,2,2,1,0,0,1,0,1,1,0,0,2,1,1,1,1,1]
[415,null,0,6,14,16,17,18,31,43,44,49,55,62,64,69,72,79,82,90,92,98,null,4,12,1001,null,null,null,null,null,null,null,null,null,null,null,null,null,null,null,null,null,null,null,null,null,null,null,2,0,0,1,0,2,0,0,1,0,0,2,0,0,1,1,0,2,2,2,1,1,0,1,1]
[416,null,0,13,15,17,23,24,25,34,35,40,41,47,54,57,62,63,70,80,92,95,null,4,8,887,null,null,null,null,null,null,null,null,null,null,null,null,null,null,null,null,null,null,null,null,null,null,null,1,2,0,1,2,0,0,1,0,0,0,2,2,1,0,1,0,1,1,1,0,1,0,2,1]
[417,null,6,15,16,19,22,40,41,46,47,50,51,55,57,61,73,82,83,90,96,97,null,5,9,1047,null,null,null,null,null,null,null,null,null,null,null,null,null,null,null,null,null,null,null,null,null,null,null,1,1,0,0,1,2,0,1,0,0,1,2,1,0,1,1,2,0,0,2,0,1,0,1,2]
[418,null,0,1,3,12,17,23,27,28,36,38,39,41,46,49,56,62,77,82,88,98,null,3,10,823,null,null,null,null,null,null,null,null,null,null,null,null,null,null,null,null,null,null,null,null,null,null,null,0,1,0,2,2,1,1,1,0,0,1,3,2,0,0,2,0,1,1,1,0,0,0,0,1]
[419,null,0,2,17,18,27,31,38,39,40,48,52,58,71,76,78,80,84,89,90,93,null,5,12,1031,null,null,null,null,null,null,null,null,null,null,null,null,null,null,null,null,null,null,null,null,null,null,null,1,0,1,2,1,0,0,0,1,2,0,2,1,1,0,1,1,1,1,0,1,2,0,0,1]
[420,null,2,4,14,21,23,24,27,32,41,54,55,58,60,68,82,84,85,88,90,91,null,5,13,1003,null,null,null,null,null,null,null,null,null,null,null,null,null,null,null,null,null,null,null,null,null,null,null,1,1,1,0,1,0,0,1,1,0,1,2,1,0,1,1,0,1,1,1,2,1,0,0,2]
[421,null,0,3,11,12,15,18,32,33,34,45,46,51,58,67,74,83,84,95,96,99,null,3,9,956,null,null,null,null,null,null,null,null,null,null,null,null,null,null,null,null,null,null,null,null,null,null,null,2,1,1,0,0,0,1,2,0,0,1,2,1,1,1,1,0,0,1,0,0,2,0,2,1]
[422,null,6,11,17,22,23,25,26,37,43,45,51,64,66,68,74,82,84,85,94,99,null,6,10,1022,null,null,null,null,null,null,null,null,null,null,null,null,null,null,null,null,null,null,null,null,null,null,null,2,0,2,0,1,1,2,0,1,0,1,1,0,1,1,1,1,1,0,1,0,1,0,1,1]
[423,null,5,12,17,28,34,54,57,67,69,73,77,79,80,82,88,91,92,94,95,97,null,3,9,1291,null,null,null,null,null,null,null,null,null,null,null,null,null,null,null,null,null,null,null,null,null,null,null,2,1,0,0,1,1,3,2,0,0,1,1,0,0,1,1,1,1,0,0,1,0,0,3,0]
[424,null,11,19,23,25,26,28,34,35,40,46,48,58,59,69,71,72,79,83,85,98,null,4,9,1009,null,null,null,null,null,null,null,null,null,null,null,null,null,null,null,null,null,null,null,null,null,null,null,1,0,1,2,1,0,1,0,0,0,1,0,1,1,1,2,0,1,1,0,1,3,0,1,1]
[425,null,3,12,15,27,31,35,36,37,42,44,51,64,68,70,76,78,82,85,90,98,null,3,12,1044,null,null,null,null,null,null,null,null,null,null,null,null,null,null,null,null,null,null,null,null,null,null,null,0,2,1,2,0,0,1,1,2,2,1,3,0,0,0,0,0,1,0,1,0,0,1,1,1]
[426,null,0,2,5,9,11,15,29,42,46,53,54,62,64,74,82,83,86,93,94,96,null,4,11,1000,null,null,null,null,null,null,null,null,null,null,null,null,null,null,null,null,null,null,null,null,null,null,null,0,1,1,1,0,0,1,1,1,1,1,3,1,0,0,1,0,0,1,1,1,0,2,1,1]
[427,null,1,10,14,38,39,40,41,44,45,47,54,55,61,64,72,78,83,89,92,93,null,4,10,1060,null,null,null,null,null,null,null,null,null,null,null,null,null,null,null,null,null,null,null,null,null,null,null,0,2,1,2,2,0,0,0,0,1,1,0,1,1,2,1,0,1,1,3,0,0,0,1,0]
[428,null,5,11,13,18,22,25,27,29,31,45,52,53,57,63,72,81,84,86,89,99,null,3,6,962,null,null,null,null,null,null,null,null,null,null,null,null,null,null,null,null,null,null,null,null,null,null,null,1,0,1,0,0,0,0,1,2,1,0,1,1,2,2,1,2,0,0,0,0,2,2,1,0]
[429,null,9,23,27,28,35,41,42,50,51,55,57,74,77,78,83,85,86,88,96,98,null,3,9,1183,null,null,null,null,null,null,null,null,null,null,null,null,null,null,null,null,null,null,null,null,null,null,null,0,0,2,2,1,2,1,2,0,1,1,1,0,0,0,1,0,0,0,1,0,0,2,1,2]
[430,null,2,5,15,20,21,22,23,28,31,34,40,43,53,55,68,72,83,88,92,93,null,5,10,888,null,null,null,null,null,null,null,null,null,null,null,null,null,null,null,null,null,null,null,null,null,null,null,0,0,1,1,0,1,1,0,2,1,1,1,0,0,1,2,1,0,0,1,2,0,0,3,1]
[431,null,2,5,17,20,25,26,29,47,49,51,52,54,56,58,72,73,82,88,89,96,null,5,11,991,null,null,null,null,null,null,null,null,null,null,null,null,null,null,null,null,null,null,null,null,null,null,null,0,1,2,0,1,0,0,0,1,0,0,1,0,0,1,2,2,1,0,2,1,2,0,2,1]
[432,null,2,6,7,12,18,19,24,26,32,42,43,45,59,60,67,71,72,73,75,86,null,4,11,839,null,null,null,null,null,null,null,null,null,null,null,null,null,null,null,null,null,null,null,null,null,null,null,1,0,0,0,1,1,1,2,0,1,0,0,1,0,3,0,1,1,1,0,1,2,2,0,1]
[433,null,1,9,14,17,18,22,24,27,34,40,43,44,45,48,68,74,88,89,92,95,null,4,12,892,null,null,null,null,null,null,null,null,null,null,null,null,null,null,null,null,null,null,null,null,null,null,null,1,0,2,0,1,1,0,1,1,0,0,1,1,1,1,2,1,2,1,0,0,1,0,2,0]
[434,null,7,11,14,20,22,28,31,35,41,55,61,68,69,70,73,75,76,80,92,94,null,4,10,1022,null,null,null,null,null,null,null,null,null,null,null,null,null,null,null,null,null,null,null,null,null,null,null,0,2,1,1,2,0,2,0,2,2,0,0,0,0,0,1,2,0,1,1,1,0,0,1,1]
[435,null,0,3,4,10,14,25,27,30,31,34,41,43,44,45,47,51,62,66,95,99,null,3,8,771,null,null,null,null,null,null,null,null,null,null,null,null,null,null,null,null,null,null,null,null,null,null,null,1,1,0,0,1,1,0,0,1,0,1,2,0,2,1,0,0,2,2,1,1,1,0,2,0]
[436,null,2,7,17,20,24,27,34,44,46,50,53,63,75,78,79,81,85,92,93,98,null,3,10,1068,null,null,null,null,null,null,null,null,null,null,null,null,null,null,null,null,null,null,null,null,null,null,null,1,0,2,2,0,1,0,0,0,3,0,1,2,1,0,0,0,2,0,0,1,0,1,2,1]
[437,null,6,26,28,30,32,36,41,43,49,53,55,59,66,68,73,75,76,78,95,97,null,3,10,1086,null,null,null,null,null,null,null,null,null,null,null,null,null,null,null,null,null,null,null,null,null,null,null,2,0,0,0,2,1,1,1,1,4,2,0,0,0,1,1,1,1,0,1,1,0,0,0,0]
[438,null,5,14,20,27,28,30,36,37,38,40,46,47,49,54,66,67,68,71,82,89,null,6,12,914,null,null,null,null,null,null,null,null,null,null,null,null,null,null,null,null,null,null,null,null,null,null,null,0,1,2,1,0,0,3,0,1,0,2,2,1,0,0,2,0,0,2,1,1,0,0,1,0]
[439,null,4,5,11,13,14,20,41,43,46,47,48,68,71,72,75,76,77,78,87,98,null,7,10,994,null,null,null,null,null,null,null,null,null,null,null,null,null,null,null,null,null,null,null,null,null,null,null,0,0,1,1,1,2,0,0,1,3,0,0,2,1,1,1,0,1,2,1,0,0,1,1,0]
[440,null,10,14,24,35,42,43,46,52,54,70,74,76,82,83,84,86,87,91,92,96,null,5,15,1241,null,null,null,null,null,null,null,null,null,null,null,null,null,null,null,null,null,null,null,null,null,null,null,1,2,1,1,0,1,0,0,0,1,2,1,2,1,0,0,1,0,1,0,0,0,3,1,1]
[441,null,3,5,10,19,23,24,28,38,41,48,58,64,67,71,75,76,78,79,86,96,null,5,11,989,null,null,null,null,null,null,null,null,null,null,null,null,null,null,null,null,null,null,null,null,null,null,null,1,1,0,1,1,0,2,0,0,3,0,0,1,2,0,0,0,0,1,1,0,2,1,1,2]
[442,null,1,9,21,24,33,34,36,39,41,42,45,46,56,63,82,85,87,92,97,99,null,2,8,1032,null,null,null,null,null,null,null,null,null,null,null,null,null,null,null,null,null,null,null,null,null,null,null,0,0,1,0,2,0,0,1,0,0,1,1,3,2,2,0,0,0,1,1,1,0,2,2,0]
[443,null,4,6,8,14,17,29,32,37,49,51,54,55,57,61,64,67,85,92,95,97,null,3,8,974,null,null,null,null,null,null,null,null,null,null,null,null,null,null,null,null,null,null,null,null,null,null,null,2,2,1,0,0,0,2,2,2,0,0,0,0,0,1,1,0,2,1,2,0,0,0,2,0]
[444,null,11,14,19,22,27,29,42,47,59,60,62,65,68,80,81,83,90,93,96,98,null,2,10,1146,null,null,null,null,null,null,null,null,null,null,null,null,null,null,null,null,null,null,null,null,null,null,null,0,0,0,2,1,0,0,0,2,0,1,1,0,0,1,1,2,1,2,1,0,1,2,0,2]
[445,null,3,7,19,22,25,26,30,31,34,35,41,43,46,55,57,59,68,73,96,99,null,5,7,869,null,null,null,null,null,null,null,null,null,null,null,null,null,null,null,null,null,null,null,null,null,null,null,0,1,0,1,2,1,0,1,2,0,0,0,1,1,0,0,2,1,0,1,1,2,0,1,2]
[446,null,3,6,7,13,17,20,21,24,34,41,46,53,62,63,72,79,88,91,97,98,null,5,9,935,null,null,null,null,null,null,null,null,null,null,null,null,null,null,null,null,null,null,null,null,null,null,null,2,1,1,1,1,0,0,0,0,1,1,0,3,1,2,1,0,1,1,0,1,0,0,1,1]
[447,null,6,12,24,27,28,34,35,39,47,48,49,55,58,60,63,64,79,92,93,97,null,6,10,1010,null,null,null,null,null,null,null,null,null,null,null,null,null,null,null,null,null,null,null,null,null,null,null,2,0,0,2,0,0,1,1,0,0,0,1,2,2,2,1,0,0,0,3,0,1,0,2,0]
[448,null,3,6,9,10,25,31,40,41,43,44,47,48,68,69,75,76,85,91,95,98,null,3,8,1004,null,null,null,null,null,null,null,null,null,null,null,null,null,null,null,null,null,null,null,null,null,null,null,2,1,1,1,1,1,0,1,2,2,1,0,0,2,0,1,0,1,0,1,1,1,0,0,0]
[449,null,13,14,20,24,27,31,40,45,47,54,65,66,77,78,83,88,89,93,96,98,null,4,10,1148,null,null,null,null,null,null,null,null,null,null,null,null,null,null,null,null,null,null,null,null,null,null,null,{"$f":"SUMPRODUCT(COUNTIF($C451:$V451,$AB$17:$AC$18))","v":0},{"$f":"SUMPRODUCT(COUNTIF($C451:$V451,$AD$17:$AE$18))","v":1},{"$f":"SUMPRODUCT(COUNTIF($C451:$V451,$AF$17:$AG$18))","v":2},{"$f":"SUMPRODUCT(COUNTIF($C451:$V451,$AH$17:$AI$18))","v":2},{"$f":"SUMPRODUCT(COUNTIF($C451:$V451,$AJ$17:$AK$18))","v":0},{"$f":"SUMPRODUCT(COUNTIF($C451:$V451,$AB$19:$AC$20))","v":1},{"$f":"SUMPRODUCT(COUNTIF($C451:$V451,$AD$19:$AE$20))","v":0},{"$f":"SUMPRODUCT(COUNTIF($C451:$V451,$AF$19:$AG$20))","v":0},{"$f":"SUMPRODUCT(COUNTIF($C451:$V451,$AH$19:$AI$20))","v":1},{"$f":"SUMPRODUCT(COUNTIF($C451:$V451,$AJ$19:$AK$20))","v":1},{"$f":"SUMPRODUCT(COUNTIF($C451:$V451,$AB$21:$AC$22))","v":2},{"$f":"SUMPRODUCT(COUNTIF($C451:$V451,$AD$21:$AE$22))","v":1},{"$f":"SUMPRODUCT(COUNTIF($C451:$V451,$AF$21:$AG$22))","v":2},{"$f":"SUMPRODUCT(COUNTIF($C451:$V451,$AH$21:$AI$22))","v":0},{"$f":"SUMPRODUCT(COUNTIF($C451:$V451,$AJ$21:$AK$22))","v":1},{"$f":"SUMPRODUCT(COUNTIF($C451:$V451,$AB$23:$AC$24))","v":2},{"$f":"SUMPRODUCT(COUNTIF($C451:$V451,$AD$23:$AE$24))","v":1},{"$f":"SUMPRODUCT(COUNTIF($C451:$V451,$AF$23:$AG$24))","v":0},{"$f":"SUMPRODUCT(COUNTIF($C451:$V451,$AH$23:$AI$24))","v":1},{"$f":"SUMPRODUCT(COUNTIF($C451:$V451,$AJ$23:$AK$24))","v":1},{"$f":"SUMPRODUCT(COUNTIF($C451:$V451,$AB$25:$AC$26))","v":0},{"$f":"SUMPRODUCT(COUNTIF($C451:$V451,$AD$25:$AE$26))","v":0},{"$f":"SUMPRODUCT(COUNTIF($C451:$V451,$AF$25:$AG$26))","v":0},{"$f":"SUMPRODUCT(COUNTIF($C451:$V451,$AH$25:$AI$26))","v":0},{"$f":"SUMPRODUCT(COUNTIF($C451:$V451,$AJ$25:$AK$26))","v":1}]
[450,null,8,11,12,13,14,18,20,22,24,31,34,37,42,47,63,75,76,82,89,98,null,{"$f":"SUMPRODUCT(COUNTIF(C452:V452,C451:V451))","v":8},{"$f":"SUMPRODUCT(N(MOD((C452:V452),2)=0)*(C452:V452>0))","v":12},{"$f":"SUM(C452:V452)","v":816},null,null,null,null,null,null,null,null,null,null,null,null,null,null,null,null,null,null,null,null,null,null,null,0,0,2,1,0,0,1,1,2,2,0,1,2,1,0,1,1,0,1,1,0,1,1,1,0]
[451,null,1,11,16,17,19,25,28,29,31,35,37,41,53,58,63,74,78,79,91,94,null,4,6,880,null,null,null,null,null,null,null,null,null,null,null,null,null,null,null,null,null,null,null,null,null,null,null,1,0,1,1,2,1,3,0,2,2,1,0,0,1,0,1,0,1,0,0,0,3,0,0,0]
[452,null,0,11,17,23,29,34,52,56,57,60,67,68,70,78,83,91,92,93,95,98,null,5,9,1174,null,null,null,null,null,null,null,null,null,null,null,null,null,null,null,null,null,null,null,null,null,null,null,1,1,0,2,0,0,1,1,2,1,2,1,0,0,1,1,1,1,0,1,0,0,0,2,1]
[453,null,0,5,6,11,16,20,24,31,36,43,47,52,54,56,59,68,72,74,96,99,null,5,12,869,null,null,null,null,null,null,null,null,null,null,null,null,null,null,null,null,null,null,null,null,null,null,null,1,1,2,0,0,2,0,0,2,0,1,1,1,1,1,1,1,1,0,2,0,0,0,1,1]
[454,null,5,8,11,12,14,21,30,34,42,47,49,62,68,73,80,82,84,89,90,96,null,5,13,997,null,null,null,null,null,null,null,null,null,null,null,null,null,null,null,null,null,null,null,null,null,null,null,1,0,1,0,1,0,0,1,2,0,0,1,0,0,0,2,1,0,2,1,2,0,1,2,2]
[455,null,24,26,38,42,48,49,51,52,54,60,62,63,66,74,82,85,86,87,92,99,null,4,14,1240,null,null,null,null,null,null,null,null,null,null,null,null,null,null,null,null,null,null,null,null,null,null,null,0,1,2,1,1,0,0,0,0,0,1,1,1,3,1,1,1,0,1,0,0,0,3,2,0]
[456,null,3,6,8,9,10,17,40,43,44,49,60,63,70,75,76,80,91,95,97,99,null,4,9,1035,null,null,null,null,null,null,null,null,null,null,null,null,null,null,null,null,null,null,null,null,null,null,null,2,2,0,0,1,1,0,1,1,2,1,0,0,3,2,2,0,2,0,0,0,0,0,0,0]
[457,null,1,3,5,6,13,14,18,19,21,22,28,30,32,43,52,61,66,67,81,94,null,3,10,676,null,null,null,null,null,null,null,null,null,null,null,null,null,null,null,null,null,null,null,null,null,null,null,1,2,0,0,1,1,3,1,0,0,1,0,1,0,0,0,2,0,1,0,2,2,1,1,0]
[458,null,1,4,7,8,12,14,17,21,22,27,44,46,62,71,72,83,84,87,93,97,null,4,10,872,null,null,null,null,null,null,null,null,null,null,null,null,null,null,null,null,null,null,null,null,null,null,null,1,0,0,1,1,0,0,1,1,0,1,1,1,0,2,0,1,3,3,0,1,0,1,0,1]
[459,null,2,18,20,22,36,39,41,42,53,59,60,62,64,69,72,74,86,89,92,98,null,3,14,1098,null,null,null,null,null,null,null,null,null,null,null,null,null,null,null,null,null,null,null,null,null,null,null,0,0,3,1,1,0,0,0,0,1,1,0,1,0,2,0,1,1,1,1,2,1,2,1,0]
[460,null,8,10,16,21,27,34,36,39,47,48,62,63,66,67,76,77,87,92,96,99,null,4,11,1071,null,null,null,null,null,null,null,null,null,null,null,null,null,null,null,null,null,null,null,null,null,null,null,0,0,0,0,0,2,1,0,1,1,2,1,1,4,0,0,0,0,1,1,1,0,1,2,1]
[461,null,0,1,4,6,7,9,11,13,16,25,30,32,41,43,44,56,61,81,87,96,null,3,8,663,null,null,null,null,null,null,null,null,null,null,null,null,null,null,null,null,null,null,null,null,null,null,null,1,1,0,0,2,2,0,2,0,0,0,1,1,0,0,1,0,2,0,1,1,1,2,0,2]
[462,null,3,6,8,19,26,30,34,41,43,44,47,58,66,69,80,82,89,91,95,99,null,5,10,1030,null,null,null,null,null,null,null,null,null,null,null,null,null,null,null,null,null,null,null,null,null,null,null,2,1,1,0,3,1,0,0,1,0,2,1,0,1,0,0,0,1,0,1,2,2,0,1,0]
[463,null,1,7,12,15,22,29,39,41,48,54,55,65,68,72,76,79,80,84,90,91,null,3,10,1028,null,null,null,null,null,null,null,null,null,null,null,null,null,null,null,null,null,null,null,null,null,null,null,2,1,0,0,3,0,0,1,2,1,1,1,1,1,1,0,2,0,0,1,0,0,0,0,2]
[464,null,6,8,15,21,26,39,40,41,53,54,57,59,63,65,70,73,76,81,88,92,null,6,9,1027,null,null,null,null,null,null,null,null,null,null,null,null,null,null,null,null,null,null,null,null,null,null,null,1,2,0,0,2,0,0,1,1,2,0,1,1,1,0,2,2,1,0,0,1,0,1,1,0]
[465,null,0,8,26,39,40,43,47,49,55,59,62,65,71,77,80,94,95,96,98,99,null,6,8,1203,null,null,null,null,null,null,null,null,null,null,null,null,null,null,null,null,null,null,null,null,null,null,null,1,0,0,1,2,2,1,0,1,0,0,1,1,1,0,2,1,1,2,2,0,0,0,0,1]
[466,null,1,5,6,11,27,29,33,34,35,37,38,39,41,46,53,62,65,87,91,99,null,4,5,839,null,null,null,null,null,null,null,null,null,null,null,null,null,null,null,null,null,null,null,null,null,null,null,1,0,0,2,2,0,1,0,1,1,1,1,2,1,0,1,1,0,2,0,0,0,1,2,0]
[467,null,5,9,10,11,14,31,44,46,49,57,58,62,65,72,78,86,87,90,92,99,null,7,11,1065,null,null,null,null,null,null,null,null,null,null,null,null,null,null,null,null,null,null,null,null,null,null,null,0,0,0,0,0,0,0,2,1,1,0,0,1,2,1,2,1,1,2,0,0,1,2,2,1]
[468,null,2,8,15,17,21,32,42,43,49,59,67,71,72,73,80,84,86,88,91,97,null,3,9,1097,null,null,null,null,null,null,null,null,null,null,null,null,null,null,null,null,null,null,null,null,null,null,null,1,0,0,0,1,1,1,1,1,0,1,1,0,0,2,2,1,2,1,0,2,0,2,0,0]
[469,null,2,3,6,7,10,11,23,25,32,38,39,45,53,61,63,68,77,83,84,85,null,3,7,815,null,null,null,null,null,null,null,null,null,null,null,null,null,null,null,null,null,null,null,null,null,null,null,2,2,1,1,0,1,0,1,1,1,1,0,1,2,1,1,0,0,0,0,1,1,0,0,2]
[470,null,6,9,10,11,13,17,18,23,28,38,39,42,43,45,46,51,58,68,92,97,null,8,10,754,null,null,null,null,null,null,null,null,null,null,null,null,null,null,null,null,null,null,null,null,null,null,null,1,0,0,1,0,1,1,1,1,0,0,0,3,1,2,1,0,1,0,0,0,2,1,2,1]
[471,null,0,5,7,11,12,15,18,20,21,23,28,31,32,35,44,66,69,86,90,95,null,4,9,708,null,null,null,null,null,null,null,null,null,null,null,null,null,null,null,null,null,null,null,null,null,null,null,1,0,1,1,0,0,1,2,1,0,1,2,0,0,0,1,0,1,0,0,2,1,1,1,3]
[472,null,1,4,12,21,22,24,25,35,40,45,48,60,67,68,78,86,92,96,97,98,null,4,13,1019,null,null,null,null,null,null,null,null,null,null,null,null,null,null,null,null,null,null,null,null,null,null,null,0,0,0,2,1,0,1,1,1,1,0,0,1,1,3,1,1,1,0,0,1,1,1,1,1]
[473,null,9,11,13,14,17,27,28,31,33,46,62,68,69,71,73,79,86,92,94,97,null,4,8,1020,null,null,null,null,null,null,null,null,null,null,null,null,null,null,null,null,null,null,null,null,null,null,null,1,0,0,0,0,0,2,1,2,0,0,1,2,0,1,1,1,1,4,0,1,0,1,1,0]
[474,null,4,5,16,18,21,24,25,39,41,44,45,48,55,57,83,85,88,92,93,98,null,1,9,981,null,null,null,null,null,null,null,null,null,null,null,null,null,null,null,null,null,null,null,null,null,null,null,0,0,1,2,1,1,0,1,0,0,1,0,2,1,1,1,0,2,0,1,1,2,0,2,0]
[475,null,6,9,12,16,18,20,26,29,40,42,59,63,74,75,76,82,88,89,90,97,null,3,13,1011,null,null,null,null,null,null,null,null,null,null,null,null,null,null,null,null,null,null,null,null,null,null,null,1,0,3,0,1,1,0,2,1,2,0,1,0,1,1,2,0,1,0,0,0,1,1,0,1]
[476,null,6,8,19,20,27,32,35,38,41,45,48,52,59,61,69,72,73,76,82,98,null,5,11,961,null,null,null,null,null,null,null,null,null,null,null,null,null,null,null,null,null,null,null,null,null,null,null,1,1,1,3,1,0,0,1,1,1,0,2,0,1,2,0,2,1,0,0,1,1,0,0,0]
[477,null,3,5,14,20,21,25,32,43,44,46,55,56,67,68,71,72,87,95,96,97,null,3,9,1017,null,null,null,null,null,null,null,null,null,null,null,null,null,null,null,null,null,null,null,null,null,null,null,1,1,1,0,0,1,1,1,1,0,0,0,1,0,2,0,0,1,2,2,1,1,1,1,1]
[478,null,9,19,20,21,23,25,30,45,46,48,51,62,63,64,67,71,74,84,88,89,null,6,9,999,null,null,null,null,null,null,null,null,null,null,null,null,null,null,null,null,null,null,null,null,null,null,null,1,0,3,0,0,0,1,1,0,0,0,0,1,2,1,1,0,0,2,1,2,2,0,1,1]
[479,null,3,6,7,14,15,20,28,36,43,47,48,50,60,63,65,72,78,80,91,96,null,3,12,922,null,null,null,null,null,null,null,null,null,null,null,null,null,null,null,null,null,null,null,null,null,null,null,1,1,1,0,1,2,1,0,0,1,2,1,0,2,2,0,1,0,1,1,0,0,0,0,2]
[480,null,3,4,8,16,22,23,26,28,31,32,33,34,36,40,43,51,55,61,79,82,null,4,11,707,null,null,null,null,null,null,null,null,null,null,null,null,null,null,null,null,null,null,null,null,null,null,null,1,2,0,0,1,2,1,1,2,0,1,1,0,0,0,1,1,1,1,1,0,0,0,2,1]
[481,null,2,12,19,20,21,22,33,39,42,45,54,56,57,74,79,83,88,92,95,99,null,3,10,1032,null,null,null,null,null,null,null,null,null,null,null,null,null,null,null,null,null,null,null,null,null,null,null,2,1,2,0,0,0,0,2,0,0,1,0,1,1,1,1,1,0,1,1,2,1,1,1,0]
[482,null,3,4,5,8,14,17,23,26,47,57,59,62,70,71,72,75,86,87,96,97,null,1,9,979,null,null,null,null,null,null,null,null,null,null,null,null,null,null,null,null,null,null,null,null,null,null,null,0,2,0,0,1,0,0,1,1,1,0,0,0,0,2,0,0,3,3,1,0,0,2,1,2]
[483,null,1,4,16,17,19,22,31,43,45,50,51,57,61,62,65,66,84,91,92,97,null,5,8,974,null,null,null,null,null,null,null,null,null,null,null,null,null,null,null,null,null,null,null,null,null,null,null,1,1,0,0,1,3,0,1,1,0,2,0,0,0,2,0,2,2,1,0,0,1,0,2,0]
[484,null,2,15,17,27,41,42,44,49,50,56,58,64,65,71,81,85,89,90,97,99,null,4,8,1142,null,null,null,null,null,null,null,null,null,null,null,null,null,null,null,null,null,null,null,null,null,null,null,0,0,2,0,1,1,0,0,0,0,0,2,0,1,1,1,1,2,1,2,1,1,2,0,1]
[485,null,1,7,8,14,15,16,23,24,26,28,32,40,43,48,53,64,68,74,94,99,null,3,13,777,null,null,null,null,null,null,null,null,null,null,null,null,null,null,null,null,null,null,null,null,null,null,null,0,0,1,0,2,2,2,1,2,1,0,1,1,2,0,1,0,0,1,1,0,0,0,0,2]
[486,null,3,4,9,14,25,28,35,38,46,52,56,58,61,63,64,71,81,91,95,97,null,3,9,991,null,null,null,null,null,null,null,null,null,null,null,null,null,null,null,null,null,null,null,null,null,null,null,1,2,0,2,0,0,1,1,0,0,1,0,1,1,1,0,1,1,2,2,0,2,1,0,0]
[487,null,0,4,17,20,26,28,31,34,36,39,43,47,48,50,54,57,70,82,92,94,null,2,13,872,null,null,null,null,null,null,null,null,null,null,null,null,null,null,null,null,null,null,null,null,null,null,null,0,2,1,0,1,2,2,1,1,0,1,2,1,1,0,0,0,2,0,1,0,0,0,2,0]
[488,null,1,10,19,25,28,31,35,48,51,52,53,60,63,69,77,81,92,94,97,98,null,5,8,1084,null,null,null,null,null,null,null,null,null,null,null,null,null,null,null,null,null,null,null,null,null,null,null,0,0,0,2,1,1,2,0,1,1,0,0,0,3,2,0,1,0,0,0,1,2,1,2,0]
[489,null,6,7,14,23,24,27,28,40,45,47,50,53,62,64,67,77,79,86,90,92,null,4,11,981,null,null,null,null,null,null,null,null,null,null,null,null,null,null,null,null,null,null,null,null,null,null,null,2,0,0,0,0,2,2,0,0,1,0,1,1,0,1,1,0,0,2,2,0,0,1,1,3]
[490,null,1,2,9,12,13,16,21,31,32,43,44,48,54,62,65,67,80,82,89,94,null,2,11,865,null,null,null,null,null,null,null,null,null,null,null,null,null,null,null,null,null,null,null,null,null,null,null,0,1,1,0,2,2,2,3,1,0,0,1,1,1,0,0,1,1,1,0,2,0,0,0,0]
[491,null,10,11,17,19,21,23,25,27,33,48,51,53,55,58,59,61,79,81,83,92,null,2,4,906,null,null,null,null,null,null,null,null,null,null,null,null,null,null,null,null,null,null,null,null,null,null,null,1,1,0,0,0,0,0,0,0,1,1,1,0,2,0,1,0,2,1,1,1,3,1,2,1]
[492,null,7,8,16,22,23,35,36,39,40,52,58,63,73,77,79,83,86,87,95,96,null,4,9,1075,null,null,null,null,null,null,null,null,null,null,null,null,null,null,null,null,null,null,null,null,null,null,null,2,0,0,1,0,2,0,0,1,0,2,0,1,1,0,1,3,0,0,0,0,1,2,0,3]
[493,null,0,10,11,12,26,30,41,45,50,54,55,62,67,71,73,75,77,78,88,98,null,2,10,1023,null,null,null,null,null,null,null,null,null,null,null,null,null,null,null,null,null,null,null,null,null,null,null,0,1,0,1,2,2,1,1,0,2,0,1,0,1,1,2,1,0,2,1,1,0,0,0,0]
[494,null,13,19,25,27,35,41,47,50,51,54,57,61,62,63,73,74,76,79,86,91,null,5,6,1084,null,null,null,null,null,null,null,null,null,null,null,null,null,null,null,null,null,null,null,null,null,null,null,1,2,1,1,1,1,0,1,0,1,1,1,1,1,0,0,1,0,1,1,0,2,1,1,0]
[495,null,3,18,20,27,42,44,54,67,68,70,74,78,79,84,89,92,93,95,98,99,null,4,12,1294,null,null,null,null,null,null,null,null,null,null,null,null,null,null,null,null,null,null,null,null,null,null,null,3,3,3,2,0,0,1,0,1,1,0,1,0,1,0,0,0,1,0,0,0,1,1,1,0]
[496,null,1,8,18,25,27,33,36,37,42,47,49,57,62,64,66,68,85,88,97,99,null,5,9,1009,null,null,null,null,null,null,null,null,null,null,null,null,null,null,null,null,null,null,null,null,null,null,null,0,0,1,0,1,0,1,1,2,0,2,1,0,1,1,2,0,0,2,2,0,2,1,0,0]
[497,null,2,5,15,20,27,31,32,51,53,55,56,59,70,74,82,90,91,93,94,99,null,2,9,1099,null,null,null,null,null,null,null,null,null,null,null,null,null,null,null,null,null,null,null,null,null,null,null,0,1,2,1,0,0,1,1,1,1,1,3,0,1,0,0,0,1,0,2,1,0,0,2,1]
[498,null,0,6,10,15,16,21,22,26,33,34,35,54,59,61,66,72,74,81,88,92,null,3,12,865,null,null,null,null,null,null,null,null,null,null,null,null,null,null,null,null,null,null,null,null,null,null,null,1,2,1,1,1,1,0,0,0,0,1,2,0,1,1,1,1,1,1,0,1,0,1,2,0]
[500,null,1,9,12,13,16,27,28,33,43,45,47,54,56,59,63,68,80,81,88,99,null,4,8,922,null,null,null,null,null,null,null,null,null,null,null,null,null,null,null,null,null,null,null,null,null,null,null,0,1,0,0,2,2,1,2,1,0,0,1,1,2,1,1,0,1,1,2,0,0,1,0,0]
[502,null,4,5,12,22,23,26,28,29,31,33,49,51,52,54,58,62,63,82,86,91,null,2,11,861,null,null,null,null,null,null,null,null,null,null,null,null,null,null,null,null,null,null,null,null,null,null,null,0,1,0,0,1,0,1,1,2,0,1,1,0,1,0,1,2,1,2,0,0,1,1,2,1]
[505,null,4,7,10,11,17,20,25,27,29,30,32,37,58,59,60,62,84,95,97,98,null,6,10,862,null,null,null,null,null,null,null,null,null,null,null,null,null,null,null,null,null,null,null,null,null,null,null,2,0,1,1,0,0,1,1,1,0,0,1,0,1,2,1,0,3,1,0,1,2,0,0,1]
[509,null,2,4,5,6,7,8,16,20,26,38,42,44,49,56,63,71,75,78,86,94,null,2,14,790,null,null,null,null,null,null,null,null,null,null,null,null,null,null,null,null,null,null,null,null,null,null,null,1,0,1,1,1,1,1,0,1,2,0,0,0,1,0,1,0,2,1,1,1,0,2,1,1]
[511,null,3,6,11,13,25,26,33,38,39,42,45,50,55,57,72,74,79,87,94,99,null,3,8,948,null,null,null,null,null,null,null,null,null,null,null,null,null,null,null,null,null,null,null,null,null,null,null,2,1,1,1,1,1,1,1,0,0,0,0,2,1,2,1,0,0,1,1,0,1,2,0,0]
[514,null,1,4,8,10,11,15,19,25,30,33,47,48,52,65,68,73,78,84,95,96,null,{"$f":"SUMPRODUCT(COUNTIF(C516:V516,C515:V515))","v":4},{"$f":"SUMPRODUCT(N(MOD((C516:V516),2)=0)*(C516:V516>0))","v":10},{"$f":"SUM(C516:V516)","v":862},null,null,null,null,null,null,null,null,null,null,null,null,null,null,null,null,null,null,null,null,null,null,null,2,0,0,0,1,0,0,0,2,1,0,1,0,2,0,1,3,1,1,1,1,2,0,0,1]
[515,null,11,23,30,39,42,43,44,54,58,65,66,67,80,89,92,93,95,97,98,99,null,4,9,1285,null,null,null,null,null,null,null,null,null,null,null,null,null,null,null,null,null,null,null,null,null,null,null,1,1,1,2,1,1,1,0,0,0,1,0,1,1,1,1,1,1,0,0,1,1,1,1,1]
[518,null,4,10,12,16,20,21,31,33,37,49,61,64,68,69,73,80,83,91,94,99,null,0,9,1015,null,null,null,null,null,null,null,null,null,null,null,null,null,null,null,null,null,null,null,null,null,null,null,0,1,1,0,1,1,2,1,2,0,2,0,0,2,0,1,1,1,1,1,2,0,0,0,0]
[522,null,3,5,6,8,9,13,16,17,24,26,28,41,43,47,49,55,89,92,95,96,null,4,8,762,null,null,null,null,null,null,null,null,null,null,null,null,null,null,null,null,null,null,null,null,null,null,null,2,1,1,0,2,2,1,1,1,0,0,0,2,0,0,1,0,1,0,2,0,0,0,2,1]
[524,null,2,4,16,19,30,33,40,44,47,50,56,61,65,73,76,81,82,89,93,97,null,3,10,1058,null,null,null,null,null,null,null,null,null,null,null,null,null,null,null,null,null,null,null,null,null,null,null,0,1,1,1,0,2,0,0,0,1,0,1,0,0,1,1,2,2,1,2,2,1,1,0,0]
[527,null,16,18,33,36,38,42,44,47,48,64,65,67,72,73,74,75,76,81,84,87,null,7,12,1140,null,null,null,null,null,null,null,null,null,null,null,null,null,null,null,null,null,null,null,null,null,null,null,1,0,1,1,0,1,1,0,0,2,1,0,0,1,1,0,2,1,1,2,0,1,3,0,0]
[531,null,2,5,13,14,15,16,24,25,32,37,49,50,56,62,68,74,87,88,95,97,null,3,11,909,null,null,null,null,null,null,null,null,null,null,null,null,null,null,null,null,null,null,null,null,null,null,null,1,0,1,0,0,2,1,1,1,0,0,1,2,0,1,2,0,0,2,1,1,1,1,1,0]
[533,null,5,6,8,18,20,21,23,25,28,30,31,35,37,40,49,63,64,67,95,99,null,4,8,764,null,null,null,null,null,null,null,null,null,null,null,null,null,null,null,null,null,null,null,null,null,null,null,2,0,1,1,0,0,3,0,2,0,0,0,0,2,0,2,0,0,0,1,2,2,0,1,1]
[536,null,1,6,17,19,40,45,60,62,64,70,72,76,82,87,89,90,92,93,95,97,null,6,11,1257,null,null,null,null,null,null,null,null,null,null,null,null,null,null,null,null,null,null,null,null,null,null,null,2,1,1,1,1,0,0,0,0,1,0,1,0,0,4,1,0,1,1,1,0,1,1,1,1]
[537,null,5,17,21,24,29,31,36,38,51,53,60,61,66,72,74,76,84,88,93,98,null,5,11,1077,null,null,null,null,null,null,null,null,null,null,null,null,null,null,null,null,null,null,null,null,null,null,null,1,1,1,3,0,0,0,0,2,2,2,0,1,0,2,1,0,1,0,0,1,0,0,2,0]
[540,null,8,11,13,17,26,30,35,38,44,54,61,63,74,77,80,81,85,86,88,90,null,5,11,1061,null,null,null,null,null,null,null,null,null,null,null,null,null,null,null,null,null,null,null,null,null,null,null,0,2,2,2,2,1,0,0,1,0,0,0,1,1,0,2,0,2,0,0,1,0,2,0,1]
[544,null,6,12,13,16,19,22,23,30,36,41,43,49,58,61,64,68,70,71,80,92,null,4,12,874,null,null,null,null,null,null,null,null,null,null,null,null,null,null,null,null,null,null,null,null,null,null,null,1,2,0,0,2,2,0,1,1,0,1,0,1,0,0,1,1,0,1,1,1,2,0,1,1]
[546,null,0,7,12,18,24,34,35,37,44,45,46,47,57,58,68,83,84,85,89,94,null,3,10,967,null,null,null,null,null,null,null,null,null,null,null,null,null,null,null,null,null,null,null,null,null,null,null,1,0,2,1,0,0,2,2,1,0,1,1,2,0,1,0,0,1,0,1,0,2,0,1,1]
[549,null,11,14,20,30,31,40,44,46,49,50,52,54,58,63,73,74,80,87,92,93,null,7,13,1061,null,null,null,null,null,null,null,null,null,null,null,null,null,null,null,null,null,null,null,null,null,null,null,0,1,2,1,1,1,0,0,1,0,0,0,1,1,0,3,2,1,1,0,1,1,1,1,0]
[553,null,2,5,10,12,14,29,45,53,56,62,63,69,70,71,83,90,92,93,94,97,null,5,10,1110,null,null,null,null,null,null,null,null,null,null,null,null,null,null,null,null,null,null,null,null,null,null,null,0,1,0,1,0,0,1,1,1,1,1,0,0,2,2,0,0,0,3,1,2,0,0,2,1]
[555,null,1,4,5,11,16,21,25,28,40,41,49,61,64,65,73,82,84,86,87,94,null,6,9,937,null,null,null,null,null,null,null,null,null,null,null,null,null,null,null,null,null,null,null,null,null,null,null,1,1,0,0,2,1,2,0,0,0,0,1,0,0,0,3,2,1,0,1,1,1,2,1,0]
[556,null,1,8,17,19,24,25,29,31,49,50,51,59,61,64,70,75,84,86,87,90,null,8,8,980,null,null,null,null,null,null,null,null,null,null,null,null,null,null,null,null,null,null,null,null,null,null,null,1,2,0,0,1,1,0,0,3,1,0,0,1,0,0,1,0,2,0,1,0,2,2,1,1]
[559,null,8,10,11,12,20,23,29,32,33,34,36,43,54,62,67,73,82,90,91,97,null,2,11,907,null,null,null,null,null,null,null,null,null,null,null,null,null,null,null,null,null,null,null,null,null,null,null,0,1,1,0,0,1,1,2,2,0,2,1,0,1,1,1,1,0,2,0,0,0,0,1,2]
[562,null,0,11,17,19,22,24,26,33,45,46,51,54,55,58,64,65,68,74,89,92,null,3,10,913,null,null,null,null,null,null,null,null,null,null,null,null,null,null,null,null,null,null,null,null,null,null,null,0,1,2,0,1,0,0,0,1,0,0,1,2,0,1,1,2,1,1,2,0,2,0,2,0]
[566,null,13,19,21,24,25,32,34,35,36,39,40,46,47,61,66,79,81,84,97,98,null,5,9,977,null,null,null,null,null,null,null,null,null,null,null,null,null,null,null,null,null,null,null,null,null,null,null,2,1,0,2,0,0,0,1,0,0,2,0,4,0,1,1,0,0,0,1,1,2,1,1,0]
[568,null,2,11,20,21,25,30,33,36,47,50,61,76,77,78,81,82,85,93,94,95,null,3,9,1097,null,null,null,null,null,null,null,null,null,null,null,null,null,null,null,null,null,null,null,null,null,null,null,1,1,2,1,0,2,1,0,0,2,1,1,0,0,0,1,0,0,1,1,3,1,1,0,0]
[571,null,0,3,4,6,8,9,17,21,23,31,41,42,51,53,56,65,69,74,75,85,null,5,6,733,null,null,null,null,null,null,null,null,null,null,null,null,null,null,null,null,null,null,null,null,null,null,null,1,1,2,0,1,0,0,1,2,2,0,1,0,0,0,0,1,2,0,1,2,0,1,1,1]
[575,null,0,7,10,13,17,19,37,41,53,54,59,61,64,70,77,80,82,84,93,98,null,1,8,1019,null,null,null,null,null,null,null,null,null,null,null,null,null,null,null,null,null,null,null,null,null,null,null,1,3,0,2,2,1,1,0,0,1,0,2,1,1,0,0,0,2,0,1,0,1,0,0,1]
[577,null,1,10,22,23,24,29,32,34,48,52,55,59,67,70,85,86,87,89,94,96,null,2,11,1063,null,null,null,null,null,null,null,null,null,null,null,null,null,null,null,null,null,null,null,null,null,null,null,{"$f":"SUMPRODUCT(COUNTIF($C579:$V579,$AB$17:$AC$18))","v":0},{"$f":"SUMPRODUCT(COUNTIF($C579:$V579,$AD$17:$AE$18))","v":1},{"$f":"SUMPRODUCT(COUNTIF($C579:$V579,$AF$17:$AG$18))","v":2},{"$f":"SUMPRODUCT(COUNTIF($C579:$V579,$AH$17:$AI$18))","v":0},{"$f":"SUMPRODUCT(COUNTIF($C579:$V579,$AJ$17:$AK$18))","v":1},{"$f":"SUMPRODUCT(COUNTIF($C579:$V579,$AB$19:$AC$20))","v":0},{"$f":"SUMPRODUCT(COUNTIF($C579:$V579,$AD$19:$AE$20))","v":2},{"$f":"SUMPRODUCT(COUNTIF($C579:$V579,$AF$19:$AG$20))","v":1},{"$f":"SUMPRODUCT(COUNTIF($C579:$V579,$AH$19:$AI$20))","v":1},{"$f":"SUMPRODUCT(COUNTIF($C579:$V579,$AJ$19:$AK$20))","v":0},{"$f":"SUMPRODUCT(COUNTIF($C579:$V579,$AB$21:$AC$22))","v":0},{"$f":"SUMPRODUCT(COUNTIF($C579:$V579,$AD$21:$AE$22))","v":0},{"$f":"SUMPRODUCT(COUNTIF($C579:$V579,$AF$21:$AG$22))","v":1},{"$f":"SUMPRODUCT(COUNTIF($C579:$V579,$AH$21:$AI$22))","v":2},{"$f":"SUMPRODUCT(COUNTIF($C579:$V579,$AJ$21:$AK$22))","v":0},{"$f":"SUMPRODUCT(COUNTIF($C579:$V579,$AB$23:$AC$24))","v":0},{"$f":"SUMPRODUCT(COUNTIF($C579:$V579,$AD$23:$AE$24))","v":2},{"$f":"SUMPRODUCT(COUNTIF($C579:$V579,$AF$23:$AG$24))","v":1},{"$f":"SUMPRODUCT(COUNTIF($C579:$V579,$AH$23:$AI$24))","v":0},{"$f":"SUMPRODUCT(COUNTIF($C579:$V579,$AJ$23:$AK$24))","v":1},{"$f":"SUMPRODUCT(COUNTIF($C579:$V579,$AB$25:$AC$26))","v":0},{"$f":"SUMPRODUCT(COUNTIF($C579:$V579,$AD$25:$AE$26))","v":0},{"$f":"SUMPRODUCT(COUNTIF($C579:$V579,$AF$25:$AG$26))","v":2},{"$f":"SUMPRODUCT(COUNTIF($C579:$V579,$AH$25:$AI$26))","v":1},{"$f":"SUMPRODUCT(COUNTIF($C579:$V579,$AJ$25:$AK$26))","v":2}]
[578,null,8,9,20,34,39,44,48,50,51,53,57,60,64,67,77,84,87,92,94,97,null,{"$f":"SUMPRODUCT(COUNTIF(C580:V580,C579:V579))","v":5},{"$f":"SUMPRODUCT(N(MOD((C580:V580),2)=0)*(C580:V580>0))","v":11},{"$f":"SUM(C580:V580)","v":1135},null,null,null,null,null,null,null,null,null,null,null,null,null,null,null,null,null,null,null,null,null,null,null,1,0,1,0,0,2,2,2,1,1,0,0,1,1,2,0,0,1,0,1,0,0,1,3,0]
[581,null,2,6,12,27,28,29,37,38,46,52,55,57,62,64,65,71,78,83,84,91,null,5,11,987,null,null,null,null,null,null,null,null,null,null,null,null,null,null,null,null,null,null,null,null,null,null,null,2,0,0,1,0,0,2,2,1,1,2,1,1,0,0,0,2,0,2,2,1,0,0,0,0]
[584,null,1,11,18,31,37,40,42,44,45,47,59,61,71,76,78,83,90,91,92,94,null,6,9,1111,null,null,null,null,null,null,null,null,null,null,null,null,null,null,null,null,null,null,null,null,null,null,null,0,1,0,0,1,0,2,0,1,2,2,0,0,0,1,2,0,2,1,1,0,1,1,1,1]
[588,null,2,10,25,28,35,50,53,54,59,61,71,73,75,82,84,88,89,91,95,98,null,6,9,1223,null,null,null,null,null,null,null,null,null,null,null,null,null,null,null,null,null,null,null,null,null,null,null,2,2,1,2,0,1,1,0,0,2,1,1,0,1,0,1,1,1,1,0,1,1,0,0,0]
[590,null,0,13,14,16,17,18,27,28,39,44,47,65,67,70,71,80,84,86,92,97,null,3,10,975,null,null,null,null,null,null,null,null,null,null,null,null,null,null,null,null,null,null,null,null,null,null,null,1,1,0,0,1,1,2,0,0,0,0,2,2,0,1,0,1,2,2,1,0,1,1,1,0]
[593,null,18,34,36,44,51,52,54,62,72,74,76,77,80,81,86,88,90,94,95,98,null,3,16,1362,null,null,null,null,null,null,null,null,null,null,null,null,null,null,null,null,null,null,null,null,null,null,null,1,1,1,1,1,1,1,0,0,1,1,0,0,0,1,1,1,1,1,0,0,1,2,2,1]
[597,null,1,4,9,13,16,26,27,33,45,53,57,62,63,64,65,77,78,86,94,97,null,2,8,970,null,null,null,null,null,null,null,null,null,null,null,null,null,null,null,null,null,null,null,null,null,null,null,0,0,0,0,2,2,1,2,0,2,0,1,1,1,2,0,1,1,2,1,0,0,1,0,0]
[599,null,3,10,24,28,31,39,41,43,49,53,55,59,76,80,85,89,90,94,95,97,null,3,7,1141,null,null,null,null,null,null,null,null,null,null,null,null,null,null,null,null,null,null,null,null,null,null,null,1,1,2,0,2,1,2,0,1,2,0,0,2,1,1,1,0,1,0,1,0,0,0,0,1]
[600,null,3,4,5,7,11,12,17,28,29,30,36,38,42,55,65,75,78,87,90,93,null,4,9,805,null,null,null,null,null,null,null,null,null,null,null,null,null,null,null,null,null,null,null,null,null,null,null,0,1,0,2,0,0,1,1,1,2,1,0,0,0,0,1,1,2,0,1,1,0,2,1,2]
[603,null,13,17,19,24,31,39,44,52,53,57,62,64,67,74,75,76,81,89,91,95,null,5,7,1123,null,null,null,null,null,null,null,null,null,null,null,null,null,null,null,null,null,null,null,null,null,null,null,1,0,2,0,0,0,1,1,1,3,1,0,3,0,0,0,1,2,1,1,0,1,1,0,0]
[606,null,5,11,12,19,26,28,35,51,52,57,58,60,70,72,75,77,83,85,94,98,null,6,10,1068,null,null,null,null,null,null,null,null,null,null,null,null,null,null,null,null,null,null,null,null,null,null,null,0,1,1,2,1,1,2,2,0,1,1,0,0,0,2,1,1,0,0,0,0,2,0,2,0]
[610,null,0,1,12,13,15,16,17,18,20,40,48,50,52,57,58,59,62,64,85,96,null,4,12,783,null,null,null,null,null,null,null,null,null,null,null,null,null,null,null,null,null,null,null,null,null,null,null,0,0,2,0,1,2,0,2,0,0,0,2,1,1,0,1,1,2,1,1,0,2,0,0,1]
[612,null,0,9,10,13,17,25,27,34,38,50,59,60,66,67,75,80,85,87,89,98,null,3,8,989,null,null,null,null,null,null,null,null,null,null,null,null,null,null,null,null,null,null,null,null,null,null,null,0,0,2,2,1,1,1,1,0,1,1,2,1,1,1,0,0,2,0,0,0,1,1,1,0]
[616,null,0,11,16,17,23,26,27,43,45,47,51,59,66,67,69,73,74,75,82,85,null,5,5,956,null,null,null,null,null,null,null,null,null,null,null,null,null,null,null,null,null,null,null,null,null,null,null,0,0,2,0,1,2,1,0,0,1,1,3,0,0,1,1,1,2,0,1,1,0,0,1,1]
[619,null,4,7,10,15,22,26,38,39,44,49,54,58,61,66,70,75,81,89,91,99,null,2,10,998,null,null,null,null,null,null,null,null,null,null,null,null,null,null,null,null,null,null,null,null,null,null,null,0,3,1,1,1,0,0,0,0,1,2,1,1,2,0,1,1,2,0,0,0,1,1,0,1]
[621,null,0,1,3,7,18,23,25,31,33,36,37,41,42,48,58,65,77,83,87,89,null,4,5,804,null,null,null,null,null,null,null,null,null,null,null,null,null,null,null,null,null,null,null,null,null,null,null,0,1,1,0,2,1,1,0,1,0,2,1,0,1,0,0,1,0,1,0,0,3,2,0,2]
[622,null,0,2,5,7,11,13,20,25,32,35,37,42,52,54,66,78,87,91,97,98,null,6,9,852,null,null,null,null,null,null,null,null,null,null,null,null,null,null,null,null,null,null,null,null,null,null,null,0,1,1,2,0,0,1,1,0,1,2,1,1,0,1,1,1,0,0,0,1,1,2,1,1]
[625,null,2,4,9,17,20,23,24,26,31,33,35,42,52,58,61,62,68,74,76,85,null,5,12,802,null,null,null,null,null,null,null,null,null,null,null,null,null,null,null,null,null,null,null,null,null,null,null,0,1,3,1,1,0,0,1,2,1,0,0,1,0,0,0,1,2,2,0,1,1,1,0,1]
[628,null,14,17,18,21,31,35,37,43,45,47,55,59,62,70,71,72,77,79,81,88,null,5,6,1022,null,null,null,null,null,null,null,null,null,null,null,null,null,null,null,null,null,null,null,null,null,null,null,1,1,0,1,0,2,1,0,1,0,0,0,0,0,2,1,0,2,3,2,1,1,1,0,0]
[632,null,3,8,9,28,32,35,36,38,42,43,59,62,64,68,78,88,89,94,95,97,null,3,12,1068,null,null,null,null,null,null,null,null,null,null,null,null,null,null,null,null,null,null,null,null,null,null,null,1,1,1,2,0,1,2,2,2,1,1,0,0,0,1,1,0,1,1,1,0,0,1,0,0]
[634,null,4,11,12,13,16,19,21,28,31,36,47,48,51,52,59,70,83,85,89,94,null,3,9,869,null,null,null,null,null,null,null,null,null,null,null,null,null,null,null,null,null,null,null,null,null,null,null,0,1,2,0,0,1,2,1,1,0,2,0,1,1,0,1,1,2,0,1,1,1,0,1,0]
[638,null,4,7,12,13,15,17,34,38,46,55,56,62,71,77,79,81,83,87,88,96,null,5,9,1021,null,null,null,null,null,null,null,null,null,null,null,null,null,null,null,null,null,null,null,null,null,null,null,1,0,0,1,0,1,0,1,0,0,1,1,2,0,0,1,0,2,2,2,0,0,2,1,2]
[641,null,9,13,16,21,31,36,38,39,42,43,51,58,67,73,88,89,93,95,96,99,null,7,7,1097,null,null,null,null,null,null,null,null,null,null,null,null,null,null,null,null,null,null,null,null,null,null,null,{"$f":"SUMPRODUCT(COUNTIF($C643:$V643,$AB$17:$AC$18))","v":1},{"$f":"SUMPRODUCT(COUNTIF($C643:$V643,$AD$17:$AE$18))","v":0},{"$f":"SUMPRODUCT(COUNTIF($C643:$V643,$AF$17:$AG$18))","v":1},{"$f":"SUMPRODUCT(COUNTIF($C643:$V643,$AH$17:$AI$18))","v":2},{"$f":"SUMPRODUCT(COUNTIF($C643:$V643,$AJ$17:$AK$18))","v":0},{"$f":"SUMPRODUCT(COUNTIF($C643:$V643,$AB$19:$AC$20))","v":2},{"$f":"SUMPRODUCT(COUNTIF($C643:$V643,$AD$19:$AE$20))","v":1},{"$f":"SUMPRODUCT(COUNTIF($C643:$V643,$AF$19:$AG$20))","v":1},{"$f":"SUMPRODUCT(COUNTIF($C643:$V643,$AH$19:$AI$20))","v":1},{"$f":"SUMPRODUCT(COUNTIF($C643:$V643,$AJ$19:$AK$20))","v":0},{"$f":"SUMPRODUCT(COUNTIF($C643:$V643,$AB$21:$AC$22))","v":1},{"$f":"SUMPRODUCT(COUNTIF($C643:$V643,$AD$21:$AE$22))","v":0},{"$f":"SUMPRODUCT(COUNTIF($C643:$V643,$AF$21:$AG$22))","v":2},{"$f":"SUMPRODUCT(COUNTIF($C643:$V643,$AH$21:$AI$22))","v":1},{"$f":"SUMPRODUCT(COUNTIF($C643:$V643,$AJ$21:$AK$22))","v":0},{"$f":"SUMPRODUCT(COUNTIF($C643:$V643,$AB$23:$AC$24))","v":1},{"$f":"SUMPRODUCT(COUNTIF($C643:$V643,$AD$23:$AE$24))","v":1},{"$f":"SUMPRODUCT(COUNTIF($C643:$V643,$AF$23:$AG$24))","v":0},{"$f":"SUMPRODUCT(COUNTIF($C643:$V643,$AH$23:$AI$24))","v":0},{"$f":"SUMPRODUCT(COUNTIF($C643:$V643,$AJ$23:$AK$24))","v":0},{"$f":"SUMPRODUCT(COUNTIF($C643:$V643,$AB$25:$AC$26))","v":1},{"$f":"SUMPRODUCT(COUNTIF($C643:$V643,$AD$25:$AE$26))","v":1},{"$f":"SUMPRODUCT(COUNTIF($C643:$V643,$AF$25:$AG$26))","v":1},{"$f":"SUMPRODUCT(COUNTIF($C643:$V643,$AH$25:$AI$26))","v":1},{"$f":"SUMPRODUCT(COUNTIF($C643:$V643,$AJ$25:$AK$26))","v":1}]
[643,null,3,10,14,15,19,30,38,39,45,52,54,57,64,66,69,74,75,85,91,96,null,4,10,996,null,null,null,null,null,null,null,null,null,null,null,null,null,null,null,null,null,null,null,null,null,null,null,0,2,2,1,0,0,0,1,0,1,2,1,1,1,1,0,1,0,1,1,2,1,0,0,1]
[644,null,4,11,13,16,33,37,47,51,56,57,62,68,72,82,84,90,92,94,95,96,null,2,12,1160,null,null,null,null,null,null,null,null,null,null,null,null,null,null,null,null,null,null,null,null,null,null,null,2,0,0,0,0,1,2,1,1,0,0,1,1,0,1,1,0,1,2,2,0,0,0,2,2]
[647,null,1,3,13,18,25,34,38,45,47,50,51,52,68,69,78,82,89,90,91,92,null,4,10,1036,null,null,null,null,null,null,null,null,null,null,null,null,null,null,null,null,null,null,null,null,null,null,null,0,1,1,1,1,1,0,0,1,1,1,1,1,0,1,0,1,0,0,1,1,2,0,3,1]
[651,null,0,1,10,25,30,37,39,43,45,51,53,55,56,59,60,63,74,77,78,93,null,5,6,949,null,null,null,null,null,null,null,null,null,null,null,null,null,null,null,null,null,null,null,null,null,null,null,0,0,1,1,1,2,1,0,0,2,0,1,1,2,2,0,0,1,0,2,1,1,0,1,0]
[654,null,4,13,23,34,36,51,55,56,61,65,69,70,74,78,79,81,82,90,97,98,null,2,10,1216,null,null,null,null,null,null,null,null,null,null,null,null,null,null,null,null,null,null,null,null,null,null,null,1,2,1,1,0,0,0,0,0,1,1,1,1,0,1,0,1,1,0,2,1,0,1,2,2]
[656,null,1,3,4,6,12,15,21,23,48,52,56,59,64,73,75,76,78,79,81,95,null,9,9,921,null,null,null,null,null,null,null,null,null,null,null,null,null,null,null,null,null,null,null,null,null,null,null,3,1,0,0,1,0,0,1,0,3,0,1,0,1,0,0,2,2,0,2,1,0,1,0,1]
[660,null,2,6,11,12,23,30,32,34,36,45,51,57,60,67,71,79,83,88,92,97,null,5,10,976,null,null,null,null,null,null,null,null,null,null,null,null,null,null,null,null,null,null,null,null,null,null,null,2,0,0,0,0,0,1,3,0,0,2,0,0,0,3,2,0,0,1,0,2,0,0,3,1]
[663,null,2,8,11,12,23,24,30,31,33,38,43,45,47,49,66,71,72,74,85,86,null,6,10,850,null,null,null,null,null,null,null,null,null,null,null,null,null,null,null,null,null,null,null,null,null,null,null,0,0,2,1,0,1,0,1,2,0,1,0,1,0,2,2,0,0,2,1,2,0,1,0,1]
[665,null,0,1,5,8,10,22,24,30,38,40,44,54,57,59,60,64,72,81,88,99,null,7,13,856,null,null,null,null,null,null,null,null,null,null,null,null,null,null,null,null,null,null,null,null,null,null,null,0,1,0,1,1,0,0,1,1,0,0,1,1,2,2,2,1,2,0,1,1,0,1,1,0]
[666,null,0,1,5,15,16,17,18,22,31,32,42,43,47,58,68,77,84,85,91,92,null,4,9,844,null,null,null,null,null,null,null,null,null,null,null,null,null,null,null,null,null,null,null,null,null,null,null,1,0,1,0,1,3,0,1,2,0,1,2,0,0,0,0,1,1,0,1,0,2,1,2,0]
[669,null,8,9,11,13,16,27,30,37,44,48,66,69,70,74,75,77,84,85,95,97,null,2,9,1035,null,null,null,null,null,null,null,null,null,null,null,null,null,null,null,null,null,null,null,null,null,null,null,2,1,2,0,0,2,1,1,1,1,1,1,1,1,1,1,0,1,0,0,2,0,0,0,0]
[673,null,8,11,12,17,19,21,22,28,29,36,43,49,57,58,60,61,65,79,89,91,null,8,7,855,null,null,null,null,null,null,null,null,null,null,null,null,null,null,null,null,null,null,null,null,null,null,null,1,1,1,0,0,1,1,2,2,0,2,0,0,0,1,2,2,1,0,0,1,2,0,0,0]
[676,null,0,3,7,9,28,34,42,58,64,65,68,69,76,79,84,88,90,91,96,99,null,2,11,1150,null,null,null,null,null,null,null,null,null,null,null,null,null,null,null,null,null,null,null,null,null,null,null,2,1,0,0,0,0,1,1,1,1,1,1,0,1,0,1,1,0,0,1,1,1,1,1,3]
[678,null,0,10,19,20,23,35,49,51,52,59,61,62,67,69,76,78,79,81,85,93,null,4,6,1069,null,null,null,null,null,null,null,null,null,null,null,null,null,null,null,null,null,null,null,null,null,null,null,1,1,2,2,0,0,1,0,0,2,0,1,0,1,0,1,1,1,1,0,1,1,1,1,1]
[682,null,2,4,10,18,26,30,41,45,50,52,58,62,64,66,70,72,73,88,91,99,null,3,15,1021,null,null,null,null,null,null,null,null,null,null,null,null,null,null,null,null,null,null,null,null,null,null,null,0,1,0,0,2,1,0,0,0,0,2,0,0,2,2,1,2,1,1,1,2,2,0,0,0]
[685,null,2,6,19,23,24,27,28,30,38,42,50,54,65,75,76,87,88,96,98,99,null,4,13,1027,null,null,null,null,null,null,null,null,null,null,null,null,null,null,null,null,null,null,null,null,null,null,null,1,1,0,2,0,1,1,0,0,2,0,1,1,1,0,1,1,0,0,0,2,1,2,0,2]
[688,null,0,8,15,19,29,31,33,34,37,40,52,53,65,72,77,78,89,94,96,99,null,5,8,1021,null,null,null,null,null,null,null,null,null,null,null,null,null,null,null,null,null,null,null,null,null,null,null,0,0,1,0,0,1,2,0,3,2,0,2,0,1,1,1,2,0,1,0,0,1,0,1,1]
[689,null,8,12,20,22,23,26,32,38,44,55,63,68,69,70,77,85,86,89,94,96,null,5,13,1077,null,null,null,null,null,null,null,null,null,null,null,null,null,null,null,null,null,null,null,null,null,null,null,0,1,3,1,1,1,1,2,2,0,0,0,0,1,0,0,1,1,0,1,1,0,1,0,2]
[691,null,9,18,29,31,38,42,43,44,45,47,52,58,59,60,68,82,85,92,98,99,null,5,11,1099,null,null,null,null,null,null,null,null,null,null,null,null,null,null,null,null,null,null,null,null,null,null,null,0,0,1,2,0,1,0,1,3,0,0,1,0,1,2,0,1,2,0,1,0,2,1,1,0]
[695,null,2,7,17,22,33,37,46,51,54,60,61,65,66,70,74,76,77,78,80,88,null,1,12,1064,null,null,null,null,null,null,null,null,null,null,null,null,null,null,null,null,null,null,null,null,null,null,null,0,3,1,0,1,1,1,0,0,2,1,0,1,0,1,1,2,1,1,0,1,0,0,1,1]
[698,null,8,14,15,16,26,27,30,39,41,44,48,67,74,75,82,86,87,88,91,94,null,6,12,1052,null,null,null,null,null,null,null,null,null,null,null,null,null,null,null,null,null,null,null,null,null,null,null,0,0,1,0,2,1,2,0,1,1,1,3,1,1,0,1,0,1,1,0,1,0,2,0,0]
[700,null,6,11,16,25,26,27,29,37,39,47,51,53,63,69,76,84,89,90,91,96,null,3,7,1025,null,null,null,null,null,null,null,null,null,null,null,null,null,null,null,null,null,null,null,null,null,null,null,2,0,1,0,1,1,1,0,1,2,1,1,1,1,0,1,0,0,0,1,1,1,0,1,2]
[704,null,10,14,15,24,38,42,46,49,53,57,60,64,68,75,89,91,92,95,96,99,null,3,11,1177,null,null,null,null,null,null,null,null,null,null,null,null,null,null,null,null,null,null,null,null,null,null,null,1,0,1,1,0,0,0,1,1,2,1,1,2,2,1,1,0,0,1,1,0,0,1,1,1]
[707,null,3,5,7,13,21,25,26,28,34,42,47,52,65,72,76,80,82,86,93,99,null,2,10,956,null,null,null,null,null,null,null,null,null,null,null,null,null,null,null,null,null,null,null,null,null,null,null,0,1,0,1,2,0,1,0,0,1,0,1,1,1,1,0,2,0,0,1,1,1,2,2,1]
[708,null,1,18,19,24,27,28,31,42,46,49,50,64,65,74,82,85,86,91,93,99,null,7,10,1074,null,null,null,null,null,null,null,null,null,null,null,null,null,null,null,null,null,null,null,null,null,null,null,0,0,2,1,1,1,1,0,1,0,1,2,2,1,0,1,1,0,0,1,0,2,2,0,0]
[711,null,5,6,12,13,19,20,32,35,45,49,51,55,66,68,82,86,87,88,95,99,null,3,9,1013,null,null,null,null,null,null,null,null,null,null,null,null,null,null,null,null,null,null,null,null,null,null,null,2,0,1,1,0,0,0,2,1,0,1,1,1,1,1,2,0,0,0,1,0,1,2,2,0]
[713,null,2,6,12,15,22,25,27,28,31,46,54,57,59,60,64,78,80,82,84,87,null,5,13,919,null,null,null,null,null,null,null,null,null,null,null,null,null,null,null,null,null,null,null,null,null,null,null,2,1,0,0,1,0,1,2,1,1,0,3,1,0,1,0,1,1,0,1,1,1,1,0,0]
[717,null,1,5,6,15,20,21,23,24,26,28,31,39,42,43,60,64,69,73,77,97,null,5,8,764,null,null,null,null,null,null,null,null,null,null,null,null,null,null,null,null,null,null,null,null,null,null,null,1,0,1,0,2,2,1,0,1,0,0,1,2,0,2,0,1,0,0,1,2,0,1,1,1]
[720,null,0,10,15,19,25,34,35,38,40,41,44,45,58,68,74,75,80,89,92,96,null,5,11,978,null,null,null,null,null,null,null,null,null,null,null,null,null,null,null,null,null,null,null,null,null,null,null,0,0,2,2,2,0,0,0,1,1,0,2,0,1,1,1,0,1,0,0,0,3,0,2,1]
[722,null,0,22,23,30,31,34,36,48,50,54,56,57,59,61,64,67,80,95,97,98,null,5,11,1062,null,null,null,null,null,null,null,null,null,null,null,null,null,null,null,null,null,null,null,null,null,null,null,1,2,0,1,1,1,1,1,1,0,1,1,0,1,1,0,1,1,0,2,1,0,0,1,1]
[726,null,4,6,11,15,17,30,35,43,44,46,50,58,59,62,66,68,75,76,90,92,null,5,13,947,null,null,null,null,null,null,null,null,null,null,null,null,null,null,null,null,null,null,null,null,null,null,null,1,0,0,1,0,2,0,0,1,2,1,1,1,0,0,1,0,4,1,0,1,1,0,1,1]
[729,null,0,3,4,8,20,24,26,27,30,33,40,42,46,56,60,62,75,79,89,99,null,6,12,823,null,null,null,null,null,null,null,null,null,null,null,null,null,null,null,null,null,null,null,null,null,null,null,1,1,2,0,1,0,0,0,1,1,0,2,2,1,1,1,0,1,2,1,1,0,1,0,0]
[730,null,13,23,26,36,37,41,42,47,52,54,60,66,76,77,82,83,88,91,97,98,null,3,11,1189,null,null,null,null,null,null,null,null,null,null,null,null,null,null,null,null,null,null,null,null,null,null,null,0,1,0,1,2,1,1,0,0,1,4,1,1,0,2,1,1,0,0,1,0,0,1,0,1]
[733,null,1,7,12,13,24,29,30,38,40,41,46,48,54,63,66,73,74,76,83,89,null,5,11,907,null,null,null,null,null,null,null,null,null,null,null,null,null,null,null,null,null,null,null,null,null,null,null,0,1,2,1,2,0,0,1,1,1,2,0,3,2,0,1,1,0,0,0,1,0,0,0,1]
[735,null,0,11,18,29,37,39,42,44,53,58,65,68,71,72,73,75,90,97,98,99,null,5,8,1139,null,null,null,null,null,null,null,null,null,null,null,null,null,null,null,null,null,null,null,null,null,null,null,0,0,0,1,0,0,1,0,2,2,0,1,1,1,2,1,2,1,1,0,0,2,1,0,1]
[739,null,0,7,14,19,30,39,41,48,49,64,68,72,73,78,84,86,88,92,93,96,null,6,12,1141,null,null,null,null,null,null,null,null,null,null,null,null,null,null,null,null,null,null,null,null,null,null,null,1,0,0,1,1,0,0,0,1,1,0,1,1,1,1,2,1,0,1,1,1,1,1,1,2]
[742,null,2,6,9,23,28,34,39,41,44,46,47,69,71,79,80,81,82,83,87,97,null,2,8,1048,null,null,null,null,null,null,null,null,null,null,null,null,null,null,null,null,null,null,null,null,null,null,null,2,0,0,0,2,0,1,1,0,0,1,1,2,0,1,0,0,1,1,1,2,0,2,1,1]
[744,null,0,1,3,5,19,26,27,29,35,49,53,56,61,63,64,66,76,77,83,91,null,1,5,884,null,null,null,null,null,null,null,null,null,null,null,null,null,null,null,null,null,null,null,null,null,null,null,0,2,0,1,2,1,0,0,1,2,3,2,0,1,0,1,0,0,0,2,0,1,0,1,0]
[748,null,11,13,26,29,31,32,34,35,43,46,49,52,60,69,75,76,83,88,93,98,null,2,9,1043,null,null,null,null,null,null,null,null,null,null,null,null,null,null,null,null,null,null,null,null,null,null,null,0,0,0,3,1,1,0,1,2,2,1,0,2,0,1,3,1,0,0,0,1,0,0,1,0]
[751,null,10,11,18,37,43,44,51,56,58,60,63,65,74,77,78,82,86,90,92,95,null,2,12,1190,null,null,null,null,null,null,null,null,null,null,null,null,null,null,null,null,null,null,null,null,null,null,null,1,0,1,0,0,2,1,0,0,1,0,1,0,2,1,1,1,1,0,1,0,2,1,2,1]
[752,null,0,2,4,12,19,31,36,37,42,46,48,54,56,63,71,75,86,88,91,93,null,4,11,954,null,null,null,null,null,null,null,null,null,null,null,null,null,null,null,null,null,null,null,null,null,null,null,0,1,0,1,0,0,1,1,1,1,2,1,1,2,0,1,0,1,1,1,1,1,2,0,0]
[755,null,23,30,31,34,35,43,45,46,48,49,53,55,68,75,83,85,88,95,96,99,null,3,7,1181,null,null,null,null,null,null,null,null,null,null,null,null,null,null,null,null,null,null,null,null,null,null,null,1,0,1,1,0,1,0,0,2,2,1,0,1,2,1,2,0,0,0,1,1,0,0,1,2]
[757,null,7,14,17,18,23,27,28,29,42,46,59,70,71,74,79,82,83,86,88,92,null,4,11,1035,null,null,null,null,null,null,null,null,null,null,null,null,null,null,null,null,null,null,null,null,null,null,null,1,1,1,0,0,0,1,0,1,0,1,2,1,0,0,1,0,2,2,0,0,1,2,1,2]
[761,null,3,4,7,9,10,15,21,34,39,42,45,46,48,50,55,56,63,71,85,90,null,2,9,793,null,null,null,null,null,null,null,null,null,null,null,null,null,null,null,null,null,null,null,null,null,null,null,0,1,1,0,0,1,0,1,0,0,0,1,2,3,1,0,0,1,1,2,1,0,1,1,2]
[764,null,2,11,23,24,42,48,58,61,63,66,71,73,76,78,82,83,86,89,93,99,null,6,10,1228,null,null,null,null,null,null,null,null,null,null,null,null,null,null,null,null,null,null,null,null,null,null,null,0,1,1,1,0,0,0,0,0,2,2,1,1,3,0,1,1,0,1,0,1,1,2,0,1]
[766,null,5,14,23,26,31,34,38,41,43,45,59,60,68,69,76,82,84,86,91,97,null,1,10,1072,null,null,null,null,null,null,null,null,null,null,null,null,null,null,null,null,null,null,null,null,null,null,null,1,0,0,1,2,1,0,0,2,1,1,1,0,0,3,0,0,1,1,0,1,0,1,2,1]
[770,null,9,13,14,17,18,31,40,48,57,58,59,62,67,72,78,80,83,84,97,98,null,{"$f":"SUMPRODUCT(COUNTIF(C772:V772,C771:V771))","v":5},{"$f":"SUMPRODUCT(N(MOD((C772:V772),2)=0)*(C772:V772>0))","v":11},{"$f":"SUM(C772:V772)","v":1085},null,null,null,null,null,null,null,null,null,null,null,null,null,null,null,null,null,null,null,null,null,null,null,1,0,0,1,1,0,1,2,1,1,1,0,1,1,2,1,0,2,2,0,0,2,0,0,0]
[773,null,0,16,17,26,27,37,41,58,59,60,61,67,69,76,77,78,87,92,93,98,null,4,8,1139,null,null,null,null,null,null,null,null,null,null,null,null,null,null,null,null,null,null,null,null,null,null,null,0,1,0,2,2,2,2,0,0,2,0,2,0,0,1,0,0,2,0,0,1,1,1,1,0]
[774,null,0,1,13,23,27,31,34,43,59,61,66,67,68,72,75,77,85,88,96,99,null,6,6,1085,null,null,null,null,null,null,null,null,null,null,null,null,null,null,null,null,null,null,null,null,null,null,null,0,1,1,0,1,2,1,0,2,1,1,2,1,1,1,1,0,1,0,0,0,0,0,1,2]
[777,null,3,4,6,19,20,25,27,28,31,53,55,66,68,70,72,73,77,78,80,96,null,4,11,951,null,null,null,null,null,null,null,null,null,null,null,null,null,null,null,null,null,null,null,null,null,null,null,1,2,1,0,1,1,1,0,2,2,1,1,0,0,1,0,1,1,0,1,0,2,0,0,1]
[779,null,4,7,14,15,20,22,30,40,45,49,57,64,68,74,75,79,81,93,94,99,null,6,10,1030,null,null,null,null,null,null,null,null,null,null,null,null,null,null,null,null,null,null,null,null,null,null,null,1,0,2,1,0,0,1,1,1,1,0,1,0,1,1,2,1,1,1,1,1,0,1,0,1]
[783,null,1,2,4,6,7,14,36,48,51,52,56,64,67,68,73,75,83,86,92,98,null,4,13,983,null,null,null,null,null,null,null,null,null,null,null,null,null,null,null,null,null,null,null,null,null,null,null,1,0,0,1,1,0,1,0,1,1,2,0,0,1,0,0,2,1,1,2,1,0,1,2,1]
[786,null,14,20,32,37,38,43,52,53,62,63,64,65,66,67,75,81,89,91,93,97,null,5,8,1202,null,null,null,null,null,null,null,null,null,null,null,null,null,null,null,null,null,null,null,null,null,null,null,0,0,2,2,0,1,2,1,0,2,2,0,0,1,1,0,2,0,2,1,0,0,1,0,0]
[788,null,0,1,2,4,5,18,22,29,37,39,41,43,64,66,75,76,79,80,81,99,null,6,8,861,null,null,null,null,null,null,null,null,null,null,null,null,null,null,null,null,null,null,null,null,null,null,null,1,0,0,0,3,1,1,0,1,2,1,1,1,1,0,0,1,1,0,1,1,1,1,1,0]
[792,null,4,5,9,10,14,19,26,31,37,42,47,52,58,68,75,85,86,87,88,90,null,3,11,933,null,null,null,null,null,null,null,null,null,null,null,null,null,null,null,null,null,null,null,null,null,null,null,0,0,1,0,1,0,1,1,2,1,0,0,0,1,0,1,1,1,1,1,0,2,3,1,1]
[795,null,4,18,29,30,45,47,49,50,52,55,56,59,65,70,72,74,87,91,93,95,null,3,9,1141,null,null,null,null,null,null,null,null,null,null,null,null,null,null,null,null,null,null,null,null,null,null,null,1,1,1,1,0,1,0,0,1,0,1,0,0,0,2,1,2,2,0,3,1,1,1,0,0]
[796,null,3,5,13,19,31,32,33,35,41,44,50,53,59,61,63,75,79,80,96,99,null,2,5,971,null,null,null,null,null,null,null,null,null,null,null,null,null,null,null,null,null,null,null,null,null,null,null,1,2,0,1,2,1,0,1,1,2,0,0,1,2,0,0,0,2,1,0,0,1,0,1,1]
[799,null,1,4,12,13,19,31,33,35,37,43,44,48,56,60,69,74,82,89,92,93,null,4,9,935,null,null,null,null,null,null,null,null,null,null,null,null,null,null,null,null,null,null,null,null,null,null,null,0,0,2,2,1,1,1,1,1,0,0,1,1,1,1,0,0,2,1,1,1,1,0,1,0]
[802,null,1,4,6,12,21,25,27,36,42,44,50,51,53,59,68,69,74,78,87,91,null,3,10,898,null,null,null,null,null,null,null,null,null,null,null,null,null,null,null,null,null,null,null,null,null,null,null,1,0,1,0,1,1,0,1,1,2,2,1,0,0,0,0,0,3,0,0,2,1,2,1,0]
[805,null,11,16,17,18,20,23,24,33,34,41,47,59,63,68,69,70,77,78,79,83,null,6,8,930,null,null,null,null,null,null,null,null,null,null,null,null,null,null,null,null,null,null,null,null,null,null,null,1,1,1,0,1,2,0,0,1,1,1,0,1,1,0,1,0,2,1,1,1,1,0,1,1]
[808,null,1,2,6,12,13,20,30,32,35,39,41,42,57,58,62,76,85,87,96,97,null,4,11,891,null,null,null,null,null,null,null,null,null,null,null,null,null,null,null,null,null,null,null,null,null,null,null,1,0,2,1,2,0,0,3,0,1,0,0,2,0,1,0,0,0,1,0,2,1,2,0,1]
[810,null,1,4,5,6,8,15,16,24,27,36,42,49,55,56,67,68,70,72,79,98,null,4,12,798,null,null,null,null,null,null,null,null,null,null,null,null,null,null,null,null,null,null,null,null,null,null,null,2,1,0,1,1,1,1,0,2,0,1,2,1,0,1,1,0,1,0,2,0,0,1,1,0]
[814,null,5,13,17,19,22,30,36,39,46,49,56,61,66,67,70,77,83,95,96,97,null,3,8,1044,null,null,null,null,null,null,null,null,null,null,null,null,null,null,null,null,null,null,null,null,null,null,null,1,2,0,0,0,1,1,0,0,0,3,0,3,0,1,1,1,1,0,1,1,1,0,1,1]
[817,null,5,6,7,12,13,20,28,29,44,47,49,52,54,55,59,60,83,86,91,93,null,2,9,893,null,null,null,null,null,null,null,null,null,null,null,null,null,null,null,null,null,null,null,null,null,null,null,1,1,1,1,0,0,1,1,1,0,2,0,1,0,1,1,1,2,0,2,0,0,1,1,1]
[818,null,7,13,22,36,42,47,50,51,60,65,67,69,74,81,83,84,89,90,92,98,null,5,10,1220,null,null,null,null,null,null,null,null,null,null,null,null,null,null,null,null,null,null,null,null,null,null,null,1,0,2,1,0,1,1,0,0,0,2,0,1,0,1,0,2,0,0,1,1,0,2,2,2]
[821,null,0,12,20,23,25,30,39,45,47,48,50,55,62,63,66,69,89,90,91,93,null,7,8,1017,null,null,null,null,null,null,null,null,null,null,null,null,null,null,null,null,null,null,null,null,null,null,null,0,0,2,1,0,1,0,1,0,0,2,1,1,2,1,0,0,0,1,2,2,1,0,0,2]
[824,null,3,8,15,17,19,21,24,26,38,44,47,57,68,70,76,79,82,83,91,92,null,6,10,960,null,null,null,null,null,null,null,null,null,null,null,null,null,null,null,null,null,null,null,null,null,null,null,1,2,0,1,1,0,0,1,2,1,2,2,1,0,0,0,0,2,0,1,1,1,0,1,0]
[827,null,3,14,15,18,19,26,30,31,46,48,49,50,59,60,71,72,74,75,78,85,null,2,11,923,null,null,null,null,null,null,null,null,null,null,null,null,null,null,null,null,null,null,null,null,null,null,null,0,1,2,0,1,1,0,0,1,2,0,1,1,1,2,1,0,1,2,0,1,2,0,0,0]
[830,null,0,5,8,11,18,23,29,30,34,35,39,51,59,69,74,76,89,90,91,92,null,1,8,923,null,null,null,null,null,null,null,null,null,null,null,null,null,null,null,null,null,null,null,null,null,null,null,0,0,2,1,0,0,0,0,2,1,1,1,1,0,0,1,0,1,0,0,2,1,0,4,2]
[832,null,1,4,7,10,11,20,28,33,35,37,47,52,56,59,62,73,76,79,88,97,null,4,9,875,null,null,null,null,null,null,null,null,null,null,null,null,null,null,null,null,null,null,null,null,null,null,null,1,0,1,1,1,0,2,0,0,1,0,0,0,1,1,2,2,2,2,2,0,0,0,0,1]
[836,null,5,7,8,10,15,16,19,25,33,39,42,49,58,65,72,80,81,91,92,99,null,3,8,906,null,null,null,null,null,null,null,null,null,null,null,null,null,null,null,null,null,null,null,null,null,null,null,0,0,0,0,1,1,0,0,1,0,1,1,1,2,1,1,1,0,1,0,0,3,2,2,1]
[839,null,6,12,14,16,18,21,24,25,30,32,43,55,70,72,74,80,85,89,95,97,null,3,12,958,null,null,null,null,null,null,null,null,null,null,null,null,null,null,null,null,null,null,null,null,null,null,null,2,1,3,0,1,2,0,2,0,0,0,0,1,0,2,0,0,0,1,1,2,2,0,0,0]
[840,null,9,14,17,22,28,33,42,43,46,54,55,59,63,66,72,87,94,95,98,99,null,5,10,1096,null,null,null,null,null,null,null,null,null,null,null,null,null,null,null,null,null,null,null,null,null,null,null,1,1,0,1,0,1,2,1,0,0,1,0,1,2,1,0,1,2,2,1,0,0,2,0,0]
[843,null,1,7,11,14,17,19,25,31,32,33,37,41,42,47,57,59,71,90,92,98,null,3,6,824,null,null,null,null,null,null,null,null,null,null,null,null,null,null,null,null,null,null,null,null,null,null,null,0,0,0,1,2,0,1,2,1,0,0,0,0,0,0,1,0,2,3,1,0,2,1,1,2]
[847,null,6,7,8,12,19,25,30,45,47,53,58,61,65,71,77,79,85,86,88,97,null,3,7,1019,null,null,null,null,null,null,null,null,null,null,null,null,null,null,null,null,null,null,null,null,null,null,null,2,1,1,0,0,1,0,1,1,1,0,0,0,0,2,1,1,0,1,1,1,3,1,0,1]
[849,null,1,5,8,12,16,18,23,35,42,43,47,51,53,55,57,63,65,70,74,75,null,7,7,813,null,null,null,null,null,null,null,null,null,null,null,null,null,null,null,null,null,null,null,null,null,null,null,0,1,1,1,1,2,0,2,1,2,0,0,0,1,0,0,1,0,0,2,0,1,1,2,1]
[852,null,15,19,27,28,36,37,41,45,46,47,52,56,57,67,70,75,76,78,92,95,null,4,9,1059,null,null,null,null,null,null,null,null,null,null,null,null,null,null,null,null,null,null,null,null,null,null,null,1,1,0,0,1,0,3,1,0,3,1,2,1,0,1,0,1,0,0,2,0,1,0,1,0]
[856,null,4,5,6,10,13,17,22,24,27,31,44,45,47,55,57,62,64,65,78,96,null,3,10,772,null,null,null,null,null,null,null,null,null,null,null,null,null,null,null,null,null,null,null,null,null,null,null,1,0,0,0,0,0,0,1,1,1,0,1,2,1,1,0,2,3,1,3,0,0,0,1,1]
[858,null,2,5,6,7,8,26,29,32,37,39,41,48,50,55,58,75,80,88,91,98,null,5,11,875,null,null,null,null,null,null,null,null,null,null,null,null,null,null,null,null,null,null,null,null,null,null,null,1,0,0,1,3,1,1,1,2,1,1,0,1,1,0,1,0,0,0,1,1,1,0,1,1]
[859,null,8,9,17,24,30,31,34,36,47,48,51,59,68,69,73,74,78,85,94,97,null,2,10,1032,null,null,null,null,null,null,null,null,null,null,null,null,null,null,null,null,null,null,null,null,null,null,null,0,0,2,0,0,0,1,1,3,1,1,0,1,1,1,0,1,2,0,1,2,0,0,2,0]
[862,null,9,18,24,36,38,48,53,54,58,61,69,70,72,74,87,91,92,97,98,99,null,2,12,1248,null,null,null,null,null,null,null,null,null,null,null,null,null,null,null,null,null,null,null,null,null,null,null,0,3,1,2,0,0,0,1,0,1,2,0,1,2,2,0,0,0,0,0,1,2,1,1,0]
[865,null,1,4,7,10,11,25,26,35,38,43,48,55,56,62,64,67,68,79,85,98,null,2,10,882,null,null,null,null,null,null,null,null,null,null,null,null,null,null,null,null,null,null,null,null,null,null,null,1,0,1,3,2,1,1,0,1,0,0,0,0,2,0,1,0,1,1,3,0,1,0,0,1]
[869,null,3,4,5,6,13,22,23,24,25,29,36,45,60,65,74,76,80,81,96,97,null,2,10,864,null,null,null,null,null,null,null,null,null,null,null,null,null,null,null,null,null,null,null,null,null,null,null,1,1,1,0,1,0,0,0,1,1,1,0,2,0,3,0,2,1,0,0,0,1,1,1,2]
[871,null,0,2,4,9,12,18,26,36,40,47,49,53,56,62,64,68,80,90,93,94,null,4,14,903,null,null,null,null,null,null,null,null,null,null,null,null,null,null,null,null,null,null,null,null,null,null,null,0,0,0,1,2,0,1,2,1,1,1,1,0,0,0,2,0,1,1,3,1,1,0,0,1]
[874,null,5,9,10,21,35,40,41,49,52,56,59,61,63,73,82,83,88,89,90,96,null,3,8,1102,null,null,null,null,null,null,null,null,null,null,null,null,null,null,null,null,null,null,null,null,null,null,null,0,1,1,1,1,0,0,1,0,0,1,1,0,2,0,3,2,1,0,1,1,0,0,1,2]
[878,null,0,3,14,16,24,26,32,35,37,47,51,52,53,55,56,73,75,81,87,94,null,6,8,911,null,null,null,null,null,null,null,null,null,null,null,null,null,null,null,null,null,null,null,null,null,null,null,0,1,0,1,1,1,2,1,0,2,0,1,1,0,0,0,2,0,1,3,0,0,2,1,0]
[880,null,0,2,4,6,25,28,29,30,38,47,49,50,52,54,64,72,73,76,86,96,null,5,14,881,null,null,null,null,null,null,null,null,null,null,null,null,null,null,null,null,null,null,null,null,null,null,null,1,1,0,1,0,1,1,0,1,1,0,1,0,0,1,1,2,1,0,2,2,1,1,0,1]
[881,null,3,7,9,13,22,26,37,39,44,49,58,62,66,67,71,78,80,82,92,96,null,2,11,1001,null,null,null,null,null,null,null,null,null,null,null,null,null,null,null,null,null,null,null,null,null,null,null,0,1,0,0,2,0,2,1,0,1,1,1,2,0,0,1,1,1,2,0,0,1,0,1,2]
[884,null,3,6,11,14,19,20,30,31,32,38,47,55,57,58,61,64,70,86,88,95,null,3,11,885,null,null,null,null,null,null,null,null,null,null,null,null,null,null,null,null,null,null,null,null,null,null,null,2,3,1,1,0,0,0,2,1,0,0,0,0,0,0,2,0,0,1,3,1,2,1,0,0]
[887,null,2,4,6,14,19,27,30,41,42,49,53,55,56,57,62,66,75,80,82,90,null,1,12,910,null,null,null,null,null,null,null,null,null,null,null,null,null,null,null,null,null,null,null,null,null,null,null,1,0,0,0,2,0,0,1,0,2,1,2,0,0,0,1,0,1,2,2,2,1,1,0,1]
[891,null,1,13,15,17,18,22,24,26,31,46,55,63,66,73,74,79,90,93,95,96,null,5,9,997,null,null,null,null,null,null,null,null,null,null,null,null,null,null,null,null,null,null,null,null,null,null,null,2,0,1,1,2,0,0,0,1,0,1,1,3,1,0,0,2,1,0,1,0,1,0,0,2]
[893,null,1,3,5,10,18,36,39,40,42,44,47,53,60,67,71,73,78,79,82,86,null,5,10,934,null,null,null,null,null,null,null,null,null,null,null,null,null,null,null,null,null,null,null,null,null,null,null,1,1,0,0,1,0,1,0,0,2,1,1,1,1,1,1,1,1,1,1,0,1,2,1,0]
[897,null,0,4,8,15,20,23,25,32,54,58,68,73,74,81,82,91,92,96,97,99,null,3,11,1092,null,null,null,null,null,null,null,null,null,null,null,null,null,null,null,null,null,null,null,null,null,null,null,{"$f":"SUMPRODUCT(COUNTIF($C899:$V899,$AB$17:$AC$18))","v":0},{"$f":"SUMPRODUCT(COUNTIF($C899:$V899,$AD$17:$AE$18))","v":1},{"$f":"SUMPRODUCT(COUNTIF($C899:$V899,$AF$17:$AG$18))","v":2},{"$f":"SUMPRODUCT(COUNTIF($C899:$V899,$AH$17:$AI$18))","v":0},{"$f":"SUMPRODUCT(COUNTIF($C899:$V899,$AJ$17:$AK$18))","v":0},{"$f":"SUMPRODUCT(COUNTIF($C899:$V899,$AB$19:$AC$20))","v":0},{"$f":"SUMPRODUCT(COUNTIF($C899:$V899,$AD$19:$AE$20))","v":0},{"$f":"SUMPRODUCT(COUNTIF($C899:$V899,$AF$19:$AG$20))","v":1},{"$f":"SUMPRODUCT(COUNTIF($C899:$V899,$AH$19:$AI$20))","v":2},{"$f":"SUMPRODUCT(COUNTIF($C899:$V899,$AJ$19:$AK$20))","v":0},{"$f":"SUMPRODUCT(COUNTIF($C899:$V899,$AB$21:$AC$22))","v":1},{"$f":"SUMPRODUCT(COUNTIF($C899:$V899,$AD$21:$AE$22))","v":3},{"$f":"SUMPRODUCT(COUNTIF($C899:$V899,$AF$21:$AG$22))","v":0},{"$f":"SUMPRODUCT(COUNTIF($C899:$V899,$AH$21:$AI$22))","v":1},{"$f":"SUMPRODUCT(COUNTIF($C899:$V899,$AJ$21:$AK$22))","v":1},{"$f":"SUMPRODUCT(COUNTIF($C899:$V899,$AB$23:$AC$24))","v":0},{"$f":"SUMPRODUCT(COUNTIF($C899:$V899,$AD$23:$AE$24))","v":1},{"$f":"SUMPRODUCT(COUNTIF($C899:$V899,$AF$23:$AG$24))","v":1},{"$f":"SUMPRODUCT(COUNTIF($C899:$V899,$AH$23:$AI$24))","v":0},{"$f":"SUMPRODUCT(COUNTIF($C899:$V899,$AJ$23:$AK$24))","v":0},{"$f":"SUMPRODUCT(COUNTIF($C899:$V899,$AB$25:$AC$26))","v":0},{"$f":"SUMPRODUCT(COUNTIF($C899:$V899,$AD$25:$AE$26))","v":2},{"$f":"SUMPRODUCT(COUNTIF($C899:$V899,$AF$25:$AG$26))","v":1},{"$f":"SUMPRODUCT(COUNTIF($C899:$V899,$AH$25:$AI$26))","v":1},{"$f":"SUMPRODUCT(COUNTIF($C899:$V899,$AJ$25:$AK$26))","v":2}]
[900,null,6,7,13,15,18,19,31,38,53,60,61,65,78,81,85,87,93,95,97,99,null,2,5,1101,null,null,null,null,null,null,null,null,null,null,null,null,null,null,null,null,null,null,null,null,null,null,null,2,1,1,2,0,0,0,0,1,2,0,1,1,1,2,0,1,0,0,0,0,2,2,0,1]
[902,null,3,5,7,10,12,15,19,21,26,28,39,43,49,69,73,75,78,82,93,99,null,5,6,846,null,null,null,null,null,null,null,null,null,null,null,null,null,null,null,null,null,null,null,null,null,null,null,0,1,0,1,1,1,1,1,0,2,0,2,1,2,0,1,1,0,0,0,2,1,0,1,1]
[903,null,5,7,9,12,22,25,32,37,48,51,61,62,66,69,73,77,87,92,96,99,null,6,8,1030,null,null,null,null,null,null,null,null,null,null,null,null,null,null,null,null,null,null,null,null,null,null,null,0,1,0,0,0,1,1,3,0,0,1,0,0,2,0,0,2,0,1,0,1,1,1,3,2]
[906,null,6,7,13,16,18,30,37,40,44,51,53,59,62,67,77,82,88,92,96,99,null,2,11,1037,null,null,null,null,null,null,null,null,null,null,null,null,null,null,null,null,null,null,null,null,null,null,null,1,0,0,0,0,2,2,0,0,1,0,1,1,1,0,2,0,2,1,0,1,1,0,2,2]
[909,null,4,7,9,10,13,15,18,31,34,36,38,44,47,48,53,78,83,92,93,99,null,4,10,852,null,null,null,null,null,null,null,null,null,null,null,null,null,null,null,null,null,null,null,null,null,null,null,0,0,0,2,0,0,0,1,1,2,2,1,1,3,0,0,0,2,0,1,0,1,0,2,1]
[913,null,2,6,8,10,13,14,18,29,30,36,41,48,53,56,57,65,82,83,88,90,null,0,13,829,null,null,null,null,null,null,null,null,null,null,null,null,null,null,null,null,null,null,null,null,null,null,null,1,0,0,0,1,0,0,1,2,1,2,1,1,2,0,1,1,0,1,1,2,1,0,0,1]
[915,null,2,11,13,16,17,19,26,28,30,38,41,44,50,58,64,69,78,86,90,95,null,6,13,875,null,null,null,null,null,null,null,null,null,null,null,null,null,null,null,null,null,null,null,null,null,null,null,1,0,0,1,2,2,1,0,0,1,0,0,1,0,0,1,0,2,0,1,3,2,1,0,1]
[919,null,0,5,8,25,29,33,41,46,48,51,54,65,69,72,77,79,82,83,90,99,null,5,7,1056,null,null,null,null,null,null,null,null,null,null,null,null,null,null,null,null,null,null,null,null,null,null,null,1,1,0,0,1,1,0,0,2,0,1,2,1,2,1,0,1,0,1,0,1,1,0,2,1]
[922,null,2,4,11,18,30,35,51,56,58,59,62,69,74,76,78,80,81,82,85,90,null,6,13,1101,null,null,null,null,null,null,null,null,null,null,null,null,null,null,null,null,null,null,null,null,null,null,null,0,0,2,1,1,0,0,0,0,2,0,1,0,0,0,1,0,2,1,1,3,2,1,1,1]
[924,null,0,1,3,10,12,18,24,26,27,28,37,38,41,43,52,65,66,74,93,97,null,7,10,755,null,null,null,null,null,null,null,null,null,null,null,null,null,null,null,null,null,null,null,null,null,null,null,0,1,1,2,3,1,2,1,0,0,1,2,1,1,1,0,2,0,0,0,0,1,0,0,0]
[925,null,2,12,17,20,23,24,31,34,40,52,53,55,70,73,77,80,81,87,89,98,null,3,10,1018,null,null,null,null,null,null,null,null,null,null,null,null,null,null,null,null,null,null,null,null,null,null,null,0,1,2,1,1,1,0,1,1,1,0,0,1,0,0,1,2,1,0,1,1,0,2,1,1]
[928,null,12,15,17,22,31,32,35,43,44,59,61,73,75,76,78,81,83,86,87,91,null,2,7,1101,null,null,null,null,null,null,null,null,null,null,null,null,null,null,null,null,null,null,null,null,null,null,null,0,1,0,1,0,1,0,2,1,3,2,1,0,0,0,0,2,3,0,0,0,0,3,0,0]
[931,null,1,2,3,6,8,10,12,13,27,36,39,43,45,49,65,72,73,74,87,90,null,3,9,755,null,null,null,null,null,null,null,null,null,null,null,null,null,null,null,null,null,null,null,null,null,null,null,1,1,1,0,1,1,0,1,1,0,1,1,2,1,2,1,2,0,0,0,1,0,1,0,1]
[935,null,6,13,17,21,34,36,38,42,44,47,50,62,67,73,74,75,80,85,91,97,null,6,10,1052,null,null,null,null,null,null,null,null,null,null,null,null,null,null,null,null,null,null,null,null,null,null,null,1,0,2,1,1,1,1,0,0,1,2,0,1,0,1,0,1,2,1,1,1,0,1,1,0]
[937,null,1,3,5,7,16,23,30,34,37,40,45,46,47,49,61,63,68,87,89,90,null,3,7,841,null,null,null,null,null,null,null,null,null,null,null,null,null,null,null,null,null,null,null,null,null,null,null,0,2,1,0,1,1,1,0,1,0,0,0,1,1,1,2,0,0,0,1,1,0,1,2,3]
[941,null,4,7,16,21,22,26,29,32,35,41,43,55,65,66,67,70,77,78,80,89,null,5,9,923,null,null,null,null,null,null,null,null,null,null,null,null,null,null,null,null,null,null,null,null,null,null,null,0,1,1,1,3,3,1,1,1,1,1,0,0,0,0,0,2,1,0,1,1,0,0,0,1]
[944,null,2,5,6,9,11,17,18,25,26,28,33,37,44,52,55,56,65,71,76,86,null,0,10,722,null,null,null,null,null,null,null,null,null,null,null,null,null,null,null,null,null,null,null,null,null,null,null,1,0,0,0,1,0,2,1,0,1,0,0,0,0,0,1,2,2,2,2,1,2,1,1,0]
[946,null,0,3,4,6,8,20,21,24,25,26,31,36,43,52,64,74,75,79,91,98,null,8,11,780,null,null,null,null,null,null,null,null,null,null,null,null,null,null,null,null,null,null,null,null,null,null,null,2,1,2,1,1,1,0,0,2,1,2,1,1,0,0,0,1,1,0,1,1,1,0,0,0]
[947,null,1,4,7,8,10,18,23,25,29,30,35,37,46,54,69,72,77,81,83,93,null,3,8,802,null,null,null,null,null,null,null,null,null,null,null,null,null,null,null,null,null,null,null,null,null,null,null,0,1,0,2,1,1,1,0,2,0,1,0,1,1,1,0,0,1,0,0,2,2,1,0,2]
[950,null,0,1,3,8,21,22,45,50,53,58,59,63,68,69,76,77,80,85,87,90,null,6,8,1015,null,null,null,null,null,null,null,null,null,null,null,null,null,null,null,null,null,null,null,null,null,null,null,0,1,1,0,2,2,0,0,2,2,0,1,0,1,1,0,1,1,0,0,2,1,1,0,1]
[954,null,0,8,9,12,16,23,24,25,29,31,41,43,49,57,58,64,71,73,78,87,null,0,7,798,null,null,null,null,null,null,null,null,null,null,null,null,null,null,null,null,null,null,null,null,null,null,null,0,0,0,0,1,2,0,3,3,1,0,1,1,0,0,1,1,0,1,1,0,2,1,0,1]
[957,null,2,7,13,17,23,27,43,54,60,61,63,68,69,74,75,76,81,89,95,99,null,5,6,1096,null,null,null,null,null,null,null,null,null,null,null,null,null,null,null,null,null,null,null,null,null,null,null,1,2,2,0,0,1,0,0,1,2,0,1,1,2,1,0,0,1,0,0,2,0,1,0,2]
[959,null,7,9,10,11,16,19,21,27,52,54,60,62,74,78,80,86,87,92,93,97,null,3,11,1035,null,null,null,null,null,null,null,null,null,null,null,null,null,null,null,null,null,null,null,null,null,null,null,0,1,1,1,1,1,0,1,0,1,0,1,0,1,2,1,1,0,1,0,1,1,2,1,1]
[963,null,1,4,6,9,11,14,27,28,30,33,37,54,64,65,72,77,78,82,91,95,null,5,10,878,null,null,null,null,null,null,null,null,null,null,null,null,null,null,null,null,null,null,null,null,null,null,null,2,1,0,0,1,1,2,1,0,1,1,2,0,0,1,1,1,1,2,1,1,0,0,0,0]
[966,null,1,6,12,13,17,35,40,43,46,50,53,56,59,60,67,68,72,90,91,98,null,3,11,977,null,null,null,null,null,null,null,null,null,null,null,null,null,null,null,null,null,null,null,null,null,null,null,1,0,0,2,1,2,1,1,1,1,1,0,2,0,2,1,0,2,0,1,0,0,0,0,1]
[968,null,1,3,7,8,16,19,23,25,41,45,48,49,61,68,70,74,78,81,91,97,null,1,7,905,null,null,null,null,null,null,null,null,null,null,null,null,null,null,null,null,null,null,null,null,null,null,null,0,3,1,0,2,1,0,0,2,1,1,0,0,1,2,1,0,0,0,0,0,2,1,0,2]
[969,null,5,13,20,25,29,35,36,41,47,51,56,57,60,72,73,74,82,85,91,99,null,4,7,1051,null,null,null,null,null,null,null,null,null,null,null,null,null,null,null,null,null,null,null,null,null,null,null,0,0,3,1,1,0,0,1,1,0,2,1,1,1,2,0,1,0,0,2,0,1,0,2,0]
[972,null,0,1,3,8,17,20,23,24,32,34,50,53,55,58,62,77,84,85,92,94,null,5,11,872,null,null,null,null,null,null,null,null,null,null,null,null,null,null,null,null,null,null,null,null,null,null,null,1,1,2,0,1,2,1,1,1,1,0,1,1,0,0,0,0,1,1,1,0,1,0,2,1]
[976,null,1,9,22,23,26,40,41,45,47,49,53,59,64,65,70,79,88,92,93,98,null,4,8,1064,null,null,null,null,null,null,null,null,null,null,null,null,null,null,null,null,null,null,null,null,null,null,null,1,1,0,2,3,0,0,1,0,1,0,0,0,0,1,3,2,1,0,2,0,0,0,1,1]
[979,null,0,8,9,15,16,17,42,47,48,52,54,59,71,73,77,84,87,94,95,96,null,2,9,1044,null,null,null,null,null,null,null,null,null,null,null,null,null,null,null,null,null,null,null,null,null,null,null,2,1,0,0,0,2,1,1,1,0,0,2,0,1,0,0,2,2,1,1,0,0,2,0,1]
[981,null,0,1,2,3,15,28,31,39,40,41,51,56,69,77,78,85,88,89,90,97,null,2,7,980,null,null,null,null,null,null,null,null,null,null,null,null,null,null,null,null,null,null,null,null,null,null,null,0,1,2,0,2,1,1,0,1,1,0,2,1,0,1,2,0,0,0,1,2,0,0,1,1]
[985,null,0,1,7,12,15,38,43,50,57,67,72,76,80,88,89,90,92,93,95,97,null,4,9,1162,null,null,null,null,null,null,null,null,null,null,null,null,null,null,null,null,null,null,null,null,null,null,null,1,0,1,2,2,2,1,2,0,1,0,2,0,0,2,1,0,0,0,0,0,0,0,1,2]
[988,null,2,5,6,11,15,21,30,44,49,50,51,54,64,67,70,73,85,89,92,99,null,4,9,977,null,null,null,null,null,null,null,null,null,null,null,null,null,null,null,null,null,null,null,null,null,null,null,1,2,2,0,0,1,1,0,0,0,0,1,0,1,0,2,1,1,0,1,3,0,0,3,0]
[990,null,6,7,14,25,27,30,31,43,46,48,56,64,65,70,73,81,83,88,89,99,null,2,9,1045,null,null,null,null,null,null,null,null,null,null,null,null,null,null,null,null,null,null,null,null,null,null,null,1,1,1,0,0,1,0,0,1,0,1,1,1,2,0,1,2,0,1,2,1,1,1,0,1]
[991,null,6,8,10,16,18,22,26,28,47,48,58,61,65,66,67,68,72,78,92,97,null,3,15,953,null,null,null,null,null,null,null,null,null,null,null,null,null,null,null,null,null,null,null,null,null,null,null,1,1,0,0,1,1,2,0,2,1,1,0,0,2,2,0,2,0,0,1,0,2,0,1,0]
[994,null,0,4,7,15,18,19,20,31,36,41,42,46,60,63,77,83,84,95,98,99,null,5,9,938,null,null,null,null,null,null,null,null,null,null,null,null,null,null,null,null,null,null,null,null,null,null,null,2,0,1,1,1,1,0,0,1,0,2,2,1,2,1,0,0,1,0,0,0,2,1,0,1]
[998,null,1,5,18,21,22,30,34,35,39,43,47,51,54,56,57,80,88,89,92,99,null,2,9,961,null,null,null,null,null,null,null,null,null,null,null,null,null,null,null,null,null,null,null,null,null,null,null,0,1,1,1,2,1,0,1,0,0,0,0,1,1,0,1,1,0,0,2,2,1,0,4,0]
[1001,null,3,8,11,16,19,23,25,34,35,36,37,42,47,58,64,67,68,88,92,97,null,5,10,870,null,null,null,null,null,null,null,null,null,null,null,null,null,null,null,null,null,null,null,null,null,null,null,0,1,0,1,0,1,2,0,2,0,1,0,0,0,1,2,0,0,0,2,0,3,1,2,1]
[1003,null,7,11,12,16,19,28,31,39,49,55,61,67,72,75,81,87,88,90,93,98,null,4,7,1079,null,null,null,null,null,null,null,null,null,null,null,null,null,null,null,null,null,null,null,null,null,null,null,0,1,0,2,0,1,2,1,1,1,0,0,1,0,1,3,0,0,0,1,0,1,2,0,2]
[1007,null,2,4,8,15,16,20,24,33,37,53,55,58,70,72,74,79,81,87,88,99,null,3,11,975,null,null,null,null,null,null,null,null,null,null,null,null,null,null,null,null,null,null,null,null,null,null,null,1,1,2,0,0,1,1,0,1,1,0,1,1,1,1,1,0,1,1,1,1,1,2,0,0]
[1010,null,2,17,18,19,21,22,26,29,42,44,51,52,60,69,71,72,73,78,94,99,null,2,11,959,null,null,null,null,null,null,null,null,null,null,null,null,null,null,null,null,null,null,null,null,null,null,null,0,0,0,0,1,0,1,0,1,1,0,0,0,1,2,0,3,2,1,0,3,2,1,1,0]
[1012,null,0,4,7,9,11,13,42,44,45,50,53,59,65,67,70,74,81,89,90,97,null,3,7,970,null,null,null,null,null,null,null,null,null,null,null,null,null,null,null,null,null,null,null,null,null,null,null,0,1,2,0,0,1,1,1,0,1,0,1,1,0,2,1,1,3,0,0,0,0,2,0,2]
[1013,null,0,3,8,11,22,26,30,47,48,55,59,60,63,69,72,80,84,87,88,99,null,3,10,1011,null,null,null,null,null,null,null,null,null,null,null,null,null,null,null,null,null,null,null,null,null,null,null,1,1,0,0,2,0,0,0,1,0,0,1,0,3,2,2,1,1,0,2,2,0,1,0,0]
[1016,null,1,4,5,6,8,11,20,23,29,36,49,50,57,62,70,76,77,86,87,90,null,3,11,847,null,null,null,null,null,null,null,null,null,null,null,null,null,null,null,null,null,null,null,null,null,null,null,1,1,1,0,1,2,0,1,2,1,1,0,0,0,0,2,0,1,1,0,0,0,2,1,2]
[1020,null,2,9,13,19,20,23,30,31,34,37,44,47,50,51,57,59,79,88,93,98,null,5,8,884,null,null,null,null,null,null,null,null,null,null,null,null,null,null,null,null,null,null,null,null,null,null,null,1,0,1,2,0,1,1,2,1,0,0,0,1,0,0,1,0,2,0,1,2,1,0,2,1]
[1023,null,6,13,18,19,25,32,39,48,49,59,69,70,73,75,76,79,80,90,93,95,null,5,8,1108,null,null,null,null,null,null,null,null,null,null,null,null,null,null,null,null,null,null,null,null,null,null,null,3,1,0,1,1,0,0,1,0,2,0,0,2,1,0,1,1,1,0,0,1,3,0,0,1]
[1025,null,6,16,21,27,30,32,36,38,40,43,49,54,68,71,77,82,85,87,90,92,null,6,12,1044,null,null,null,null,null,null,null,null,null,null,null,null,null,null,null,null,null,null,null,null,null,null,null,{"$f":"SUMPRODUCT(COUNTIF($C1027:$V1027,$AB$17:$AC$18))","v":1},{"$f":"SUMPRODUCT(COUNTIF($C1027:$V1027,$AD$17:$AE$18))","v":1},{"$f":"SUMPRODUCT(COUNTIF($C1027:$V1027,$AF$17:$AG$18))","v":1},{"$f":"SUMPRODUCT(COUNTIF($C1027:$V1027,$AH$17:$AI$18))","v":1},{"$f":"SUMPRODUCT(COUNTIF($C1027:$V1027,$AJ$17:$AK$18))","v":0},{"$f":"SUMPRODUCT(COUNTIF($C1027:$V1027,$AB$19:$AC$20))","v":3},{"$f":"SUMPRODUCT(COUNTIF($C1027:$V1027,$AD$19:$AE$20))","v":0},{"$f":"SUMPRODUCT(COUNTIF($C1027:$V1027,$AF$19:$AG$20))","v":1},{"$f":"SUMPRODUCT(COUNTIF($C1027:$V1027,$AH$19:$AI$20))","v":1},{"$f":"SUMPRODUCT(COUNTIF($C1027:$V1027,$AJ$19:$AK$20))","v":0},{"$f":"SUMPRODUCT(COUNTIF($C1027:$V1027,$AB$21:$AC$22))","v":1},{"$f":"SUMPRODUCT(COUNTIF($C1027:$V1027,$AD$21:$AE$22))","v":2},{"$f":"SUMPRODUCT(COUNTIF($C1027:$V1027,$AF$21:$AG$22))","v":0},{"$f":"SUMPRODUCT(COUNTIF($C1027:$V1027,$AH$21:$AI$22))","v":0},{"$f":"SUMPRODUCT(COUNTIF($C1027:$V1027,$AJ$21:$AK$22))","v":0},{"$f":"SUMPRODUCT(COUNTIF($C1027:$V1027,$AB$23:$AC$24))","v":2},{"$f":"SUMPRODUCT(COUNTIF($C1027:$V1027,$AD$23:$AE$24))","v":0},{"$f":"SUMPRODUCT(COUNTIF($C1027:$V1027,$AF$23:$AG$24))","v":0},{"$f":"SUMPRODUCT(COUNTIF($C1027:$V1027,$AH$23:$AI$24))","v":1},{"$f":"SUMPRODUCT(COUNTIF($C1027:$V1027,$AJ$23:$AK$24))","v":0},{"$f":"SUMPRODUCT(COUNTIF($C1027:$V1027,$AB$25:$AC$26))","v":2},{"$f":"SUMPRODUCT(COUNTIF($C1027:$V1027,$AD$25:$AE$26))","v":0},{"$f":"SUMPRODUCT(COUNTIF($C1027:$V1027,$AF$25:$AG$26))","v":1},{"$f":"SUMPRODUCT(COUNTIF($C1027:$V1027,$AH$25:$AI$26))","v":1},{"$f":"SUMPRODUCT(COUNTIF($C1027:$V1027,$AJ$25:$AK$26))","v":1}]
[1029,null,3,5,6,14,16,21,27,29,34,44,48,59,74,76,81,85,93,94,95,98,null,7,10,1002,null,null,null,null,null,null,null,null,null,null,null,null,null,null,null,null,null,null,null,null,null,null,null,2,1,2,2,0,1,1,0,1,1,0,1,0,1,0,0,0,2,1,0,1,0,1,2,0]
[1032,null,0,2,7,9,11,12,17,21,22,31,55,64,73,77,79,84,87,94,97,99,null,4,6,941,null,null,null,null,null,null,null,null,null,null,null,null,null,null,null,null,null,null,null,null,null,null,null,2,0,0,0,0,1,1,2,1,0,0,1,0,1,1,1,2,1,0,2,2,0,1,0,1]
[1033,null,1,4,8,9,10,20,33,36,38,41,51,54,55,57,61,67,71,87,89,94,null,4,8,886,null,null,null,null,null,null,null,null,null,null,null,null,null,null,null,null,null,null,null,null,null,null,null,0,2,2,1,2,0,2,2,1,0,1,0,0,1,0,0,0,1,2,1,0,0,1,1,0]
[1036,null,1,6,12,18,20,34,36,37,40,42,49,60,62,63,69,71,78,80,86,93,null,2,13,957,null,null,null,null,null,null,null,null,null,null,null,null,null,null,null,null,null,null,null,null,null,null,null,1,0,1,1,2,0,1,1,0,1,1,0,0,1,1,2,0,0,2,0,1,1,2,1,0]
[1038,null,0,3,6,7,10,17,18,21,22,23,35,36,39,57,64,67,82,84,85,98,null,3,9,774,null,null,null,null,null,null,null,null,null,null,null,null,null,null,null,null,null,null,null,null,null,null,null,2,1,1,2,0,0,1,1,0,0,1,2,1,1,0,0,1,1,0,1,1,1,0,0,2]
[1042,null,5,10,11,12,14,15,20,25,34,35,42,45,48,60,64,65,73,86,89,92,null,3,11,845,null,null,null,null,null,null,null,null,null,null,null,null,null,null,null,null,null,null,null,null,null,null,null,0,0,2,1,0,0,0,1,0,0,0,1,0,2,2,1,2,0,1,1,0,1,2,3,0]
[1045,null,8,11,14,20,25,27,28,32,37,44,47,48,58,76,79,80,90,95,97,99,null,5,11,1015,null,null,null,null,null,null,null,null,null,null,null,null,null,null,null,null,null,null,null,null,null,null,null,2,0,1,0,1,0,2,1,1,1,0,1,0,2,1,1,0,1,1,1,0,2,0,0,1]
[1047,null,15,27,29,31,32,34,38,40,41,50,53,55,69,73,76,88,90,91,96,97,null,6,9,1125,null,null,null,null,null,null,null,null,null,null,null,null,null,null,null,null,null,null,null,null,null,null,null,0,0,0,1,1,1,0,1,2,2,1,2,0,0,1,2,1,0,0,1,1,0,0,1,2]
[1051,null,0,22,37,43,44,48,54,55,61,67,68,72,79,84,87,91,93,97,98,99,null,4,8,1299,null,null,null,null,null,null,null,null,null,null,null,null,null,null,null,null,null,null,null,null,null,null,null,2,2,0,2,0,1,2,0,1,0,1,1,0,2,2,0,1,1,0,1,0,0,1,0,0]
[1054,null,4,5,10,14,17,18,21,24,34,40,41,45,47,49,57,77,79,87,98,99,null,2,8,866,null,null,null,null,null,null,null,null,null,null,null,null,null,null,null,null,null,null,null,null,null,null,null,1,0,0,1,1,1,0,1,0,0,0,0,1,2,1,2,0,2,1,1,1,1,1,2,0]
[1055,null,3,5,7,13,14,16,23,28,36,38,58,63,70,72,85,86,87,96,97,98,null,4,11,995,null,null,null,null,null,null,null,null,null,null,null,null,null,null,null,null,null,null,null,null,null,null,null,0,2,1,2,0,1,1,0,0,0,1,0,1,1,2,0,0,0,1,0,0,1,2,1,3]
[1058,null,5,8,12,27,28,34,38,43,45,47,51,53,54,55,58,66,79,86,98,99,null,4,10,986,null,null,null,null,null,null,null,null,null,null,null,null,null,null,null,null,null,null,null,null,null,null,null,1,1,0,2,0,1,1,1,1,1,1,1,0,1,1,0,0,0,0,2,0,1,1,3,0]
[1060,null,2,3,13,19,26,29,30,32,37,39,41,42,67,69,70,74,78,81,82,95,null,5,9,929,null,null,null,null,null,null,null,null,null,null,null,null,null,null,null,null,null,null,null,null,null,null,null,1,2,1,0,2,0,2,1,1,1,0,1,2,0,0,0,0,0,0,0,3,1,2,0,0]
[1064,null,1,2,8,9,15,32,46,48,50,53,55,56,66,68,79,85,87,91,92,93,null,6,10,1036,null,null,null,null,null,null,null,null,null,null,null,null,null,null,null,null,null,null,null,null,null,null,null,1,0,1,1,1,1,0,2,2,1,2,1,1,1,0,0,0,0,0,2,1,0,1,1,0]
[1067,null,0,6,9,11,12,15,43,45,46,55,57,58,60,67,75,79,80,86,87,93,null,2,7,984,null,null,null,null,null,null,null,null,null,null,null,null,null,null,null,null,null,null,null,null,null,null,null,2,0,0,1,1,1,1,3,0,1,0,2,1,0,2,1,0,0,0,1,0,1,2,0,0]
[1069,null,10,13,14,17,19,28,33,34,41,42,51,58,70,75,77,78,86,91,92,93,null,5,10,1022,null,null,null,null,null,null,null,null,null,null,null,null,null,null,null,null,null,null,null,null,null,null,null,0,1,0,1,1,1,1,0,0,2,1,0,1,1,0,0,0,1,2,0,0,2,2,3,0]
[1073,null,0,7,12,13,14,21,24,27,29,32,35,49,53,54,58,64,67,70,73,86,null,6,9,788,null,null,null,null,null,null,null,null,null,null,null,null,null,null,null,null,null,null,null,null,null,null,null,0,2,0,1,0,0,1,2,1,1,0,2,2,0,0,1,1,0,1,1,1,1,1,0,1]
[1076,null,0,4,7,19,27,33,35,38,40,48,53,65,74,75,82,83,84,86,88,95,null,6,9,1036,null,null,null,null,null,null,null,null,null,null,null,null,null,null,null,null,null,null,null,null,null,null,null,2,0,1,2,0,0,0,0,0,2,1,3,0,1,0,2,1,1,1,0,0,1,1,0,1]
[1077,null,2,6,11,15,17,33,38,40,47,52,63,70,71,75,76,77,81,88,92,98,null,5,10,1052,null,null,null,null,null,null,null,null,null,null,null,null,null,null,null,null,null,null,null,null,null,null,null,1,1,0,2,0,1,0,0,0,2,0,1,0,1,0,3,1,1,2,1,1,0,1,1,0]
[1080,null,4,15,34,37,41,49,51,61,63,67,68,69,70,71,72,81,84,86,97,99,null,3,7,1219,null,null,null,null,null,null,null,null,null,null,null,null,null,null,null,null,null,null,null,null,null,null,null,1,2,0,0,1,0,2,0,1,0,0,1,0,2,2,1,0,1,1,0,1,0,2,2,0]
[1082,null,1,3,9,21,25,29,39,48,51,60,66,67,68,76,78,81,84,94,96,99,null,3,9,1095,null,null,null,null,null,null,null,null,null,null,null,null,null,null,null,null,null,null,null,null,null,null,null,1,1,0,0,1,0,2,1,2,2,1,0,1,2,1,0,0,0,0,0,1,1,1,1,1]
[1086,null,3,15,16,19,20,25,27,38,44,57,58,66,69,72,74,78,83,96,98,99,null,5,11,1057,null,null,null,null,null,null,null,null,null,null,null,null,null,null,null,null,null,null,null,null,null,null,null,0,1,2,2,0,1,0,1,0,1,2,2,0,1,1,0,0,1,0,0,1,3,0,0,1]
[1089,null,4,7,22,28,34,35,38,43,49,55,61,64,74,76,83,84,85,89,93,99,null,6,9,1123,null,null,null,null,null,null,null,null,null,null,null,null,null,null,null,null,null,null,null,null,null,null,null,{"$f":"SUMPRODUCT(COUNTIF($C1091:$V1091,$AB$17:$AC$18))","v":1},{"$f":"SUMPRODUCT(COUNTIF($C1091:$V1091,$AD$17:$AE$18))","v":1},{"$f":"SUMPRODUCT(COUNTIF($C1091:$V1091,$AF$17:$AG$18))","v":3},{"$f":"SUMPRODUCT(COUNTIF($C1091:$V1091,$AH$17:$AI$18))","v":3},{"$f":"SUMPRODUCT(COUNTIF($C1091:$V1091,$AJ$17:$AK$18))","v":0},{"$f":"SUMPRODUCT(COUNTIF($C1091:$V1091,$AB$19:$AC$20))","v":1},{"$f":"SUMPRODUCT(COUNTIF($C1091:$V1091,$AD$19:$AE$20))","v":1},{"$f":"SUMPRODUCT(COUNTIF($C1091:$V1091,$AF$19:$AG$20))","v":0},{"$f":"SUMPRODUCT(COUNTIF($C1091:$V1091,$AH$19:$AI$20))","v":0},{"$f":"SUMPRODUCT(COUNTIF($C1091:$V1091,$AJ$19:$AK$20))","v":1},{"$f":"SUMPRODUCT(COUNTIF($C1091:$V1091,$AB$21:$AC$22))","v":1},{"$f":"SUMPRODUCT(COUNTIF($C1091:$V1091,$AD$21:$AE$22))","v":0},{"$f":"SUMPRODUCT(COUNTIF($C1091:$V1091,$AF$21:$AG$22))","v":0},{"$f":"SUMPRODUCT(COUNTIF($C1091:$V1091,$AH$21:$AI$22))","v":1},{"$f":"SUMPRODUCT(COUNTIF($C1091:$V1091,$AJ$21:$AK$22))","v":0},{"$f":"SUMPRODUCT(COUNTIF($C1091:$V1091,$AB$23:$AC$24))","v":1},{"$f":"SUMPRODUCT(COUNTIF($C1091:$V1091,$AD$23:$AE$24))","v":1},{"$f":"SUMPRODUCT(COUNTIF($C1091:$V1091,$AF$23:$AG$24))","v":1},{"$f":"SUMPRODUCT(COUNTIF($C1091:$V1091,$AH$23:$AI$24))","v":0},{"$f":"SUMPRODUCT(COUNTIF($C1091:$V1091,$AJ$23:$AK$24))","v":2},{"$f":"SUMPRODUCT(COUNTIF($C1091:$V1091,$AB$25:$AC$26))","v":0},{"$f":"SUMPRODUCT(COUNTIF($C1091:$V1091,$AD$25:$AE$26))","v":0},{"$f":"SUMPRODUCT(COUNTIF($C1091:$V1091,$AF$25:$AG$26))","v":0},{"$f":"SUMPRODUCT(COUNTIF($C1091:$V1091,$AH$25:$AI$26))","v":1},{"$f":"SUMPRODUCT(COUNTIF($C1091:$V1091,$AJ$25:$AK$26))","v":1}]
[1091,null,27,28,42,44,53,54,57,59,61,63,65,74,78,79,80,83,86,87,95,96,null,4,9,1311,null,null,null,null,null,null,null,null,null,null,null,null,null,null,null,null,null,null,null,null,null,null,null,2,2,1,0,1,0,1,1,0,2,1,1,0,1,0,0,1,2,0,0,0,0,3,0,1]
[1095,null,9,13,21,23,26,32,34,35,44,50,51,56,64,66,73,75,81,86,89,92,null,4,10,1020,null,null,null,null,null,null,null,null,null,null,null,null,null,null,null,null,null,null,null,null,null,null,null,0,0,1,1,1,1,0,2,0,1,1,0,1,0,0,0,1,1,0,2,1,0,2,3,1]
[1098,null,1,4,6,10,17,29,32,37,42,45,46,53,67,68,71,82,87,91,94,95,null,4,9,977,null,null,null,null,null,null,null,null,null,null,null,null,null,null,null,null,null,null,null,null,null,null,null,2,0,0,0,1,0,3,1,2,1,1,1,1,1,1,0,0,2,1,0,0,0,2,0,0]
[1099,null,0,2,4,7,10,13,14,16,17,23,33,37,38,48,54,59,64,73,79,81,null,4,9,672,null,null,null,null,null,null,null,null,null,null,null,null,null,null,null,null,null,null,null,null,null,null,null,1,1,0,1,0,1,1,0,0,0,0,1,1,2,0,0,1,3,2,1,1,0,1,0,2]
[{"$f":"A1103+1","v":1102},null,1,12,14,15,21,25,30,33,40,51,56,57,60,64,70,75,80,82,89,99,null,6,10,974,null,null,null,null,null,null,null,null,null,null,null,null,null,null,null,null,null,null,null,null,null,null,null,0,1,1,0,2,0,0,2,0,1,0,2,0,1,1,1,0,0,2,2,2,1,0,1,0]
[1105,null,3,13,14,22,27,37,40,41,50,56,61,62,80,83,84,88,92,95,97,99,null,2,10,1144,null,null,null,null,null,null,null,null,null,null,null,null,null,null,null,null,null,null,null,null,null,null,null,2,2,0,0,2,1,1,0,0,0,1,1,1,1,1,2,1,0,2,1,0,0,0,1,0]
[1108,null,4,5,8,12,31,38,39,41,45,48,52,53,55,59,69,74,83,85,95,96,null,4,8,992,null,null,null,null,null,null,null,null,null,null,null,null,null,null,null,null,null,null,null,null,null,null,null,1,0,2,1,1,0,0,1,2,1,1,0,1,1,1,0,1,2,0,1,1,0,0,1,1]
[1111,null,7,11,13,17,20,27,34,39,44,45,53,58,59,74,75,80,83,88,94,99,null,1,8,1020,null,null,null,null,null,null,null,null,null,null,null,null,null,null,null,null,null,null,null,null,null,null,null,0,0,2,0,1,0,1,0,0,2,1,1,2,1,1,2,0,3,0,0,0,1,0,1,1]
[1113,null,2,7,9,12,22,24,29,30,33,36,37,46,60,62,63,71,75,80,89,90,null,3,11,877,null,null,null,null,null,null,null,null,null,null,null,null,null,null,null,null,null,null,null,null,null,null,null,0,0,1,0,1,0,1,2,1,1,1,0,2,1,1,0,1,0,3,0,2,0,0,0,2]
[1117,null,10,15,23,35,36,40,41,48,55,62,66,69,71,80,82,87,91,95,96,97,null,3,9,1199,null,null,null,null,null,null,null,null,null,null,null,null,null,null,null,null,null,null,null,null,null,null,null,1,0,0,1,2,0,0,0,0,0,3,2,0,2,1,1,0,0,2,1,1,0,1,0,2]
[1120,null,3,7,12,17,20,25,32,40,43,44,48,56,65,73,78,84,86,87,94,99,null,4,11,1013,null,null,null,null,null,null,null,null,null,null,null,null,null,null,null,null,null,null,null,null,null,null,null,1,1,1,0,0,1,1,2,0,1,0,0,0,2,0,1,2,2,0,1,0,1,2,0,1]
[1121,null,1,2,6,7,15,29,35,37,38,43,46,52,53,54,55,57,60,66,90,95,null,2,9,841,null,null,null,null,null,null,null,null,null,null,null,null,null,null,null,null,null,null,null,null,null,null,null,2,1,0,2,1,1,1,1,1,1,1,1,1,0,1,0,1,0,0,1,1,0,0,0,2]
[1124,null,8,9,13,15,20,29,30,32,36,38,41,44,53,56,62,65,68,78,93,96,null,4,12,886,null,null,null,null,null,null,null,null,null,null,null,null,null,null,null,null,null,null,null,null,null,null,null,0,0,1,2,1,0,0,2,3,2,1,1,1,0,0,0,1,1,1,1,1,0,0,0,1]
[1127,null,0,1,13,14,15,20,25,31,39,44,46,57,58,64,67,72,75,84,85,90,null,6,9,900,null,null,null,null,null,null,null,null,null,null,null,null,null,null,null,null,null,null,null,null,null,null,null,1,0,2,0,1,0,1,1,1,1,0,2,3,0,1,0,0,1,1,1,0,2,0,0,1]
[1130,null,5,14,17,18,22,23,34,39,44,50,60,65,66,76,79,81,86,93,94,98,null,2,12,1064,null,null,null,null,null,null,null,null,null,null,null,null,null,null,null,null,null,null,null,null,null,null,null,1,0,0,2,0,1,1,0,0,1,1,0,1,0,1,0,2,2,1,0,0,1,2,2,1]
[1133,null,0,1,6,17,24,28,29,36,52,56,57,59,61,67,70,80,86,89,95,99,null,3,9,1012,null,null,null,null,null,null,null,null,null,null,null,null,null,null,null,null,null,null,null,null,null,null,null,2,2,1,0,2,0,2,1,1,0,1,1,1,1,0,0,1,2,0,1,0,0,1,0,0]
[1135,null,1,16,17,19,29,30,35,36,38,42,43,45,47,52,58,68,74,81,93,97,null,5,9,921,null,null,null,null,null,null,null,null,null,null,null,null,null,null,null,null,null,null,null,null,null,null,null,0,0,1,3,1,2,0,0,2,0,1,0,0,0,2,0,1,1,0,1,1,2,2,0,0]
[1139,null,1,5,7,9,12,15,18,20,27,32,44,50,51,66,67,77,80,87,97,99,null,3,8,864,null,null,null,null,null,null,null,null,null,null,null,null,null,null,null,null,null,null,null,null,null,null,null,0,0,1,0,2,2,1,3,0,0,1,2,0,1,1,0,0,1,0,0,0,1,1,2,1]
[1142,null,1,9,15,23,31,37,44,45,49,50,51,63,70,71,75,79,83,86,91,94,null,6,5,1067,null,null,null,null,null,null,null,null,null,null,null,null,null,null,null,null,null,null,null,null,null,null,null,1,1,0,0,1,1,2,1,1,1,2,1,0,1,1,1,0,1,1,0,0,0,1,1,1]
[1143,null,8,10,15,20,23,26,33,34,35,36,40,43,49,51,60,63,81,87,91,97,null,6,8,902,null,null,null,null,null,null,null,null,null,null,null,null,null,null,null,null,null,null,null,null,null,null,null,0,0,1,1,1,1,0,0,1,0,2,1,0,2,2,2,0,0,1,0,0,0,2,2,1]
[1146,null,4,13,20,27,33,37,39,40,42,51,57,64,66,73,75,80,85,90,96,99,null,4,9,1091,null,null,null,null,null,null,null,null,null,null,null,null,null,null,null,null,null,null,null,null,null,null,null,0,0,2,0,1,0,1,1,0,1,1,1,2,1,0,1,1,1,1,1,0,0,1,1,2]
[1149,null,2,9,14,15,16,19,25,26,27,29,42,46,49,51,53,77,80,84,86,88,null,2,10,838,null,null,null,null,null,null,null,null,null,null,null,null,null,null,null,null,null,null,null,null,null,null,null,1,0,0,0,2,2,0,1,1,1,0,2,1,0,0,2,0,0,1,0,1,2,2,1,0]
[1152,null,1,3,8,16,17,19,20,21,25,33,34,39,40,47,52,71,79,87,88,99,null,2,7,799,null,null,null,null,null,null,null,null,null,null,null,null,null,null,null,null,null,null,null,null,null,null,null,1,1,1,0,1,1,0,0,1,0,0,0,1,1,0,2,1,1,2,1,1,2,1,1,0]
[1155,null,11,13,15,26,29,30,36,47,49,52,53,57,61,65,66,78,85,86,89,97,null,5,7,1045,null,null,null,null,null,null,null,null,null,null,null,null,null,null,null,null,null,null,null,null,null,null,null,0,1,2,0,1,0,0,1,1,2,2,1,1,0,1,2,2,0,0,1,1,0,1,0,0]
[1157,null,1,4,5,8,9,17,29,38,43,50,51,60,67,69,82,84,85,86,87,98,null,6,9,973,null,null,null,null,null,null,null,null,null,null,null,null,null,null,null,null,null,null,null,null,null,null,null,1,0,1,2,1,2,1,1,2,0,0,1,0,0,1,0,0,2,0,0,1,0,2,2,0]
[1161,null,0,26,27,39,42,45,50,54,55,63,67,73,78,79,87,90,91,95,96,99,null,3,7,1256,null,null,null,null,null,null,null,null,null,null,null,null,null,null,null,null,null,null,null,null,null,null,null,2,1,0,0,1,1,1,0,0,1,1,2,1,2,1,0,1,0,0,1,0,0,2,0,2]
[1162,null,4,6,10,12,14,16,22,24,29,33,35,37,38,50,56,58,65,82,83,97,null,1,13,771,null,null,null,null,null,null,null,null,null,null,null,null,null,null,null,null,null,null,null,null,null,null,null,1,0,0,2,0,2,1,1,1,0,1,1,1,1,1,0,2,1,2,1,0,1,0,0,0]
[1165,null,5,12,21,24,28,32,33,42,43,48,49,57,59,60,62,64,68,79,89,92,null,4,11,967,null,null,null,null,null,null,null,null,null,null,null,null,null,null,null,null,null,null,null,null,null,null,null,1,0,1,0,0,1,1,3,1,0,0,0,1,1,1,1,0,1,2,1,1,0,1,2,0]
[1168,null,6,12,14,29,39,49,53,57,58,63,65,67,82,85,90,91,93,95,96,97,null,2,7,1241,null,null,null,null,null,null,null,null,null,null,null,null,null,null,null,null,null,null,null,null,null,null,null,2,0,1,1,0,0,1,2,1,1,1,1,1,1,1,1,1,0,1,0,0,1,0,0,2]
[1171,null,3,9,11,12,18,29,38,44,51,52,55,63,64,76,80,83,84,85,86,98,null,1,11,1041,null,null,null,null,null,null,null,null,null,null,null,null,null,null,null,null,null,null,null,null,null,null,null,1,1,1,2,1,0,0,2,1,1,1,0,0,1,0,1,1,1,0,2,0,1,1,1,0]
[1174,null,4,6,9,16,23,24,27,28,39,41,48,50,56,58,65,66,70,78,81,83,null,4,12,872,null,null,null,null,null,null,null,null,null,null,null,null,null,null,null,null,null,null,null,null,null,null,null,1,1,0,0,1,2,1,1,0,1,2,1,2,1,0,0,1,1,0,1,0,1,1,0,1]
[1177,null,2,8,16,23,27,29,43,45,48,50,58,59,60,62,64,79,85,93,95,97,null,4,9,1043,null,null,null,null,null,null,null,null,null,null,null,null,null,null,null,null,null,null,null,null,null,null,null,2,0,1,1,0,3,0,0,2,0,0,1,0,1,3,0,0,1,1,1,1,1,0,0,1]
[1179,null,4,5,11,16,18,26,27,33,38,50,51,57,63,66,67,68,70,73,83,91,null,8,9,917,null,null,null,null,null,null,null,null,null,null,null,null,null,null,null,null,null,null,null,null,null,null,null,0,1,0,1,1,2,1,1,1,0,3,1,0,1,0,1,1,1,1,0,0,1,0,2,0]
[1183,null,2,15,16,17,32,34,43,62,65,71,73,74,76,85,87,88,89,93,96,97,null,4,9,1215,null,null,null,null,null,null,null,null,null,null,null,null,null,null,null,null,null,null,null,null,null,null,null,0,0,3,1,0,2,0,1,0,1,0,1,0,0,1,1,2,1,2,0,1,0,1,1,1]
[1184,null,5,6,8,13,16,19,20,22,36,42,43,50,59,61,62,64,85,87,94,96,null,6,12,888,null,null,null,null,null,null,null,null,null,null,null,null,null,null,null,null,null,null,null,null,null,null,null,1,1,2,0,0,3,1,0,1,0,1,0,1,0,0,0,1,1,1,1,0,1,2,1,1]
[1187,null,0,3,6,7,14,22,24,26,30,32,42,43,48,59,62,67,78,86,94,95,null,6,13,838,null,null,null,null,null,null,null,null,null,null,null,null,null,null,null,null,null,null,null,null,null,null,null,2,1,0,0,1,1,2,1,0,1,0,1,1,1,0,0,1,1,2,0,1,0,2,0,1]
[1190,null,1,14,20,33,41,44,48,52,53,62,64,70,72,74,76,77,78,82,87,97,null,3,13,1145,null,null,null,null,null,null,null,null,null,null,null,null,null,null,null,null,null,null,null,null,null,null,null,0,1,2,0,2,1,0,0,0,3,0,1,0,1,2,0,1,1,3,1,0,0,1,0,0]
[1194,null,4,6,9,11,19,26,29,32,40,51,59,61,63,70,72,78,87,91,92,95,null,2,9,995,null,null,null,null,null,null,null,null,null,null,null,null,null,null,null,null,null,null,null,null,null,null,null,2,2,0,0,1,0,0,2,1,1,1,0,0,1,1,2,0,2,0,0,0,1,1,2,0]
[1196,null,4,9,14,22,23,31,35,49,55,65,66,69,71,73,78,80,87,89,92,99,null,2,7,1111,null,null,null,null,null,null,null,null,null,null,null,null,null,null,null,null,null,null,null,null,null,null,null,0,0,1,1,1,0,0,1,1,1,1,0,0,1,0,1,3,1,2,1,1,0,1,1,1]
[1200,null,1,9,11,14,17,31,34,40,42,43,44,49,55,56,61,67,78,80,83,92,null,3,9,907,null,null,null,null,null,null,null,null,null,null,null,null,null,null,null,null,null,null,null,null,null,null,null,0,1,0,0,2,1,1,1,1,1,1,0,0,0,0,3,0,2,1,2,0,0,1,2,0]
[1203,null,0,6,29,34,41,49,53,55,62,67,68,69,71,76,78,81,83,88,89,91,null,5,7,1190,null,null,null,null,null,null,null,null,null,null,null,null,null,null,null,null,null,null,null,null,null,null,null,1,0,1,0,1,0,1,0,2,3,2,1,0,0,0,2,0,0,2,1,1,0,1,1,0]
[1205,null,0,1,2,8,11,13,16,19,25,27,28,31,32,40,42,65,66,71,83,90,null,4,9,670,null,null,null,null,null,null,null,null,null,null,null,null,null,null,null,null,null,null,null,null,null,null,null,0,0,0,0,1,1,1,1,2,0,2,2,1,0,0,2,1,0,1,0,1,2,1,0,1]
[1206,null,1,7,10,19,28,29,33,35,54,55,57,60,62,67,71,86,88,90,94,96,null,5,10,1042,null,null,null,null,null,null,null,null,null,null,null,null,null,null,null,null,null,null,null,null,null,null,null,0,1,0,1,1,0,3,1,1,0,0,0,0,1,1,1,0,0,3,1,0,1,1,0,3]
[1209,null,5,6,7,13,17,24,27,50,51,54,57,61,62,64,86,89,90,91,92,94,null,4,10,1040,null,null,null,null,null,null,null,null,null,null,null,null,null,null,null,null,null,null,null,null,null,null,null,1,2,1,0,0,1,1,1,0,0,1,1,2,0,0,0,0,1,1,1,0,0,1,3,2]
[1212,null,12,15,16,26,35,36,37,39,41,46,47,69,70,76,82,83,87,93,95,99,null,3,8,1104,null,null,null,null,null,null,null,null,null,null,null,null,null,null,null,null,null,null,null,null,null,null,null,1,1,0,2,2,1,1,1,0,1,2,2,2,1,0,0,0,0,0,1,1,0,1,0,0]
[1216,null,3,8,11,12,18,43,50,51,56,60,63,67,70,76,77,78,83,92,95,96,null,4,11,1109,null,null,null,null,null,null,null,null,null,null,null,null,null,null,null,null,null,null,null,null,null,null,null,1,2,0,0,0,3,1,1,1,2,1,0,0,1,1,1,0,0,0,1,0,1,0,2,1]
[1218,null,2,4,5,16,18,30,36,47,57,58,60,67,69,72,73,81,86,88,95,97,null,{"$f":"SUMPRODUCT(COUNTIF(C1220:V1220,C1219:V1219))","v":4},{"$f":"SUMPRODUCT(N(MOD((C1220:V1220),2)=0)*(C1220:V1220>0))","v":11},{"$f":"SUM(C1220:V1220)","v":1061},null,null,null,null,null,null,null,null,null,null,null,null,null,null,null,null,null,null,null,null,null,null,null,1,0,0,0,0,1,1,1,0,0,1,0,0,0,3,1,1,1,0,1,3,2,2,1,0]
[1222,null,1,6,18,26,28,31,32,37,39,45,50,53,56,57,62,68,69,78,82,96,null,3,12,934,null,null,null,null,null,null,null,null,null,null,null,null,null,null,null,null,null,null,null,null,null,null,null,1,0,0,0,2,1,2,2,2,2,0,1,1,0,1,0,0,0,1,1,1,1,0,0,1]
[1225,null,1,7,10,17,20,21,26,51,56,58,67,69,70,72,74,75,76,77,87,90,null,4,10,1024,null,null,null,null,null,null,null,null,null,null,null,null,null,null,null,null,null,null,null,null,null,null,null,0,1,2,0,2,1,1,0,0,2,0,0,0,1,1,0,0,1,0,1,2,1,1,1,2]
[1227,null,3,5,6,11,18,20,21,24,29,34,36,39,42,49,57,62,64,75,80,94,null,7,11,769,null,null,null,null,null,null,null,null,null,null,null,null,null,null,null,null,null,null,null,null,null,null,null,1,1,1,0,1,0,1,1,1,1,1,0,2,0,0,2,0,0,1,1,1,1,1,2,0]
[1228,null,7,12,30,38,40,50,58,63,65,68,69,70,76,79,80,88,92,93,95,99,null,1,12,1272,null,null,null,null,null,null,null,null,null,null,null,null,null,null,null,null,null,null,null,null,null,null,null,2,1,0,2,1,1,0,1,1,1,0,0,0,2,0,2,1,0,0,0,2,1,0,1,1]
[{"$f":"A1232+1","v":1231},null,0,9,10,19,20,21,26,27,29,32,46,50,60,62,66,68,81,96,98,99,null,6,12,919,null,null,null,null,null,null,null,null,null,null,null,null,null,null,null,null,null,null,null,null,null,null,null,0,0,1,1,1,1,0,2,2,0,1,2,1,2,1,0,0,0,1,0,1,1,1,0,1]
[1234,null,0,4,6,14,17,24,35,53,56,58,59,60,63,64,67,69,73,74,78,93,null,5,10,967,null,null,null,null,null,null,null,null,null,null,null,null,null,null,null,null,null,null,null,null,null,null,null,1,0,1,2,0,0,1,0,0,2,0,1,1,1,1,0,1,3,1,2,1,1,0,0,0]
[1238,null,0,6,14,15,22,24,27,35,43,53,54,60,61,63,78,80,87,89,98,99,null,5,9,1008,null,null,null,null,null,null,null,null,null,null,null,null,null,null,null,null,null,null,null,null,null,null,null,1,2,1,2,1,1,0,0,0,2,0,3,1,2,1,0,1,0,1,0,0,0,1,0,0]
[1240,null,5,11,13,15,18,20,25,26,45,46,47,49,62,68,70,79,89,92,96,99,null,3,9,975,null,null,null,null,null,null,null,null,null,null,null,null,null,null,null,null,null,null,null,null,null,null,null,1,1,2,0,1,0,0,0,1,0,0,1,2,1,1,2,0,0,1,1,0,2,0,2,1]
[1244,null,4,11,12,13,14,15,20,25,28,29,32,34,41,45,49,53,60,63,67,81,null,3,8,696,null,null,null,null,null,null,null,null,null,null,null,null,null,null,null,null,null,null,null,null,null,null,null,0,0,1,0,1,0,2,2,1,1,0,1,1,1,2,2,0,1,1,0,0,1,1,1,0]
[1247,null,1,8,11,14,23,24,25,27,30,36,39,47,57,61,67,75,80,81,87,91,null,2,6,884,null,null,null,null,null,null,null,null,null,null,null,null,null,null,null,null,null,null,null,null,null,null,null,0,1,0,0,2,0,1,1,1,1,2,1,2,0,0,1,0,0,1,1,1,1,2,0,1]
[1249,null,8,15,16,33,41,46,47,48,50,51,52,55,57,63,72,76,79,84,89,90,null,4,10,1072,null,null,null,null,null,null,null,null,null,null,null,null,null,null,null,null,null,null,null,null,null,null,null,2,0,1,0,1,2,0,1,1,1,0,1,1,2,1,0,1,0,1,2,0,0,0,1,1]
[1250,null,7,9,16,18,27,38,43,45,46,47,54,63,67,72,75,82,87,88,97,98,null,5,9,1079,null,null,null,null,null,null,null,null,null,null,null,null,null,null,null,null,null,null,null,null,null,null,null,0,1,0,2,0,2,1,1,0,1,0,2,1,1,3,1,0,0,0,1,0,1,1,0,1]
[1253,null,3,5,8,11,23,26,28,33,35,36,43,46,50,55,58,73,77,91,93,95,null,5,7,889,null,null,null,null,null,null,null,null,null,null,null,null,null,null,null,null,null,null,null,null,null,null,null,1,1,0,2,1,3,1,0,1,0,2,0,1,0,0,1,1,0,1,1,0,1,0,1,1]
[1257,null,0,3,7,8,15,18,22,24,25,34,37,42,44,45,46,48,52,81,86,89,null,3,11,726,null,null,null,null,null,null,null,null,null,null,null,null,null,null,null,null,null,null,null,null,null,null,null,0,1,1,0,0,0,1,0,1,0,0,2,2,1,1,0,2,1,0,0,0,2,3,1,1]
[1260,null,0,1,2,5,10,12,16,19,22,38,40,51,58,59,67,72,80,93,95,96,null,8,11,836,null,null,null,null,null,null,null,null,null,null,null,null,null,null,null,null,null,null,null,null,null,null,null,1,0,0,2,2,1,1,1,0,0,0,1,0,1,1,1,1,1,0,0,1,2,0,2,1]
[1262,null,15,20,23,33,35,49,54,56,58,59,60,62,64,70,76,81,82,86,94,98,null,4,13,1175,null,null,null,null,null,null,null,null,null,null,null,null,null,null,null,null,null,null,null,null,null,null,null,0,2,1,2,0,0,1,0,0,1,0,2,0,0,1,1,0,1,2,2,0,1,2,0,1]
[1266,null,2,4,18,27,32,34,39,45,47,53,54,57,61,64,65,77,87,89,90,96,null,4,9,1041,null,null,null,null,null,null,null,null,null,null,null,null,null,null,null,null,null,null,null,null,null,null,null,0,2,1,0,0,1,0,2,0,1,0,1,1,0,1,0,1,1,0,2,1,1,1,1,2]
[1269,null,0,4,5,7,12,20,37,42,54,59,61,62,64,65,68,70,76,88,98,99,null,2,12,991,null,null,null,null,null,null,null,null,null,null,null,null,null,null,null,null,null,null,null,null,null,null,null,0,3,1,1,0,0,1,1,1,1,0,1,0,1,0,1,1,2,1,1,0,0,1,1,1]
[1271,null,1,4,5,18,21,23,26,29,39,40,41,43,44,58,63,66,67,74,75,78,null,3,9,815,null,null,null,null,null,null,null,null,null,null,null,null,null,null,null,null,null,null,null,null,null,null,null,0,0,1,0,3,1,1,0,1,2,1,0,1,1,0,1,0,2,0,0,1,2,0,1,1]
[1272,null,7,13,21,22,27,32,34,35,41,42,45,48,50,64,68,73,76,77,86,95,null,2,10,956,null,null,null,null,null,null,null,null,null,null,null,null,null,null,null,null,null,null,null,null,null,null,null,1,0,0,1,1,2,0,1,1,1,0,1,1,1,1,0,2,0,0,1,1,0,2,1,1]
[1275,null,1,7,10,19,28,29,31,39,41,42,45,47,58,61,63,84,87,88,96,99,null,3,7,975,null,null,null,null,null,null,null,null,null,null,null,null,null,null,null,null,null,null,null,null,null,null,null,1,1,0,0,2,0,1,0,2,0,0,0,1,3,1,1,0,0,0,1,0,2,2,0,2]
[1279,null,11,12,13,17,21,25,27,30,35,39,43,46,51,52,67,71,73,74,87,97,null,2,5,891,null,null,null,null,null,null,null,null,null,null,null,null,null,null,null,null,null,null,null,null,null,null,null,0,0,1,1,0,1,1,1,0,0,0,1,3,0,1,1,2,1,1,0,2,1,1,1,0]
[1282,null,2,6,20,27,29,34,42,43,47,56,58,60,63,65,67,68,81,82,97,98,null,{"$f":"SUMPRODUCT(COUNTIF(C1284:V1284,C1283:V1283))","v":3},{"$f":"SUMPRODUCT(N(MOD((C1284:V1284),2)=0)*(C1284:V1284>0))","v":11},{"$f":"SUM(C1284:V1284)","v":1045},null,null,null,null,null,null,null,null,null,null,null,null,null,null,null,null,null,null,null,null,null,null,null,1,0,1,1,0,1,1,0,2,0,0,2,0,1,2,0,1,0,0,2,1,1,2,1,0]
[1284,null,3,18,21,25,37,38,39,44,45,48,50,51,53,63,67,74,75,89,91,93,null,5,6,1024,null,null,null,null,null,null,null,null,null,null,null,null,null,null,null,null,null,null,null,null,null,null,null,0,1,2,2,0,1,2,0,0,2,1,0,1,2,1,0,0,1,0,0,1,2,0,1,0]
[1288,null,0,8,9,12,13,22,23,28,30,31,38,44,69,71,75,77,83,84,85,99,null,4,8,901,null,null,null,null,null,null,null,null,null,null,null,null,null,null,null,null,null,null,null,null,null,null,null,1,0,1,1,0,1,1,2,2,1,1,1,1,1,0,0,1,1,1,0,2,0,0,0,1]
[1291,null,2,3,11,19,21,28,31,33,34,35,39,44,45,54,63,74,79,86,88,97,null,3,8,886,null,null,null,null,null,null,null,null,null,null,null,null,null,null,null,null,null,null,null,null,null,null,null,1,2,1,1,0,0,1,0,1,0,0,0,1,1,2,2,0,1,1,0,2,1,1,1,0]
[1293,null,6,10,11,13,17,20,22,30,31,35,37,38,41,47,52,59,83,85,88,93,null,5,8,818,null,null,null,null,null,null,null,null,null,null,null,null,null,null,null,null,null,null,null,null,null,null,null,1,0,2,3,1,0,1,0,1,0,1,0,1,1,0,2,2,2,0,1,1,0,0,0,0]
[1294,null,7,14,16,23,24,25,46,47,49,52,55,56,57,59,67,76,82,83,86,96,null,4,10,1020,null,null,null,null,null,null,null,null,null,null,null,null,null,null,null,null,null,null,null,null,null,null,null,0,0,0,0,0,1,1,1,0,1,1,1,2,0,0,1,1,1,1,3,0,1,1,0,3]
[1297,null,16,19,25,26,27,29,31,32,35,44,48,52,53,59,76,79,81,82,87,90,null,1,9,991,null,null,null,null,null,null,null,null,null,null,null,null,null,null,null,null,null,null,null,null,null,null,null,1,0,0,1,1,1,0,1,2,2,0,2,0,1,0,0,1,2,0,0,0,2,2,0,1]
[1301,null,12,13,15,17,20,24,31,33,36,46,62,63,65,67,69,70,75,76,77,98,null,3,9,969,null,null,null,null,null,null,null,null,null,null,null,null,null,null,null,null,null,null,null,null,null,null,null,0,1,1,1,0,1,1,1,1,2,1,1,3,1,0,0,1,1,2,0,1,0,0,0,0]
[1304,null,1,2,3,4,14,19,22,27,31,45,47,55,58,61,68,78,80,89,91,95,null,3,8,890,null,null,null,null,null,null,null,null,null,null,null,null,null,null,null,null,null,null,null,null,null,null,null,1,2,1,0,2,0,0,0,2,1,1,1,0,0,1,0,1,1,1,2,1,2,0,0,0]
[1306,null,2,9,10,29,35,36,43,46,49,53,54,55,57,60,63,64,82,83,91,92,null,6,9,1013,null,null,null,null,null,null,null,null,null,null,null,null,null,null,null,null,null,null,null,null,null,null,null,0,1,0,1,0,1,0,2,1,1,3,1,1,2,1,1,0,0,0,2,1,0,0,1,0]
[1310,null,16,17,20,21,24,27,28,31,43,44,49,52,60,62,65,66,71,73,80,87,null,3,10,936,null,null,null,null,null,null,null,null,null,null,null,null,null,null,null,null,null,null,null,null,null,null,null,0,0,1,0,1,2,1,0,1,0,1,1,1,0,1,1,3,2,2,0,1,0,1,0,0]
[1313,null,8,12,16,17,24,26,28,35,47,48,51,52,53,57,61,81,89,93,95,96,null,5,9,989,null,null,null,null,null,null,null,null,null,null,null,null,null,null,null,null,null,null,null,null,null,null,null,1,1,1,2,1,1,1,2,1,1,0,0,1,1,0,0,1,1,0,1,0,0,1,1,1]
[1315,null,13,14,21,24,28,29,32,46,51,56,57,61,62,63,77,78,82,86,90,96,null,4,12,1066,null,null,null,null,null,null,null,null,null,null,null,null,null,null,null,null,null,null,null,null,null,null,null,0,1,0,0,0,1,1,2,1,1,0,1,3,1,0,0,0,0,2,1,1,0,1,1,2]
[1316,null,0,9,11,12,16,18,22,30,39,40,46,47,49,61,62,67,82,85,92,94,null,4,11,882,null,null,null,null,null,null,null,null,null,null,null,null,null,null,null,null,null,null,null,null,null,null,null,0,1,1,0,0,1,2,2,0,0,0,2,2,0,0,3,1,0,1,1,1,1,0,1,0]
[1319,null,3,12,19,20,31,32,33,39,45,49,57,61,74,79,82,88,89,90,96,99,null,3,8,1098,null,null,null,null,null,null,null,null,null,null,null,null,null,null,null,null,null,null,null,null,null,null,null,1,2,3,0,0,0,0,3,1,0,0,1,1,1,1,2,0,0,1,0,0,1,0,0,2]
[1323,null,1,2,6,7,8,10,13,19,28,37,43,55,67,71,73,77,87,89,90,98,null,8,7,881,null,null,null,null,null,null,null,null,null,null,null,null,null,null,null,null,null,null,null,null,null,null,null,1,0,1,1,1,2,3,0,1,0,0,0,1,1,0,0,1,0,1,1,1,1,1,0,2]
[1326,null,0,4,8,10,13,15,19,27,29,31,32,41,47,50,54,59,61,67,75,83,null,3,6,725,null,null,null,null,null,null,null,null,null,null,null,null,null,null,null,null,null,null,null,null,null,null,null,0,2,0,0,1,1,1,1,3,1,1,3,1,1,0,0,0,2,0,1,0,1,0,0,0]
[1328,null,0,1,9,10,14,23,26,28,30,32,45,52,55,61,66,68,69,80,86,94,null,2,12,849,null,null,null,null,null,null,null,null,null,null,null,null,null,null,null,null,null,null,null,null,null,null,null,0,1,0,0,3,0,2,2,1,0,1,1,0,1,1,0,1,0,1,1,2,0,1,0,1]
[1332,null,5,8,13,23,37,42,43,44,51,54,57,62,68,69,79,80,81,87,90,93,null,5,8,1086,null,null,null,null,null,null,null,null,null,null,null,null,null,null,null,null,null,null,null,null,null,null,null,1,1,0,1,1,1,1,1,2,0,0,0,1,0,0,0,0,1,1,0,1,0,3,2,2]
[1335,null,2,3,11,24,28,29,31,40,52,53,56,60,61,75,76,81,83,90,92,93,null,4,10,1040,null,null,null,null,null,null,null,null,null,null,null,null,null,null,null,null,null,null,null,null,null,null,null,0,2,0,1,0,0,1,0,2,3,1,0,1,0,1,2,1,0,0,1,1,0,1,1,1]
[1337,null,0,12,16,17,25,26,35,38,41,45,47,48,52,57,63,69,70,73,90,93,null,4,8,917,null,null,null,null,null,null,null,null,null,null,null,null,null,null,null,null,null,null,null,null,null,null,null,0,1,0,3,2,1,0,2,0,0,0,1,0,2,1,0,2,1,0,1,1,1,0,0,1]
[1338,null,9,11,12,13,14,27,29,32,34,41,46,49,55,57,64,68,80,89,91,93,null,4,8,914,null,null,null,null,null,null,null,null,null,null,null,null,null,null,null,null,null,null,null,null,null,null,null,0,0,1,1,2,0,0,4,2,0,1,1,2,0,0,2,0,0,1,2,0,0,0,1,0]
[1341,null,2,7,10,13,14,18,20,22,24,30,31,37,45,60,61,73,75,79,80,93,null,3,10,794,null,null,null,null,null,null,null,null,null,null,null,null,null,null,null,null,null,null,null,null,null,null,null,1,1,1,1,1,0,1,0,1,1,0,0,2,1,2,0,2,0,1,0,2,1,0,0,1]
[1345,null,7,8,9,17,21,22,23,24,36,38,42,63,64,66,69,79,82,86,89,93,null,6,10,938,null,null,null,null,null,null,null,null,null,null,null,null,null,null,null,null,null,null,null,null,null,null,null,{"$f":"SUMPRODUCT(COUNTIF($C1347:$V1347,$AB$17:$AC$18))","v":1},{"$f":"SUMPRODUCT(COUNTIF($C1347:$V1347,$AD$17:$AE$18))","v":0},{"$f":"SUMPRODUCT(COUNTIF($C1347:$V1347,$AF$17:$AG$18))","v":1},{"$f":"SUMPRODUCT(COUNTIF($C1347:$V1347,$AH$17:$AI$18))","v":2},{"$f":"SUMPRODUCT(COUNTIF($C1347:$V1347,$AJ$17:$AK$18))","v":0},{"$f":"SUMPRODUCT(COUNTIF($C1347:$V1347,$AB$19:$AC$20))","v":0},{"$f":"SUMPRODUCT(COUNTIF($C1347:$V1347,$AD$19:$AE$20))","v":0},{"$f":"SUMPRODUCT(COUNTIF($C1347:$V1347,$AF$19:$AG$20))","v":1},{"$f":"SUMPRODUCT(COUNTIF($C1347:$V1347,$AH$19:$AI$20))","v":1},{"$f":"SUMPRODUCT(COUNTIF($C1347:$V1347,$AJ$19:$AK$20))","v":0},{"$f":"SUMPRODUCT(COUNTIF($C1347:$V1347,$AB$21:$AC$22))","v":2},{"$f":"SUMPRODUCT(COUNTIF($C1347:$V1347,$AD$21:$AE$22))","v":1},{"$f":"SUMPRODUCT(COUNTIF($C1347:$V1347,$AF$21:$AG$22))","v":1},{"$f":"SUMPRODUCT(COUNTIF($C1347:$V1347,$AH$21:$AI$22))","v":1},{"$f":"SUMPRODUCT(COUNTIF($C1347:$V1347,$AJ$21:$AK$22))","v":0},{"$f":"SUMPRODUCT(COUNTIF($C1347:$V1347,$AB$23:$AC$24))","v":0},{"$f":"SUMPRODUCT(COUNTIF($C1347:$V1347,$AD$23:$AE$24))","v":1},{"$f":"SUMPRODUCT(COUNTIF($C1347:$V1347,$AF$23:$AG$24))","v":1},{"$f":"SUMPRODUCT(COUNTIF($C1347:$V1347,$AH$23:$AI$24))","v":0},{"$f":"SUMPRODUCT(COUNTIF($C1347:$V1347,$AJ$23:$AK$24))","v":1},{"$f":"SUMPRODUCT(COUNTIF($C1347:$V1347,$AB$25:$AC$26))","v":2},{"$f":"SUMPRODUCT(COUNTIF($C1347:$V1347,$AD$25:$AE$26))","v":0},{"$f":"SUMPRODUCT(COUNTIF($C1347:$V1347,$AF$25:$AG$26))","v":2},{"$f":"SUMPRODUCT(COUNTIF($C1347:$V1347,$AH$25:$AI$26))","v":0},{"$f":"SUMPRODUCT(COUNTIF($C1347:$V1347,$AJ$25:$AK$26))","v":2}]
[1348,null,1,5,8,16,17,18,27,41,46,50,57,60,65,73,74,84,86,87,94,97,null,6,10,1006,null,null,null,null,null,null,null,null,null,null,null,null,null,null,null,null,null,null,null,null,null,null,null,1,0,1,0,2,2,1,1,1,0,0,1,1,0,2,0,2,1,0,0,0,1,2,1,0]
[1351,null,2,5,8,9,18,33,34,39,40,42,45,51,53,76,79,81,82,90,93,96,null,4,10,976,null,null,null,null,null,null,null,null,null,null,null,null,null,null,null,null,null,null,null,null,null,null,null,1,0,0,1,0,0,0,1,1,2,0,1,1,0,1,1,0,0,1,0,1,1,2,3,2]
[1354,null,4,7,16,22,24,29,30,41,48,51,58,59,61,68,76,79,81,82,83,91,null,4,10,1010,null,null,null,null,null,null,null,null,null,null,null,null,null,null,null,null,null,null,null,null,null,null,null,1,1,0,0,1,1,0,0,2,1,2,1,1,1,0,0,1,2,0,0,1,1,1,1,1]
[1357,null,4,6,7,8,30,31,34,37,39,45,48,53,68,69,74,75,78,80,83,93,null,5,10,962,null,null,null,null,null,null,null,null,null,null,null,null,null,null,null,null,null,null,null,null,null,null,null,1,0,1,1,1,0,1,0,3,3,1,0,1,1,1,0,0,1,0,0,2,0,0,1,1]
[1358,null,3,4,7,16,17,18,20,22,27,35,37,41,42,46,49,57,59,65,72,87,null,3,8,724,null,null,null,null,null,null,null,null,null,null,null,null,null,null,null,null,null,null,null,null,null,null,null,0,1,1,1,1,1,1,1,0,0,0,1,1,0,1,1,2,3,0,0,0,1,2,0,1]
[1361,null,10,20,27,31,32,34,37,45,48,52,54,56,57,59,60,61,68,71,73,94,null,4,11,989,null,null,null,null,null,null,null,null,null,null,null,null,null,null,null,null,null,null,null,null,null,null,null,0,2,1,0,0,0,2,2,2,0,0,1,0,2,2,0,2,1,1,1,0,0,0,1,0]
[1363,null,2,3,14,17,25,32,35,36,46,50,51,57,63,64,65,66,74,81,84,85,null,5,10,950,null,null,null,null,null,null,null,null,null,null,null,null,null,null,null,null,null,null,null,null,null,null,null,1,1,2,1,0,1,0,2,0,0,2,0,1,1,0,0,1,1,1,1,1,1,1,1,0]
[1367,null,0,1,18,19,21,26,31,36,41,42,43,62,76,78,81,83,89,90,97,99,null,0,8,1033,null,null,null,null,null,null,null,null,null,null,null,null,null,null,null,null,null,null,null,null,null,null,null,0,0,1,0,3,1,0,0,1,2,2,1,0,1,1,0,0,0,1,0,1,2,2,0,1]
[1370,null,3,5,7,9,10,20,21,24,40,43,46,48,53,57,58,66,75,78,88,97,null,5,10,848,null,null,null,null,null,null,null,null,null,null,null,null,null,null,null,null,null,null,null,null,null,null,null,0,1,1,0,0,1,0,2,0,3,1,0,2,2,1,2,0,0,0,0,1,1,0,1,1]
[1372,null,3,5,12,19,20,23,26,28,34,35,39,50,54,64,66,68,86,87,91,99,null,4,11,909,null,null,null,null,null,null,null,null,null,null,null,null,null,null,null,null,null,null,null,null,null,null,null,0,2,1,1,1,1,1,1,1,0,2,0,1,1,0,0,0,0,0,1,0,1,2,2,1]
[1376,null,4,11,13,16,31,32,36,45,47,56,58,60,61,71,77,84,88,91,92,97,null,3,10,1070,null,null,null,null,null,null,null,null,null,null,null,null,null,null,null,null,null,null,null,null,null,null,null,1,1,0,0,0,2,0,1,1,0,2,0,1,0,3,2,0,1,1,2,0,1,0,1,0]
[1379,null,6,16,24,26,37,40,55,57,58,61,67,69,73,75,76,77,79,80,88,95,null,4,9,1159,null,null,null,null,null,null,null,null,null,null,null,null,null,null,null,null,null,null,null,null,null,null,null,3,1,0,0,2,2,2,1,0,2,0,0,1,0,0,2,1,0,0,1,1,1,0,0,0]
[1380,null,8,12,14,16,17,21,22,23,25,27,29,47,53,63,64,67,76,79,80,97,null,5,8,840,null,null,null,null,null,null,null,null,null,null,null,null,null,null,null,null,null,null,null,null,null,null,null,1,0,0,0,1,1,1,1,2,2,0,1,0,1,1,0,1,1,1,2,1,1,0,0,1]
[1383,null,8,9,14,25,27,31,39,43,46,47,58,59,62,66,73,74,87,90,95,96,null,6,9,1049,null,null,null,null,null,null,null,null,null,null,null,null,null,null,null,null,null,null,null,null,null,null,null,1,0,1,0,0,1,0,1,2,0,1,1,2,0,0,0,1,1,2,1,0,2,1,0,2]
[1385,null,10,13,15,20,23,27,32,34,38,40,43,58,63,65,69,74,77,81,90,97,null,8,9,969,null,null,null,null,null,null,null,null,null,null,null,null,null,null,null,null,null,null,null,null,null,null,null,0,0,2,1,0,2,0,1,0,0,0,2,1,2,1,1,1,0,0,0,1,1,1,1,2]
[1389,null,2,14,17,23,32,36,46,49,52,60,64,71,72,73,76,82,85,86,91,94,null,2,13,1125,null,null,null,null,null,null,null,null,null,null,null,null,null,null,null,null,null,null,null,null,null,null,null,0,0,1,0,0,0,1,1,0,1,2,1,1,0,2,1,2,1,2,1,1,0,1,0,1]
[1392,null,2,3,7,15,28,29,36,38,54,57,58,65,74,76,77,84,85,86,90,91,null,2,11,1055,null,null,null,null,null,null,null,null,null,null,null,null,null,null,null,null,null,null,null,null,null,null,null,1,2,2,1,0,1,1,1,1,1,2,1,0,0,0,0,1,0,0,0,1,1,1,0,2]
[1394,null,1,5,14,16,17,19,26,38,53,54,56,59,60,63,68,69,78,79,81,91,null,4,9,947,null,null,null,null,null,null,null,null,null,null,null,null,null,null,null,null,null,null,null,null,null,null,null,1,1,0,1,2,1,0,0,1,2,1,0,0,1,1,0,0,2,1,1,1,1,1,1,0]
[1398,null,11,16,22,25,29,30,31,36,37,38,42,43,53,65,78,79,81,87,90,91,null,3,8,984,null,null,null,null,null,null,null,null,null,null,null,null,null,null,null,null,null,null,null,null,null,null,null,1,0,0,1,0,2,1,0,2,2,2,0,0,0,0,1,2,0,0,0,1,1,3,0,1]
[1401,null,1,4,10,13,15,16,21,22,23,29,30,35,49,64,72,77,79,80,88,90,null,3,10,818,null,null,null,null,null,null,null,null,null,null,null,null,null,null,null,null,null,null,null,null,null,null,null,1,0,0,1,2,2,0,0,1,0,0,1,1,1,1,2,1,1,0,1,2,0,0,0,2]
[1402,null,6,13,15,16,20,29,34,37,38,47,49,58,61,66,67,80,82,85,86,93,null,6,10,982,null,null,null,null,null,null,null,null,null,null,null,null,null,null,null,null,null,null,null,null,null,null,null,1,1,2,2,1,1,2,0,1,0,1,2,1,0,0,1,0,0,0,1,0,1,1,1,0]
[1405,null,0,4,6,15,24,25,35,38,41,42,50,55,58,65,71,80,87,89,96,97,null,4,9,978,null,null,null,null,null,null,null,null,null,null,null,null,null,null,null,null,null,null,null,null,null,null,null,1,0,1,2,2,1,0,0,0,0,0,2,1,0,1,0,1,1,1,1,0,2,2,0,1]
[1408,null,5,9,20,23,32,33,43,46,48,50,51,52,57,72,74,78,85,88,89,95,null,3,10,1050,null,null,null,null,null,null,null,null,null,null,null,null,null,null,null,null,null,null,null,null,null,null,null,1,0,4,0,0,2,0,3,0,1,0,0,1,1,1,1,1,0,1,0,0,0,0,2,1]
[1411,null,0,5,6,9,15,23,25,27,36,43,45,47,51,55,59,69,83,89,94,97,null,3,3,878,null,null,null,null,null,null,null,null,null,null,null,null,null,null,null,null,null,null,null,null,null,null,null,1,0,1,0,0,1,1,1,0,0,2,3,0,0,2,0,0,1,0,2,1,1,0,2,1]
[1414,null,29,36,39,41,43,45,54,58,59,60,66,70,75,76,81,83,86,94,95,98,null,8,10,1288,null,null,null,null,null,null,null,null,null,null,null,null,null,null,null,null,null,null,null,null,null,null,null,1,2,0,1,1,1,1,0,1,2,3,0,1,0,2,0,0,1,0,0,0,1,2,0,0]
[1416,null,12,15,22,31,33,37,40,42,45,46,53,57,67,73,82,83,85,88,95,99,null,5,7,1105,null,null,null,null,null,null,null,null,null,null,null,null,null,null,null,null,null,null,null,null,null,null,null,1,0,1,0,0,0,2,2,1,1,1,2,1,1,1,2,2,0,1,0,0,0,1,0,0]
[1420,null,12,17,23,26,27,34,35,36,39,59,60,67,68,70,73,77,79,92,93,96,null,2,9,1083,null,null,null,null,null,null,null,null,null,null,null,null,null,null,null,null,null,null,null,null,null,null,null,1,1,0,2,1,1,1,1,1,0,1,1,1,0,1,0,1,2,0,0,0,0,0,2,2]
[{"$f":"A1424+1","v":1423},null,5,6,9,12,17,23,24,27,30,36,40,46,61,66,77,79,81,89,90,94,null,5,10,912,null,null,null,null,null,null,null,null,null,null,null,null,null,null,null,null,null,null,null,null,null,null,null,2,1,1,0,0,1,1,2,0,0,2,1,2,0,0,1,0,1,0,0,1,0,1,1,2]
[1424,null,9,15,16,17,21,28,49,61,64,67,76,80,86,87,88,91,92,93,94,96,null,4,10,1230,null,null,null,null,null,null,null,null,null,null,null,null,null,null,null,null,null,null,null,null,null,null,null,0,1,0,1,1,1,3,1,0,1,1,1,0,0,0,2,0,1,0,1,1,0,2,1,1]
[1427,null,7,11,12,16,25,29,34,40,41,54,63,64,67,70,71,83,88,93,94,96,null,2,10,1058,null,null,null,null,null,null,null,null,null,null,null,null,null,null,null,null,null,null,null,null,null,null,null,0,2,0,1,1,1,2,1,1,0,1,0,0,1,0,3,0,0,1,1,0,1,0,1,2]
[1430,null,0,9,11,13,19,23,26,28,37,40,51,55,68,72,75,80,85,86,92,94,null,2,9,964,null,null,null,null,null,null,null,null,null,null,null,null,null,null,null,null,null,null,null,null,null,null,null,0,0,1,0,2,0,3,1,1,1,0,1,1,0,1,2,0,0,0,1,0,1,1,2,1]
[1433,null,7,11,15,20,23,25,31,34,36,41,42,48,62,71,76,77,82,85,86,91,null,4,9,963,null,null,null,null,null,null,null,null,null,null,null,null,null,null,null,null,null,null,null,null,null,null,null,0,0,2,0,1,1,0,0,1,1,2,2,0,1,0,1,0,0,2,0,0,1,2,1,2]
[1436,null,0,2,9,14,23,26,31,32,33,37,44,49,59,65,74,78,80,83,86,89,null,3,9,914,null,null,null,null,null,null,null,null,null,null,null,null,null,null,null,null,null,null,null,null,null,null,null,0,0,2,0,2,0,1,2,1,1,1,1,0,0,0,1,1,2,2,0,1,0,1,0,1]
[1438,null,9,16,17,38,41,48,49,51,53,54,66,68,70,73,75,76,78,79,94,96,null,6,11,1151,null,null,null,null,null,null,null,null,null,null,null,null,null,null,null,null,null,null,null,null,null,null,null,1,2,0,1,1,1,1,1,1,4,1,0,0,1,0,1,1,1,0,0,0,0,0,1,1]
[1442,null,0,3,20,28,30,32,34,35,39,45,53,56,64,65,70,77,85,89,91,92,null,1,9,1008,null,null,null,null,null,null,null,null,null,null,null,null,null,null,null,null,null,null,null,null,null,null,null,0,2,3,1,0,1,1,1,0,1,1,1,1,0,1,0,1,0,0,2,1,0,0,2,0]
[1443,null,22,28,29,36,47,51,57,58,59,60,68,69,71,80,83,86,91,93,94,96,null,2,10,1278,null,null,null,null,null,null,null,null,null,null,null,null,null,null,null,null,null,null,null,null,null,null,null,0,0,0,1,1,0,2,1,2,0,3,0,0,0,1,0,1,1,1,1,1,1,1,1,1]
[1446,null,1,4,8,13,16,21,22,27,39,42,43,44,46,55,62,68,70,76,86,92,null,1,13,835,null,null,null,null,null,null,null,null,null,null,null,null,null,null,null,null,null,null,null,null,null,null,null,0,1,0,0,1,2,0,0,2,1,0,1,3,0,0,0,1,2,1,1,1,0,2,1,0]
[1449,null,2,3,6,7,11,17,21,26,31,40,44,47,49,57,67,69,70,77,82,86,null,5,8,812,null,null,null,null,null,null,null,null,null,null,null,null,null,null,null,null,null,null,null,null,null,null,null,1,2,0,0,1,1,1,1,1,0,0,1,0,0,0,3,0,2,0,1,3,0,1,0,1]
[1452,null,3,8,9,11,19,20,28,35,40,48,49,56,59,69,70,84,85,90,94,95,null,1,10,972,null,null,null,null,null,null,null,null,null,null,null,null,null,null,null,null,null,null,null,null,null,null,null,2,2,2,1,0,0,2,1,1,0,0,0,0,1,0,3,0,1,0,1,1,1,0,0,1]
[1455,null,3,4,7,17,25,26,30,37,38,44,48,49,52,53,54,71,72,82,91,96,null,2,11,899,null,null,null,null,null,null,null,null,null,null,null,null,null,null,null,null,null,null,null,null,null,null,null,0,2,0,1,1,0,1,0,0,1,1,1,0,1,1,1,1,3,1,0,1,1,0,0,2]
[1458,null,0,2,8,13,17,20,29,32,35,43,46,47,49,50,55,71,75,85,90,92,null,3,8,859,null,null,null,null,null,null,null,null,null,null,null,null,null,null,null,null,null,null,null,null,null,null,null,0,0,2,1,0,2,0,1,2,1,0,1,2,0,0,1,0,1,1,2,1,0,0,1,1]
[1460,null,2,4,7,19,31,34,37,45,54,57,60,66,69,84,85,86,87,90,93,95,null,5,9,1105,null,null,null,null,null,null,null,null,null,null,null,null,null,null,null,null,null,null,null,null,null,null,null,2,1,1,1,0,0,1,1,1,0,1,0,0,0,2,0,0,1,0,0,2,1,2,1,2]
[1464,null,2,3,4,5,9,16,17,35,36,38,40,51,55,56,59,60,78,82,83,85,null,3,10,814,null,null,null,null,null,null,null,null,null,null,null,null,null,null,null,null,null,null,null,null,null,null,null,0,1,1,2,0,1,0,1,0,1,2,1,0,0,1,1,0,3,0,2,1,0,0,2,0]
[1465,null,1,10,11,15,18,32,34,37,40,42,44,46,54,61,62,79,83,91,92,93,null,2,11,945,null,null,null,null,null,null,null,null,null,null,null,null,null,null,null,null,null,null,null,null,null,null,null,1,2,0,1,1,0,1,1,0,0,2,1,1,1,0,2,0,1,1,0,0,1,1,2,0]
[1468,null,2,5,8,11,14,30,35,36,37,38,49,50,54,60,62,69,74,80,87,88,null,3,13,889,null,null,null,null,null,null,null,null,null,null,null,null,null,null,null,null,null,null,null,null,null,null,null,0,1,1,2,1,1,1,0,1,0,1,0,0,0,1,3,0,0,2,0,3,0,1,1,0]
[1471,null,2,4,10,13,23,27,39,41,47,49,54,57,60,63,64,65,66,71,83,87,null,4,7,925,null,null,null,null,null,null,null,null,null,null,null,null,null,null,null,null,null,null,null,null,null,null,null,0,1,0,0,1,0,0,1,0,0,2,1,2,2,1,1,1,1,1,2,1,0,1,0,1]
[1474,null,4,14,16,17,20,22,26,30,36,39,47,51,52,54,57,59,64,70,71,92,null,{"$f":"SUMPRODUCT(COUNTIF(C1476:V1476,C1475:V1475))","v":3},{"$f":"SUMPRODUCT(N(MOD((C1476:V1476),2)=0)*(C1476:V1476>0))","v":13},{"$f":"SUM(C1476:V1476)","v":841},null,null,null,null,null,null,null,null,null,null,null,null,null,null,null,null,null,null,null,null,null,null,null,0,2,1,0,1,1,0,1,0,0,1,0,1,0,0,0,2,3,2,2,1,0,0,2,0]
[1477,null,6,16,17,18,21,24,27,42,43,52,57,59,61,63,67,71,75,80,90,92,null,2,9,981,null,null,null,null,null,null,null,null,null,null,null,null,null,null,null,null,null,null,null,null,null,null,null,1,1,0,0,1,2,1,1,0,1,0,1,1,1,0,0,1,2,1,0,1,1,1,1,1]
[1480,null,0,1,4,5,8,13,14,17,22,26,43,54,59,60,62,66,77,87,96,97,null,2,10,811,null,null,null,null,null,null,null,null,null,null,null,null,null,null,null,null,null,null,null,null,null,null,null,0,1,0,0,2,2,0,0,1,0,1,1,1,0,2,0,1,3,2,0,0,0,1,1,1]
[1482,null,0,9,13,21,32,33,36,52,57,60,61,64,66,70,73,77,88,89,90,97,null,5,9,1088,null,null,null,null,null,null,null,null,null,null,null,null,null,null,null,null,null,null,null,null,null,null,null,0,2,1,0,0,1,0,3,0,0,2,1,1,0,2,1,2,0,1,1,1,0,0,0,1]
[1486,null,0,6,19,29,32,35,37,39,45,47,55,57,64,71,73,76,83,91,95,96,null,7,5,1050,null,null,null,null,null,null,null,null,null,null,null,null,null,null,null,null,null,null,null,null,null,null,null,2,0,0,1,0,0,1,2,1,1,2,1,1,0,1,0,1,0,1,3,0,1,0,0,1]
[{"$f":"A1488+1","v":1487},null,11,12,14,18,20,26,29,30,35,40,46,54,65,67,69,74,77,78,86,87,null,2,12,938,null,null,null,null,null,null,null,null,null,null,null,null,null,null,null,null,null,null,null,null,null,null,null,0,1,2,1,1,1,1,1,1,1,0,0,1,0,0,2,1,0,1,0,2,1,2,0,0]
[1490,null,10,14,19,21,23,28,29,35,41,58,62,64,72,76,77,78,82,85,96,98,null,2,12,1068,null,null,null,null,null,null,null,null,null,null,null,null,null,null,null,null,null,null,null,null,null,null,null,0,0,1,2,1,1,1,0,1,2,0,1,0,1,1,0,0,0,2,1,1,2,0,0,2]
[1493,null,1,9,13,16,19,28,33,34,39,40,47,48,53,56,63,65,69,73,78,98,null,3,8,882,null,null,null,null,null,null,null,null,null,null,null,null,null,null,null,null,null,null,null,null,null,null,null,0,0,0,1,1,1,1,1,0,2,0,0,2,2,0,1,2,0,1,2,1,1,0,1,0]
[1496,null,3,5,11,12,16,17,22,24,31,32,37,57,60,61,77,81,84,85,86,95,null,2,8,896,null,null,null,null,null,null,null,null,null,null,null,null,null,null,null,null,null,null,null,null,null,null,null,2,2,1,0,0,2,1,3,1,0,0,0,1,0,1,1,1,1,0,0,0,0,2,1,0]
[1499,null,12,15,22,23,28,30,35,43,45,51,58,60,64,69,70,71,76,84,91,93,null,1,10,1040,null,null,null,null,null,null,null,null,null,null,null,null,null,null,null,null,null,null,null,null,null,null,null,1,1,0,2,0,1,1,1,0,1,1,1,0,0,2,0,1,0,1,1,2,1,0,1,1]
[1503,null,6,7,9,19,25,28,29,33,37,38,46,47,49,51,58,66,67,80,92,96,null,4,9,883,null,null,null,null,null,null,null,null,null,null,null,null,null,null,null,null,null,null,null,null,null,null,null,1,0,0,1,1,0,3,1,1,0,1,0,1,0,0,1,0,0,1,1,0,3,0,2,2]
[1504,null,8,16,18,22,39,49,58,60,61,64,65,66,69,70,75,79,84,91,96,98,null,4,12,1188,null,null,null,null,null,null,null,null,null,null,null,null,null,null,null,null,null,null,null,null,null,null,null,2,2,0,1,0,1,0,0,1,1,2,0,1,0,1,1,2,0,0,1,1,2,0,0,1]
[1508,null,1,5,23,28,39,41,47,58,63,66,69,72,74,80,87,88,89,93,95,99,null,4,7,1217,null,null,null,null,null,null,null,null,null,null,null,null,null,null,null,null,null,null,null,null,null,null,null,1,0,2,1,3,0,1,0,0,0,1,0,1,2,1,1,0,0,0,1,1,1,1,1,1]
[1509,null,1,2,4,6,16,19,29,30,40,51,54,57,58,67,72,75,79,83,93,96,null,4,10,932,null,null,null,null,null,null,null,null,null,null,null,null,null,null,null,null,null,null,null,null,null,null,null,2,1,0,1,1,1,1,1,1,1,1,0,0,0,1,1,0,1,0,0,2,2,0,1,1]
[1512,null,9,10,11,22,26,38,45,48,49,57,60,67,69,70,73,74,84,85,86,97,null,3,10,1080,null,null,null,null,null,null,null,null,null,null,null,null,null,null,null,null,null,null,null,null,null,null,null,1,1,2,1,1,0,1,2,0,0,0,0,0,2,3,2,2,0,0,0,1,0,1,0,0]
[1515,null,17,18,25,26,29,31,33,36,40,45,46,47,52,56,65,66,68,71,80,83,null,4,10,934,null,null,null,null,null,null,null,null,null,null,null,null,null,null,null,null,null,null,null,null,null,null,null,0,0,0,0,2,0,0,0,3,0,3,0,1,0,1,1,2,1,2,2,0,2,0,0,0]
[1518,null,2,5,10,14,19,20,22,23,38,40,49,51,53,54,56,75,79,82,85,93,null,6,10,870,null,null,null,null,null,null,null,null,null,null,null,null,null,null,null,null,null,null,null,null,null,null,null,1,1,2,2,0,0,0,0,0,2,0,1,0,1,0,2,1,0,1,1,1,1,0,2,1]
[1521,null,1,2,6,8,19,20,21,28,38,41,46,51,55,57,68,81,87,91,92,97,null,4,9,909,null,null,null,null,null,null,null,null,null,null,null,null,null,null,null,null,null,null,null,null,null,null,null,1,0,1,1,2,0,1,1,2,0,1,0,1,0,1,0,0,0,0,1,2,1,2,2,0]
[1525,null,7,15,23,24,26,29,30,43,49,53,54,61,63,67,68,78,80,85,93,94,null,4,8,1042,null,null,null,null,null,null,null,null,null,null,null,null,null,null,null,null,null,null,null,null,null,null,null,0,2,1,1,2,1,2,0,2,2,0,1,1,1,0,1,0,0,0,0,1,0,0,0,2]
[1526,null,3,6,7,17,18,23,25,26,38,50,51,62,66,70,78,82,86,88,90,98,null,4,14,984,null,null,null,null,null,null,null,null,null,null,null,null,null,null,null,null,null,null,null,null,null,null,null,1,2,0,2,1,1,0,0,0,1,1,1,0,0,0,1,0,1,1,0,0,2,1,1,3]
[1530,null,0,7,13,15,17,32,41,43,45,48,51,53,54,61,63,66,72,79,84,88,null,3,7,932,null,null,null,null,null,null,null,null,null,null,null,null,null,null,null,null,null,null,null,null,null,null,null,2,2,0,0,1,1,0,1,0,1,1,2,1,2,2,1,0,1,0,0,0,0,0,1,1]
[1531,null,13,14,15,25,26,27,35,39,50,51,52,61,65,69,70,72,75,77,92,94,null,5,8,1022,null,null,null,null,null,null,null,null,null,null,null,null,null,null,null,null,null,null,null,null,null,null,null,0,2,0,1,1,2,1,0,0,1,0,2,2,0,1,0,2,0,1,0,1,1,0,2,0]
[1534,null,0,3,4,6,13,14,20,35,39,40,42,45,48,70,72,76,80,81,87,94,null,2,12,869,null,null,null,null,null,null,null,null,null,null,null,null,null,null,null,null,null,null,null,null,null,null,null,1,2,1,1,1,0,1,0,0,1,0,1,2,1,2,1,0,1,1,0,0,0,3,0,0]
[1538,null,2,3,7,9,11,15,16,18,34,50,57,63,68,74,83,85,86,87,94,96,null,{"$f":"SUMPRODUCT(COUNTIF(C1540:V1540,C1539:V1539))","v":5},{"$f":"SUMPRODUCT(N(MOD((C1540:V1540),2)=0)*(C1540:V1540>0))","v":10},{"$f":"SUM(C1540:V1540)","v":958},null,null,null,null,null,null,null,null,null,null,null,null,null,null,null,null,null,null,null,null,null,null,null,0,1,2,0,0,2,1,2,1,0,1,1,0,1,0,1,0,0,0,0,1,1,2,1,2]
[1541,null,2,7,17,18,28,35,46,47,50,55,59,63,64,65,69,71,74,85,86,90,null,5,9,1031,null,null,null,null,null,null,null,null,null,null,null,null,null,null,null,null,null,null,null,null,null,null,null,0,0,2,1,0,1,1,0,0,0,0,0,1,1,0,0,1,2,1,3,2,1,1,0,2]
[1543,null,10,12,13,15,16,17,21,22,27,39,40,61,67,68,72,75,85,88,92,97,null,1,9,937,null,null,null,null,null,null,null,null,null,null,null,null,null,null,null,null,null,null,null,null,null,null,null,0,1,1,0,0,1,1,1,1,1,0,2,2,1,2,2,1,1,0,0,1,0,0,1,0]
[1547,null,4,9,24,32,39,41,44,45,46,52,54,61,63,64,66,71,85,90,91,97,null,4,10,1078,null,null,null,null,null,null,null,null,null,null,null,null,null,null,null,null,null,null,null,null,null,null,null,0,2,1,0,1,0,0,2,0,0,2,0,3,1,2,0,1,2,1,1,0,0,0,0,1]
[1550,null,6,15,16,20,21,22,34,43,44,57,62,67,69,73,77,84,85,86,91,93,null,3,9,1065,null,null,null,null,null,null,null,null,null,null,null,null,null,null,null,null,null,null,null,null,null,null,null,2,0,2,1,0,3,1,1,0,0,1,1,0,0,0,0,2,1,1,0,2,0,1,1,0]
[1552,null,0,1,3,4,7,9,18,31,39,47,53,56,71,73,74,77,81,92,95,97,null,2,5,928,null,null,null,null,null,null,null,null,null,null,null,null,null,null,null,null,null,null,null,null,null,null,null,1,1,1,0,1,1,0,1,1,1,0,1,1,0,1,0,1,1,1,2,0,1,1,1,1]
[1553,null,3,6,11,12,20,21,24,30,31,35,51,53,58,66,69,71,83,88,91,92,null,5,9,915,null,null,null,null,null,null,null,null,null,null,null,null,null,null,null,null,null,null,null,null,null,null,null,1,1,1,1,0,0,0,1,1,1,3,0,1,0,0,2,0,0,1,0,3,1,0,2,0]
[1556,null,13,27,28,30,34,39,41,47,48,51,54,57,67,74,75,83,84,93,96,99,null,4,8,1140,null,null,null,null,null,null,null,null,null,null,null,null,null,null,null,null,null,null,null,null,null,null,null,1,1,1,1,1,0,2,1,0,1,1,1,2,2,0,0,0,0,0,1,1,0,0,2,1]
[1560,null,4,6,8,17,23,26,30,35,37,47,49,52,53,56,61,65,74,75,77,94,null,3,9,889,null,null,null,null,null,null,null,null,null,null,null,null,null,null,null,null,null,null,null,null,null,null,null,1,1,1,1,1,1,2,0,1,2,0,0,0,0,0,1,2,2,0,2,1,0,0,0,1]
[1563,null,4,15,19,26,27,32,38,41,56,57,62,71,75,76,81,85,88,96,97,99,null,5,9,1145,null,null,null,null,null,null,null,null,null,null,null,null,null,null,null,null,null,null,null,null,null,null,null,0,0,1,1,2,0,0,2,0,2,0,2,0,1,1,1,0,1,2,1,0,1,1,0,1]
[1565,null,0,10,14,16,17,24,30,35,42,46,49,51,53,58,68,72,73,74,91,99,null,5,11,922,null,null,null,null,null,null,null,null,null,null,null,null,null,null,null,null,null,null,null,null,null,null,null,0,0,1,1,0,1,0,0,1,1,1,1,2,2,1,1,1,1,1,0,1,1,1,1,0]
[1569,null,2,7,13,15,30,33,42,48,49,56,62,65,66,71,73,75,77,79,85,93,null,4,7,1041,null,null,null,null,null,null,null,null,null,null,null,null,null,null,null,null,null,null,null,null,null,null,null,1,0,1,1,0,1,0,0,0,1,1,1,1,1,0,1,2,0,3,1,2,0,1,0,1]
[1572,null,2,12,15,18,22,32,34,36,55,56,58,60,61,65,72,77,83,86,89,99,null,2,12,1032,null,null,null,null,null,null,null,null,null,null,null,null,null,null,null,null,null,null,null,null,null,null,null,0,1,1,0,0,1,0,2,0,0,2,1,0,1,2,0,2,0,0,2,1,2,1,1,0]
[1574,null,4,11,18,19,21,35,40,44,47,51,52,62,69,70,71,76,77,82,88,91,null,3,10,1028,null,null,null,null,null,null,null,null,null,null,null,null,null,null,null,null,null,null,null,null,null,null,null,0,1,0,1,0,1,0,0,0,1,1,1,0,0,0,3,1,2,2,1,2,2,0,1,0]
[1575,null,5,12,13,14,17,22,44,45,47,56,57,60,66,67,75,81,88,89,91,95,null,4,8,1044,null,null,null,null,null,null,null,null,null,null,null,null,null,null,null,null,null,null,null,null,null,null,null,1,0,1,0,0,0,1,2,0,1,2,0,1,0,2,1,1,2,1,2,0,0,1,1,0]
[1578,null,6,9,12,17,18,40,54,56,63,66,67,69,71,73,76,82,84,88,93,99,null,6,11,1143,null,null,null,null,null,null,null,null,null,null,null,null,null,null,null,null,null,null,null,null,null,null,null,2,1,0,1,0,0,1,2,0,1,1,1,0,2,0,2,1,1,1,1,1,1,0,0,0]
[1582,null,6,18,20,22,23,28,34,35,42,53,64,65,68,70,73,75,78,84,86,93,null,5,13,1037,null,null,null,null,null,null,null,null,null,null,null,null,null,null,null,null,null,null,null,null,null,null,null,2,1,1,2,0,0,1,0,1,3,0,0,0,0,0,0,3,0,0,1,0,1,2,1,1]
[1585,null,4,9,15,34,41,48,49,51,58,61,63,65,67,74,82,86,90,93,95,99,null,6,8,1184,null,null,null,null,null,null,null,null,null,null,null,null,null,null,null,null,null,null,null,null,null,null,null,1,1,1,1,1,0,1,1,0,0,0,2,0,3,0,1,1,1,0,0,0,1,1,2,1]
[1587,null,6,19,26,28,34,35,37,39,42,52,53,54,62,65,69,71,72,74,79,85,null,2,10,1002,null,null,null,null,null,null,null,null,null,null,null,null,null,null,null,null,null,null,null,null,null,null,null,2,1,2,1,1,0,2,0,0,1,0,0,1,0,1,0,2,0,2,0,1,1,1,1,0]
[1591,null,1,5,6,22,27,37,44,50,53,56,64,65,69,72,83,85,92,93,97,99,null,2,8,1120,null,null,null,null,null,null,null,null,null,null,null,null,null,null,null,null,null,null,null,null,null,null,null,1,0,1,1,1,1,1,0,0,1,1,1,0,1,2,0,2,1,0,2,1,0,0,2,0]
[1594,null,1,4,9,11,15,19,21,27,32,53,56,62,64,65,66,69,71,73,83,89,null,8,6,890,null,null,null,null,null,null,null,null,null,null,null,null,null,null,null,null,null,null,null,null,null,null,null,0,0,1,0,1,0,0,2,0,1,2,2,0,0,0,1,2,1,2,2,2,1,0,0,0]
[1596,null,0,9,14,16,20,35,36,44,50,52,57,66,69,70,74,78,84,86,87,94,null,4,14,1041,null,null,null,null,null,null,null,null,null,null,null,null,null,null,null,null,null,null,null,null,null,null,null,1,1,2,1,0,2,1,2,0,1,2,1,0,0,0,0,1,1,1,0,1,0,2,0,0]
[1597,null,4,7,10,18,26,34,37,40,41,43,53,56,58,59,79,80,82,83,90,92,null,0,12,992,null,null,null,null,null,null,null,null,null,null,null,null,null,null,null,null,null,null,null,null,null,null,null,1,0,0,0,3,1,1,0,0,1,1,1,0,1,0,1,0,2,0,1,0,2,0,2,2]
[1600,null,2,5,13,14,26,33,42,50,58,59,65,67,70,73,74,77,84,94,95,98,null,2,11,1099,null,null,null,null,null,null,null,null,null,null,null,null,null,null,null,null,null,null,null,null,null,null,null,2,1,1,1,1,2,2,0,0,0,0,0,1,0,0,0,2,1,2,0,1,1,1,1,0]
[1604,null,3,10,14,21,23,26,28,30,31,34,39,40,54,63,71,74,78,81,84,92,null,3,12,896,null,null,null,null,null,null,null,null,null,null,null,null,null,null,null,null,null,null,null,null,null,null,null,1,2,1,0,1,0,1,0,1,1,0,0,1,2,0,1,0,0,2,0,2,0,1,2,1]
[1607,null,10,11,12,14,17,30,31,34,36,42,47,52,54,58,65,69,71,75,96,99,null,5,11,923,null,null,null,null,null,null,null,null,null,null,null,null,null,null,null,null,null,null,null,null,null,null,null,0,1,0,0,0,0,0,1,1,1,1,0,0,2,0,1,2,1,2,1,2,1,1,1,1]
[1609,null,9,10,16,22,23,28,35,38,39,54,55,58,62,63,66,79,85,91,92,94,null,3,11,1019,null,null,null,null,null,null,null,null,null,null,null,null,null,null,null,null,null,null,null,null,null,null,null,1,1,1,2,0,1,2,1,0,0,2,0,1,2,0,0,1,0,1,1,0,1,0,1,1]
[1613,null,3,12,17,23,32,36,45,48,56,65,72,73,74,75,78,80,84,90,91,97,null,7,11,1151,null,null,null,null,null,null,null,null,null,null,null,null,null,null,null,null,null,null,null,null,null,null,null,1,1,1,0,1,0,0,2,0,2,2,0,0,1,3,0,2,1,0,1,0,0,0,0,2]
[1616,null,12,21,25,32,36,37,40,45,49,51,58,61,66,72,75,76,77,80,85,96,null,2,10,1094,null,null,null,null,null,null,null,null,null,null,null,null,null,null,null,null,null,null,null,null,null,null,null,0,1,1,0,1,1,1,2,0,2,2,0,0,0,2,2,0,0,0,0,1,2,0,1,1]
[1618,null,0,11,14,20,26,28,36,39,41,59,61,67,73,76,77,89,92,93,97,99,null,4,7,1098,null,null,null,null,null,null,null,null,null,null,null,null,null,null,null,null,null,null,null,null,null,null,null,0,1,2,1,2,1,2,0,0,1,1,1,1,1,1,1,1,1,1,0,0,0,0,1,0]
[1619,null,1,2,5,9,10,21,29,32,34,35,36,43,55,58,66,77,78,82,88,96,null,2,11,857,null,null,null,null,null,null,null,null,null,null,null,null,null,null,null,null,null,null,null,null,null,null,null,0,0,0,1,1,2,0,2,1,1,2,1,0,1,0,1,0,0,0,1,2,1,0,2,1]
[1622,null,8,12,13,16,17,24,40,47,48,54,63,73,75,78,82,88,89,90,95,98,null,2,12,1110,null,null,null,null,null,null,null,null,null,null,null,null,null,null,null,null,null,null,null,null,null,null,null,1,1,1,1,0,1,0,1,1,2,0,1,2,2,0,2,1,1,0,1,0,0,0,0,1]
[1626,null,7,13,15,17,23,28,31,34,41,42,50,59,61,64,67,70,81,88,90,93,null,2,8,974,null,null,null,null,null,null,null,null,null,null,null,null,null,null,null,null,null,null,null,null,null,null,null,0,2,0,1,1,1,2,0,1,0,0,1,1,0,0,1,0,2,0,1,0,0,2,1,3]
[1629,null,7,12,19,20,23,24,29,49,53,55,57,67,68,71,73,74,80,88,97,99,null,6,7,1065,null,null,null,null,null,null,null,null,null,null,null,null,null,null,null,null,null,null,null,null,null,null,null,0,0,2,0,1,0,1,2,2,1,0,0,1,1,1,2,1,0,1,1,0,1,0,0,2]
[1631,null,8,13,15,16,18,21,26,34,35,42,43,48,49,50,53,58,65,84,91,96,null,4,11,865,null,null,null,null,null,null,null,null,null,null,null,null,null,null,null,null,null,null,null,null,null,null,null,1,0,0,1,1,3,0,0,1,1,1,1,1,1,0,1,1,0,0,0,1,2,1,1,1]
[1635,null,9,16,23,27,28,29,30,34,39,45,48,57,60,68,72,73,77,83,84,91,null,3,9,993,null,null,null,null,null,null,null,null,null,null,null,null,null,null,null,null,null,null,null,null,null,null,null,1,0,0,0,0,2,1,2,2,0,2,1,1,1,3,0,1,0,0,0,1,0,0,1,1]
[1638,null,1,4,11,20,26,30,38,40,49,51,65,66,68,73,79,80,86,87,91,97,null,5,10,1062,null,null,null,null,null,null,null,null,null,null,null,null,null,null,null,null,null,null,null,null,null,null,null,1,0,1,1,3,0,0,0,1,0,2,0,0,0,1,3,2,1,0,0,1,0,2,1,0]
[1640,null,1,19,24,35,38,41,45,48,49,55,65,66,74,82,87,91,92,93,97,99,null,1,7,1201,null,null,null,null,null,null,null,null,null,null,null,null,null,null,null,null,null,null,null,null,null,null,null,0,0,1,3,2,0,0,0,0,0,2,1,1,2,2,1,1,0,0,1,0,1,1,1,0]
[1641,null,10,17,21,26,29,30,34,38,42,50,52,55,58,66,70,71,87,92,96,99,null,6,13,1043,null,null,null,null,null,null,null,null,null,null,null,null,null,null,null,null,null,null,null,null,null,null,null,0,1,0,1,1,1,0,0,1,0,1,0,0,2,0,0,1,1,1,1,2,1,2,2,1]
[1644,null,4,6,21,27,29,30,41,46,56,58,61,65,66,76,81,82,83,87,89,98,null,6,10,1106,null,null,null,null,null,null,null,null,null,null,null,null,null,null,null,null,null,null,null,null,null,null,null,1,1,1,1,1,0,0,0,1,1,2,2,1,0,0,0,1,1,0,1,2,1,2,0,0]
[1648,null,9,20,21,22,33,36,38,41,42,53,56,57,60,61,68,74,88,95,96,97,null,3,11,1067,null,null,null,null,null,null,null,null,null,null,null,null,null,null,null,null,null,null,null,null,null,null,null,1,1,2,1,1,0,0,2,1,1,1,0,0,0,2,1,1,0,1,1,1,0,1,0,1]
[1651,null,2,4,17,26,49,50,55,59,62,65,67,68,69,70,76,81,84,86,89,95,null,9,10,1174,null,null,null,null,null,null,null,null,null,null,null,null,null,null,null,null,null,null,null,null,null,null,null,2,1,1,0,1,1,1,0,1,1,0,0,0,0,0,1,1,3,1,1,2,0,2,0,0]
[1654,null,0,3,8,9,14,17,28,29,30,31,32,39,52,60,63,69,77,82,88,94,null,0,10,825,null,null,null,null,null,null,null,null,null,null,null,null,null,null,null,null,null,null,null,null,null,null,null,0,1,0,0,0,1,2,2,3,0,0,2,1,1,1,1,1,1,1,0,2,0,0,0,0]
[1657,null,6,10,19,21,30,33,35,52,53,54,64,67,73,74,82,90,91,92,95,98,null,4,11,1139,null,null,null,null,null,null,null,null,null,null,null,null,null,null,null,null,null,null,null,null,null,null,null,2,1,1,2,0,0,1,0,0,1,1,1,0,1,0,0,2,0,1,1,2,1,0,1,1]
[1660,null,9,16,36,39,42,51,53,57,61,62,67,68,71,77,78,79,83,85,89,98,null,4,7,1221,null,null,null,null,null,null,null,null,null,null,null,null,null,null,null,null,null,null,null,null,null,null,null,1,1,2,1,0,2,1,2,1,2,2,0,1,0,0,0,0,0,2,0,0,0,1,1,0]
[1662,null,2,5,6,16,25,28,31,33,35,40,54,57,64,70,77,78,82,88,93,99,null,2,11,983,null,null,null,null,null,null,null,null,null,null,null,null,null,null,null,null,null,null,null,null,null,null,null,1,2,0,2,0,2,1,1,1,1,0,1,0,1,0,2,0,0,1,1,1,1,0,1,0]
[1663,null,3,10,15,28,32,36,41,43,47,52,53,55,63,66,67,68,72,77,86,90,null,2,10,1004,null,null,null,null,null,null,null,null,null,null,null,null,null,null,null,null,null,null,null,null,null,null,null,0,1,0,0,1,2,2,1,1,1,2,1,0,2,1,0,1,0,0,2,0,0,1,0,1]
[1666,null,1,8,15,18,19,21,23,34,41,50,52,53,55,61,67,68,72,78,88,92,null,{"$f":"SUMPRODUCT(COUNTIF(C1668:V1668,C1667:V1667))","v":4},{"$f":"SUMPRODUCT(N(MOD((C1668:V1668),2)=0)*(C1668:V1668>0))","v":10},{"$f":"SUM(C1668:V1668)","v":916},null,null,null,null,null,null,null,null,null,null,null,null,null,null,null,null,null,null,null,null,null,null,null,0,1,0,0,2,1,1,0,2,2,0,1,0,0,1,1,1,0,0,1,1,2,0,2,1]
[1670,null,0,7,9,10,15,19,29,31,36,37,44,56,58,67,72,81,88,92,93,95,null,6,8,939,null,null,null,null,null,null,null,null,null,null,null,null,null,null,null,null,null,null,null,null,null,null,null,1,0,0,1,0,0,2,1,2,0,1,2,0,1,1,1,0,1,0,1,0,2,1,1,1]
[1673,null,2,10,13,17,18,25,31,35,38,40,44,45,52,58,62,66,67,93,95,97,null,7,10,908,null,null,null,null,null,null,null,null,null,null,null,null,null,null,null,null,null,null,null,null,null,null,null,1,0,0,3,0,0,1,0,1,0,1,0,1,1,2,1,1,2,1,0,1,3,0,0,0]
[1676,null,4,8,10,14,15,23,32,36,40,44,53,60,61,62,79,82,87,88,92,96,null,6,14,986,null,null,null,null,null,null,null,null,null,null,null,null,null,null,null,null,null,null,null,null,null,null,null,1,1,0,0,0,0,0,1,1,1,1,2,0,1,1,2,0,2,2,0,0,0,1,1,2]
[1679,null,11,13,19,20,22,27,28,29,32,33,36,39,41,55,65,66,69,81,87,97,null,5,6,870,null,null,null,null,null,null,null,null,null,null,null,null,null,null,null,null,null,null,null,null,null,null,null,0,0,1,0,1,0,1,1,1,0,2,1,2,0,1,1,2,0,1,1,1,1,2,0,0]
[1682,null,5,7,8,15,23,31,37,38,39,42,54,57,61,65,79,89,91,92,93,99,null,7,5,1025,null,null,null,null,null,null,null,null,null,null,null,null,null,null,null,null,null,null,null,null,null,null,null,1,2,1,2,0,0,1,1,2,0,1,1,1,1,0,0,1,0,0,0,0,0,1,2,2]
[1684,null,0,3,5,12,16,19,20,22,23,25,26,31,41,49,55,59,63,66,85,91,null,4,6,711,null,null,null,null,null,null,null,null,null,null,null,null,null,null,null,null,null,null,null,null,null,null,null,0,1,2,0,2,1,0,1,1,0,2,1,0,1,0,1,1,1,0,1,0,2,0,1,1]
[1685,null,0,9,13,14,15,17,18,22,26,45,49,51,61,62,69,77,79,82,83,88,null,4,7,880,null,null,null,null,null,null,null,null,null,null,null,null,null,null,null,null,null,null,null,null,null,null,null,1,1,0,0,1,1,0,1,0,0,1,3,1,0,1,2,1,1,2,0,1,1,0,1,0]
[1689,null,3,8,9,15,26,34,40,41,43,48,54,56,57,60,64,70,76,87,91,98,null,6,12,980,null,null,null,null,null,null,null,null,null,null,null,null,null,null,null,null,null,null,null,null,null,null,null,0,3,0,1,2,1,0,2,1,1,1,1,0,1,1,1,0,0,0,2,0,0,1,1,0]
[1692,null,0,3,6,15,28,33,37,46,47,51,56,63,65,67,70,74,80,84,87,93,null,6,8,1005,null,null,null,null,null,null,null,null,null,null,null,null,null,null,null,null,null,null,null,null,null,null,null,2,2,1,1,1,0,3,0,0,0,0,2,1,1,0,0,1,0,1,2,0,0,1,1,0]
[1695,null,12,19,31,33,39,40,41,42,49,54,58,63,69,71,77,83,86,89,92,99,null,3,7,1147,null,null,null,null,null,null,null,null,null,null,null,null,null,null,null,null,null,null,null,null,null,null,null,0,1,1,0,1,1,0,1,1,0,1,0,1,2,0,2,0,0,2,0,1,2,2,1,0]
[1698,null,4,7,9,14,15,17,20,23,27,31,33,44,45,53,54,74,82,85,90,96,null,4,9,823,null,null,null,null,null,null,null,null,null,null,null,null,null,null,null,null,null,null,null,null,null,null,null,0,1,3,0,0,0,0,1,1,1,0,3,0,0,1,0,0,3,2,0,0,0,0,0,4]
[1701,null,6,11,14,15,21,25,26,28,30,33,35,36,40,54,55,65,80,83,86,89,null,3,10,832,null,null,null,null,null,null,null,null,null,null,null,null,null,null,null,null,null,null,null,null,null,null,null,1,1,1,1,2,0,1,0,0,0,2,1,0,0,0,2,1,0,2,1,2,1,1,0,0]
[1704,null,0,11,12,13,21,24,29,31,37,47,52,55,56,59,64,70,75,76,87,97,null,1,7,916,null,null,null,null,null,null,null,null,null,null,null,null,null,null,null,null,null,null,null,null,null,null,null,0,1,0,0,0,0,1,1,2,2,0,1,2,0,1,1,1,1,0,4,1,0,1,0,0]
[1705,null,5,7,18,21,23,27,30,43,45,52,56,57,59,61,69,70,76,83,89,93,null,6,6,984,null,null,null,null,null,null,null,null,null,null,null,null,null,null,null,null,null,null,null,null,null,null,null,0,2,1,1,0,1,0,1,0,1,1,1,0,0,1,0,1,1,0,1,3,1,0,1,2]
[1708,null,0,1,2,13,14,17,24,29,33,44,49,50,51,52,53,60,67,69,95,98,null,5,8,821,null,null,null,null,null,null,null,null,null,null,null,null,null,null,null,null,null,null,null,null,null,null,null,1,0,0,1,1,1,1,0,1,1,0,1,2,0,1,1,1,2,2,0,2,0,0,1,0]
[1711,null,3,4,8,10,14,15,18,19,21,52,59,60,68,73,75,80,81,88,91,98,null,3,11,937,null,null,null,null,null,null,null,null,null,null,null,null,null,null,null,null,null,null,null,null,null,null,null,0,1,0,1,1,0,0,0,2,1,1,1,0,1,1,1,2,2,1,0,1,2,1,0,0]
[1714,null,2,7,9,12,23,25,34,35,45,46,48,51,53,57,62,74,76,80,88,90,null,4,11,917,null,null,null,null,null,null,null,null,null,null,null,null,null,null,null,null,null,null,null,null,null,null,null,0,0,1,1,1,0,0,3,0,2,0,0,1,1,1,1,0,0,1,0,1,1,0,2,3]
[1717,null,3,5,11,13,21,23,24,32,33,39,46,47,49,60,73,74,79,86,93,94,null,5,7,905,null,null,null,null,null,null,null,null,null,null,null,null,null,null,null,null,null,null,null,null,null,null,null,1,1,1,1,0,0,1,1,0,0,0,0,4,0,1,2,1,0,1,1,1,0,1,1,1]
[1719,null,21,39,40,43,63,66,68,70,72,73,76,77,80,87,90,91,94,95,97,98,null,3,10,1440,null,null,null,null,null,null,null,null,null,null,null,null,null,null,null,null,null,null,null,null,null,null,null,1,1,0,1,1,2,1,0,1,1,2,0,1,1,2,1,1,0,0,0,1,0,1,0,1]
[1723,null,1,3,18,19,21,24,26,35,36,39,44,49,50,62,72,80,81,85,86,98,null,4,11,929,null,null,null,null,null,null,null,null,null,null,null,null,null,null,null,null,null,null,null,null,null,null,null,0,1,1,2,3,1,0,0,0,0,1,0,2,0,1,1,0,1,1,0,1,2,2,0,0]
[1726,null,6,7,14,17,18,23,27,31,44,46,55,56,66,79,82,87,89,95,96,98,null,7,10,1036,null,null,null,null,null,null,null,null,null,null,null,null,null,null,null,null,null,null,null,null,null,null,null,3,0,1,1,0,0,0,0,1,0,1,2,1,0,0,0,0,2,1,2,0,1,1,0,3]
[1727,null,5,11,12,13,14,19,22,23,25,26,44,49,55,62,65,82,88,89,90,91,null,6,9,885,null,null,null,null,null,null,null,null,null,null,null,null,null,null,null,null,null,null,null,null,null,null,null,0,0,1,0,1,0,0,1,0,0,1,1,1,0,0,3,2,1,2,1,0,2,0,1,2]
[1730,null,4,8,10,21,24,25,31,38,53,58,59,61,64,66,72,73,76,79,92,97,null,{"$f":"SUMPRODUCT(COUNTIF(C1732:V1732,C1731:V1731))","v":4},{"$f":"SUMPRODUCT(N(MOD((C1732:V1732),2)=0)*(C1732:V1732>0))","v":11},{"$f":"SUM(C1732:V1732)","v":1011},null,null,null,null,null,null,null,null,null,null,null,null,null,null,null,null,null,null,null,null,null,null,null,1,1,0,1,0,0,0,0,2,2,1,0,1,1,2,0,1,2,0,1,1,2,0,1,0]
[1733,null,5,10,13,15,18,20,21,33,34,49,50,55,63,69,75,81,86,89,90,91,null,2,7,967,null,null,null,null,null,null,null,null,null,null,null,null,null,null,null,null,null,null,null,null,null,null,null,0,0,2,0,0,1,0,0,0,1,1,1,1,2,0,1,0,0,1,1,2,1,2,2,1]
[1736,null,1,8,10,17,19,25,44,48,49,60,63,68,73,74,80,82,84,95,96,98,null,4,12,1094,null,null,null,null,null,null,null,null,null,null,null,null,null,null,null,null,null,null,null,null,null,null,null,2,0,1,1,2,0,0,0,2,0,0,1,0,3,1,1,1,2,0,0,0,2,0,0,1]
[1739,null,0,3,13,14,22,43,46,55,62,65,67,69,71,75,77,83,84,85,89,91,null,2,5,1114,null,null,null,null,null,null,null,null,null,null,null,null,null,null,null,null,null,null,null,null,null,null,null,1,1,2,0,0,2,1,0,0,1,2,1,2,0,0,0,2,0,3,1,1,0,0,0,0]
[1741,null,4,5,22,24,28,30,32,38,39,40,43,46,53,55,57,59,60,63,64,82,null,7,12,844,null,null,null,null,null,null,null,null,null,null,null,null,null,null,null,null,null,null,null,null,null,null,null,0,0,0,1,0,1,1,2,0,1,0,1,3,1,1,1,1,2,0,2,1,0,0,1,0]
[1745,null,4,7,9,10,17,30,39,42,44,48,51,55,59,74,75,77,80,82,88,92,null,2,11,983,null,null,null,null,null,null,null,null,null,null,null,null,null,null,null,null,null,null,null,null,null,null,null,0,0,1,0,1,1,0,1,0,1,0,1,1,2,0,1,0,4,0,1,1,0,1,2,1]
[1746,null,3,11,12,14,30,31,33,38,43,44,48,60,62,64,65,67,79,85,90,93,null,3,10,972,null,null,null,null,null,null,null,null,null,null,null,null,null,null,null,null,null,null,null,null,null,null,null,1,1,1,2,0,1,1,1,1,0,0,0,0,1,1,1,1,1,3,1,1,0,0,0,1]
[1749,null,2,16,17,20,22,33,34,49,54,60,63,66,68,69,71,73,83,86,89,90,null,0,11,1065,null,null,null,null,null,null,null,null,null,null,null,null,null,null,null,null,null,null,null,null,null,null,null,0,1,2,0,0,1,0,0,1,0,2,0,0,1,1,1,2,1,2,0,2,0,1,1,1]
[1752,null,8,12,17,19,21,26,33,35,42,57,62,66,73,83,85,87,90,93,98,99,null,6,8,1106,null,null,null,null,null,null,null,null,null,null,null,null,null,null,null,null,null,null,null,null,null,null,null,0,0,1,3,1,0,0,2,1,0,2,0,0,1,0,0,1,1,2,0,1,1,2,0,1]
[1755,null,0,2,13,26,28,34,35,38,40,42,43,52,53,56,60,74,75,77,78,92,null,3,13,918,null,null,null,null,null,null,null,null,null,null,null,null,null,null,null,null,null,null,null,null,null,null,null,0,0,1,2,1,2,1,0,0,3,0,1,1,0,1,1,1,0,0,1,1,0,1,2,0]
[1758,null,2,4,5,11,22,23,25,27,30,35,36,47,48,62,63,68,69,86,94,98,null,6,11,855,null,null,null,null,null,null,null,null,null,null,null,null,null,null,null,null,null,null,null,null,null,null,null,0,0,0,2,0,0,1,0,1,0,1,1,0,2,0,1,1,1,1,1,3,1,1,1,1]
[1761,null,1,6,12,15,17,20,22,29,31,36,41,60,61,75,78,82,88,93,94,97,null,4,10,958,null,null,null,null,null,null,null,null,null,null,null,null,null,null,null,null,null,null,null,null,null,null,null,1,1,1,1,2,0,1,1,2,2,1,2,0,0,2,1,1,1,0,0,0,0,0,0,0]
[1763,null,1,6,7,15,21,31,36,37,39,41,42,74,78,80,83,84,85,86,95,96,null,6,9,1037,null,null,null,null,null,null,null,null,null,null,null,null,null,null,null,null,null,null,null,null,null,null,null,3,0,2,0,3,0,1,0,1,1,2,1,1,0,0,0,0,0,0,0,1,0,2,0,2]
[1767,null,3,6,7,12,17,26,28,29,35,47,49,59,69,70,72,79,84,85,89,97,null,5,7,963,null,null,null,null,null,null,null,null,null,null,null,null,null,null,null,null,null,null,null,null,null,null,null,3,2,2,1,1,0,1,1,1,0,0,0,0,0,2,1,0,2,0,1,1,0,0,0,1]
[1768,null,1,2,6,8,15,21,25,27,38,41,49,62,67,73,75,77,80,83,87,91,null,2,6,928,null,null,null,null,null,null,null,null,null,null,null,null,null,null,null,null,null,null,null,null,null,null,null,1,0,0,1,3,1,1,0,1,1,2,2,0,0,0,1,1,0,1,0,2,1,1,0,0,null,"Intervalos de Baixa/Alta Incidencias Para Força 100"]
[1771,null,6,8,15,18,20,26,28,33,38,40,47,48,52,56,57,61,68,83,86,94,null,3,14,884,null,null,null,null,null,null,null,null,null,null,null,null,null,null,null,null,null,null,null,null,null,null,null,1,1,1,1,1,0,2,1,2,0,1,1,0,1,0,1,1,0,1,2,0,1,1,0,0,null,1771,null,null,{"$f":"SUM(AX1773:BB1773)","v":5},{"$f":"SUM(BC1773:BG1773)","v":5},null,null,{"$f":"SUM(BH1773:BL1773)","v":3},{"$f":"SUM(BM1773:BQ1773)","v":5},null,null,{"$f":"SUM(BR1773:BV1773)","v":2}]
[1774,null,3,12,21,24,29,34,37,46,47,48,50,53,56,61,65,70,84,87,93,95,null,3,9,1015,null,null,null,null,null,null,null,null,null,null,null,null,null,null,null,null,null,null,null,null,null,null,null,2,3,0,1,0,1,1,1,1,1,0,0,2,1,0,0,1,0,0,2,1,0,1,1,0,null,1774,null,null,6,5,null,null,3,3,null,null,3]
[1777,null,1,12,23,26,34,38,46,48,60,63,65,70,75,82,83,84,89,93,95,99,null,2,10,1186,null,null,null,null,null,null,null,null,null,null,null,null,null,null,null,null,null,null,null,null,null,null,null,2,1,1,2,2,0,0,1,0,1,1,1,1,3,1,0,1,0,0,0,0,0,0,1,1,null,1777,null,null,8,2,null,null,7,1,null,null,2]
[1780,null,8,11,12,13,14,15,16,18,20,25,27,31,45,53,64,68,75,77,82,99,null,5,9,773,null,null,null,null,null,null,null,null,null,null,null,null,null,null,null,null,null,null,null,null,null,null,null,0,0,1,0,0,2,0,1,3,2,0,3,1,1,1,1,0,0,1,1,0,2,0,0,0,null,1780,null,null,1,8,null,null,6,3,null,null,2]
[1783,null,9,12,15,16,20,28,31,37,44,49,53,57,60,64,74,76,80,84,88,96,null,4,13,993,null,null,null,null,null,null,null,null,null,null,null,null,null,null,null,null,null,null,null,null,null,null,null,1,0,2,0,1,1,2,3,1,2,0,1,0,0,1,2,0,1,0,1,0,0,0,0,1,null,1783,null,null,4,9,null,null,2,4,null,null,1]
[1785,null,3,11,22,27,28,29,31,41,43,45,50,55,58,61,62,68,78,84,89,92,null,5,9,977,null,null,null,null,null,null,null,null,null,null,null,null,null,null,null,null,null,null,null,null,null,null,null,1,2,1,0,1,2,1,0,3,1,0,1,0,0,1,1,1,0,1,1,0,1,0,1,0,null,1785,null,null,5,7,null,null,2,4,null,null,2]
[1789,null,0,4,10,11,13,17,18,21,26,30,31,37,44,54,55,57,70,72,74,82,null,2,11,726,null,null,null,null,null,null,null,null,null,null,null,null,null,null,null,null,null,null,null,null,null,null,null,0,2,1,0,1,0,1,1,1,0,0,2,1,1,1,1,0,3,0,1,2,1,0,0,0,null,1789,null,null,4,3,null,null,5,5,null,null,3]
[1790,null,1,5,6,11,12,27,37,47,54,55,56,59,61,65,68,79,85,87,95,98,null,4,6,1008,null,null,null,null,null,null,null,null,null,null,null,null,null,null,null,null,null,null,null,null,null,null,null,3,2,1,1,1,0,1,1,1,0,0,1,0,0,0,1,1,1,0,3,0,0,1,1,0,null,1790,null,null,8,3,null,null,1,6,null,null,2]
[1793,null,3,4,5,6,23,29,32,43,51,53,62,63,65,66,73,77,78,81,83,89,null,3,6,986,null,null,null,null,null,null,null,null,null,null,null,null,null,null,null,null,null,null,null,null,null,null,null,{"$f":"SUMPRODUCT(COUNTIF($C1795:$V1795,$AB$17:$AC$18))","v":1},{"$f":"SUMPRODUCT(COUNTIF($C1795:$V1795,$AD$17:$AE$18))","v":1},{"$f":"SUMPRODUCT(COUNTIF($C1795:$V1795,$AF$17:$AG$18))","v":1},{"$f":"SUMPRODUCT(COUNTIF($C1795:$V1795,$AH$17:$AI$18))","v":0},{"$f":"SUMPRODUCT(COUNTIF($C1795:$V1795,$AJ$17:$AK$18))","v":0},{"$f":"SUMPRODUCT(COUNTIF($C1795:$V1795,$AB$19:$AC$20))","v":2},{"$f":"SUMPRODUCT(COUNTIF($C1795:$V1795,$AD$19:$AE$20))","v":0},{"$f":"SUMPRODUCT(COUNTIF($C1795:$V1795,$AF$19:$AG$20))","v":1},{"$f":"SUMPRODUCT(COUNTIF($C1795:$V1795,$AH$19:$AI$20))","v":1},{"$f":"SUMPRODUCT(COUNTIF($C1795:$V1795,$AJ$19:$AK$20))","v":2},{"$f":"SUMPRODUCT(COUNTIF($C1795:$V1795,$AB$21:$AC$22))","v":2},{"$f":"SUMPRODUCT(COUNTIF($C1795:$V1795,$AD$21:$AE$22))","v":0},{"$f":"SUMPRODUCT(COUNTIF($C1795:$V1795,$AF$21:$AG$22))","v":0},{"$f":"SUMPRODUCT(COUNTIF($C1795:$V1795,$AH$21:$AI$22))","v":1},{"$f":"SUMPRODUCT(COUNTIF($C1795:$V1795,$AJ$21:$AK$22))","v":0},{"$f":"SUMPRODUCT(COUNTIF($C1795:$V1795,$AB$23:$AC$24))","v":0},{"$f":"SUMPRODUCT(COUNTIF($C1795:$V1795,$AD$23:$AE$24))","v":2},{"$f":"SUMPRODUCT(COUNTIF($C1795:$V1795,$AF$23:$AG$24))","v":1},{"$f":"SUMPRODUCT(COUNTIF($C1795:$V1795,$AH$23:$AI$24))","v":1},{"$f":"SUMPRODUCT(COUNTIF($C1795:$V1795,$AJ$23:$AK$24))","v":0},{"$f":"SUMPRODUCT(COUNTIF($C1795:$V1795,$AB$25:$AC$26))","v":0},{"$f":"SUMPRODUCT(COUNTIF($C1795:$V1795,$AD$25:$AE$26))","v":0},{"$f":"SUMPRODUCT(COUNTIF($C1795:$V1795,$AF$25:$AG$26))","v":1},{"$f":"SUMPRODUCT(COUNTIF($C1795:$V1795,$AH$25:$AI$26))","v":2},{"$f":"SUMPRODUCT(COUNTIF($C1795:$V1795,$AJ$25:$AK$26))","v":1},null,1793,null,null,3,6,null,null,3,4,null,null,4]
[1796,null,15,16,23,27,28,29,32,39,40,46,52,54,57,63,73,78,80,84,86,94,null,3,12,1016,null,null,null,null,null,null,null,null,null,null,null,null,null,null,null,null,null,null,null,null,null,null,null,1,1,0,0,1,1,2,2,1,1,0,2,2,1,0,1,2,0,0,0,0,0,1,0,1,null,1796,null,null,3,7,null,null,5,3,null,null,2]
[1799,null,2,10,16,26,32,41,49,54,57,59,61,66,70,77,78,81,91,94,95,98,null,6,11,1157,null,null,null,null,null,null,null,null,null,null,null,null,null,null,null,null,null,null,null,null,null,null,null,1,3,0,1,2,2,1,2,0,1,2,0,0,1,0,1,0,1,0,0,1,0,1,0,0,null,1799,null,null,7,6,null,null,3,2,null,null,2]
[1802,null,1,6,13,24,29,33,53,54,60,63,64,68,71,72,73,84,90,91,95,96,null,4,10,1140,null,null,null,null,null,null,null,null,null,null,null,null,null,null,null,null,null,null,null,null,null,null,null,3,1,0,0,1,0,0,0,2,1,1,0,2,1,2,0,1,0,2,1,0,0,0,0,2,null,1802,null,null,5,3,null,null,6,4,null,null,2]
[1806,null,9,11,12,24,25,29,34,35,36,43,45,49,58,65,66,72,79,95,98,99,null,5,8,984,null,null,null,null,null,null,null,null,null,null,null,null,null,null,null,null,null,null,null,null,null,null,null,2,0,0,2,0,1,0,2,1,0,2,0,1,1,2,2,1,0,0,0,0,2,0,1,0,null,1806,null,null,4,4,null,null,6,3,null,null,3]
[1807,null,1,11,14,20,27,30,40,42,43,46,54,66,68,75,77,85,89,93,98,99,null,5,10,1078,null,null,null,null,null,null,null,null,null,null,null,null,null,null,null,null,null,null,null,null,null,null,null,0,1,3,2,1,2,0,0,1,1,1,1,1,1,0,2,0,0,1,0,1,0,1,0,0,null,1807,null,null,7,4,null,null,4,3,null,null,2]
[1811,null,2,10,26,35,43,46,53,54,55,60,66,67,69,74,81,82,88,89,91,93,null,4,10,1184,null,null,null,null,null,null,null,null,null,null,null,null,null,null,null,null,null,null,null,null,null,null,null,0,1,2,2,1,1,1,0,0,1,2,1,1,1,1,1,0,0,0,1,2,0,1,0,0,null,1811,null,null,6,3,null,null,6,2,null,null,3]
[1812,null,1,18,22,25,26,28,30,39,43,44,54,61,70,75,81,94,96,97,98,99,null,4,11,1101,null,null,null,null,null,null,null,null,null,null,null,null,null,null,null,null,null,null,null,null,null,null,null,0,3,0,1,2,1,2,0,0,1,0,0,1,1,1,0,1,1,0,0,1,2,1,0,1,null,1812,null,null,6,4,null,null,3,2,null,null,5]
[1815,null,6,10,17,24,37,40,41,44,45,47,48,50,61,63,66,86,87,91,95,99,null,5,9,1057,null,null,null,null,null,null,null,null,null,null,null,null,null,null,null,null,null,null,null,null,null,null,null,2,1,0,0,1,1,1,0,0,0,2,0,1,4,1,1,0,2,0,1,0,0,2,0,0,null,1815,null,null,4,2,null,null,8,4,null,null,2]
[1818,null,9,11,15,16,17,20,23,34,42,43,45,54,55,56,60,70,74,76,77,80,null,1,11,877,null,null,null,null,null,null,null,null,null,null,null,null,null,null,null,null,null,null,null,null,null,null,null,0,2,2,0,1,3,0,1,0,1,0,1,0,0,2,1,0,1,0,2,0,0,1,1,1,null,1818,null,null,5,5,null,null,3,4,null,null,3]
[1821,null,0,3,11,13,16,26,36,38,40,54,59,61,67,69,75,80,83,90,94,99,null,1,9,1014,null,null,null,null,null,null,null,null,null,null,null,null,null,null,null,null,null,null,null,null,null,null,null,0,3,0,1,2,1,2,0,0,1,2,1,1,1,0,2,0,1,0,0,1,0,0,0,1,null,1821,null,null,6,4,null,null,5,3,null,null,2]
[1824,null,0,2,6,13,15,16,17,18,31,34,35,54,63,64,66,67,69,75,87,91,null,3,8,823,null,null,null,null,null,null,null,null,null,null,null,null,null,null,null,null,null,null,null,null,null,null,null,1,1,0,1,0,1,1,0,1,1,2,2,1,1,0,0,0,1,0,1,2,1,1,1,0,null,1824,null,null,3,4,null,null,6,2,null,null,5]
[1828,null,3,14,28,29,41,43,48,51,56,57,58,63,64,68,75,82,86,88,92,98,null,3,12,1144,null,null,null,null,null,null,null,null,null,null,null,null,null,null,null,null,null,null,null,null,null,null,null,0,1,0,1,1,1,1,1,2,1,0,1,0,2,0,1,0,0,1,2,0,1,1,2,0,null,1828,null,null,3,6,null,null,3,4,null,null,4]
[1829,null,3,6,8,13,14,19,24,28,31,43,46,52,59,60,74,77,82,88,89,94,null,6,12,910,null,null,null,null,null,null,null,null,null,null,null,null,null,null,null,null,null,null,null,null,null,null,null,1,1,2,0,0,2,2,0,2,0,0,1,3,0,1,1,1,1,1,0,0,1,0,0,0,null,1829,null,null,4,6,null,null,5,4,null,null,1]
[1833,null,1,5,7,15,16,20,25,36,37,53,57,58,76,77,78,80,82,85,88,93,null,7,9,989,null,null,null,null,null,null,null,null,null,null,null,null,null,null,null,null,null,null,null,null,null,null,null,0,0,2,1,2,2,1,1,0,3,1,2,0,0,0,1,0,0,0,0,0,2,0,1,1,null,1833,null,null,5,7,null,null,3,1,null,null,4]
[1834,null,1,6,22,23,24,35,36,37,44,51,55,58,61,68,71,77,79,81,93,94,null,6,8,1016,null,null,null,null,null,null,null,null,null,null,null,null,null,null,null,null,null,null,null,null,null,null,null,2,1,0,2,1,1,2,0,1,0,1,0,1,0,0,0,1,1,1,1,0,1,1,1,1,null,1834,null,null,6,4,null,null,2,4,null,null,4]
[1837,null,14,16,18,24,30,34,37,42,48,49,57,59,60,70,74,77,82,83,85,94,null,1,13,1053,null,null,null,null,null,null,null,null,null,null,null,null,null,null,null,null,null,null,null,null,null,null,null,0,1,2,0,0,2,2,1,0,0,1,1,1,1,1,1,0,1,1,0,1,1,1,1,0,null,1837,null,null,3,5,null,null,5,3,null,null,4]
[1840,null,8,9,13,17,24,28,36,43,46,47,52,61,64,71,76,78,85,89,96,98,null,4,11,1041,null,null,null,null,null,null,null,null,null,null,null,null,null,null,null,null,null,null,null,null,null,null,null,0,1,2,1,0,1,1,1,1,2,1,0,3,0,0,0,1,1,1,2,0,0,0,0,1,null,1840,null,null,4,6,null,null,4,5,null,null,1]
[1843,null,0,1,12,13,16,28,30,35,36,38,40,41,44,46,56,64,72,82,89,98,null,4,14,841,null,null,null,null,null,null,null,null,null,null,null,null,null,null,null,null,null,null,null,null,null,null,null,0,0,1,3,2,1,1,1,0,0,1,2,2,0,1,1,0,1,0,2,1,0,0,0,0,null,1843,null,null,6,3,null,null,6,4,null,null,1]
[1846,null,8,12,14,16,19,22,26,30,32,35,39,41,45,46,49,50,59,60,61,74,null,3,12,738,null,null,null,null,null,null,null,null,null,null,null,null,null,null,null,null,null,null,null,null,null,null,null,0,1,1,1,2,2,0,2,1,0,0,0,2,0,2,1,1,1,1,0,1,1,0,0,0,null,1846,null,null,5,5,null,null,4,4,null,null,2]
[1850,null,9,14,20,27,37,38,41,46,50,64,70,71,72,73,75,76,82,83,92,99,null,3,11,1139,null,null,null,null,null,null,null,null,null,null,null,null,null,null,null,null,null,null,null,null,null,null,null,0,1,1,1,1,1,1,1,0,2,1,2,1,1,1,0,1,0,2,1,0,0,0,1,0,null,1850,null,null,4,5,null,null,6,4,null,null,1]
[1851,null,9,17,26,31,32,37,38,40,43,44,48,50,60,63,80,82,83,85,88,95,null,6,11,1051,null,null,null,null,null,null,null,null,null,null,null,null,null,null,null,null,null,null,null,null,null,null,null,1,0,1,1,2,2,1,2,1,0,1,1,0,2,1,2,0,2,0,0,0,0,0,0,0,null,1851,null,null,5,6,null,null,5,4,null,null,0]
[1855,null,3,4,6,10,15,19,20,21,28,45,50,56,57,60,61,64,65,79,80,97,null,5,10,840,null,null,null,null,null,null,null,null,null,null,null,null,null,null,null,null,null,null,null,null,null,null,null,2,2,1,0,1,1,1,1,0,0,0,1,0,1,3,0,1,1,0,2,1,1,0,0,0,null,1855,null,null,6,3,null,null,5,4,null,null,2]
[1856,null,3,8,9,12,17,24,30,32,35,38,42,45,51,79,80,82,83,85,96,99,null,4,10,950,null,null,null,null,null,null,null,null,null,null,null,null,null,null,null,null,null,null,null,null,null,null,null,1,1,1,2,1,0,0,3,1,0,1,1,1,1,1,0,0,1,0,0,1,0,1,1,1,null,1856,null,null,6,4,null,null,5,1,null,null,4]
[1859,null,7,11,12,24,32,37,39,47,48,57,58,60,65,66,71,74,77,79,84,0,null,3,9,948,null,null,null,null,null,null,null,null,null,null,null,null,null,null,null,null,null,null,null,null,null,null,null,2,0,1,0,0,1,1,3,0,0,1,1,2,1,1,1,1,0,1,1,0,1,0,0,1,null,1859,null,null,3,5,null,null,6,4,null,null,2]
[1862,null,3,5,8,18,26,30,38,43,44,46,49,54,60,61,65,70,71,72,87,95,null,5,11,945,null,null,null,null,null,null,null,null,null,null,null,null,null,null,null,null,null,null,null,null,null,null,null,1,4,0,1,1,1,0,0,1,0,0,0,1,0,2,1,1,1,1,0,1,1,1,1,0,null,1862,null,null,7,2,null,null,3,4,null,null,4]
[1865,null,0,1,8,14,17,31,41,45,49,51,58,61,62,66,67,75,81,86,92,97,null,5,7,1002,null,null,null,null,null,null,null,null,null,null,null,null,null,null,null,null,null,null,null,null,null,null,null,0,1,0,0,2,0,1,0,2,1,1,1,0,0,2,1,0,1,2,0,0,1,2,2,0,null,1865,null,null,3,4,null,null,4,4,null,null,5]
[1868,null,0,8,12,22,27,29,31,39,40,42,47,48,51,60,61,64,87,89,95,99,null,4,8,951,null,null,null,null,null,null,null,null,null,null,null,null,null,null,null,null,null,null,null,null,null,null,null,1,1,1,0,0,0,0,1,3,0,0,2,1,2,1,1,1,0,0,2,0,0,2,1,0,null,1868,null,null,3,4,null,null,6,4,null,null,3]
[1872,null,null,null,null,null,null,null,null,null,null,null,null,null,null,null,null,null,null,null,null,null,null,0,0,0,null,null,null,null,null,null,null,null,null,null,null,null,null,null,null,null,null,null,null,null,null,null,null,0,0,0,0,0,0,0,0,0,0,0,0,0,0,0,0,0,0,0,0,0,0,0,0,0,null,1872,null,null,0,0,null,null,0,0,null,null,0]
[1875,null,null,null,null,null,null,null,null,null,null,null,null,null,null,null,null,null,null,null,null,null,null,0,0,0,null,null,null,null,null,null,null,null,null,null,null,null,null,null,null,null,null,null,null,null,null,null,null,0,0,0,0,0,0,0,0,0,0,0,0,0,0,0,0,0,0,0,0,0,0,0,0,0,null,1875,null,null,0,0,null,null,0,0,null,null,0]
[1876,null,null,null,null,null,null,null,null,null,null,null,null,null,null,null,null,null,null,null,null,null,null,0,0,0,null,null,null,null,null,null,null,null,null,null,null,null,null,null,null,null,null,null,null,null,null,null,null,0,0,0,0,0,0,0,0,0,0,0,0,0,0,0,0,0,0,0,0,0,0,0,0,0,null,1876,null,null,0,0,null,null,0,0,null,null,0]
[1877,null,null,null,null,null,null,null,null,null,null,null,null,null,null,null,null,null,null,null,null,null,null,0,0,0,null,null,null,null,null,null,null,null,null,null,null,null,null,null,null,null,null,null,null,null,null,null,null,0,0,0,0,0,0,0,0,0,0,0,0,0,0,0,0,0,0,0,0,0,0,0,0,0,null,1877,null,null,0,0,null,null,0,0,null,null,0]
[1878,null,null,null,null,null,null,null,null,null,null,null,null,null,null,null,null,null,null,null,null,null,null,0,0,0,null,null,null,null,null,null,null,null,null,null,null,null,null,null,null,null,null,null,null,null,null,null,null,0,0,0,0,0,0,0,0,0,0,0,0,0,0,0,0,0,0,0,0,0,0,0,0,0,null,1878,null,null,0,0,null,null,0,0,null,null,0]
[1879,null,null,null,null,null,null,null,null,null,null,null,null,null,null,null,null,null,null,null,null,null,null,0,0,0,null,null,null,null,null,null,null,null,null,null,null,null,null,null,null,null,null,null,null,null,null,null,null,0,0,0,0,0,0,0,0,0,0,0,0,0,0,0,0,0,0,0,0,0,0,0,0,0,null,1879,null,null,0,0,null,null,0,0,null,null,0]
[1880,null,null,null,null,null,null,null,null,null,null,null,null,null,null,null,null,null,null,null,null,null,null,0,0,0,null,null,null,null,null,null,null,null,null,null,null,null,null,null,null,null,null,null,null,null,null,null,null,0,0,0,0,0,0,0,0,0,0,0,0,0,0,0,0,0,0,0,0,0,0,0,0,0,null,1880,null,null,0,0,null,null,0,0,null,null,0]
[1881,null,null,null,null,null,null,null,null,null,null,null,null,null,null,null,null,null,null,null,null,null,null,0,0,0,null,null,null,null,null,null,null,null,null,null,null,null,null,null,null,null,null,null,null,null,null,null,null,0,0,0,0,0,0,0,0,0,0,0,0,0,0,0,0,0,0,0,0,0,0,0,0,0,null,1881,null,null,0,0,null,null,0,0,null,null,0]
[1882,null,null,null,null,null,null,null,null,null,null,null,null,null,null,null,null,null,null,null,null,null,null,0,0,0,null,null,null,null,null,null,null,null,null,null,null,null,null,null,null,null,null,null,null,null,null,null,null,0,0,0,0,0,0,0,0,0,0,0,0,0,0,0,0,0,0,0,0,0,0,0,0,0,null,1882,null,null,0,0,null,null,0,0,null,null,0]
[1883,null,null,null,null,null,null,null,null,null,null,null,null,null,null,null,null,null,null,null,null,null,null,0,0,0,null,null,null,null,null,null,null,null,null,null,null,null,null,null,null,null,null,null,null,null,null,null,null,0,0,0,0,0,0,0,0,0,0,0,0,0,0,0,0,0,0,0,0,0,0,0,0,0,null,1883,null,null,0,0,null,null,0,0,null,null,0]
[1884,null,null,null,null,null,null,null,null,null,null,null,null,null,null,null,null,null,null,null,null,null,null,0,0,0,null,null,null,null,null,null,null,null,null,null,null,null,null,null,null,null,null,null,null,null,null,null,null,0,0,0,0,0,0,0,0,0,0,0,0,0,0,0,0,0,0,0,0,0,0,0,0,0,null,1884,null,null,0,0,null,null,0,0,null,null,0]
[1885,null,null,null,null,null,null,null,null,null,null,null,null,null,null,null,null,null,null,null,null,null,null,0,0,0,null,null,null,null,null,null,null,null,null,null,null,null,null,null,null,null,null,null,null,null,null,null,null,0,0,0,0,0,0,0,0,0,0,0,0,0,0,0,0,0,0,0,0,0,0,0,0,0,null,1885,null,null,0,0,null,null,0,0,null,null,0]
[1886,null,null,null,null,null,null,null,null,null,null,null,null,null,null,null,null,null,null,null,null,null,null,0,0,0,null,null,null,null,null,null,null,null,null,null,null,null,null,null,null,null,null,null,null,null,null,null,null,0,0,0,0,0,0,0,0,0,0,0,0,0,0,0,0,0,0,0,0,0,0,0,0,0,null,1886,null,null,0,0,null,null,0,0,null,null,0]
[1887,null,null,null,null,null,null,null,null,null,null,null,null,null,null,null,null,null,null,null,null,null,null,0,0,0,null,null,null,null,null,null,null,null,null,null,null,null,null,null,null,null,null,null,null,null,null,null,null,0,0,0,0,0,0,0,0,0,0,0,0,0,0,0,0,0,0,0,0,0,0,0,0,0,null,1887,null,null,0,0,null,null,0,0,null,null,0]
[1888,null,null,null,null,null,null,null,null,null,null,null,null,null,null,null,null,null,null,null,null,null,null,0,0,0,null,null,null,null,null,null,null,null,null,null,null,null,null,null,null,null,null,null,null,null,null,null,null,0,0,0,0,0,0,0,0,0,0,0,0,0,0,0,0,0,0,0,0,0,0,0,0,0,null,1888,null,null,0,0,null,null,0,0,null,null,0]
[1889,null,null,null,null,null,null,null,null,null,null,null,null,null,null,null,null,null,null,null,null,null,null,0,0,0,null,null,null,null,null,null,null,null,null,null,null,null,null,null,null,null,null,null,null,null,null,null,null,0,0,0,0,0,0,0,0,0,0,0,0,0,0,0,0,0,0,0,0,0,0,0,0,0,null,1889,null,null,0,0,null,null,0,0,null,null,0]
[1890,null,null,null,null,null,null,null,null,null,null,null,null,null,null,null,null,null,null,null,null,null,null,0,0,0,null,null,null,null,null,null,null,null,null,null,null,null,null,null,null,null,null,null,null,null,null,null,null,0,0,0,0,0,0,0,0,0,0,0,0,0,0,0,0,0,0,0,0,0,0,0,0,0,null,1890,null,null,0,0,null,null,0,0,null,null,0]
[1891,null,null,null,null,null,null,null,null,null,null,null,null,null,null,null,null,null,null,null,null,null,null,0,0,0,null,null,null,null,null,null,null,null,null,null,null,null,null,null,null,null,null,null,null,null,null,null,null,0,0,0,0,0,0,0,0,0,0,0,0,0,0,0,0,0,0,0,0,0,0,0,0,0,null,1891,null,null,0,0,null,null,0,0,null,null,0]
[1892,null,null,null,null,null,null,null,null,null,null,null,null,null,null,null,null,null,null,null,null,null,null,0,0,0,null,null,null,null,null,null,null,null,null,null,null,null,null,null,null,null,null,null,null,null,null,null,null,0,0,0,0,0,0,0,0,0,0,0,0,0,0,0,0,0,0,0,0,0,0,0,0,0,null,1892,null,null,0,0,null,null,0,0,null,null,0]
[1893,null,null,null,null,null,null,null,null,null,null,null,null,null,null,null,null,null,null,null,null,null,null,0,0,0,null,null,null,null,null,null,null,null,null,null,null,null,null,null,null,null,null,null,null,null,null,null,null,0,0,0,0,0,0,0,0,0,0,0,0,0,0,0,0,0,0,0,0,0,0,0,0,0,null,1893,null,null,0,0,null,null,0,0,null,null,0]
[1894,null,null,null,null,null,null,null,null,null,null,null,null,null,null,null,null,null,null,null,null,null,null,0,0,0,null,null,null,null,null,null,null,null,null,null,null,null,null,null,null,null,null,null,null,null,null,null,null,0,0,0,0,0,0,0,0,0,0,0,0,0,0,0,0,0,0,0,0,0,0,0,0,0,null,1894,null,null,0,0,null,null,0,0,null,null,0]
[1895,null,null,null,null,null,null,null,null,null,null,null,null,null,null,null,null,null,null,null,null,null,null,0,0,0,null,null,null,null,null,null,null,null,null,null,null,null,null,null,null,null,null,null,null,null,null,null,null,0,0,0,0,0,0,0,0,0,0,0,0,0,0,0,0,0,0,0,0,0,0,0,0,0,null,1895,null,null,0,0,null,null,0,0,null,null,0]
[1896,null,null,null,null,null,null,null,null,null,null,null,null,null,null,null,null,null,null,null,null,null,null,0,0,0,null,null,null,null,null,null,null,null,null,null,null,null,null,null,null,null,null,null,null,null,null,null,null,0,0,0,0,0,0,0,0,0,0,0,0,0,0,0,0,0,0,0,0,0,0,0,0,0,null,1896,null,null,0,0,null,null,0,0,null,null,0]
[1897,null,null,null,null,null,null,null,null,null,null,null,null,null,null,null,null,null,null,null,null,null,null,0,0,0,null,null,null,null,null,null,null,null,null,null,null,null,null,null,null,null,null,null,null,null,null,null,null,0,0,0,0,0,0,0,0,0,0,0,0,0,0,0,0,0,0,0,0,0,0,0,0,0,null,1897,null,null,0,0,null,null,0,0,null,null,0]
[1898,null,null,null,null,null,null,null,null,null,null,null,null,null,null,null,null,null,null,null,null,null,null,0,0,0,null,null,null,null,null,null,null,null,null,null,null,null,null,null,null,null,null,null,null,null,null,null,null,0,0,0,0,0,0,0,0,0,0,0,0,0,0,0,0,0,0,0,0,0,0,0,0,0,null,1898,null,null,0,0,null,null,0,0,null,null,0]
[1899,null,null,null,null,null,null,null,null,null,null,null,null,null,null,null,null,null,null,null,null,null,null,0,0,0,null,null,null,null,null,null,null,null,null,null,null,null,null,null,null,null,null,null,null,null,null,null,null,0,0,0,0,0,0,0,0,0,0,0,0,0,0,0,0,0,0,0,0,0,0,0,0,0,null,1899,null,null,0,0,null,null,0,0,null,null,0]
[1900,null,null,null,null,null,null,null,null,null,null,null,null,null,null,null,null,null,null,null,null,null,null,0,0,0,null,null,null,null,null,null,null,null,null,null,null,null,null,null,null,null,null,null,null,null,null,null,null,0,0,0,0,0,0,0,0,0,0,0,0,0,0,0,0,0,0,0,0,0,0,0,0,0,null,1900,null,null,0,0,null,null,0,0,null,null,0]
[1901,null,null,null,null,null,null,null,null,null,null,null,null,null,null,null,null,null,null,null,null,null,null,0,0,0,null,null,null,null,null,null,null,null,null,null,null,null,null,null,null,null,null,null,null,null,null,null,null,0,0,0,0,0,0,0,0,0,0,0,0,0,0,0,0,0,0,0,0,0,0,0,0,0,null,1901,null,null,0,0,null,null,0,0,null,null,0]
[1902,null,null,null,null,null,null,null,null,null,null,null,null,null,null,null,null,null,null,null,null,null,null,0,0,0,null,null,null,null,null,null,null,null,null,null,null,null,null,null,null,null,null,null,null,null,null,null,null,0,0,0,0,0,0,0,0,0,0,0,0,0,0,0,0,0,0,0,0,0,0,0,0,0,null,1902,null,null,0,0,null,null,0,0,null,null,0]
[1903,null,null,null,null,null,null,null,null,null,null,null,null,null,null,null,null,null,null,null,null,null,null,0,0,0,null,null,null,null,null,null,null,null,null,null,null,null,null,null,null,null,null,null,null,null,null,null,null,0,0,0,0,0,0,0,0,0,0,0,0,0,0,0,0,0,0,0,0,0,0,0,0,0,null,1903,null,null,0,0,null,null,0,0,null,null,0]
[1904,null,null,null,null,null,null,null,null,null,null,null,null,null,null,null,null,null,null,null,null,null,null,0,0,0,null,null,null,null,null,null,null,null,null,null,null,null,null,null,null,null,null,null,null,null,null,null,null,0,0,0,0,0,0,0,0,0,0,0,0,0,0,0,0,0,0,0,0,0,0,0,0,0,null,1904,null,null,0,0,null,null,0,0,null,null,0]
[1905,null,null,null,null,null,null,null,null,null,null,null,null,null,null,null,null,null,null,null,null,null,null,0,0,0,null,null,null,null,null,null,null,null,null,null,null,null,null,null,null,null,null,null,null,null,null,null,null,0,0,0,0,0,0,0,0,0,0,0,0,0,0,0,0,0,0,0,0,0,0,0,0,0,null,1905,null,null,0,0,null,null,0,0,null,null,0]
[1906,null,null,null,null,null,null,null,null,null,null,null,null,null,null,null,null,null,null,null,null,null,null,0,0,0,null,null,null,null,null,null,null,null,null,null,null,null,null,null,null,null,null,null,null,null,null,null,null,0,0,0,0,0,0,0,0,0,0,0,0,0,0,0,0,0,0,0,0,0,0,0,0,0,null,1906,null,null,0,0,null,null,0,0,null,null,0]
[1907,null,null,null,null,null,null,null,null,null,null,null,null,null,null,null,null,null,null,null,null,null,null,0,0,0,null,null,null,null,null,null,null,null,null,null,null,null,null,null,null,null,null,null,null,null,null,null,null,0,0,0,0,0,0,0,0,0,0,0,0,0,0,0,0,0,0,0,0,0,0,0,0,0,null,1907,null,null,0,0,null,null,0,0,null,null,0]
[1908,null,null,null,null,null,null,null,null,null,null,null,null,null,null,null,null,null,null,null,null,null,null,0,0,0,null,null,null,null,null,null,null,null,null,null,null,null,null,null,null,null,null,null,null,null,null,null,null,0,0,0,0,0,0,0,0,0,0,0,0,0,0,0,0,0,0,0,0,0,0,0,0,0,null,1908,null,null,0,0,null,null,0,0,null,null,0]
[1909,null,null,null,null,null,null,null,null,null,null,null,null,null,null,null,null,null,null,null,null,null,null,0,0,0,null,null,null,null,null,null,null,null,null,null,null,null,null,null,null,null,null,null,null,null,null,null,null,0,0,0,0,0,0,0,0,0,0,0,0,0,0,0,0,0,0,0,0,0,0,0,0,0,null,1909,null,null,0,0,null,null,0,0,null,null,0]
[1910,null,null,null,null,null,null,null,null,null,null,null,null,null,null,null,null,null,null,null,null,null,null,0,0,0,null,null,null,null,null,null,null,null,null,null,null,null,null,null,null,null,null,null,null,null,null,null,null,0,0,0,0,0,0,0,0,0,0,0,0,0,0,0,0,0,0,0,0,0,0,0,0,0,null,1910,null,null,0,0,null,null,0,0,null,null,0]
[1911,null,null,null,null,null,null,null,null,null,null,null,null,null,null,null,null,null,null,null,null,null,null,0,0,0,null,null,null,null,null,null,null,null,null,null,null,null,null,null,null,null,null,null,null,null,null,null,null,0,0,0,0,0,0,0,0,0,0,0,0,0,0,0,0,0,0,0,0,0,0,0,0,0,null,1911,null,null,0,0,null,null,0,0,null,null,0]
[1912,null,null,null,null,null,null,null,null,null,null,null,null,null,null,null,null,null,null,null,null,null,null,0,0,0,null,null,null,null,null,null,null,null,null,null,null,null,null,null,null,null,null,null,null,null,null,null,null,0,0,0,0,0,0,0,0,0,0,0,0,0,0,0,0,0,0,0,0,0,0,0,0,0,null,1912,null,null,0,0,null,null,0,0,null,null,0]
[1913,null,null,null,null,null,null,null,null,null,null,null,null,null,null,null,null,null,null,null,null,null,null,0,0,0,null,null,null,null,null,null,null,null,null,null,null,null,null,null,null,null,null,null,null,null,null,null,null,0,0,0,0,0,0,0,0,0,0,0,0,0,0,0,0,0,0,0,0,0,0,0,0,0,null,1913,null,null,0,0,null,null,0,0,null,null,0]
[1914,null,null,null,null,null,null,null,null,null,null,null,null,null,null,null,null,null,null,null,null,null,null,0,0,0,null,null,null,null,null,null,null,null,null,null,null,null,null,null,null,null,null,null,null,null,null,null,null,0,0,0,0,0,0,0,0,0,0,0,0,0,0,0,0,0,0,0,0,0,0,0,0,0,null,1914,null,null,0,0,null,null,0,0,null,null,0]
[1915,null,null,null,null,null,null,null,null,null,null,null,null,null,null,null,null,null,null,null,null,null,null,0,0,0,null,null,null,null,null,null,null,null,null,null,null,null,null,null,null,null,null,null,null,null,null,null,null,0,0,0,0,0,0,0,0,0,0,0,0,0,0,0,0,0,0,0,0,0,0,0,0,0,null,1915,null,null,0,0,null,null,0,0,null,null,0]
[1916,null,null,null,null,null,null,null,null,null,null,null,null,null,null,null,null,null,null,null,null,null,null,0,0,0,null,null,null,null,null,null,null,null,null,null,null,null,null,null,null,null,null,null,null,null,null,null,null,0,0,0,0,0,0,0,0,0,0,0,0,0,0,0,0,0,0,0,0,0,0,0,0,0,null,1916]
[1917,null,null,null,null,null,null,null,null,null,null,null,null,null,null,null,null,null,null,null,null,null,null,0,0,0,null,null,null,null,null,null,null,null,null,null,null,null,null,null,null,null,null,null,null,null,null,null,null,0,0,0,0,0,0,0,0,0,0,0,0,0,0,0,0,0,0,0,0,0,0,0,0,0,null,1917]
[1918,null,null,null,null,null,null,null,null,null,null,null,null,null,null,null,null,null,null,null,null,null,null,0,0,0,null,null,null,null,null,null,null,null,null,null,null,null,null,null,null,null,null,null,null,null,null,null,null,0,0,0,0,0,0,0,0,0,0,0,0,0,0,0,0,0,0,0,0,0,0,0,0,0,null,1918]
[1919,null,null,null,null,null,null,null,null,null,null,null,null,null,null,null,null,null,null,null,null,null,null,0,0,0,null,null,null,null,null,null,null,null,null,null,null,null,null,null,null,null,null,null,null,null,null,null,null,0,0,0,0,0,0,0,0,0,0,0,0,0,0,0,0,0,0,0,0,0,0,0,0,0,null,1919]
[1920,null,null,null,null,null,null,null,null,null,null,null,null,null,null,null,null,null,null,null,null,null,null,0,0,0,null,null,null,null,null,null,null,null,null,null,null,null,null,null,null,null,null,null,null,null,null,null,null,0,0,0,0,0,0,0,0,0,0,0,0,0,0,0,0,0,0,0,0,0,0,0,0,0,null,1920]
[1921,null,null,null,null,null,null,null,null,null,null,null,null,null,null,null,null,null,null,null,null,null,null,0,0,0,null,null,null,null,null,null,null,null,null,null,null,null,null,null,null,null,null,null,null,null,null,null,null,{"$f":"SUMPRODUCT(COUNTIF($C1923:$V1923,$AB$17:$AC$18))","v":0},{"$f":"SUMPRODUCT(COUNTIF($C1923:$V1923,$AD$17:$AE$18))","v":0},{"$f":"SUMPRODUCT(COUNTIF($C1923:$V1923,$AF$17:$AG$18))","v":0},{"$f":"SUMPRODUCT(COUNTIF($C1923:$V1923,$AH$17:$AI$18))","v":0},{"$f":"SUMPRODUCT(COUNTIF($C1923:$V1923,$AJ$17:$AK$18))","v":0},{"$f":"SUMPRODUCT(COUNTIF($C1923:$V1923,$AB$19:$AC$20))","v":0},{"$f":"SUMPRODUCT(COUNTIF($C1923:$V1923,$AD$19:$AE$20))","v":0},{"$f":"SUMPRODUCT(COUNTIF($C1923:$V1923,$AF$19:$AG$20))","v":0},{"$f":"SUMPRODUCT(COUNTIF($C1923:$V1923,$AH$19:$AI$20))","v":0},{"$f":"SUMPRODUCT(COUNTIF($C1923:$V1923,$AJ$19:$AK$20))","v":0},{"$f":"SUMPRODUCT(COUNTIF($C1923:$V1923,$AB$21:$AC$22))","v":0},{"$f":"SUMPRODUCT(COUNTIF($C1923:$V1923,$AD$21:$AE$22))","v":0},{"$f":"SUMPRODUCT(COUNTIF($C1923:$V1923,$AF$21:$AG$22))","v":0},{"$f":"SUMPRODUCT(COUNTIF($C1923:$V1923,$AH$21:$AI$22))","v":0},{"$f":"SUMPRODUCT(COUNTIF($C1923:$V1923,$AJ$21:$AK$22))","v":0},{"$f":"SUMPRODUCT(COUNTIF($C1923:$V1923,$AB$23:$AC$24))","v":0},{"$f":"SUMPRODUCT(COUNTIF($C1923:$V1923,$AD$23:$AE$24))","v":0},{"$f":"SUMPRODUCT(COUNTIF($C1923:$V1923,$AF$23:$AG$24))","v":0},{"$f":"SUMPRODUCT(COUNTIF($C1923:$V1923,$AH$23:$AI$24))","v":0},{"$f":"SUMPRODUCT(COUNTIF($C1923:$V1923,$AJ$23:$AK$24))","v":0},{"$f":"SUMPRODUCT(COUNTIF($C1923:$V1923,$AB$25:$AC$26))","v":0},{"$f":"SUMPRODUCT(COUNTIF($C1923:$V1923,$AD$25:$AE$26))","v":0},{"$f":"SUMPRODUCT(COUNTIF($C1923:$V1923,$AF$25:$AG$26))","v":0},{"$f":"SUMPRODUCT(COUNTIF($C1923:$V1923,$AH$25:$AI$26))","v":0},{"$f":"SUMPRODUCT(COUNTIF($C1923:$V1923,$AJ$25:$AK$26))","v":0},null,1921]
[1922,null,null,null,null,null,null,null,null,null,null,null,null,null,null,null,null,null,null,null,null,null,null,{"$f":"SUMPRODUCT(COUNTIF(C1924:V1924,C1923:V1923))","v":0},{"$f":"SUMPRODUCT(N(MOD((C1924:V1924),2)=0)*(C1924:V1924>0))","v":0},{"$f":"SUM(C1924:V1924)","v":0},null,null,null,null,null,null,null,null,null,null,null,null,null,null,null,null,null,null,null,null,null,null,null,0,0,0,0,0,0,0,0,0,0,0,0,0,0,0,0,0,0,0,0,0,0,0,0,0,null,1922]
[1923,null,null,null,null,null,null,null,null,null,null,null,null,null,null,null,null,null,null,null,null,null,null,0,0,0,null,null,null,null,null,null,null,null,null,null,null,null,null,null,null,null,null,null,null,null,null,null,null,0,0,0,0,0,0,0,0,0,0,0,0,0,0,0,0,0,0,0,0,0,0,0,0,0,null,1923]
[1924,null,null,null,null,null,null,null,null,null,null,null,null,null,null,null,null,null,null,null,null,null,null,0,0,0,null,null,null,null,null,null,null,null,null,null,null,null,null,null,null,null,null,null,null,null,null,null,null,0,0,0,0,0,0,0,0,0,0,0,0,0,0,0,0,0,0,0,0,0,0,0,0,0,null,1924]
[1925,null,null,null,null,null,null,null,null,null,null,null,null,null,null,null,null,null,null,null,null,null,null,0,0,0,null,null,null,null,null,null,null,null,null,null,null,null,null,null,null,null,null,null,null,null,null,null,null,0,0,0,0,0,0,0,0,0,0,0,0,0,0,0,0,0,0,0,0,0,0,0,0,0,null,1925]
[1926,null,null,null,null,null,null,null,null,null,null,null,null,null,null,null,null,null,null,null,null,null,null,0,0,0,null,null,null,null,null,null,null,null,null,null,null,null,null,null,null,null,null,null,null,null,null,null,null,0,0,0,0,0,0,0,0,0,0,0,0,0,0,0,0,0,0,0,0,0,0,0,0,0,null,1926]
[1927,null,null,null,null,null,null,null,null,null,null,null,null,null,null,null,null,null,null,null,null,null,null,0,0,0,null,null,null,null,null,null,null,null,null,null,null,null,null,null,null,null,null,null,null,null,null,null,null,0,0,0,0,0,0,0,0,0,0,0,0,0,0,0,0,0,0,0,0,0,0,0,0,0,null,1927]
[1928,null,null,null,null,null,null,null,null,null,null,null,null,null,null,null,null,null,null,null,null,null,null,0,0,0,null,null,null,null,null,null,null,null,null,null,null,null,null,null,null,null,null,null,null,null,null,null,null,0,0,0,0,0,0,0,0,0,0,0,0,0,0,0,0,0,0,0,0,0,0,0,0,0,null,1928]
[1929,null,null,null,null,null,null,null,null,null,null,null,null,null,null,null,null,null,null,null,null,null,null,0,0,0,null,null,null,null,null,null,null,null,null,null,null,null,null,null,null,null,null,null,null,null,null,null,null,0,0,0,0,0,0,0,0,0,0,0,0,0,0,0,0,0,0,0,0,0,0,0,0,0,null,1929]
[1930,null,null,null,null,null,null,null,null,null,null,null,null,null,null,null,null,null,null,null,null,null,null,0,0,0,null,null,null,null,null,null,null,null,null,null,null,null,null,null,null,null,null,null,null,null,null,null,null,0,0,0,0,0,0,0,0,0,0,0,0,0,0,0,0,0,0,0,0,0,0,0,0,0,null,1930]
[1931,null,null,null,null,null,null,null,null,null,null,null,null,null,null,null,null,null,null,null,null,null,null,0,0,0,null,null,null,null,null,null,null,null,null,null,null,null,null,null,null,null,null,null,null,null,null,null,null,0,0,0,0,0,0,0,0,0,0,0,0,0,0,0,0,0,0,0,0,0,0,0,0,0,null,1931]
[1932,null,null,null,null,null,null,null,null,null,null,null,null,null,null,null,null,null,null,null,null,null,null,0,0,0,null,null,null,null,null,null,null,null,null,null,null,null,null,null,null,null,null,null,null,null,null,null,null,0,0,0,0,0,0,0,0,0,0,0,0,0,0,0,0,0,0,0,0,0,0,0,0,0,null,1932]
[1933,null,null,null,null,null,null,null,null,null,null,null,null,null,null,null,null,null,null,null,null,null,null,0,0,0,null,null,null,null,null,null,null,null,null,null,null,null,null,null,null,null,null,null,null,null,null,null,null,0,0,0,0,0,0,0,0,0,0,0,0,0,0,0,0,0,0,0,0,0,0,0,0,0,null,1933]
[1934,null,null,null,null,null,null,null,null,null,null,null,null,null,null,null,null,null,null,null,null,null,null,0,0,0,null,null,null,null,null,null,null,null,null,null,null,null,null,null,null,null,null,null,null,null,null,null,null,0,0,0,0,0,0,0,0,0,0,0,0,0,0,0,0,0,0,0,0,0,0,0,0,0,null,1934]
[1935,null,null,null,null,null,null,null,null,null,null,null,null,null,null,null,null,null,null,null,null,null,null,0,0,0,null,null,null,null,null,null,null,null,null,null,null,null,null,null,null,null,null,null,null,null,null,null,null,0,0,0,0,0,0,0,0,0,0,0,0,0,0,0,0,0,0,0,0,0,0,0,0,0,null,1935]
[1936,null,null,null,null,null,null,null,null,null,null,null,null,null,null,null,null,null,null,null,null,null,null,0,0,0,null,null,null,null,null,null,null,null,null,null,null,null,null,null,null,null,null,null,null,null,null,null,null,0,0,0,0,0,0,0,0,0,0,0,0,0,0,0,0,0,0,0,0,0,0,0,0,0,null,1936]
[1937,null,null,null,null,null,null,null,null,null,null,null,null,null,null,null,null,null,null,null,null,null,null,0,0,0,null,null,null,null,null,null,null,null,null,null,null,null,null,null,null,null,null,null,null,null,null,null,null,0,0,0,0,0,0,0,0,0,0,0,0,0,0,0,0,0,0,0,0,0,0,0,0,0,null,1937]
[1938,null,null,null,null,null,null,null,null,null,null,null,null,null,null,null,null,null,null,null,null,null,null,0,0,0,null,null,null,null,null,null,null,null,null,null,null,null,null,null,null,null,null,null,null,null,null,null,null,0,0,0,0,0,0,0,0,0,0,0,0,0,0,0,0,0,0,0,0,0,0,0,0,0,null,1938]
[1939,null,null,null,null,null,null,null,null,null,null,null,null,null,null,null,null,null,null,null,null,null,null,0,0,0,null,null,null,null,null,null,null,null,null,null,null,null,null,null,null,null,null,null,null,null,null,null,null,0,0,0,0,0,0,0,0,0,0,0,0,0,0,0,0,0,0,0,0,0,0,0,0,0,null,1939]
[1940,null,null,null,null,null,null,null,null,null,null,null,null,null,null,null,null,null,null,null,null,null,null,0,0,0,null,null,null,null,null,null,null,null,null,null,null,null,null,null,null,null,null,null,null,null,null,null,null,0,0,0,0,0,0,0,0,0,0,0,0,0,0,0,0,0,0,0,0,0,0,0,0,0,null,1940]
[1941,null,null,null,null,null,null,null,null,null,null,null,null,null,null,null,null,null,null,null,null,null,null,0,0,0,null,null,null,null,null,null,null,null,null,null,null,null,null,null,null,null,null,null,null,null,null,null,null,0,0,0,0,0,0,0,0,0,0,0,0,0,0,0,0,0,0,0,0,0,0,0,0,0]
[1942,null,null,null,null,null,null,null,null,null,null,null,null,null,null,null,null,null,null,null,null,null,null,0,0,0,null,null,null,null,null,null,null,null,null,null,null,null,null,null,null,null,null,null,null,null,null,null,null,0,0,0,0,0,0,0,0,0,0,0,0,0,0,0,0,0,0,0,0,0,0,0,0,0]
[1943,null,null,null,null,null,null,null,null,null,null,null,null,null,null,null,null,null,null,null,null,null,null,0,0,0,null,null,null,null,null,null,null,null,null,null,null,null,null,null,null,null,null,null,null,null,null,null,null,0,0,0,0,0,0,0,0,0,0,0,0,0,0,0,0,0,0,0,0,0,0,0,0,0]
[1944,null,null,null,null,null,null,null,null,null,null,null,null,null,null,null,null,null,null,null,null,null,null,0,0,0,null,null,null,null,null,null,null,null,null,null,null,null,null,null,null,null,null,null,null,null,null,null,null,0,0,0,0,0,0,0,0,0,0,0,0,0,0,0,0,0,0,0,0,0,0,0,0,0]
[1945,null,null,null,null,null,null,null,null,null,null,null,null,null,null,null,null,null,null,null,null,null,null,0,0,0,null,null,null,null,null,null,null,null,null,null,null,null,null,null,null,null,null,null,null,null,null,null,null,0,0,0,0,0,0,0,0,0,0,0,0,0,0,0,0,0,0,0,0,0,0,0,0,0]
[1946,null,null,null,null,null,null,null,null,null,null,null,null,null,null,null,null,null,null,null,null,null,null,0,0,0,null,null,null,null,null,null,null,null,null,null,null,null,null,null,null,null,null,null,null,null,null,null,null,0,0,0,0,0,0,0,0,0,0,0,0,0,0,0,0,0,0,0,0,0,0,0,0,0]
[1947,null,null,null,null,null,null,null,null,null,null,null,null,null,null,null,null,null,null,null,null,null,null,0,0,0,null,null,null,null,null,null,null,null,null,null,null,null,null,null,null,null,null,null,null,null,null,null,null,0,0,0,0,0,0,0,0,0,0,0,0,0,0,0,0,0,0,0,0,0,0,0,0,0]
[1948,null,null,null,null,null,null,null,null,null,null,null,null,null,null,null,null,null,null,null,null,null,null,0,0,0,null,null,null,null,null,null,null,null,null,null,null,null,null,null,null,null,null,null,null,null,null,null,null,0,0,0,0,0,0,0,0,0,0,0,0,0,0,0,0,0,0,0,0,0,0,0,0,0]
[1949,null,null,null,null,null,null,null,null,null,null,null,null,null,null,null,null,null,null,null,null,null,null,0,0,0,null,null,null,null,null,null,null,null,null,null,null,null,null,null,null,null,null,null,null,null,null,null,null,0,0,0,0,0,0,0,0,0,0,0,0,0,0,0,0,0,0,0,0,0,0,0,0,0]
[1950,null,null,null,null,null,null,null,null,null,null,null,null,null,null,null,null,null,null,null,null,null,null,0,0,0,null,null,null,null,null,null,null,null,null,null,null,null,null,null,null,null,null,null,null,null,null,null,null,0,0,0,0,0,0,0,0,0,0,0,0,0,0,0,0,0,0,0,0,0,0,0,0,0]
[1951,null,null,null,null,null,null,null,null,null,null,null,null,null,null,null,null,null,null,null,null,null,null,0,0,0,null,null,null,null,null,null,null,null,null,null,null,null,null,null,null,null,null,null,null,null,null,null,null,0,0,0,0,0,0,0,0,0,0,0,0,0,0,0,0,0,0,0,0,0,0,0,0,0]
[1952,null,null,null,null,null,null,null,null,null,null,null,null,null,null,null,null,null,null,null,null,null,null,0,0,0,null,null,null,null,null,null,null,null,null,null,null,null,null,null,null,null,null,null,null,null,null,null,null,0,0,0,0,0,0,0,0,0,0,0,0,0,0,0,0,0,0,0,0,0,0,0,0,0]
[1953,null,null,null,null,null,null,null,null,null,null,null,null,null,null,null,null,null,null,null,null,null,null,0,0,0,null,null,null,null,null,null,null,null,null,null,null,null,null,null,null,null,null,null,null,null,null,null,null,0,0,0,0,0,0,0,0,0,0,0,0,0,0,0,0,0,0,0,0,0,0,0,0,0]
[1954,null,null,null,null,null,null,null,null,null,null,null,null,null,null,null,null,null,null,null,null,null,null,0,0,0,null,null,null,null,null,null,null,null,null,null,null,null,null,null,null,null,null,null,null,null,null,null,null,0,0,0,0,0,0,0,0,0,0,0,0,0,0,0,0,0,0,0,0,0,0,0,0,0]
[1955,null,null,null,null,null,null,null,null,null,null,null,null,null,null,null,null,null,null,null,null,null,null,0,0,0,null,null,null,null,null,null,null,null,null,null,null,null,null,null,null,null,null,null,null,null,null,null,null,0,0,0,0,0,0,0,0,0,0,0,0,0,0,0,0,0,0,0,0,0,0,0,0,0]
[1956,null,null,null,null,null,null,null,null,null,null,null,null,null,null,null,null,null,null,null,null,null,null,0,0,0,null,null,null,null,null,null,null,null,null,null,null,null,null,null,null,null,null,null,null,null,null,null,null,0,0,0,0,0,0,0,0,0,0,0,0,0,0,0,0,0,0,0,0,0,0,0,0,0]
[1957,null,null,null,null,null,null,null,null,null,null,null,null,null,null,null,null,null,null,null,null,null,null,0,0,0,null,null,null,null,null,null,null,null,null,null,null,null,null,null,null,null,null,null,null,null,null,null,null,0,0,0,0,0,0,0,0,0,0,0,0,0,0,0,0,0,0,0,0,0,0,0,0,0]
[1958,null,null,null,null,null,null,null,null,null,null,null,null,null,null,null,null,null,null,null,null,null,null,0,0,0,null,null,null,null,null,null,null,null,null,null,null,null,null,null,null,null,null,null,null,null,null,null,null,0,0,0,0,0,0,0,0,0,0,0,0,0,0,0,0,0,0,0,0,0,0,0,0,0]
[1959,null,null,null,null,null,null,null,null,null,null,null,null,null,null,null,null,null,null,null,null,null,null,0,0,0,null,null,null,null,null,null,null,null,null,null,null,null,null,null,null,null,null,null,null,null,null,null,null,0,0,0,0,0,0,0,0,0,0,0,0,0,0,0,0,0,0,0,0,0,0,0,0,0]
[1960,null,null,null,null,null,null,null,null,null,null,null,null,null,null,null,null,null,null,null,null,null,null,0,0,0,null,null,null,null,null,null,null,null,null,null,null,null,null,null,null,null,null,null,null,null,null,null,null,0,0,0,0,0,0,0,0,0,0,0,0,0,0,0,0,0,0,0,0,0,0,0,0,0]
[1961,null,null,null,null,null,null,null,null,null,null,null,null,null,null,null,null,null,null,null,null,null,null,0,0,0,null,null,null,null,null,null,null,null,null,null,null,null,null,null,null,null,null,null,null,null,null,null,null,0,0,0,0,0,0,0,0,0,0,0,0,0,0,0,0,0,0,0,0,0,0,0,0,0]
[1962,null,null,null,null,null,null,null,null,null,null,null,null,null,null,null,null,null,null,null,null,null,null,0,0,0,null,null,null,null,null,null,null,null,null,null,null,null,null,null,null,null,null,null,null,null,null,null,null,0,0,0,0,0,0,0,0,0,0,0,0,0,0,0,0,0,0,0,0,0,0,0,0,0]
[1963,null,null,null,null,null,null,null,null,null,null,null,null,null,null,null,null,null,null,null,null,null,null,0,0,0,null,null,null,null,null,null,null,null,null,null,null,null,null,null,null,null,null,null,null,null,null,null,null,0,0,0,0,0,0,0,0,0,0,0,0,0,0,0,0,0,0,0,0,0,0,0,0,0]
[1964,null,null,null,null,null,null,null,null,null,null,null,null,null,null,null,null,null,null,null,null,null,null,0,0,0,null,null,null,null,null,null,null,null,null,null,null,null,null,null,null,null,null,null,null,null,null,null,null,0,0,0,0,0,0,0,0,0,0,0,0,0,0,0,0,0,0,0,0,0,0,0,0,0]
[1965,null,null,null,null,null,null,null,null,null,null,null,null,null,null,null,null,null,null,null,null,null,null,0,0,0,null,null,null,null,null,null,null,null,null,null,null,null,null,null,null,null,null,null,null,null,null,null,null,0,0,0,0,0,0,0,0,0,0,0,0,0,0,0,0,0,0,0,0,0,0,0,0,0]
[1966,null,null,null,null,null,null,null,null,null,null,null,null,null,null,null,null,null,null,null,null,null,null,0,0,0,null,null,null,null,null,null,null,null,null,null,null,null,null,null,null,null,null,null,null,null,null,null,null,0,0,0,0,0,0,0,0,0,0,0,0,0,0,0,0,0,0,0,0,0,0,0,0,0]
[1967,null,null,null,null,null,null,null,null,null,null,null,null,null,null,null,null,null,null,null,null,null,null,0,0,0,null,null,null,null,null,null,null,null,null,null,null,null,null,null,null,null,null,null,null,null,null,null,null,0,0,0,0,0,0,0,0,0,0,0,0,0,0,0,0,0,0,0,0,0,0,0,0,0]
[1968,null,null,null,null,null,null,null,null,null,null,null,null,null,null,null,null,null,null,null,null,null,null,0,0,0,null,null,null,null,null,null,null,null,null,null,null,null,null,null,null,null,null,null,null,null,null,null,null,0,0,0,0,0,0,0,0,0,0,0,0,0,0,0,0,0,0,0,0,0,0,0,0,0]
[1969,null,null,null,null,null,null,null,null,null,null,null,null,null,null,null,null,null,null,null,null,null,null,0,0,0,null,null,null,null,null,null,null,null,null,null,null,null,null,null,null,null,null,null,null,null,null,null,null,0,0,0,0,0,0,0,0,0,0,0,0,0,0,0,0,0,0,0,0,0,0,0,0,0]
[1970,null,null,null,null,null,null,null,null,null,null,null,null,null,null,null,null,null,null,null,null,null,null,0,0,0,null,null,null,null,null,null,null,null,null,null,null,null,null,null,null,null,null,null,null,null,null,null,null,0,0,0,0,0,0,0,0,0,0,0,0,0,0,0,0,0,0,0,0,0,0,0,0,0]
[1971,null,null,null,null,null,null,null,null,null,null,null,null,null,null,null,null,null,null,null,null,null,null,0,0,0,null,null,null,null,null,null,null,null,null,null,null,null,null,null,null,null,null,null,null,null,null,null,null,0,0,0,0,0,0,0,0,0,0,0,0,0,0,0,0,0,0,0,0,0,0,0,0,0]
[1972,null,null,null,null,null,null,null,null,null,null,null,null,null,null,null,null,null,null,null,null,null,null,0,0,0,null,null,null,null,null,null,null,null,null,null,null,null,null,null,null,null,null,null,null,null,null,null,null,0,0,0,0,0,0,0,0,0,0,0,0,0,0,0,0,0,0,0,0,0,0,0,0,0]
[1973,null,null,null,null,null,null,null,null,null,null,null,null,null,null,null,null,null,null,null,null,null,null,0,0,0,null,null,null,null,null,null,null,null,null,null,null,null,null,null,null,null,null,null,null,null,null,null,null,0,0,0,0,0,0,0,0,0,0,0,0,0,0,0,0,0,0,0,0,0,0,0,0,0]
[1974,null,null,null,null,null,null,null,null,null,null,null,null,null,null,null,null,null,null,null,null,null,null,0,0,0,null,null,null,null,null,null,null,null,null,null,null,null,null,null,null,null,null,null,null,null,null,null,null,0,0,0,0,0,0,0,0,0,0,0,0,0,0,0,0,0,0,0,0,0,0,0,0,0]
[1975,null,null,null,null,null,null,null,null,null,null,null,null,null,null,null,null,null,null,null,null,null,null,0,0,0,null,null,null,null,null,null,null,null,null,null,null,null,null,null,null,null,null,null,null,null,null,null,null,0,0,0,0,0,0,0,0,0,0,0,0,0,0,0,0,0,0,0,0,0,0,0,0,0]
[1976,null,null,null,null,null,null,null,null,null,null,null,null,null,null,null,null,null,null,null,null,null,null,0,0,0,null,null,null,null,null,null,null,null,null,null,null,null,null,null,null,null,null,null,null,null,null,null,null,0,0,0,0,0,0,0,0,0,0,0,0,0,0,0,0,0,0,0,0,0,0,0,0,0]
[1977,null,null,null,null,null,null,null,null,null,null,null,null,null,null,null,null,null,null,null,null,null,null,0,0,0,null,null,null,null,null,null,null,null,null,null,null,null,null,null,null,null,null,null,null,null,null,null,null,0,0,0,0,0,0,0,0,0,0,0,0,0,0,0,0,0,0,0,0,0,0,0,0,0]
[1978,null,null,null,null,null,null,null,null,null,null,null,null,null,null,null,null,null,null,null,null,null,null,0,0,0,null,null,null,null,null,null,null,null,null,null,null,null,null,null,null,null,null,null,null,null,null,null,null,0,0,0,0,0,0,0,0,0,0,0,0,0,0,0,0,0,0,0,0,0,0,0,0,0]
[1979,null,null,null,null,null,null,null,null,null,null,null,null,null,null,null,null,null,null,null,null,null,null,0,0,0,null,null,null,null,null,null,null,null,null,null,null,null,null,null,null,null,null,null,null,null,null,null,null,0,0,0,0,0,0,0,0,0,0,0,0,0,0,0,0,0,0,0,0,0,0,0,0,0]
[1980,null,null,null,null,null,null,null,null,null,null,null,null,null,null,null,null,null,null,null,null,null,null,0,0,0,null,null,null,null,null,null,null,null,null,null,null,null,null,null,null,null,null,null,null,null,null,null,null,0,0,0,0,0,0,0,0,0,0,0,0,0,0,0,0,0,0,0,0,0,0,0,0,0]
[1981,null,null,null,null,null,null,null,null,null,null,null,null,null,null,null,null,null,null,null,null,null,null,0,0,0,null,null,null,null,null,null,null,null,null,null,null,null,null,null,null,null,null,null,null,null,null,null,null,0,0,0,0,0,0,0,0,0,0,0,0,0,0,0,0,0,0,0,0,0,0,0,0,0]
[1982,null,null,null,null,null,null,null,null,null,null,null,null,null,null,null,null,null,null,null,null,null,null,0,0,0,null,null,null,null,null,null,null,null,null,null,null,null,null,null,null,null,null,null,null,null,null,null,null,0,0,0,0,0,0,0,0,0,0,0,0,0,0,0,0,0,0,0,0,0,0,0,0,0]
[1983,null,null,null,null,null,null,null,null,null,null,null,null,null,null,null,null,null,null,null,null,null,null,0,0,0,null,null,null,null,null,null,null,null,null,null,null,null,null,null,null,null,null,null,null,null,null,null,null,0,0,0,0,0,0,0,0,0,0,0,0,0,0,0,0,0,0,0,0,0,0,0,0,0]
[1984,null,null,null,null,null,null,null,null,null,null,null,null,null,null,null,null,null,null,null,null,null,null,0,0,0,null,null,null,null,null,null,null,null,null,null,null,null,null,null,null,null,null,null,null,null,null,null,null,0,0,0,0,0,0,0,0,0,0,0,0,0,0,0,0,0,0,0,0,0,0,0,0,0]
[1985,null,null,null,null,null,null,null,null,null,null,null,null,null,null,null,null,null,null,null,null,null,null,0,0,0,null,null,null,null,null,null,null,null,null,null,null,null,null,null,null,null,null,null,null,null,null,null,null,{"$f":"SUMPRODUCT(COUNTIF($C1987:$V1987,$AB$17:$AC$18))","v":0},{"$f":"SUMPRODUCT(COUNTIF($C1987:$V1987,$AD$17:$AE$18))","v":0},{"$f":"SUMPRODUCT(COUNTIF($C1987:$V1987,$AF$17:$AG$18))","v":0},{"$f":"SUMPRODUCT(COUNTIF($C1987:$V1987,$AH$17:$AI$18))","v":0},{"$f":"SUMPRODUCT(COUNTIF($C1987:$V1987,$AJ$17:$AK$18))","v":0},{"$f":"SUMPRODUCT(COUNTIF($C1987:$V1987,$AB$19:$AC$20))","v":0},{"$f":"SUMPRODUCT(COUNTIF($C1987:$V1987,$AD$19:$AE$20))","v":0},{"$f":"SUMPRODUCT(COUNTIF($C1987:$V1987,$AF$19:$AG$20))","v":0},{"$f":"SUMPRODUCT(COUNTIF($C1987:$V1987,$AH$19:$AI$20))","v":0},{"$f":"SUMPRODUCT(COUNTIF($C1987:$V1987,$AJ$19:$AK$20))","v":0},{"$f":"SUMPRODUCT(COUNTIF($C1987:$V1987,$AB$21:$AC$22))","v":0},{"$f":"SUMPRODUCT(COUNTIF($C1987:$V1987,$AD$21:$AE$22))","v":0},{"$f":"SUMPRODUCT(COUNTIF($C1987:$V1987,$AF$21:$AG$22))","v":0},{"$f":"SUMPRODUCT(COUNTIF($C1987:$V1987,$AH$21:$AI$22))","v":0},{"$f":"SUMPRODUCT(COUNTIF($C1987:$V1987,$AJ$21:$AK$22))","v":0},{"$f":"SUMPRODUCT(COUNTIF($C1987:$V1987,$AB$23:$AC$24))","v":0},{"$f":"SUMPRODUCT(COUNTIF($C1987:$V1987,$AD$23:$AE$24))","v":0},{"$f":"SUMPRODUCT(COUNTIF($C1987:$V1987,$AF$23:$AG$24))","v":0},{"$f":"SUMPRODUCT(COUNTIF($C1987:$V1987,$AH$23:$AI$24))","v":0},{"$f":"SUMPRODUCT(COUNTIF($C1987:$V1987,$AJ$23:$AK$24))","v":0},{"$f":"SUMPRODUCT(COUNTIF($C1987:$V1987,$AB$25:$AC$26))","v":0},{"$f":"SUMPRODUCT(COUNTIF($C1987:$V1987,$AD$25:$AE$26))","v":0},{"$f":"SUMPRODUCT(COUNTIF($C1987:$V1987,$AF$25:$AG$26))","v":0},{"$f":"SUMPRODUCT(COUNTIF($C1987:$V1987,$AH$25:$AI$26))","v":0},{"$f":"SUMPRODUCT(COUNTIF($C1987:$V1987,$AJ$25:$AK$26))","v":0}]
[1986,null,null,null,null,null,null,null,null,null,null,null,null,null,null,null,null,null,null,null,null,null,null,{"$f":"SUMPRODUCT(COUNTIF(C1988:V1988,C1987:V1987))","v":0},{"$f":"SUMPRODUCT(N(MOD((C1988:V1988),2)=0)*(C1988:V1988>0))","v":0},{"$f":"SUM(C1988:V1988)","v":0},null,null,null,null,null,null,null,null,null,null,null,null,null,null,null,null,null,null,null,null,null,null,null,0,0,0,0,0,0,0,0,0,0,0,0,0,0,0,0,0,0,0,0,0,0,0,0,0]
[1987,null,null,null,null,null,null,null,null,null,null,null,null,null,null,null,null,null,null,null,null,null,null,0,0,0,null,null,null,null,null,null,null,null,null,null,null,null,null,null,null,null,null,null,null,null,null,null,null,0,0,0,0,0,0,0,0,0,0,0,0,0,0,0,0,0,0,0,0,0,0,0,0,0]
[1988,null,null,null,null,null,null,null,null,null,null,null,null,null,null,null,null,null,null,null,null,null,null,0,0,0,null,null,null,null,null,null,null,null,null,null,null,null,null,null,null,null,null,null,null,null,null,null,null,0,0,0,0,0,0,0,0,0,0,0,0,0,0,0,0,0,0,0,0,0,0,0,0,0]
[1989,null,null,null,null,null,null,null,null,null,null,null,null,null,null,null,null,null,null,null,null,null,null,0,0,0,null,null,null,null,null,null,null,null,null,null,null,null,null,null,null,null,null,null,null,null,null,null,null,0,0,0,0,0,0,0,0,0,0,0,0,0,0,0,0,0,0,0,0,0,0,0,0,0]
[1990,null,null,null,null,null,null,null,null,null,null,null,null,null,null,null,null,null,null,null,null,null,null,0,0,0,null,null,null,null,null,null,null,null,null,null,null,null,null,null,null,null,null,null,null,null,null,null,null,0,0,0,0,0,0,0,0,0,0,0,0,0,0,0,0,0,0,0,0,0,0,0,0,0]
[1991,null,null,null,null,null,null,null,null,null,null,null,null,null,null,null,null,null,null,null,null,null,null,0,0,0,null,null,null,null,null,null,null,null,null,null,null,null,null,null,null,null,null,null,null,null,null,null,null,0,0,0,0,0,0,0,0,0,0,0,0,0,0,0,0,0,0,0,0,0,0,0,0,0]
[1992,null,null,null,null,null,null,null,null,null,null,null,null,null,null,null,null,null,null,null,null,null,null,0,0,0,null,null,null,null,null,null,null,null,null,null,null,null,null,null,null,null,null,null,null,null,null,null,null,0,0,0,0,0,0,0,0,0,0,0,0,0,0,0,0,0,0,0,0,0,0,0,0,0]
[1993,null,null,null,null,null,null,null,null,null,null,null,null,null,null,null,null,null,null,null,null,null,null,0,0,0,null,null,null,null,null,null,null,null,null,null,null,null,null,null,null,null,null,null,null,null,null,null,null,0,0,0,0,0,0,0,0,0,0,0,0,0,0,0,0,0,0,0,0,0,0,0,0,0]
[1994,null,null,null,null,null,null,null,null,null,null,null,null,null,null,null,null,null,null,null,null,null,null,0,0,0,null,null,null,null,null,null,null,null,null,null,null,null,null,null,null,null,null,null,null,null,null,null,null,0,0,0,0,0,0,0,0,0,0,0,0,0,0,0,0,0,0,0,0,0,0,0,0,0]
[1995,null,null,null,null,null,null,null,null,null,null,null,null,null,null,null,null,null,null,null,null,null,null,0,0,0,null,null,null,null,null,null,null,null,null,null,null,null,null,null,null,null,null,null,null,null,null,null,null,0,0,0,0,0,0,0,0,0,0,0,0,0,0,0,0,0,0,0,0,0,0,0,0,0]
[1996,null,null,null,null,null,null,null,null,null,null,null,null,null,null,null,null,null,null,null,null,null,null,0,0,0,null,null,null,null,null,null,null,null,null,null,null,null,null,null,null,null,null,null,null,null,null,null,null,0,0,0,0,0,0,0,0,0,0,0,0,0,0,0,0,0,0,0,0,0,0,0,0,0]
[1997,null,null,null,null,null,null,null,null,null,null,null,null,null,null,null,null,null,null,null,null,null,null,0,0,0,null,null,null,null,null,null,null,null,null,null,null,null,null,null,null,null,null,null,null,null,null,null,null,0,0,0,0,0,0,0,0,0,0,0,0,0,0,0,0,0,0,0,0,0,0,0,0,0]
[1998,null,null,null,null,null,null,null,null,null,null,null,null,null,null,null,null,null,null,null,null,null,null,0,0,0,null,null,null,null,null,null,null,null,null,null,null,null,null,null,null,null,null,null,null,null,null,null,null,0,0,0,0,0,0,0,0,0,0,0,0,0,0,0,0,0,0,0,0,0,0,0,0,0]
[1999,null,null,null,null,null,null,null,null,null,null,null,null,null,null,null,null,null,null,null,null,null,null,0,0,0,null,null,null,null,null,null,null,null,null,null,null,null,null,null,null,null,null,null,null,null,null,null,null,0,0,0,0,0,0,0,0,0,0,0,0,0,0,0,0,0,0,0,0,0,0,0,0,0]
[2000,null,null,null,null,null,null,null,null,null,null,null,null,null,null,null,null,null,null,null,null,null,null,0,0,0,null,null,null,null,null,null,null,null,null,null,null,null,null,null,null,null,null,null,null,null,null,null,null,0,0,0,0,0,0,0,0,0,0,0,0,0,0,0,0,0,0,0,0,0,0,0,0,0]

{"sheet":"Matrix","index":1,"n_rows":72,"n_cols":123,"rows_kept":72,"cut":false,"hidden":false,"merged":[[1,1,1,2],[1,15,1,16],[1,17,1,18],[1,5,1,14],[1,3,1,4],[0,78,0,80],[3,92,3,94],[1,84,10,84],[1,19,1,20],[4,21,10,21],[1,53,10,53],[4,18,5,19],[4,32,10,32]]}
[null,null,null,null,null,null,null,null,null,null,null,null,null,null,null,null,null,null,null,null,null,null,null,null,null,null,null,null,null,null,null,null,null,null,null,null,null,null,null,null,null,null,null,null,null,null,null,{"$f":"SUM(\nIF(SUMPRODUCT(COUNTIF($D$3:$W$3,$AV$2:$AZ$2)),1,0)+IF(SUMPRODUCT(COUNTIF($D$3:$W$3,$AV$3:$AZ$3)),1,0)+IF(SUMPRODUCT(COUNTIF($D$3:$W$3,$AV$4:$AZ$4)),1,0)+IF(SUMPRODUCT(COUNTIF($D$3:$W$3,$AV$5:$AZ$5)),1,0)+IF(SUMPRODUCT(COUNTIF($D$3:$W$3,$AV$6:$AZ$6)),1,0)+IF(SUMPRODUCT(COUNTIF($D$3:$W$3,$AV$7:$AZ$7)),1,0)+IF(SUMPRODUCT(COUNTIF($D$3:$W$3,$AV$8:$AZ$8)),1,0)+IF(SUMPRODUCT(COUNTIF($D$3:$W$3,$AV$9:$AZ$9)),1,0)+IF(SUMPRODUCT(COUNTIF($D$3:$W$3,$AV$10:$AZ$10)),1,0)+IF(SUMPRODUCT(COUNTIF($D$3:$W$3,$AV$11:$AZ$11)),1,0)\n)&\"  Linhas\"","v":"6  Linhas"},null,null,null,null,null,null,null,null,null,null,null,null,null,null,null,null,null,null,null,null,null,null,null,null,null,null,null,null,null,null,{"$f":"$B$2","v":1869}]
[null,1869,null,null,null,"RESULTADO DO SORTEIO",null,null,null,null,null,null,null,null,null,{"$f":"SUMPRODUCT(COUNTIF($B$3:$U$3,B4:U4))","v":4},null,{"$f":"SUMPRODUCT(N(MOD((B3:U3),2)=0)*(B3:U3>0))","v":9},null,{"$f":"SUM(B3:U3)","v":863},null,null,1,2,3,4,5,6,7,8,9,10,null,{"$f":"IF(B15=\"F\",\"F\",IF(B15=\"X\",\"X\",1))","v":"X"},{"$f":"IF(C15=\"F\",\"F\",IF(C15=\"X\",\"X\",2))","v":"X"},{"$f":"IF(D15=\"F\",\"F\",IF(D15=\"X\",\"X\",3))","v":3},{"$f":"IF(E15=\"F\",\"F\",IF(E15=\"X\",\"X\",4))","v":"F"},{"$f":"IF(F15=\"F\",\"F\",IF(F15=\"X\",\"X\",5))","v":"F"},{"$f":"IF(G15=\"F\",\"F\",IF(G15=\"X\",\"X\",6))","v":6},{"$f":"IF(H15=\"F\",\"F\",IF(H15=\"X\",\"X\",7))","v":"X"},{"$f":"IF(I15=\"F\",\"F\",IF(I15=\"X\",\"X\",8))","v":8},{"$f":"IF(J15=\"F\",\"F\",IF(J15=\"X\",\"X\",9))","v":"X"},{"$f":"IF(K15=\"F\",\"F\",IF(K15=\"X\",\"X\",10))","v":"F"},{"$f":"COUNTIF($AH$2:$AQ$11,\"X\")","v":20},"X",null,null,{"$f":"IFERROR(SMALL($AH$2:$AQ$11,21),\"\")","v":58},{"$f":"IFERROR(SMALL($AH$2:$AQ$11,22),\"\")","v":59},{"$f":"IFERROR(SMALL($AH$2:$AQ$11,23),\"\")","v":60},{"$f":"IFERROR(SMALL($AH$2:$AQ$11,24),\"\")","v":63},{"$f":"IFERROR(SMALL($AH$2:$AQ$11,25),\"\")","v":64},{"$f":"SUM(INDEX(($B$67:$CW$67,$B$69:$CW$69),1,AW2,2)+INDEX(($B$67:$CW$67,$B$69:$CW$69),1,AX2,2)+INDEX(($B$67:$CW$67,$B$69:$CW$69),1,AY2,2)+INDEX(($B$67:$CW$67,$B$69:$CW$69),1,AZ2,2)+INDEX(($B$67:$CW$67,$B$69:$CW$69),1,AV2,2))","v":32},"Quadro Freq. 25 Sorteios",{"$f":"J!AD167","v":38},{"$f":"J!AE167","v":72},{"$f":"J!AF167","v":60},{"$f":"J!AG167","v":14},{"$f":"J!AH167","v":64},{"$f":"J!AI167","v":6},{"$f":"J!AJ167","v":32},{"$f":"J!AK167","v":12},{"$f":"J!AL167","v":8},{"$f":"J!AM167","v":26},null,"A","Veio no atual",null,null,null,null,null,null,null,null,null,null,null,null,null,null,null,null,null,"Formação dos OPOSTOS + GÊMEOS",null,null,null,null,"ByJ",null,"ByJ",null,"ByJ"]
[null,{"$f":"VLOOKUP($B$2,J!$A$3:$V$4000,3,FALSE)","v":12},{"$f":"VLOOKUP($B$2,J!$A$3:$V$4000,4,FALSE)","v":13},{"$f":"VLOOKUP($B$2,J!$A$3:$V$4000,5,FALSE)","v":18},{"$f":"VLOOKUP($B$2,J!$A$3:$V$4000,6,FALSE)","v":20},{"$f":"VLOOKUP($B$2,J!$A$3:$V$4000,7,FALSE)","v":21},{"$f":"VLOOKUP($B$2,J!$A$3:$V$4000,8,FALSE)","v":26},{"$f":"VLOOKUP($B$2,J!$A$3:$V$4000,9,FALSE)","v":27},{"$f":"VLOOKUP($B$2,J!$A$3:$V$4000,10,FALSE)","v":30},{"$f":"VLOOKUP($B$2,J!$A$3:$V$4000,11,FALSE)","v":32},{"$f":"VLOOKUP($B$2,J!$A$3:$V$4000,12,FALSE)","v":33},{"$f":"VLOOKUP($B$2,J!$A$3:$V$4000,13,FALSE)","v":36},{"$f":"VLOOKUP($B$2,J!$A$3:$V$4000,14,FALSE)","v":41},{"$f":"VLOOKUP($B$2,J!$A$3:$V$4000,15,FALSE)","v":43},{"$f":"VLOOKUP($B$2,J!$A$3:$V$4000,16,FALSE)","v":48},{"$f":"VLOOKUP($B$2,J!$A$3:$V$4000,17,FALSE)","v":49},{"$f":"VLOOKUP($B$2,J!$A$3:$V$4000,18,FALSE)","v":65},{"$f":"VLOOKUP($B$2,J!$A$3:$V$4000,19,FALSE)","v":75},{"$f":"VLOOKUP($B$2,J!$A$3:$V$4000,20,FALSE)","v":83},{"$f":"VLOOKUP($B$2,J!$A$3:$V$4000,21,FALSE)","v":95},{"$f":"VLOOKUP($B$2,J!$A$3:$V$4000,22,FALSE)","v":96},null,11,12,13,14,15,16,17,18,19,20,null,{"$f":"IF(L15=\"F\",\"F\",IF(L15=\"X\",\"X\",11))","v":"X"},{"$f":"IF(M15=\"F\",\"F\",IF(M15=\"X\",\"X\",12))","v":"F"},{"$f":"IF(N15=\"F\",\"F\",IF(N15=\"X\",\"X\",13))","v":"F"},{"$f":"IF(O15=\"F\",\"F\",IF(O15=\"X\",\"X\",14))","v":"X"},{"$f":"IF(P15=\"F\",\"F\",IF(P15=\"X\",\"X\",15))","v":"F"},{"$f":"IF(Q15=\"F\",\"F\",IF(Q15=\"X\",\"X\",16))","v":"F"},{"$f":"IF(R15=\"F\",\"F\",IF(R15=\"X\",\"X\",17))","v":17},{"$f":"IF(S15=\"F\",\"F\",IF(S15=\"X\",\"X\",18))","v":"F"},{"$f":"IF(T15=\"F\",\"F\",IF(T15=\"X\",\"X\",19))","v":"F"},{"$f":"IF(U15=\"F\",\"F\",IF(U15=\"X\",\"X\",20))","v":20}," = 22 Fixos",null,null,null,{"$f":"IFERROR(SMALL($AH$2:$AQ$11,1),\"\")","v":3},{"$f":"IFERROR(SMALL($AH$2:$AQ$11,2),\"\")","v":6},{"$f":"IFERROR(SMALL($AH$2:$AQ$11,3),\"\")","v":8},{"$f":"IFERROR(SMALL($AH$2:$AQ$11,4),\"\")","v":17},{"$f":"IFERROR(SMALL($AH$2:$AQ$11,5),\"\")","v":20},{"$f":"SUM(INDEX(($B$67:$CW$67,$B$69:$CW$69),1,AW3,2)+INDEX(($B$67:$CW$67,$B$69:$CW$69),1,AX3,2)+INDEX(($B$67:$CW$67,$B$69:$CW$69),1,AY3,2)+INDEX(($B$67:$CW$67,$B$69:$CW$69),1,AZ3,2)+INDEX(($B$67:$CW$67,$B$69:$CW$69),1,AV3,2))","v":31},null,{"$f":"J!AD168","v":61},{"$f":"J!AE168","v":95},{"$f":"J!AF168","v":79},{"$f":"J!AG168","v":75},{"$f":"J!AH168","v":41},{"$f":"J!AI168","v":39},{"$f":"J!AJ168","v":99},{"$f":"J!AK168","v":65},{"$f":"J!AL168","v":35},{"$f":"J!AM168","v":1},null,"A","Veio no anterior",null,null,null,null,null,null,null,null,null,null,null,null,null,null,"ByJ",null,null,null,null,null,null,null,"Nando",null,"Nando",null,"Nando"]
[null,{"$f":"VLOOKUP($B$2-1,J!$A$3:$V$4000,3,FALSE)","v":0},{"$f":"VLOOKUP($B$2-1,J!$A$3:$V$4000,4,FALSE)","v":8},{"$f":"VLOOKUP($B$2-1,J!$A$3:$V$4000,5,FALSE)","v":12},{"$f":"VLOOKUP($B$2-1,J!$A$3:$V$4000,6,FALSE)","v":22},{"$f":"VLOOKUP($B$2-1,J!$A$3:$V$4000,7,FALSE)","v":27},{"$f":"VLOOKUP($B$2-1,J!$A$3:$V$4000,8,FALSE)","v":29},{"$f":"VLOOKUP($B$2-1,J!$A$3:$V$4000,9,FALSE)","v":31},{"$f":"VLOOKUP($B$2-1,J!$A$3:$V$4000,10,FALSE)","v":39},{"$f":"VLOOKUP($B$2-1,J!$A$3:$V$4000,11,FALSE)","v":40},{"$f":"VLOOKUP($B$2-1,J!$A$3:$V$4000,12,FALSE)","v":42},{"$f":"VLOOKUP($B$2-1,J!$A$3:$V$4000,13,FALSE)","v":47},{"$f":"VLOOKUP($B$2-1,J!$A$3:$V$4000,14,FALSE)","v":48},{"$f":"VLOOKUP($B$2-1,J!$A$3:$V$4000,15,FALSE)","v":51},{"$f":"VLOOKUP($B$2-1,J!$A$3:$V$4000,16,FALSE)","v":60},{"$f":"VLOOKUP($B$2-1,J!$A$3:$V$4000,17,FALSE)","v":61},{"$f":"VLOOKUP($B$2-1,J!$A$3:$V$4000,18,FALSE)","v":64},{"$f":"VLOOKUP($B$2-1,J!$A$3:$V$4000,19,FALSE)","v":87},{"$f":"VLOOKUP($B$2-1,J!$A$3:$V$4000,20,FALSE)","v":89},{"$f":"VLOOKUP($B$2-1,J!$A$3:$V$4000,21,FALSE)","v":95},{"$f":"VLOOKUP($B$2-1,J!$A$3:$V$4000,22,FALSE)","v":99},null,21,22,23,24,25,26,27,28,29,30,null,{"$f":"IF(V15=\"F\",\"F\",IF(V15=\"X\",\"X\",21))","v":21},{"$f":"IF(W15=\"F\",\"F\",IF(W15=\"X\",\"X\",22))","v":22},{"$f":"IF(X15=\"F\",\"F\",IF(X15=\"X\",\"X\",23))","v":"F"},{"$f":"IF(Y15=\"F\",\"F\",IF(Y15=\"X\",\"X\",24))","v":24},{"$f":"IF(Z15=\"F\",\"F\",IF(Z15=\"X\",\"X\",25))","v":25},{"$f":"IF(AA15=\"F\",\"F\",IF(AA15=\"X\",\"X\",26))","v":"X"},{"$f":"IF(AB15=\"F\",\"F\",IF(AB15=\"X\",\"X\",27))","v":27},{"$f":"IF(AC15=\"F\",\"F\",IF(AC15=\"X\",\"X\",28))","v":28},{"$f":"IF(AD15=\"F\",\"F\",IF(AD15=\"X\",\"X\",29))","v":"F"},{"$f":"IF(AE15=\"F\",\"F\",IF(AE15=\"X\",\"X\",30))","v":"F"},null,null,null,null,{"$f":"IFERROR(SMALL($AH$2:$AQ$11,31),\"\")","v":70},{"$f":"IFERROR(SMALL($AH$2:$AQ$11,32),\"\")","v":71},{"$f":"IFERROR(SMALL($AH$2:$AQ$11,33),\"\")","v":72},{"$f":"IFERROR(SMALL($AH$2:$AQ$11,34),\"\")","v":73},{"$f":"IFERROR(SMALL($AH$2:$AQ$11,35),\"\")","v":74},{"$f":"SUM(INDEX(($B$67:$CW$67,$B$69:$CW$69),1,AW4,2)+INDEX(($B$67:$CW$67,$B$69:$CW$69),1,AX4,2)+INDEX(($B$67:$CW$67,$B$69:$CW$69),1,AY4,2)+INDEX(($B$67:$CW$67,$B$69:$CW$69),1,AZ4,2)+INDEX(($B$67:$CW$67,$B$69:$CW$69),1,AV4,2))","v":29},null,{"$f":"J!AD169","v":20},{"$f":"J!AE169","v":0},{"$f":"J!AF169","v":70},{"$f":"J!AG169","v":80},{"$f":"J!AH169","v":74},{"$f":"J!AI169","v":56},{"$f":"J!AJ169","v":48},{"$f":"J!AK169","v":78},{"$f":"J!AL169","v":30},{"$f":"J!AM169","v":94},null,"A","Veio no antipenultimo",null,null,null,null,null,null,null,null,null,null,null,null,null,null,"Nando",null,null,null,null,null,null,null," ͡͡ ° ͜ ʖ ͡ °   ♣",null,null,"የቢሚን ዲያስ"]
[null,"Números GÊMEOS (Capicuas)",null,null,null,null,null,"Números OPOSTOS",null,null,null,null,{"$f":"SUMPRODUCT(COUNTIF($B$3:$U$3,$W$2:$X$3))","v":1},{"$f":"SUMPRODUCT(COUNTIF($B$3:$U$3,$Y$2:$Z$3))","v":1},{"$f":"SUMPRODUCT(COUNTIF($B$3:$U$3,$AA$2:$AB$3))","v":0},{"$f":"SUMPRODUCT(COUNTIF($B$3:$U$3,$AC$2:$AD$3))","v":1},{"$f":"SUMPRODUCT(COUNTIF($B$3:$U$3,$AE$2:$AF$3))","v":1},null,"&",null,null,"Quadro das VINDAS",31,32,33,34,35,36,37,38,39,40,"Quadro das ESCOLHAS",{"$f":"IF(AF15=\"F\",\"F\",IF(AF15=\"X\",\"X\",31))","v":"F"},{"$f":"IF(AG15=\"F\",\"F\",IF(AG15=\"X\",\"X\",32))","v":32},{"$f":"IF(AH15=\"F\",\"F\",IF(AH15=\"X\",\"X\",33))","v":"F"},{"$f":"IF(AI15=\"F\",\"F\",IF(AI15=\"X\",\"X\",34))","v":"F"},{"$f":"IF(AJ15=\"F\",\"F\",IF(AJ15=\"X\",\"X\",35))","v":35},{"$f":"IF(AK15=\"F\",\"F\",IF(AK15=\"X\",\"X\",36))","v":"F"},{"$f":"IF(AL15=\"F\",\"F\",IF(AL15=\"X\",\"X\",37))","v":"X"},{"$f":"IF(AM15=\"F\",\"F\",IF(AM15=\"X\",\"X\",38))","v":38},{"$f":"IF(AN15=\"F\",\"F\",IF(AN15=\"X\",\"X\",39))","v":39},{"$f":"IF(AO15=\"F\",\"F\",IF(AO15=\"X\",\"X\",40))","v":40},{"$f":"COUNTIF($AH$2:$AQ$11,\"F\")","v":30},"F",null,null,{"$f":"IFERROR(SMALL($AH$2:$AQ$11,46),\"\")","v":94},{"$f":"IFERROR(SMALL($AH$2:$AQ$11,47),\"\")","v":95},{"$f":"IFERROR(SMALL($AH$2:$AQ$11,48),\"\")","v":97},{"$f":"IFERROR(SMALL($AH$2:$AQ$11,49),\"\")","v":98},{"$f":"IFERROR(SMALL($AH$2:$AQ$11,50),\"\")","v":99},{"$f":"SUM(INDEX(($B$67:$CW$67,$B$69:$CW$69),1,AW5,2)+INDEX(($B$67:$CW$67,$B$69:$CW$69),1,AX5,2)+INDEX(($B$67:$CW$67,$B$69:$CW$69),1,AY5,2)+INDEX(($B$67:$CW$67,$B$69:$CW$69),1,AZ5,2)+INDEX(($B$67:$CW$67,$B$69:$CW$69),1,AV5,2))","v":29},null,{"$f":"J!AD170","v":51},{"$f":"J!AE170","v":53},{"$f":"J!AF170","v":85},{"$f":"J!AG170","v":9},{"$f":"J!AH170","v":71},{"$f":"J!AI170","v":93},{"$f":"J!AJ170","v":3},{"$f":"J!AK170","v":91},{"$f":"J!AL170","v":77},{"$f":"J!AM170","v":5},null,"A","Veio nos 3 últimos  sorteios",null,null,null,null,null,null,null,null,null,null,null,null,null,null,null,null,null,null,null,null,null,null,null,null,null,"(๏.๏)"]
[null,"00",11,22,33,44,55,66,77,88,99,null,{"$f":"SUMPRODUCT(COUNTIF($B$3:$U$3,$W$4:$X$5))","v":2},{"$f":"SUMPRODUCT(COUNTIF($B$3:$U$3,$Y$4:$Z$5))","v":1},{"$f":"SUMPRODUCT(COUNTIF($B$3:$U$3,$AA$4:$AB$5))","v":2},{"$f":"SUMPRODUCT(COUNTIF($B$3:$U$3,$AC$4:$AD$5))","v":1},{"$f":"SUMPRODUCT(COUNTIF($B$3:$U$3,$AE$4:$AF$5))","v":1},null,null,null,null,null,41,42,43,44,45,46,47,48,49,50,null,{"$f":"IF(AP15=\"F\",\"F\",IF(AP15=\"X\",\"X\",41))","v":"X"},{"$f":"IF(AQ15=\"F\",\"F\",IF(AQ15=\"X\",\"X\",42))","v":"F"},{"$f":"IF(AR15=\"F\",\"F\",IF(AR15=\"X\",\"X\",43))","v":"F"},{"$f":"IF(AS15=\"F\",\"F\",IF(AS15=\"X\",\"X\",44))","v":"X"},{"$f":"IF(AT15=\"F\",\"F\",IF(AT15=\"X\",\"X\",45))","v":"F"},{"$f":"IF(AU15=\"F\",\"F\",IF(AU15=\"X\",\"X\",46))","v":"F"},{"$f":"IF(AV15=\"F\",\"F\",IF(AV15=\"X\",\"X\",47))","v":"F"},{"$f":"IF(AW15=\"F\",\"F\",IF(AW15=\"X\",\"X\",48))","v":48},{"$f":"IF(AX15=\"F\",\"F\",IF(AX15=\"X\",\"X\",49))","v":"F"},{"$f":"IF(AY15=\"F\",\"F\",IF(AY15=\"X\",\"X\",50))","v":"F"}," = 30 Retirados",null,null,null,{"$f":"IFERROR(SMALL($AH$2:$AQ$11,11),\"\")","v":28},{"$f":"IFERROR(SMALL($AH$2:$AQ$11,12),\"\")","v":32},{"$f":"IFERROR(SMALL($AH$2:$AQ$11,13),\"\")","v":35},{"$f":"IFERROR(SMALL($AH$2:$AQ$11,14),\"\")","v":38},{"$f":"IFERROR(SMALL($AH$2:$AQ$11,15),\"\")","v":39},{"$f":"SUM(INDEX(($B$67:$CW$67,$B$69:$CW$69),1,AW6,2)+INDEX(($B$67:$CW$67,$B$69:$CW$69),1,AX6,2)+INDEX(($B$67:$CW$67,$B$69:$CW$69),1,AY6,2)+INDEX(($B$67:$CW$67,$B$69:$CW$69),1,AZ6,2)+INDEX(($B$67:$CW$67,$B$69:$CW$69),1,AV6,2))","v":29},null,{"$f":"J!AD171","v":84},{"$f":"J!AE171","v":46},{"$f":"J!AF171","v":76},{"$f":"J!AG171","v":50},{"$f":"J!AH171","v":24},{"$f":"J!AI171","v":44},{"$f":"J!AJ171","v":92},{"$f":"J!AK171","v":62},{"$f":"J!AL171","v":40},{"$f":"J!AM171","v":22},null,"A","Veio nos 4 últimos  sorteios"]
[null,null,null,null,null,null,null,null,null,null,null,null,{"$f":"SUMPRODUCT(COUNTIF($B$3:$U$3,$W$6:$X$7))","v":1},{"$f":"SUMPRODUCT(COUNTIF($B$3:$U$3,$Y$6:$Z$7))","v":1},{"$f":"SUMPRODUCT(COUNTIF($B$3:$U$3,$AA$6:$AB$7))","v":0},{"$f":"SUMPRODUCT(COUNTIF($B$3:$U$3,$AC$6:$AD$7))","v":1},{"$f":"SUMPRODUCT(COUNTIF($B$3:$U$3,$AE$6:$AF$7))","v":1},null,null,null,null,null,51,52,53,54,55,56,57,58,59,60,null,{"$f":"IF(AZ15=\"F\",\"F\",IF(AZ15=\"X\",\"X\",51))","v":"X"},{"$f":"IF(BA15=\"F\",\"F\",IF(BA15=\"X\",\"X\",52))","v":"X"},{"$f":"IF(BB15=\"F\",\"F\",IF(BB15=\"X\",\"X\",53))","v":53},{"$f":"IF(BC15=\"F\",\"F\",IF(BC15=\"X\",\"X\",54))","v":"F"},{"$f":"IF(BD15=\"F\",\"F\",IF(BD15=\"X\",\"X\",55))","v":55},{"$f":"IF(BE15=\"F\",\"F\",IF(BE15=\"X\",\"X\",56))","v":"X"},{"$f":"IF(BF15=\"F\",\"F\",IF(BF15=\"X\",\"X\",57))","v":57},{"$f":"IF(BG15=\"F\",\"F\",IF(BG15=\"X\",\"X\",58))","v":58},{"$f":"IF(BH15=\"F\",\"F\",IF(BH15=\"X\",\"X\",59))","v":59},{"$f":"IF(BI15=\"F\",\"F\",IF(BI15=\"X\",\"X\",60))","v":60},null,null,null,null,{"$f":"IFERROR(SMALL($AH$2:$AQ$11,16),\"\")","v":40},{"$f":"IFERROR(SMALL($AH$2:$AQ$11,17),\"\")","v":48},{"$f":"IFERROR(SMALL($AH$2:$AQ$11,18),\"\")","v":53},{"$f":"IFERROR(SMALL($AH$2:$AQ$11,19),\"\")","v":55},{"$f":"IFERROR(SMALL($AH$2:$AQ$11,20),\"\")","v":57},{"$f":"SUM(INDEX(($B$67:$CW$67,$B$69:$CW$69),1,AW7,2)+INDEX(($B$67:$CW$67,$B$69:$CW$69),1,AX7,2)+INDEX(($B$67:$CW$67,$B$69:$CW$69),1,AY7,2)+INDEX(($B$67:$CW$67,$B$69:$CW$69),1,AZ7,2)+INDEX(($B$67:$CW$67,$B$69:$CW$69),1,AV7,2))","v":23},null,{"$f":"J!AD172","v":31},{"$f":"J!AE172","v":45},{"$f":"J!AF172","v":43},{"$f":"J!AG172","v":37},{"$f":"J!AH172","v":13},{"$f":"J!AI172","v":97},{"$f":"J!AJ172","v":19},{"$f":"J!AK172","v":57},{"$f":"J!AL172","v":63},{"$f":"J!AM172","v":49},null,"A","Não veio está em atraso a + de 4 Sorteios"]
[null,null,null,null,null,null,null,null,null,null,null,null,{"$f":"SUMPRODUCT(COUNTIF($B$3:$U$3,$W$8:$X$9))","v":0},{"$f":"SUMPRODUCT(COUNTIF($B$3:$U$3,$Y$8:$Z$9))","v":0},{"$f":"SUMPRODUCT(COUNTIF($B$3:$U$3,$AA$8:$AB$9))","v":2},{"$f":"SUMPRODUCT(COUNTIF($B$3:$U$3,$AC$8:$AD$9))","v":0},{"$f":"SUMPRODUCT(COUNTIF($B$3:$U$3,$AE$8:$AF$9))","v":0},null,null,null,null,null,61,62,63,64,65,66,67,68,69,70,null,{"$f":"IF(BJ15=\"F\",\"F\",IF(BJ15=\"X\",\"X\",61))","v":"X"},{"$f":"IF(BK15=\"F\",\"F\",IF(BK15=\"X\",\"X\",62))","v":"X"},{"$f":"IF(BL15=\"F\",\"F\",IF(BL15=\"X\",\"X\",63))","v":63},{"$f":"IF(BM15=\"F\",\"F\",IF(BM15=\"X\",\"X\",64))","v":64},{"$f":"IF(BN15=\"F\",\"F\",IF(BN15=\"X\",\"X\",65))","v":65},{"$f":"IF(BO15=\"F\",\"F\",IF(BO15=\"X\",\"X\",66))","v":66},{"$f":"IF(BP15=\"F\",\"F\",IF(BP15=\"X\",\"X\",67))","v":67},{"$f":"IF(BQ15=\"F\",\"F\",IF(BQ15=\"X\",\"X\",68))","v":68},{"$f":"IF(BR15=\"F\",\"F\",IF(BR15=\"X\",\"X\",69))","v":69},{"$f":"IF(BS15=\"F\",\"F\",IF(BS15=\"X\",\"X\",70))","v":70},null,null,null,null,{"$f":"IFERROR(SMALL($AH$2:$AQ$11,36),\"\")","v":78},{"$f":"IFERROR(SMALL($AH$2:$AQ$11,37),\"\")","v":84},{"$f":"IFERROR(SMALL($AH$2:$AQ$11,38),\"\")","v":85},{"$f":"IFERROR(SMALL($AH$2:$AQ$11,39),\"\")","v":86},{"$f":"IFERROR(SMALL($AH$2:$AQ$11,40),\"\")","v":87},{"$f":"SUM(INDEX(($B$67:$CW$67,$B$69:$CW$69),1,AW8,2)+INDEX(($B$67:$CW$67,$B$69:$CW$69),1,AX8,2)+INDEX(($B$67:$CW$67,$B$69:$CW$69),1,AY8,2)+INDEX(($B$67:$CW$67,$B$69:$CW$69),1,AZ8,2)+INDEX(($B$67:$CW$67,$B$69:$CW$69),1,AV8,2))","v":22},null,{"$f":"J!AD173","v":36},{"$f":"J!AE173","v":58},{"$f":"J!AF173","v":16},{"$f":"J!AG173","v":4},{"$f":"J!AH173","v":42},{"$f":"J!AI173","v":96},{"$f":"J!AJ173","v":10},{"$f":"J!AK173","v":34},{"$f":"J!AL173","v":82},{"$f":"J!AM173","v":98}]
[null,null,null,null,null,null,null,null,null,null,null,null,{"$f":"SUMPRODUCT(COUNTIF($B$3:$U$3,$W$10:$X$11))","v":0},{"$f":"SUMPRODUCT(COUNTIF($B$3:$U$3,$Y$10:$Z$11))","v":1},{"$f":"SUMPRODUCT(COUNTIF($B$3:$U$3,$AA$10:$AB$11))","v":2},{"$f":"SUMPRODUCT(COUNTIF($B$3:$U$3,$AC$10:$AD$11))","v":0},{"$f":"SUMPRODUCT(COUNTIF($B$3:$U$3,$AE$10:$AF$11))","v":0},null,null,null,null,null,71,72,73,74,75,76,77,78,79,80,null,{"$f":"IF(BT15=\"F\",\"F\",IF(BT15=\"X\",\"X\",71))","v":71},{"$f":"IF(BU15=\"F\",\"F\",IF(BU15=\"X\",\"X\",72))","v":72},{"$f":"IF(BV15=\"F\",\"F\",IF(BV15=\"X\",\"X\",73))","v":73},{"$f":"IF(BW15=\"F\",\"F\",IF(BW15=\"X\",\"X\",74))","v":74},{"$f":"IF(BX15=\"F\",\"F\",IF(BX15=\"X\",\"X\",75))","v":"X"},{"$f":"IF(BY15=\"F\",\"F\",IF(BY15=\"X\",\"X\",76))","v":"X"},{"$f":"IF(BZ15=\"F\",\"F\",IF(BZ15=\"X\",\"X\",77))","v":"F"},{"$f":"IF(CA15=\"F\",\"F\",IF(CA15=\"X\",\"X\",78))","v":78},{"$f":"IF(CB15=\"F\",\"F\",IF(CB15=\"X\",\"X\",79))","v":"X"},{"$f":"IF(CC15=\"F\",\"F\",IF(CC15=\"X\",\"X\",80))","v":"X"},null,null,null,null,{"$f":"IFERROR(SMALL($AH$2:$AQ$11,6),\"\")","v":21},{"$f":"IFERROR(SMALL($AH$2:$AQ$11,7),\"\")","v":22},{"$f":"IFERROR(SMALL($AH$2:$AQ$11,8),\"\")","v":24},{"$f":"IFERROR(SMALL($AH$2:$AQ$11,9),\"\")","v":25},{"$f":"IFERROR(SMALL($AH$2:$AQ$11,10),\"\")","v":27},{"$f":"SUM(INDEX(($B$67:$CW$67,$B$69:$CW$69),1,AW9,2)+INDEX(($B$67:$CW$67,$B$69:$CW$69),1,AX9,2)+INDEX(($B$67:$CW$67,$B$69:$CW$69),1,AY9,2)+INDEX(($B$67:$CW$67,$B$69:$CW$69),1,AZ9,2)+INDEX(($B$67:$CW$67,$B$69:$CW$69),1,AV9,2))","v":22},null,{"$f":"J!AD174","v":33},{"$f":"J!AE174","v":67},{"$f":"J!AF174","v":17},{"$f":"J!AG174","v":11},{"$f":"J!AH174","v":83},{"$f":"J!AI174","v":27},{"$f":"J!AJ174","v":73},{"$f":"J!AK174","v":69},{"$f":"J!AL174","v":59},{"$f":"J!AM174","v":89},null,{"$f":"SUMPRODUCT(COUNTIF($B$3:$U$3,#REF!))","v":0},"Resultado Setorial  (MIOLO)"]
[null,null,null,null,null,null,null,null,null,null,null,null,null,null,null,null,null,null,null,null,null,null,81,82,83,84,85,86,87,88,89,90,null,{"$f":"IF(CD15=\"F\",\"F\",IF(CD15=\"X\",\"X\",81))","v":"F"},{"$f":"IF(CE15=\"F\",\"F\",IF(CE15=\"X\",\"X\",82))","v":"X"},{"$f":"IF(CF15=\"F\",\"F\",IF(CF15=\"X\",\"X\",83))","v":"F"},{"$f":"IF(CG15=\"F\",\"F\",IF(CG15=\"X\",\"X\",84))","v":84},{"$f":"IF(CH15=\"F\",\"F\",IF(CH15=\"X\",\"X\",85))","v":85},{"$f":"IF(CI15=\"F\",\"F\",IF(CI15=\"X\",\"X\",86))","v":86},{"$f":"IF(CJ15=\"F\",\"F\",IF(CJ15=\"X\",\"X\",87))","v":87},{"$f":"IF(CK15=\"F\",\"F\",IF(CK15=\"X\",\"X\",88))","v":88},{"$f":"IF(CL15=\"F\",\"F\",IF(CL15=\"X\",\"X\",89))","v":"F"},{"$f":"IF(CM15=\"F\",\"F\",IF(CM15=\"X\",\"X\",90))","v":90},null,null,null,null,{"$f":"IFERROR(SMALL($AH$2:$AQ$11,26),\"\")","v":65},{"$f":"IFERROR(SMALL($AH$2:$AQ$11,27),\"\")","v":66},{"$f":"IFERROR(SMALL($AH$2:$AQ$11,28),\"\")","v":67},{"$f":"IFERROR(SMALL($AH$2:$AQ$11,29),\"\")","v":68},{"$f":"IFERROR(SMALL($AH$2:$AQ$11,30),\"\")","v":69},{"$f":"SUM(INDEX(($B$67:$CW$67,$B$69:$CW$69),1,AW10,2)+INDEX(($B$67:$CW$67,$B$69:$CW$69),1,AX10,2)+INDEX(($B$67:$CW$67,$B$69:$CW$69),1,AY10,2)+INDEX(($B$67:$CW$67,$B$69:$CW$69),1,AZ10,2)+INDEX(($B$67:$CW$67,$B$69:$CW$69),1,AV10,2))","v":21},null,{"$f":"J!AD175","v":28},{"$f":"J!AE175","v":52},{"$f":"J!AF175","v":68},{"$f":"J!AG175","v":88},{"$f":"J!AH175","v":2},{"$f":"J!AI175","v":86},{"$f":"J!AJ175","v":90},{"$f":"J!AK175","v":54},{"$f":"J!AL175","v":18},{"$f":"J!AM175","v":66},null,{"$f":"SUMPRODUCT(COUNTIF($B$3:$U$3,Y4:AD9))","v":8},"Quantidade de vindas setorial (MIOLO)"]
[null,null,null,null,null,null,null,null,null,null,null,null,"MATRIX",null,null,null,null,null,null,null,null,null,91,92,93,94,95,96,97,98,99,0,null,{"$f":"IF(CN15=\"F\",\"F\",IF(CN15=\"X\",\"X\",91))","v":91},{"$f":"IF(CO15=\"F\",\"F\",IF(CO15=\"X\",\"X\",92))","v":92},{"$f":"IF(CP15=\"F\",\"F\",IF(CP15=\"X\",\"X\",93))","v":93},{"$f":"IF(CQ15=\"F\",\"F\",IF(CQ15=\"X\",\"X\",94))","v":94},{"$f":"IF(CR15=\"F\",\"F\",IF(CR15=\"X\",\"X\",95))","v":95},{"$f":"IF(CS15=\"F\",\"F\",IF(CS15=\"X\",\"X\",96))","v":"F"},{"$f":"IF(CT15=\"F\",\"F\",IF(CT15=\"X\",\"X\",97))","v":97},{"$f":"IF(CU15=\"F\",\"F\",IF(CU15=\"X\",\"X\",98))","v":98},{"$f":"IF(CV15=\"F\",\"F\",IF(CV15=\"X\",\"X\",99))","v":99},{"$f":"IF(CW15=\"F\",\"F\",IF(CW15=\"X\",\"X\",\"0\"))","v":"F"},null,null,null,null,{"$f":"IFERROR(SMALL($AH$2:$AQ$11,41),\"\")","v":88},{"$f":"IFERROR(SMALL($AH$2:$AQ$11,42),\"\")","v":90},{"$f":"IFERROR(SMALL($AH$2:$AQ$11,43),\"\")","v":91},{"$f":"IFERROR(SMALL($AH$2:$AQ$11,44),\"\")","v":92},{"$f":"IFERROR(SMALL($AH$2:$AQ$11,45),\"\")","v":93},{"$f":"SUM(INDEX(($B$67:$CW$67,$B$69:$CW$69),1,AW11,2)+INDEX(($B$67:$CW$67,$B$69:$CW$69),1,AX11,2)+INDEX(($B$67:$CW$67,$B$69:$CW$69),1,AY11,2)+INDEX(($B$67:$CW$67,$B$69:$CW$69),1,AZ11,2)+INDEX(($B$67:$CW$67,$B$69:$CW$69),1,AV11,2))","v":19},null,{"$f":"J!AD176","v":15},{"$f":"J!AE176","v":21},{"$f":"J!AF176","v":87},{"$f":"J!AG176","v":7},{"$f":"J!AH176","v":47},{"$f":"J!AI176","v":29},{"$f":"J!AJ176","v":81},{"$f":"J!AK176","v":23},{"$f":"J!AL176","v":55},{"$f":"J!AM176","v":25},null,{"$f":"SUMPRODUCT(COUNTIF($B$3:$U$3,$W$2:$X$11))+SUMPRODUCT(COUNTIF($B$3:$U$3,$Y$2:$AF$3))+SUMPRODUCT(COUNTIF($B$3:$U$3,AE4:AF11))+SUMPRODUCT(COUNTIF($B$3:$U$3,Y10:AD11))","v":12},"Quantidade de vindas setorial (BORDAS)"]
[null,null,null,null,null,null,null,null,null,null,null,null,null,null,null,null,null,null,null,null,null,null,"Dos últimos 4 Sorteios",null,null,null,null,"Números GÊMEOS (Capicuas)"]
[null,null,null,null,null,null,null,null,null,null,{"$f":"COUNTIF($AH$2:$AQ$11,\"X\")","v":20},"X",{"$f":"COUNTIF($AH$2:$AQ$11,\"F\")","v":30},"F",null,null,null,null,"ATENÇÃO!!! NÃO DIGITE nos QUADROS acima",null,null,null,null,null,null,null,null,null,null,null,null,null,null,null,null,null,null,null,null,null,null,null,null,null,null,null,null,null,null,null,null,null,null,{"$f":"COUNTIF($AH$2:$AQ$11,\"X\")","v":20},"X",{"$f":"COUNTIF($AH$2:$AQ$11,\"F\")","v":30},"F",null,null,null,null,null,null,null,null,null,null,null,null,null,null,null,null,null,null,null,null,null,null,null,null,{"$f":"COUNTIF($AH$2:$AQ$11,\"X\")","v":20},"X",{"$f":"COUNTIF($AH$2:$AQ$11,\"F\")","v":30},"F"]
[null,"#","LIMPA ESCOLHA E REPÕE DE 1 A 100",null,null,null,null,null,null,null,null,null,"COLOQUE NA LINHA ABAIXO AS SUAS ESCOLHAS DE 22 \"X\" PARA FIXAR E 30 \"F\" PARA RETIRAR"]
[null,"X","X",3,"F","F",6,"X",8,"X","F","X","F","F","X","F","F",17,"F","F",20,21,22,"F",24,25,"X",27,28,"F","F","F",32,"F","F",35,"F","X",33,39,40,"X","F","F","X","F","F","F",48,"F","F","X","X",53,"F",55,"X",57,58,59,60,"X","X",63,64,65,66,67,68,69,70,71,72,73,74,"X","X","F",78,"X","X","F","X","F",84,85,86,87,88,"F",90,91,92,93,94,95,"F",97,98,99,"F"]
[null,1,2,3,4,5,6,7,8,9,10,11,12,13,14,15,16,17,18,19,20,21,22,23,24,25,26,27,28,29,30,31,32,33,34,35,36,37,38,39,40,41,42,43,44,45,46,47,48,49,50,51,52,53,54,55,56,57,58,59,60,61,62,63,64,65,66,67,68,69,70,71,72,73,74,75,76,77,78,79,80,81,82,83,84,85,86,87,88,89,90,91,92,93,94,95,96,97,98,99,100,null,null,null,null,null,null,null,null,null,null,null,"Resultado dos SORTEIOS"]
[null,{"$f":"IF(COUNTIF($CZ17:$DS17,B$16),B$16,\"\")","v":""},{"$f":"IF(COUNTIF($CZ17:$DS17,C$16),C$16,\"\")","v":""},{"$f":"IF(COUNTIF($CZ17:$DS17,D$16),D$16,\"\")","v":""},{"$f":"IF(COUNTIF($CZ17:$DS17,E$16),E$16,\"\")","v":""},{"$f":"IF(COUNTIF($CZ17:$DS17,F$16),F$16,\"\")","v":""},{"$f":"IF(COUNTIF($CZ17:$DS17,G$16),G$16,\"\")","v":""},{"$f":"IF(COUNTIF($CZ17:$DS17,H$16),H$16,\"\")","v":""},{"$f":"IF(COUNTIF($CZ17:$DS17,I$16),I$16,\"\")","v":""},{"$f":"IF(COUNTIF($CZ17:$DS17,J$16),J$16,\"\")","v":""},{"$f":"IF(COUNTIF($CZ17:$DS17,K$16),K$16,\"\")","v":""},{"$f":"IF(COUNTIF($CZ17:$DS17,L$16),L$16,\"\")","v":""},{"$f":"IF(COUNTIF($CZ17:$DS17,M$16),M$16,\"\")","v":12},{"$f":"IF(COUNTIF($CZ17:$DS17,N$16),N$16,\"\")","v":13},{"$f":"IF(COUNTIF($CZ17:$DS17,O$16),O$16,\"\")","v":""},{"$f":"IF(COUNTIF($CZ17:$DS17,P$16),P$16,\"\")","v":""},{"$f":"IF(COUNTIF($CZ17:$DS17,Q$16),Q$16,\"\")","v":""},{"$f":"IF(COUNTIF($CZ17:$DS17,R$16),R$16,\"\")","v":""},{"$f":"IF(COUNTIF($CZ17:$DS17,S$16),S$16,\"\")","v":18},{"$f":"IF(COUNTIF($CZ17:$DS17,T$16),T$16,\"\")","v":""},{"$f":"IF(COUNTIF($CZ17:$DS17,U$16),U$16,\"\")","v":20},{"$f":"IF(COUNTIF($CZ17:$DS17,V$16),V$16,\"\")","v":21},{"$f":"IF(COUNTIF($CZ17:$DS17,W$16),W$16,\"\")","v":""},{"$f":"IF(COUNTIF($CZ17:$DS17,X$16),X$16,\"\")","v":""},{"$f":"IF(COUNTIF($CZ17:$DS17,Y$16),Y$16,\"\")","v":""},{"$f":"IF(COUNTIF($CZ17:$DS17,Z$16),Z$16,\"\")","v":""},{"$f":"IF(COUNTIF($CZ17:$DS17,AA$16),AA$16,\"\")","v":26},{"$f":"IF(COUNTIF($CZ17:$DS17,AB$16),AB$16,\"\")","v":27},{"$f":"IF(COUNTIF($CZ17:$DS17,AC$16),AC$16,\"\")","v":""},{"$f":"IF(COUNTIF($CZ17:$DS17,AD$16),AD$16,\"\")","v":""},{"$f":"IF(COUNTIF($CZ17:$DS17,AE$16),AE$16,\"\")","v":30},{"$f":"IF(COUNTIF($CZ17:$DS17,AF$16),AF$16,\"\")","v":""},{"$f":"IF(COUNTIF($CZ17:$DS17,AG$16),AG$16,\"\")","v":32},{"$f":"IF(COUNTIF($CZ17:$DS17,AH$16),AH$16,\"\")","v":33},{"$f":"IF(COUNTIF($CZ17:$DS17,AI$16),AI$16,\"\")","v":""},{"$f":"IF(COUNTIF($CZ17:$DS17,AJ$16),AJ$16,\"\")","v":""},{"$f":"IF(COUNTIF($CZ17:$DS17,AK$16),AK$16,\"\")","v":36},{"$f":"IF(COUNTIF($CZ17:$DS17,AL$16),AL$16,\"\")","v":""},{"$f":"IF(COUNTIF($CZ17:$DS17,AM$16),AM$16,\"\")","v":""},{"$f":"IF(COUNTIF($CZ17:$DS17,AN$16),AN$16,\"\")","v":""},{"$f":"IF(COUNTIF($CZ17:$DS17,AO$16),AO$16,\"\")","v":""},{"$f":"IF(COUNTIF($CZ17:$DS17,AP$16),AP$16,\"\")","v":41},{"$f":"IF(COUNTIF($CZ17:$DS17,AQ$16),AQ$16,\"\")","v":""},{"$f":"IF(COUNTIF($CZ17:$DS17,AR$16),AR$16,\"\")","v":43},{"$f":"IF(COUNTIF($CZ17:$DS17,AS$16),AS$16,\"\")","v":""},{"$f":"IF(COUNTIF($CZ17:$DS17,AT$16),AT$16,\"\")","v":""},{"$f":"IF(COUNTIF($CZ17:$DS17,AU$16),AU$16,\"\")","v":""},{"$f":"IF(COUNTIF($CZ17:$DS17,AV$16),AV$16,\"\")","v":""},{"$f":"IF(COUNTIF($CZ17:$DS17,AW$16),AW$16,\"\")","v":48},{"$f":"IF(COUNTIF($CZ17:$DS17,AX$16),AX$16,\"\")","v":49},{"$f":"IF(COUNTIF($CZ17:$DS17,AY$16),AY$16,\"\")","v":""},{"$f":"IF(COUNTIF($CZ17:$DS17,AZ$16),AZ$16,\"\")","v":""},{"$f":"IF(COUNTIF($CZ17:$DS17,BA$16),BA$16,\"\")","v":""},{"$f":"IF(COUNTIF($CZ17:$DS17,BB$16),BB$16,\"\")","v":""},{"$f":"IF(COUNTIF($CZ17:$DS17,BC$16),BC$16,\"\")","v":""},{"$f":"IF(COUNTIF($CZ17:$DS17,BD$16),BD$16,\"\")","v":""},{"$f":"IF(COUNTIF($CZ17:$DS17,BE$16),BE$16,\"\")","v":""},{"$f":"IF(COUNTIF($CZ17:$DS17,BF$16),BF$16,\"\")","v":""},{"$f":"IF(COUNTIF($CZ17:$DS17,BG$16),BG$16,\"\")","v":""},{"$f":"IF(COUNTIF($CZ17:$DS17,BH$16),BH$16,\"\")","v":""},{"$f":"IF(COUNTIF($CZ17:$DS17,BI$16),BI$16,\"\")","v":""},{"$f":"IF(COUNTIF($CZ17:$DS17,BJ$16),BJ$16,\"\")","v":""},{"$f":"IF(COUNTIF($CZ17:$DS17,BK$16),BK$16,\"\")","v":""},{"$f":"IF(COUNTIF($CZ17:$DS17,BL$16),BL$16,\"\")","v":""},{"$f":"IF(COUNTIF($CZ17:$DS17,BM$16),BM$16,\"\")","v":""},{"$f":"IF(COUNTIF($CZ17:$DS17,BN$16),BN$16,\"\")","v":65},{"$f":"IF(COUNTIF($CZ17:$DS17,BO$16),BO$16,\"\")","v":""},{"$f":"IF(COUNTIF($CZ17:$DS17,BP$16),BP$16,\"\")","v":""},{"$f":"IF(COUNTIF($CZ17:$DS17,BQ$16),BQ$16,\"\")","v":""},{"$f":"IF(COUNTIF($CZ17:$DS17,BR$16),BR$16,\"\")","v":""},{"$f":"IF(COUNTIF($CZ17:$DS17,BS$16),BS$16,\"\")","v":""},{"$f":"IF(COUNTIF($CZ17:$DS17,BT$16),BT$16,\"\")","v":""},{"$f":"IF(COUNTIF($CZ17:$DS17,BU$16),BU$16,\"\")","v":""},{"$f":"IF(COUNTIF($CZ17:$DS17,BV$16),BV$16,\"\")","v":""},{"$f":"IF(COUNTIF($CZ17:$DS17,BW$16),BW$16,\"\")","v":""},{"$f":"IF(COUNTIF($CZ17:$DS17,BX$16),BX$16,\"\")","v":75},{"$f":"IF(COUNTIF($CZ17:$DS17,BY$16),BY$16,\"\")","v":""},{"$f":"IF(COUNTIF($CZ17:$DS17,BZ$16),BZ$16,\"\")","v":""},{"$f":"IF(COUNTIF($CZ17:$DS17,CA$16),CA$16,\"\")","v":""},{"$f":"IF(COUNTIF($CZ17:$DS17,CB$16),CB$16,\"\")","v":""},{"$f":"IF(COUNTIF($CZ17:$DS17,CC$16),CC$16,\"\")","v":""},{"$f":"IF(COUNTIF($CZ17:$DS17,CD$16),CD$16,\"\")","v":""},{"$f":"IF(COUNTIF($CZ17:$DS17,CE$16),CE$16,\"\")","v":""},{"$f":"IF(COUNTIF($CZ17:$DS17,CF$16),CF$16,\"\")","v":83},{"$f":"IF(COUNTIF($CZ17:$DS17,CG$16),CG$16,\"\")","v":""},{"$f":"IF(COUNTIF($CZ17:$DS17,CH$16),CH$16,\"\")","v":""},{"$f":"IF(COUNTIF($CZ17:$DS17,CI$16),CI$16,\"\")","v":""},{"$f":"IF(COUNTIF($CZ17:$DS17,CJ$16),CJ$16,\"\")","v":""},{"$f":"IF(COUNTIF($CZ17:$DS17,CK$16),CK$16,\"\")","v":""},{"$f":"IF(COUNTIF($CZ17:$DS17,CL$16),CL$16,\"\")","v":""},{"$f":"IF(COUNTIF($CZ17:$DS17,CM$16),CM$16,\"\")","v":""},{"$f":"IF(COUNTIF($CZ17:$DS17,CN$16),CN$16,\"\")","v":""},{"$f":"IF(COUNTIF($CZ17:$DS17,CO$16),CO$16,\"\")","v":""},{"$f":"IF(COUNTIF($CZ17:$DS17,CP$16),CP$16,\"\")","v":""},{"$f":"IF(COUNTIF($CZ17:$DS17,CQ$16),CQ$16,\"\")","v":""},{"$f":"IF(COUNTIF($CZ17:$DS17,CR$16),CR$16,\"\")","v":95},{"$f":"IF(COUNTIF($CZ17:$DS17,CS$16),CS$16,\"\")","v":96},{"$f":"IF(COUNTIF($CZ17:$DS17,CT$16),CT$16,\"\")","v":""},{"$f":"IF(COUNTIF($CZ17:$DS17,CU$16),CU$16,\"\")","v":""},{"$f":"IF(COUNTIF($CZ17:$DS17,CV$16),CV$16,\"\")","v":""},{"$f":"IF(COUNTIF($CZ17:$DS17,0),0,\"\")","v":""},1,{"$f":"$B$2","v":1869},{"$f":"VLOOKUP($CY17,J!$A$2:$AW$4000,3,FALSE)","v":12},{"$f":"VLOOKUP($CY17,J!$A$2:$AW$4000,4,FALSE)","v":13},{"$f":"VLOOKUP($CY17,J!$A$2:$AW$4000,5,FALSE)","v":18},{"$f":"VLOOKUP($CY17,J!$A$2:$AW$4000,6,FALSE)","v":20},{"$f":"VLOOKUP($CY17,J!$A$2:$AW$4000,7,FALSE)","v":21},{"$f":"VLOOKUP($CY17,J!$A$2:$AW$4000,8,FALSE)","v":26},{"$f":"VLOOKUP($CY17,J!$A$2:$AW$4000,9,FALSE)","v":27},{"$f":"VLOOKUP($CY17,J!$A$2:$AW$4000,10,FALSE)","v":30},{"$f":"VLOOKUP($CY17,J!$A$2:$AW$4000,11,FALSE)","v":32},{"$f":"VLOOKUP($CY17,J!$A$2:$AW$4000,12,FALSE)","v":33},{"$f":"VLOOKUP($CY17,J!$A$2:$AW$4000,13,FALSE)","v":36},{"$f":"VLOOKUP($CY17,J!$A$2:$AW$4000,14,FALSE)","v":41},{"$f":"VLOOKUP($CY17,J!$A$2:$AW$4000,15,FALSE)","v":43},{"$f":"VLOOKUP($CY17,J!$A$2:$AW$4000,16,FALSE)","v":48},{"$f":"VLOOKUP($CY17,J!$A$2:$AW$4000,17,FALSE)","v":49},{"$f":"VLOOKUP($CY17,J!$A$2:$AW$4000,18,FALSE)","v":65},{"$f":"VLOOKUP($CY17,J!$A$2:$AW$4000,19,FALSE)","v":75},{"$f":"VLOOKUP($CY17,J!$A$2:$AW$4000,20,FALSE)","v":83},{"$f":"VLOOKUP($CY17,J!$A$2:$AW$4000,21,FALSE)","v":95},{"$f":"VLOOKUP($CY17,J!$A$2:$AW$4000,22,FALSE)","v":96}]
[null,{"$f":"IF(COUNTIF($CZ18:$DS18,B$16),B$16,\"\")","v":""},{"$f":"IF(COUNTIF($CZ18:$DS18,C$16),C$16,\"\")","v":""},{"$f":"IF(COUNTIF($CZ18:$DS18,D$16),D$16,\"\")","v":""},{"$f":"IF(COUNTIF($CZ18:$DS18,E$16),E$16,\"\")","v":""},{"$f":"IF(COUNTIF($CZ18:$DS18,F$16),F$16,\"\")","v":""},{"$f":"IF(COUNTIF($CZ18:$DS18,G$16),G$16,\"\")","v":""},{"$f":"IF(COUNTIF($CZ18:$DS18,H$16),H$16,\"\")","v":""},{"$f":"IF(COUNTIF($CZ18:$DS18,I$16),I$16,\"\")","v":8},{"$f":"IF(COUNTIF($CZ18:$DS18,J$16),J$16,\"\")","v":""},{"$f":"IF(COUNTIF($CZ18:$DS18,K$16),K$16,\"\")","v":""},{"$f":"IF(COUNTIF($CZ18:$DS18,L$16),L$16,\"\")","v":""},{"$f":"IF(COUNTIF($CZ18:$DS18,M$16),M$16,\"\")","v":12},{"$f":"IF(COUNTIF($CZ18:$DS18,N$16),N$16,\"\")","v":""},{"$f":"IF(COUNTIF($CZ18:$DS18,O$16),O$16,\"\")","v":""},{"$f":"IF(COUNTIF($CZ18:$DS18,P$16),P$16,\"\")","v":""},{"$f":"IF(COUNTIF($CZ18:$DS18,Q$16),Q$16,\"\")","v":""},{"$f":"IF(COUNTIF($CZ18:$DS18,R$16),R$16,\"\")","v":""},{"$f":"IF(COUNTIF($CZ18:$DS18,S$16),S$16,\"\")","v":""},{"$f":"IF(COUNTIF($CZ18:$DS18,T$16),T$16,\"\")","v":""},{"$f":"IF(COUNTIF($CZ18:$DS18,U$16),U$16,\"\")","v":""},{"$f":"IF(COUNTIF($CZ18:$DS18,V$16),V$16,\"\")","v":""},{"$f":"IF(COUNTIF($CZ18:$DS18,W$16),W$16,\"\")","v":22},{"$f":"IF(COUNTIF($CZ18:$DS18,X$16),X$16,\"\")","v":""},{"$f":"IF(COUNTIF($CZ18:$DS18,Y$16),Y$16,\"\")","v":""},{"$f":"IF(COUNTIF($CZ18:$DS18,Z$16),Z$16,\"\")","v":""},{"$f":"IF(COUNTIF($CZ18:$DS18,AA$16),AA$16,\"\")","v":""},{"$f":"IF(COUNTIF($CZ18:$DS18,AB$16),AB$16,\"\")","v":27},{"$f":"IF(COUNTIF($CZ18:$DS18,AC$16),AC$16,\"\")","v":""},{"$f":"IF(COUNTIF($CZ18:$DS18,AD$16),AD$16,\"\")","v":29},{"$f":"IF(COUNTIF($CZ18:$DS18,AE$16),AE$16,\"\")","v":""},{"$f":"IF(COUNTIF($CZ18:$DS18,AF$16),AF$16,\"\")","v":31},{"$f":"IF(COUNTIF($CZ18:$DS18,AG$16),AG$16,\"\")","v":""},{"$f":"IF(COUNTIF($CZ18:$DS18,AH$16),AH$16,\"\")","v":""},{"$f":"IF(COUNTIF($CZ18:$DS18,AI$16),AI$16,\"\")","v":""},{"$f":"IF(COUNTIF($CZ18:$DS18,AJ$16),AJ$16,\"\")","v":""},{"$f":"IF(COUNTIF($CZ18:$DS18,AK$16),AK$16,\"\")","v":""},{"$f":"IF(COUNTIF($CZ18:$DS18,AL$16),AL$16,\"\")","v":""},{"$f":"IF(COUNTIF($CZ18:$DS18,AM$16),AM$16,\"\")","v":""},{"$f":"IF(COUNTIF($CZ18:$DS18,AN$16),AN$16,\"\")","v":39},{"$f":"IF(COUNTIF($CZ18:$DS18,AO$16),AO$16,\"\")","v":40},{"$f":"IF(COUNTIF($CZ18:$DS18,AP$16),AP$16,\"\")","v":""},{"$f":"IF(COUNTIF($CZ18:$DS18,AQ$16),AQ$16,\"\")","v":42},{"$f":"IF(COUNTIF($CZ18:$DS18,AR$16),AR$16,\"\")","v":""},{"$f":"IF(COUNTIF($CZ18:$DS18,AS$16),AS$16,\"\")","v":""},{"$f":"IF(COUNTIF($CZ18:$DS18,AT$16),AT$16,\"\")","v":""},{"$f":"IF(COUNTIF($CZ18:$DS18,AU$16),AU$16,\"\")","v":""},{"$f":"IF(COUNTIF($CZ18:$DS18,AV$16),AV$16,\"\")","v":47},{"$f":"IF(COUNTIF($CZ18:$DS18,AW$16),AW$16,\"\")","v":48},{"$f":"IF(COUNTIF($CZ18:$DS18,AX$16),AX$16,\"\")","v":""},{"$f":"IF(COUNTIF($CZ18:$DS18,AY$16),AY$16,\"\")","v":""},{"$f":"IF(COUNTIF($CZ18:$DS18,AZ$16),AZ$16,\"\")","v":51},{"$f":"IF(COUNTIF($CZ18:$DS18,BA$16),BA$16,\"\")","v":""},{"$f":"IF(COUNTIF($CZ18:$DS18,BB$16),BB$16,\"\")","v":""},{"$f":"IF(COUNTIF($CZ18:$DS18,BC$16),BC$16,\"\")","v":""},{"$f":"IF(COUNTIF($CZ18:$DS18,BD$16),BD$16,\"\")","v":""},{"$f":"IF(COUNTIF($CZ18:$DS18,BE$16),BE$16,\"\")","v":""},{"$f":"IF(COUNTIF($CZ18:$DS18,BF$16),BF$16,\"\")","v":""},{"$f":"IF(COUNTIF($CZ18:$DS18,BG$16),BG$16,\"\")","v":""},{"$f":"IF(COUNTIF($CZ18:$DS18,BH$16),BH$16,\"\")","v":""},{"$f":"IF(COUNTIF($CZ18:$DS18,BI$16),BI$16,\"\")","v":60},{"$f":"IF(COUNTIF($CZ18:$DS18,BJ$16),BJ$16,\"\")","v":61},{"$f":"IF(COUNTIF($CZ18:$DS18,BK$16),BK$16,\"\")","v":""},{"$f":"IF(COUNTIF($CZ18:$DS18,BL$16),BL$16,\"\")","v":""},{"$f":"IF(COUNTIF($CZ18:$DS18,BM$16),BM$16,\"\")","v":64},{"$f":"IF(COUNTIF($CZ18:$DS18,BN$16),BN$16,\"\")","v":""},{"$f":"IF(COUNTIF($CZ18:$DS18,BO$16),BO$16,\"\")","v":""},{"$f":"IF(COUNTIF($CZ18:$DS18,BP$16),BP$16,\"\")","v":""},{"$f":"IF(COUNTIF($CZ18:$DS18,BQ$16),BQ$16,\"\")","v":""},{"$f":"IF(COUNTIF($CZ18:$DS18,BR$16),BR$16,\"\")","v":""},{"$f":"IF(COUNTIF($CZ18:$DS18,BS$16),BS$16,\"\")","v":""},{"$f":"IF(COUNTIF($CZ18:$DS18,BT$16),BT$16,\"\")","v":""},{"$f":"IF(COUNTIF($CZ18:$DS18,BU$16),BU$16,\"\")","v":""},{"$f":"IF(COUNTIF($CZ18:$DS18,BV$16),BV$16,\"\")","v":""},{"$f":"IF(COUNTIF($CZ18:$DS18,BW$16),BW$16,\"\")","v":""},{"$f":"IF(COUNTIF($CZ18:$DS18,BX$16),BX$16,\"\")","v":""},{"$f":"IF(COUNTIF($CZ18:$DS18,BY$16),BY$16,\"\")","v":""},{"$f":"IF(COUNTIF($CZ18:$DS18,BZ$16),BZ$16,\"\")","v":""},{"$f":"IF(COUNTIF($CZ18:$DS18,CA$16),CA$16,\"\")","v":""},{"$f":"IF(COUNTIF($CZ18:$DS18,CB$16),CB$16,\"\")","v":""},{"$f":"IF(COUNTIF($CZ18:$DS18,CC$16),CC$16,\"\")","v":""},{"$f":"IF(COUNTIF($CZ18:$DS18,CD$16),CD$16,\"\")","v":""},{"$f":"IF(COUNTIF($CZ18:$DS18,CE$16),CE$16,\"\")","v":""},{"$f":"IF(COUNTIF($CZ18:$DS18,CF$16),CF$16,\"\")","v":""},{"$f":"IF(COUNTIF($CZ18:$DS18,CG$16),CG$16,\"\")","v":""},{"$f":"IF(COUNTIF($CZ18:$DS18,CH$16),CH$16,\"\")","v":""},{"$f":"IF(COUNTIF($CZ18:$DS18,CI$16),CI$16,\"\")","v":""},{"$f":"IF(COUNTIF($CZ18:$DS18,CJ$16),CJ$16,\"\")","v":87},{"$f":"IF(COUNTIF($CZ18:$DS18,CK$16),CK$16,\"\")","v":""},{"$f":"IF(COUNTIF($CZ18:$DS18,CL$16),CL$16,\"\")","v":89},{"$f":"IF(COUNTIF($CZ18:$DS18,CM$16),CM$16,\"\")","v":""},{"$f":"IF(COUNTIF($CZ18:$DS18,CN$16),CN$16,\"\")","v":""},{"$f":"IF(COUNTIF($CZ18:$DS18,CO$16),CO$16,\"\")","v":""},{"$f":"IF(COUNTIF($CZ18:$DS18,CP$16),CP$16,\"\")","v":""},{"$f":"IF(COUNTIF($CZ18:$DS18,CQ$16),CQ$16,\"\")","v":""},{"$f":"IF(COUNTIF($CZ18:$DS18,CR$16),CR$16,\"\")","v":95},{"$f":"IF(COUNTIF($CZ18:$DS18,CS$16),CS$16,\"\")","v":""},{"$f":"IF(COUNTIF($CZ18:$DS18,CT$16),CT$16,\"\")","v":""},{"$f":"IF(COUNTIF($CZ18:$DS18,CU$16),CU$16,\"\")","v":""},{"$f":"IF(COUNTIF($CZ18:$DS18,CV$16),CV$16,\"\")","v":99},{"$f":"IF(COUNTIF($CZ18:$DS18,0),0,\"\")","v":0},2,{"$f":"CY17-1","v":1868},{"$f":"VLOOKUP($CY18,J!$A$2:$AW$4000,3,FALSE)","v":0},{"$f":"VLOOKUP($CY18,J!$A$2:$AW$4000,4,FALSE)","v":8},{"$f":"VLOOKUP($CY18,J!$A$2:$AW$4000,5,FALSE)","v":12},{"$f":"VLOOKUP($CY18,J!$A$2:$AW$4000,6,FALSE)","v":22},{"$f":"VLOOKUP($CY18,J!$A$2:$AW$4000,7,FALSE)","v":27},{"$f":"VLOOKUP($CY18,J!$A$2:$AW$4000,8,FALSE)","v":29},{"$f":"VLOOKUP($CY18,J!$A$2:$AW$4000,9,FALSE)","v":31},{"$f":"VLOOKUP($CY18,J!$A$2:$AW$4000,10,FALSE)","v":39},{"$f":"VLOOKUP($CY18,J!$A$2:$AW$4000,11,FALSE)","v":40},{"$f":"VLOOKUP($CY18,J!$A$2:$AW$4000,12,FALSE)","v":42},{"$f":"VLOOKUP($CY18,J!$A$2:$AW$4000,13,FALSE)","v":47},{"$f":"VLOOKUP($CY18,J!$A$2:$AW$4000,14,FALSE)","v":48},{"$f":"VLOOKUP($CY18,J!$A$2:$AW$4000,15,FALSE)","v":51},{"$f":"VLOOKUP($CY18,J!$A$2:$AW$4000,16,FALSE)","v":60},{"$f":"VLOOKUP($CY18,J!$A$2:$AW$4000,17,FALSE)","v":61},{"$f":"VLOOKUP($CY18,J!$A$2:$AW$4000,18,FALSE)","v":64},{"$f":"VLOOKUP($CY18,J!$A$2:$AW$4000,19,FALSE)","v":87},{"$f":"VLOOKUP($CY18,J!$A$2:$AW$4000,20,FALSE)","v":89},{"$f":"VLOOKUP($CY18,J!$A$2:$AW$4000,21,FALSE)","v":95},{"$f":"VLOOKUP($CY18,J!$A$2:$AW$4000,22,FALSE)","v":99}]
[null,{"$f":"IF(COUNTIF($CZ19:$DS19,B$16),B$16,\"\")","v":""},{"$f":"IF(COUNTIF($CZ19:$DS19,C$16),C$16,\"\")","v":""},{"$f":"IF(COUNTIF($CZ19:$DS19,D$16),D$16,\"\")","v":3},{"$f":"IF(COUNTIF($CZ19:$DS19,E$16),E$16,\"\")","v":""},{"$f":"IF(COUNTIF($CZ19:$DS19,F$16),F$16,\"\")","v":5},{"$f":"IF(COUNTIF($CZ19:$DS19,G$16),G$16,\"\")","v":""},{"$f":"IF(COUNTIF($CZ19:$DS19,H$16),H$16,\"\")","v":""},{"$f":"IF(COUNTIF($CZ19:$DS19,I$16),I$16,\"\")","v":""},{"$f":"IF(COUNTIF($CZ19:$DS19,J$16),J$16,\"\")","v":""},{"$f":"IF(COUNTIF($CZ19:$DS19,K$16),K$16,\"\")","v":10},{"$f":"IF(COUNTIF($CZ19:$DS19,L$16),L$16,\"\")","v":""},{"$f":"IF(COUNTIF($CZ19:$DS19,M$16),M$16,\"\")","v":""},{"$f":"IF(COUNTIF($CZ19:$DS19,N$16),N$16,\"\")","v":""},{"$f":"IF(COUNTIF($CZ19:$DS19,O$16),O$16,\"\")","v":""},{"$f":"IF(COUNTIF($CZ19:$DS19,P$16),P$16,\"\")","v":15},{"$f":"IF(COUNTIF($CZ19:$DS19,Q$16),Q$16,\"\")","v":""},{"$f":"IF(COUNTIF($CZ19:$DS19,R$16),R$16,\"\")","v":""},{"$f":"IF(COUNTIF($CZ19:$DS19,S$16),S$16,\"\")","v":""},{"$f":"IF(COUNTIF($CZ19:$DS19,T$16),T$16,\"\")","v":""},{"$f":"IF(COUNTIF($CZ19:$DS19,U$16),U$16,\"\")","v":20},{"$f":"IF(COUNTIF($CZ19:$DS19,V$16),V$16,\"\")","v":""},{"$f":"IF(COUNTIF($CZ19:$DS19,W$16),W$16,\"\")","v":""},{"$f":"IF(COUNTIF($CZ19:$DS19,X$16),X$16,\"\")","v":""},{"$f":"IF(COUNTIF($CZ19:$DS19,Y$16),Y$16,\"\")","v":""},{"$f":"IF(COUNTIF($CZ19:$DS19,Z$16),Z$16,\"\")","v":""},{"$f":"IF(COUNTIF($CZ19:$DS19,AA$16),AA$16,\"\")","v":""},{"$f":"IF(COUNTIF($CZ19:$DS19,AB$16),AB$16,\"\")","v":""},{"$f":"IF(COUNTIF($CZ19:$DS19,AC$16),AC$16,\"\")","v":""},{"$f":"IF(COUNTIF($CZ19:$DS19,AD$16),AD$16,\"\")","v":""},{"$f":"IF(COUNTIF($CZ19:$DS19,AE$16),AE$16,\"\")","v":""},{"$f":"IF(COUNTIF($CZ19:$DS19,AF$16),AF$16,\"\")","v":""},{"$f":"IF(COUNTIF($CZ19:$DS19,AG$16),AG$16,\"\")","v":""},{"$f":"IF(COUNTIF($CZ19:$DS19,AH$16),AH$16,\"\")","v":""},{"$f":"IF(COUNTIF($CZ19:$DS19,AI$16),AI$16,\"\")","v":""},{"$f":"IF(COUNTIF($CZ19:$DS19,AJ$16),AJ$16,\"\")","v":""},{"$f":"IF(COUNTIF($CZ19:$DS19,AK$16),AK$16,\"\")","v":""},{"$f":"IF(COUNTIF($CZ19:$DS19,AL$16),AL$16,\"\")","v":""},{"$f":"IF(COUNTIF($CZ19:$DS19,AM$16),AM$16,\"\")","v":38},{"$f":"IF(COUNTIF($CZ19:$DS19,AN$16),AN$16,\"\")","v":39},{"$f":"IF(COUNTIF($CZ19:$DS19,AO$16),AO$16,\"\")","v":""},{"$f":"IF(COUNTIF($CZ19:$DS19,AP$16),AP$16,\"\")","v":""},{"$f":"IF(COUNTIF($CZ19:$DS19,AQ$16),AQ$16,\"\")","v":""},{"$f":"IF(COUNTIF($CZ19:$DS19,AR$16),AR$16,\"\")","v":""},{"$f":"IF(COUNTIF($CZ19:$DS19,AS$16),AS$16,\"\")","v":""},{"$f":"IF(COUNTIF($CZ19:$DS19,AT$16),AT$16,\"\")","v":45},{"$f":"IF(COUNTIF($CZ19:$DS19,AU$16),AU$16,\"\")","v":""},{"$f":"IF(COUNTIF($CZ19:$DS19,AV$16),AV$16,\"\")","v":""},{"$f":"IF(COUNTIF($CZ19:$DS19,AW$16),AW$16,\"\")","v":""},{"$f":"IF(COUNTIF($CZ19:$DS19,AX$16),AX$16,\"\")","v":""},{"$f":"IF(COUNTIF($CZ19:$DS19,AY$16),AY$16,\"\")","v":50},{"$f":"IF(COUNTIF($CZ19:$DS19,AZ$16),AZ$16,\"\")","v":""},{"$f":"IF(COUNTIF($CZ19:$DS19,BA$16),BA$16,\"\")","v":""},{"$f":"IF(COUNTIF($CZ19:$DS19,BB$16),BB$16,\"\")","v":53},{"$f":"IF(COUNTIF($CZ19:$DS19,BC$16),BC$16,\"\")","v":""},{"$f":"IF(COUNTIF($CZ19:$DS19,BD$16),BD$16,\"\")","v":""},{"$f":"IF(COUNTIF($CZ19:$DS19,BE$16),BE$16,\"\")","v":""},{"$f":"IF(COUNTIF($CZ19:$DS19,BF$16),BF$16,\"\")","v":57},{"$f":"IF(COUNTIF($CZ19:$DS19,BG$16),BG$16,\"\")","v":""},{"$f":"IF(COUNTIF($CZ19:$DS19,BH$16),BH$16,\"\")","v":""},{"$f":"IF(COUNTIF($CZ19:$DS19,BI$16),BI$16,\"\")","v":60},{"$f":"IF(COUNTIF($CZ19:$DS19,BJ$16),BJ$16,\"\")","v":""},{"$f":"IF(COUNTIF($CZ19:$DS19,BK$16),BK$16,\"\")","v":""},{"$f":"IF(COUNTIF($CZ19:$DS19,BL$16),BL$16,\"\")","v":""},{"$f":"IF(COUNTIF($CZ19:$DS19,BM$16),BM$16,\"\")","v":64},{"$f":"IF(COUNTIF($CZ19:$DS19,BN$16),BN$16,\"\")","v":""},{"$f":"IF(COUNTIF($CZ19:$DS19,BO$16),BO$16,\"\")","v":""},{"$f":"IF(COUNTIF($CZ19:$DS19,BP$16),BP$16,\"\")","v":""},{"$f":"IF(COUNTIF($CZ19:$DS19,BQ$16),BQ$16,\"\")","v":""},{"$f":"IF(COUNTIF($CZ19:$DS19,BR$16),BR$16,\"\")","v":""},{"$f":"IF(COUNTIF($CZ19:$DS19,BS$16),BS$16,\"\")","v":""},{"$f":"IF(COUNTIF($CZ19:$DS19,BT$16),BT$16,\"\")","v":""},{"$f":"IF(COUNTIF($CZ19:$DS19,BU$16),BU$16,\"\")","v":72},{"$f":"IF(COUNTIF($CZ19:$DS19,BV$16),BV$16,\"\")","v":""},{"$f":"IF(COUNTIF($CZ19:$DS19,BW$16),BW$16,\"\")","v":""},{"$f":"IF(COUNTIF($CZ19:$DS19,BX$16),BX$16,\"\")","v":""},{"$f":"IF(COUNTIF($CZ19:$DS19,BY$16),BY$16,\"\")","v":""},{"$f":"IF(COUNTIF($CZ19:$DS19,BZ$16),BZ$16,\"\")","v":77},{"$f":"IF(COUNTIF($CZ19:$DS19,CA$16),CA$16,\"\")","v":""},{"$f":"IF(COUNTIF($CZ19:$DS19,CB$16),CB$16,\"\")","v":79},{"$f":"IF(COUNTIF($CZ19:$DS19,CC$16),CC$16,\"\")","v":""},{"$f":"IF(COUNTIF($CZ19:$DS19,CD$16),CD$16,\"\")","v":""},{"$f":"IF(COUNTIF($CZ19:$DS19,CE$16),CE$16,\"\")","v":""},{"$f":"IF(COUNTIF($CZ19:$DS19,CF$16),CF$16,\"\")","v":""},{"$f":"IF(COUNTIF($CZ19:$DS19,CG$16),CG$16,\"\")","v":""},{"$f":"IF(COUNTIF($CZ19:$DS19,CH$16),CH$16,\"\")","v":85},{"$f":"IF(COUNTIF($CZ19:$DS19,CI$16),CI$16,\"\")","v":86},{"$f":"IF(COUNTIF($CZ19:$DS19,CJ$16),CJ$16,\"\")","v":""},{"$f":"IF(COUNTIF($CZ19:$DS19,CK$16),CK$16,\"\")","v":""},{"$f":"IF(COUNTIF($CZ19:$DS19,CL$16),CL$16,\"\")","v":""},{"$f":"IF(COUNTIF($CZ19:$DS19,CM$16),CM$16,\"\")","v":""},{"$f":"IF(COUNTIF($CZ19:$DS19,CN$16),CN$16,\"\")","v":""},{"$f":"IF(COUNTIF($CZ19:$DS19,CO$16),CO$16,\"\")","v":""},{"$f":"IF(COUNTIF($CZ19:$DS19,CP$16),CP$16,\"\")","v":""},{"$f":"IF(COUNTIF($CZ19:$DS19,CQ$16),CQ$16,\"\")","v":""},{"$f":"IF(COUNTIF($CZ19:$DS19,CR$16),CR$16,\"\")","v":""},{"$f":"IF(COUNTIF($CZ19:$DS19,CS$16),CS$16,\"\")","v":96},{"$f":"IF(COUNTIF($CZ19:$DS19,CT$16),CT$16,\"\")","v":""},{"$f":"IF(COUNTIF($CZ19:$DS19,CU$16),CU$16,\"\")","v":""},{"$f":"IF(COUNTIF($CZ19:$DS19,CV$16),CV$16,\"\")","v":99},{"$f":"IF(COUNTIF($CZ19:$DS19,0),0,\"\")","v":""},3,{"$f":"CY18-1","v":1867},{"$f":"VLOOKUP($CY19,J!$A$2:$AW$4000,3,FALSE)","v":3},{"$f":"VLOOKUP($CY19,J!$A$2:$AW$4000,4,FALSE)","v":5},{"$f":"VLOOKUP($CY19,J!$A$2:$AW$4000,5,FALSE)","v":10},{"$f":"VLOOKUP($CY19,J!$A$2:$AW$4000,6,FALSE)","v":15},{"$f":"VLOOKUP($CY19,J!$A$2:$AW$4000,7,FALSE)","v":20},{"$f":"VLOOKUP($CY19,J!$A$2:$AW$4000,8,FALSE)","v":38},{"$f":"VLOOKUP($CY19,J!$A$2:$AW$4000,9,FALSE)","v":39},{"$f":"VLOOKUP($CY19,J!$A$2:$AW$4000,10,FALSE)","v":45},{"$f":"VLOOKUP($CY19,J!$A$2:$AW$4000,11,FALSE)","v":50},{"$f":"VLOOKUP($CY19,J!$A$2:$AW$4000,12,FALSE)","v":53},{"$f":"VLOOKUP($CY19,J!$A$2:$AW$4000,13,FALSE)","v":57},{"$f":"VLOOKUP($CY19,J!$A$2:$AW$4000,14,FALSE)","v":60},{"$f":"VLOOKUP($CY19,J!$A$2:$AW$4000,15,FALSE)","v":64},{"$f":"VLOOKUP($CY19,J!$A$2:$AW$4000,16,FALSE)","v":72},{"$f":"VLOOKUP($CY19,J!$A$2:$AW$4000,17,FALSE)","v":77},{"$f":"VLOOKUP($CY19,J!$A$2:$AW$4000,18,FALSE)","v":79},{"$f":"VLOOKUP($CY19,J!$A$2:$AW$4000,19,FALSE)","v":85},{"$f":"VLOOKUP($CY19,J!$A$2:$AW$4000,20,FALSE)","v":86},{"$f":"VLOOKUP($CY19,J!$A$2:$AW$4000,21,FALSE)","v":96},{"$f":"VLOOKUP($CY19,J!$A$2:$AW$4000,22,FALSE)","v":99}]
[null,{"$f":"IF(COUNTIF($CZ20:$DS20,B$16),B$16,\"\")","v":""},{"$f":"IF(COUNTIF($CZ20:$DS20,C$16),C$16,\"\")","v":""},{"$f":"IF(COUNTIF($CZ20:$DS20,D$16),D$16,\"\")","v":""},{"$f":"IF(COUNTIF($CZ20:$DS20,E$16),E$16,\"\")","v":""},{"$f":"IF(COUNTIF($CZ20:$DS20,F$16),F$16,\"\")","v":5},{"$f":"IF(COUNTIF($CZ20:$DS20,G$16),G$16,\"\")","v":""},{"$f":"IF(COUNTIF($CZ20:$DS20,H$16),H$16,\"\")","v":""},{"$f":"IF(COUNTIF($CZ20:$DS20,I$16),I$16,\"\")","v":""},{"$f":"IF(COUNTIF($CZ20:$DS20,J$16),J$16,\"\")","v":""},{"$f":"IF(COUNTIF($CZ20:$DS20,K$16),K$16,\"\")","v":""},{"$f":"IF(COUNTIF($CZ20:$DS20,L$16),L$16,\"\")","v":""},{"$f":"IF(COUNTIF($CZ20:$DS20,M$16),M$16,\"\")","v":""},{"$f":"IF(COUNTIF($CZ20:$DS20,N$16),N$16,\"\")","v":""},{"$f":"IF(COUNTIF($CZ20:$DS20,O$16),O$16,\"\")","v":""},{"$f":"IF(COUNTIF($CZ20:$DS20,P$16),P$16,\"\")","v":""},{"$f":"IF(COUNTIF($CZ20:$DS20,Q$16),Q$16,\"\")","v":""},{"$f":"IF(COUNTIF($CZ20:$DS20,R$16),R$16,\"\")","v":17},{"$f":"IF(COUNTIF($CZ20:$DS20,S$16),S$16,\"\")","v":""},{"$f":"IF(COUNTIF($CZ20:$DS20,T$16),T$16,\"\")","v":19},{"$f":"IF(COUNTIF($CZ20:$DS20,U$16),U$16,\"\")","v":""},{"$f":"IF(COUNTIF($CZ20:$DS20,V$16),V$16,\"\")","v":""},{"$f":"IF(COUNTIF($CZ20:$DS20,W$16),W$16,\"\")","v":22},{"$f":"IF(COUNTIF($CZ20:$DS20,X$16),X$16,\"\")","v":""},{"$f":"IF(COUNTIF($CZ20:$DS20,Y$16),Y$16,\"\")","v":24},{"$f":"IF(COUNTIF($CZ20:$DS20,Z$16),Z$16,\"\")","v":""},{"$f":"IF(COUNTIF($CZ20:$DS20,AA$16),AA$16,\"\")","v":26},{"$f":"IF(COUNTIF($CZ20:$DS20,AB$16),AB$16,\"\")","v":""},{"$f":"IF(COUNTIF($CZ20:$DS20,AC$16),AC$16,\"\")","v":""},{"$f":"IF(COUNTIF($CZ20:$DS20,AD$16),AD$16,\"\")","v":""},{"$f":"IF(COUNTIF($CZ20:$DS20,AE$16),AE$16,\"\")","v":""},{"$f":"IF(COUNTIF($CZ20:$DS20,AF$16),AF$16,\"\")","v":""},{"$f":"IF(COUNTIF($CZ20:$DS20,AG$16),AG$16,\"\")","v":""},{"$f":"IF(COUNTIF($CZ20:$DS20,AH$16),AH$16,\"\")","v":33},{"$f":"IF(COUNTIF($CZ20:$DS20,AI$16),AI$16,\"\")","v":""},{"$f":"IF(COUNTIF($CZ20:$DS20,AJ$16),AJ$16,\"\")","v":""},{"$f":"IF(COUNTIF($CZ20:$DS20,AK$16),AK$16,\"\")","v":""},{"$f":"IF(COUNTIF($CZ20:$DS20,AL$16),AL$16,\"\")","v":""},{"$f":"IF(COUNTIF($CZ20:$DS20,AM$16),AM$16,\"\")","v":""},{"$f":"IF(COUNTIF($CZ20:$DS20,AN$16),AN$16,\"\")","v":""},{"$f":"IF(COUNTIF($CZ20:$DS20,AO$16),AO$16,\"\")","v":40},{"$f":"IF(COUNTIF($CZ20:$DS20,AP$16),AP$16,\"\")","v":""},{"$f":"IF(COUNTIF($CZ20:$DS20,AQ$16),AQ$16,\"\")","v":""},{"$f":"IF(COUNTIF($CZ20:$DS20,AR$16),AR$16,\"\")","v":""},{"$f":"IF(COUNTIF($CZ20:$DS20,AS$16),AS$16,\"\")","v":""},{"$f":"IF(COUNTIF($CZ20:$DS20,AT$16),AT$16,\"\")","v":""},{"$f":"IF(COUNTIF($CZ20:$DS20,AU$16),AU$16,\"\")","v":""},{"$f":"IF(COUNTIF($CZ20:$DS20,AV$16),AV$16,\"\")","v":""},{"$f":"IF(COUNTIF($CZ20:$DS20,AW$16),AW$16,\"\")","v":""},{"$f":"IF(COUNTIF($CZ20:$DS20,AX$16),AX$16,\"\")","v":""},{"$f":"IF(COUNTIF($CZ20:$DS20,AY$16),AY$16,\"\")","v":""},{"$f":"IF(COUNTIF($CZ20:$DS20,AZ$16),AZ$16,\"\")","v":""},{"$f":"IF(COUNTIF($CZ20:$DS20,BA$16),BA$16,\"\")","v":52},{"$f":"IF(COUNTIF($CZ20:$DS20,BB$16),BB$16,\"\")","v":""},{"$f":"IF(COUNTIF($CZ20:$DS20,BC$16),BC$16,\"\")","v":""},{"$f":"IF(COUNTIF($CZ20:$DS20,BD$16),BD$16,\"\")","v":""},{"$f":"IF(COUNTIF($CZ20:$DS20,BE$16),BE$16,\"\")","v":""},{"$f":"IF(COUNTIF($CZ20:$DS20,BF$16),BF$16,\"\")","v":""},{"$f":"IF(COUNTIF($CZ20:$DS20,BG$16),BG$16,\"\")","v":""},{"$f":"IF(COUNTIF($CZ20:$DS20,BH$16),BH$16,\"\")","v":""},{"$f":"IF(COUNTIF($CZ20:$DS20,BI$16),BI$16,\"\")","v":""},{"$f":"IF(COUNTIF($CZ20:$DS20,BJ$16),BJ$16,\"\")","v":61},{"$f":"IF(COUNTIF($CZ20:$DS20,BK$16),BK$16,\"\")","v":62},{"$f":"IF(COUNTIF($CZ20:$DS20,BL$16),BL$16,\"\")","v":""},{"$f":"IF(COUNTIF($CZ20:$DS20,BM$16),BM$16,\"\")","v":64},{"$f":"IF(COUNTIF($CZ20:$DS20,BN$16),BN$16,\"\")","v":""},{"$f":"IF(COUNTIF($CZ20:$DS20,BO$16),BO$16,\"\")","v":""},{"$f":"IF(COUNTIF($CZ20:$DS20,BP$16),BP$16,\"\")","v":67},{"$f":"IF(COUNTIF($CZ20:$DS20,BQ$16),BQ$16,\"\")","v":""},{"$f":"IF(COUNTIF($CZ20:$DS20,BR$16),BR$16,\"\")","v":69},{"$f":"IF(COUNTIF($CZ20:$DS20,BS$16),BS$16,\"\")","v":70},{"$f":"IF(COUNTIF($CZ20:$DS20,BT$16),BT$16,\"\")","v":""},{"$f":"IF(COUNTIF($CZ20:$DS20,BU$16),BU$16,\"\")","v":""},{"$f":"IF(COUNTIF($CZ20:$DS20,BV$16),BV$16,\"\")","v":73},{"$f":"IF(COUNTIF($CZ20:$DS20,BW$16),BW$16,\"\")","v":""},{"$f":"IF(COUNTIF($CZ20:$DS20,BX$16),BX$16,\"\")","v":75},{"$f":"IF(COUNTIF($CZ20:$DS20,BY$16),BY$16,\"\")","v":""},{"$f":"IF(COUNTIF($CZ20:$DS20,BZ$16),BZ$16,\"\")","v":""},{"$f":"IF(COUNTIF($CZ20:$DS20,CA$16),CA$16,\"\")","v":""},{"$f":"IF(COUNTIF($CZ20:$DS20,CB$16),CB$16,\"\")","v":79},{"$f":"IF(COUNTIF($CZ20:$DS20,CC$16),CC$16,\"\")","v":""},{"$f":"IF(COUNTIF($CZ20:$DS20,CD$16),CD$16,\"\")","v":""},{"$f":"IF(COUNTIF($CZ20:$DS20,CE$16),CE$16,\"\")","v":""},{"$f":"IF(COUNTIF($CZ20:$DS20,CF$16),CF$16,\"\")","v":83},{"$f":"IF(COUNTIF($CZ20:$DS20,CG$16),CG$16,\"\")","v":""},{"$f":"IF(COUNTIF($CZ20:$DS20,CH$16),CH$16,\"\")","v":""},{"$f":"IF(COUNTIF($CZ20:$DS20,CI$16),CI$16,\"\")","v":""},{"$f":"IF(COUNTIF($CZ20:$DS20,CJ$16),CJ$16,\"\")","v":""},{"$f":"IF(COUNTIF($CZ20:$DS20,CK$16),CK$16,\"\")","v":""},{"$f":"IF(COUNTIF($CZ20:$DS20,CL$16),CL$16,\"\")","v":""},{"$f":"IF(COUNTIF($CZ20:$DS20,CM$16),CM$16,\"\")","v":""},{"$f":"IF(COUNTIF($CZ20:$DS20,CN$16),CN$16,\"\")","v":""},{"$f":"IF(COUNTIF($CZ20:$DS20,CO$16),CO$16,\"\")","v":""},{"$f":"IF(COUNTIF($CZ20:$DS20,CP$16),CP$16,\"\")","v":""},{"$f":"IF(COUNTIF($CZ20:$DS20,CQ$16),CQ$16,\"\")","v":""},{"$f":"IF(COUNTIF($CZ20:$DS20,CR$16),CR$16,\"\")","v":""},{"$f":"IF(COUNTIF($CZ20:$DS20,CS$16),CS$16,\"\")","v":""},{"$f":"IF(COUNTIF($CZ20:$DS20,CT$16),CT$16,\"\")","v":""},{"$f":"IF(COUNTIF($CZ20:$DS20,CU$16),CU$16,\"\")","v":""},{"$f":"IF(COUNTIF($CZ20:$DS20,CV$16),CV$16,\"\")","v":99},{"$f":"IF(COUNTIF($CZ20:$DS20,0),0,\"\")","v":""},4,1866,{"$f":"VLOOKUP($CY20,J!$A$2:$AW$4000,3,FALSE)","v":5},{"$f":"VLOOKUP($CY20,J!$A$2:$AW$4000,4,FALSE)","v":17},{"$f":"VLOOKUP($CY20,J!$A$2:$AW$4000,5,FALSE)","v":19},{"$f":"VLOOKUP($CY20,J!$A$2:$AW$4000,6,FALSE)","v":22},{"$f":"VLOOKUP($CY20,J!$A$2:$AW$4000,7,FALSE)","v":24},{"$f":"VLOOKUP($CY20,J!$A$2:$AW$4000,8,FALSE)","v":26},{"$f":"VLOOKUP($CY20,J!$A$2:$AW$4000,9,FALSE)","v":33},{"$f":"VLOOKUP($CY20,J!$A$2:$AW$4000,10,FALSE)","v":40},{"$f":"VLOOKUP($CY20,J!$A$2:$AW$4000,11,FALSE)","v":52},{"$f":"VLOOKUP($CY20,J!$A$2:$AW$4000,12,FALSE)","v":61},{"$f":"VLOOKUP($CY20,J!$A$2:$AW$4000,13,FALSE)","v":62},{"$f":"VLOOKUP($CY20,J!$A$2:$AW$4000,14,FALSE)","v":64},{"$f":"VLOOKUP($CY20,J!$A$2:$AW$4000,15,FALSE)","v":67},{"$f":"VLOOKUP($CY20,J!$A$2:$AW$4000,16,FALSE)","v":69},{"$f":"VLOOKUP($CY20,J!$A$2:$AW$4000,17,FALSE)","v":70},{"$f":"VLOOKUP($CY20,J!$A$2:$AW$4000,18,FALSE)","v":73},{"$f":"VLOOKUP($CY20,J!$A$2:$AW$4000,19,FALSE)","v":75},{"$f":"VLOOKUP($CY20,J!$A$2:$AW$4000,20,FALSE)","v":79},{"$f":"VLOOKUP($CY20,J!$A$2:$AW$4000,21,FALSE)","v":83},{"$f":"VLOOKUP($CY20,J!$A$2:$AW$4000,22,FALSE)","v":99}]
[null,{"$f":"IF(COUNTIF($CZ21:$DS21,B$16),B$16,\"\")","v":1},{"$f":"IF(COUNTIF($CZ21:$DS21,C$16),C$16,\"\")","v":""},{"$f":"IF(COUNTIF($CZ21:$DS21,D$16),D$16,\"\")","v":""},{"$f":"IF(COUNTIF($CZ21:$DS21,E$16),E$16,\"\")","v":""},{"$f":"IF(COUNTIF($CZ21:$DS21,F$16),F$16,\"\")","v":""},{"$f":"IF(COUNTIF($CZ21:$DS21,G$16),G$16,\"\")","v":""},{"$f":"IF(COUNTIF($CZ21:$DS21,H$16),H$16,\"\")","v":""},{"$f":"IF(COUNTIF($CZ21:$DS21,I$16),I$16,\"\")","v":8},{"$f":"IF(COUNTIF($CZ21:$DS21,J$16),J$16,\"\")","v":""},{"$f":"IF(COUNTIF($CZ21:$DS21,K$16),K$16,\"\")","v":""},{"$f":"IF(COUNTIF($CZ21:$DS21,L$16),L$16,\"\")","v":""},{"$f":"IF(COUNTIF($CZ21:$DS21,M$16),M$16,\"\")","v":""},{"$f":"IF(COUNTIF($CZ21:$DS21,N$16),N$16,\"\")","v":""},{"$f":"IF(COUNTIF($CZ21:$DS21,O$16),O$16,\"\")","v":14},{"$f":"IF(COUNTIF($CZ21:$DS21,P$16),P$16,\"\")","v":""},{"$f":"IF(COUNTIF($CZ21:$DS21,Q$16),Q$16,\"\")","v":""},{"$f":"IF(COUNTIF($CZ21:$DS21,R$16),R$16,\"\")","v":17},{"$f":"IF(COUNTIF($CZ21:$DS21,S$16),S$16,\"\")","v":""},{"$f":"IF(COUNTIF($CZ21:$DS21,T$16),T$16,\"\")","v":""},{"$f":"IF(COUNTIF($CZ21:$DS21,U$16),U$16,\"\")","v":""},{"$f":"IF(COUNTIF($CZ21:$DS21,V$16),V$16,\"\")","v":""},{"$f":"IF(COUNTIF($CZ21:$DS21,W$16),W$16,\"\")","v":""},{"$f":"IF(COUNTIF($CZ21:$DS21,X$16),X$16,\"\")","v":""},{"$f":"IF(COUNTIF($CZ21:$DS21,Y$16),Y$16,\"\")","v":""},{"$f":"IF(COUNTIF($CZ21:$DS21,Z$16),Z$16,\"\")","v":""},{"$f":"IF(COUNTIF($CZ21:$DS21,AA$16),AA$16,\"\")","v":""},{"$f":"IF(COUNTIF($CZ21:$DS21,AB$16),AB$16,\"\")","v":""},{"$f":"IF(COUNTIF($CZ21:$DS21,AC$16),AC$16,\"\")","v":""},{"$f":"IF(COUNTIF($CZ21:$DS21,AD$16),AD$16,\"\")","v":""},{"$f":"IF(COUNTIF($CZ21:$DS21,AE$16),AE$16,\"\")","v":""},{"$f":"IF(COUNTIF($CZ21:$DS21,AF$16),AF$16,\"\")","v":31},{"$f":"IF(COUNTIF($CZ21:$DS21,AG$16),AG$16,\"\")","v":""},{"$f":"IF(COUNTIF($CZ21:$DS21,AH$16),AH$16,\"\")","v":""},{"$f":"IF(COUNTIF($CZ21:$DS21,AI$16),AI$16,\"\")","v":""},{"$f":"IF(COUNTIF($CZ21:$DS21,AJ$16),AJ$16,\"\")","v":""},{"$f":"IF(COUNTIF($CZ21:$DS21,AK$16),AK$16,\"\")","v":""},{"$f":"IF(COUNTIF($CZ21:$DS21,AL$16),AL$16,\"\")","v":""},{"$f":"IF(COUNTIF($CZ21:$DS21,AM$16),AM$16,\"\")","v":""},{"$f":"IF(COUNTIF($CZ21:$DS21,AN$16),AN$16,\"\")","v":""},{"$f":"IF(COUNTIF($CZ21:$DS21,AO$16),AO$16,\"\")","v":""},{"$f":"IF(COUNTIF($CZ21:$DS21,AP$16),AP$16,\"\")","v":41},{"$f":"IF(COUNTIF($CZ21:$DS21,AQ$16),AQ$16,\"\")","v":""},{"$f":"IF(COUNTIF($CZ21:$DS21,AR$16),AR$16,\"\")","v":""},{"$f":"IF(COUNTIF($CZ21:$DS21,AS$16),AS$16,\"\")","v":""},{"$f":"IF(COUNTIF($CZ21:$DS21,AT$16),AT$16,\"\")","v":45},{"$f":"IF(COUNTIF($CZ21:$DS21,AU$16),AU$16,\"\")","v":""},{"$f":"IF(COUNTIF($CZ21:$DS21,AV$16),AV$16,\"\")","v":""},{"$f":"IF(COUNTIF($CZ21:$DS21,AW$16),AW$16,\"\")","v":""},{"$f":"IF(COUNTIF($CZ21:$DS21,AX$16),AX$16,\"\")","v":49},{"$f":"IF(COUNTIF($CZ21:$DS21,AY$16),AY$16,\"\")","v":""},{"$f":"IF(COUNTIF($CZ21:$DS21,AZ$16),AZ$16,\"\")","v":51},{"$f":"IF(COUNTIF($CZ21:$DS21,BA$16),BA$16,\"\")","v":""},{"$f":"IF(COUNTIF($CZ21:$DS21,BB$16),BB$16,\"\")","v":""},{"$f":"IF(COUNTIF($CZ21:$DS21,BC$16),BC$16,\"\")","v":""},{"$f":"IF(COUNTIF($CZ21:$DS21,BD$16),BD$16,\"\")","v":""},{"$f":"IF(COUNTIF($CZ21:$DS21,BE$16),BE$16,\"\")","v":""},{"$f":"IF(COUNTIF($CZ21:$DS21,BF$16),BF$16,\"\")","v":""},{"$f":"IF(COUNTIF($CZ21:$DS21,BG$16),BG$16,\"\")","v":58},{"$f":"IF(COUNTIF($CZ21:$DS21,BH$16),BH$16,\"\")","v":""},{"$f":"IF(COUNTIF($CZ21:$DS21,BI$16),BI$16,\"\")","v":""},{"$f":"IF(COUNTIF($CZ21:$DS21,BJ$16),BJ$16,\"\")","v":61},{"$f":"IF(COUNTIF($CZ21:$DS21,BK$16),BK$16,\"\")","v":62},{"$f":"IF(COUNTIF($CZ21:$DS21,BL$16),BL$16,\"\")","v":""},{"$f":"IF(COUNTIF($CZ21:$DS21,BM$16),BM$16,\"\")","v":""},{"$f":"IF(COUNTIF($CZ21:$DS21,BN$16),BN$16,\"\")","v":""},{"$f":"IF(COUNTIF($CZ21:$DS21,BO$16),BO$16,\"\")","v":66},{"$f":"IF(COUNTIF($CZ21:$DS21,BP$16),BP$16,\"\")","v":67},{"$f":"IF(COUNTIF($CZ21:$DS21,BQ$16),BQ$16,\"\")","v":""},{"$f":"IF(COUNTIF($CZ21:$DS21,BR$16),BR$16,\"\")","v":""},{"$f":"IF(COUNTIF($CZ21:$DS21,BS$16),BS$16,\"\")","v":""},{"$f":"IF(COUNTIF($CZ21:$DS21,BT$16),BT$16,\"\")","v":""},{"$f":"IF(COUNTIF($CZ21:$DS21,BU$16),BU$16,\"\")","v":""},{"$f":"IF(COUNTIF($CZ21:$DS21,BV$16),BV$16,\"\")","v":""},{"$f":"IF(COUNTIF($CZ21:$DS21,BW$16),BW$16,\"\")","v":""},{"$f":"IF(COUNTIF($CZ21:$DS21,BX$16),BX$16,\"\")","v":75},{"$f":"IF(COUNTIF($CZ21:$DS21,BY$16),BY$16,\"\")","v":""},{"$f":"IF(COUNTIF($CZ21:$DS21,BZ$16),BZ$16,\"\")","v":""},{"$f":"IF(COUNTIF($CZ21:$DS21,CA$16),CA$16,\"\")","v":""},{"$f":"IF(COUNTIF($CZ21:$DS21,CB$16),CB$16,\"\")","v":""},{"$f":"IF(COUNTIF($CZ21:$DS21,CC$16),CC$16,\"\")","v":""},{"$f":"IF(COUNTIF($CZ21:$DS21,CD$16),CD$16,\"\")","v":81},{"$f":"IF(COUNTIF($CZ21:$DS21,CE$16),CE$16,\"\")","v":""},{"$f":"IF(COUNTIF($CZ21:$DS21,CF$16),CF$16,\"\")","v":""},{"$f":"IF(COUNTIF($CZ21:$DS21,CG$16),CG$16,\"\")","v":""},{"$f":"IF(COUNTIF($CZ21:$DS21,CH$16),CH$16,\"\")","v":""},{"$f":"IF(COUNTIF($CZ21:$DS21,CI$16),CI$16,\"\")","v":86},{"$f":"IF(COUNTIF($CZ21:$DS21,CJ$16),CJ$16,\"\")","v":""},{"$f":"IF(COUNTIF($CZ21:$DS21,CK$16),CK$16,\"\")","v":""},{"$f":"IF(COUNTIF($CZ21:$DS21,CL$16),CL$16,\"\")","v":""},{"$f":"IF(COUNTIF($CZ21:$DS21,CM$16),CM$16,\"\")","v":""},{"$f":"IF(COUNTIF($CZ21:$DS21,CN$16),CN$16,\"\")","v":""},{"$f":"IF(COUNTIF($CZ21:$DS21,CO$16),CO$16,\"\")","v":92},{"$f":"IF(COUNTIF($CZ21:$DS21,CP$16),CP$16,\"\")","v":""},{"$f":"IF(COUNTIF($CZ21:$DS21,CQ$16),CQ$16,\"\")","v":""},{"$f":"IF(COUNTIF($CZ21:$DS21,CR$16),CR$16,\"\")","v":""},{"$f":"IF(COUNTIF($CZ21:$DS21,CS$16),CS$16,\"\")","v":""},{"$f":"IF(COUNTIF($CZ21:$DS21,CT$16),CT$16,\"\")","v":97},{"$f":"IF(COUNTIF($CZ21:$DS21,CU$16),CU$16,\"\")","v":""},{"$f":"IF(COUNTIF($CZ21:$DS21,CV$16),CV$16,\"\")","v":""},{"$f":"IF(COUNTIF($CZ21:$DS21,0),0,\"\")","v":0},5,1865,{"$f":"VLOOKUP($CY21,J!$A$2:$AW$4000,3,FALSE)","v":0},{"$f":"VLOOKUP($CY21,J!$A$2:$AW$4000,4,FALSE)","v":1},{"$f":"VLOOKUP($CY21,J!$A$2:$AW$4000,5,FALSE)","v":8},{"$f":"VLOOKUP($CY21,J!$A$2:$AW$4000,6,FALSE)","v":14},{"$f":"VLOOKUP($CY21,J!$A$2:$AW$4000,7,FALSE)","v":17},{"$f":"VLOOKUP($CY21,J!$A$2:$AW$4000,8,FALSE)","v":31},{"$f":"VLOOKUP($CY21,J!$A$2:$AW$4000,9,FALSE)","v":41},{"$f":"VLOOKUP($CY21,J!$A$2:$AW$4000,10,FALSE)","v":45},{"$f":"VLOOKUP($CY21,J!$A$2:$AW$4000,11,FALSE)","v":49},{"$f":"VLOOKUP($CY21,J!$A$2:$AW$4000,12,FALSE)","v":51},{"$f":"VLOOKUP($CY21,J!$A$2:$AW$4000,13,FALSE)","v":58},{"$f":"VLOOKUP($CY21,J!$A$2:$AW$4000,14,FALSE)","v":61},{"$f":"VLOOKUP($CY21,J!$A$2:$AW$4000,15,FALSE)","v":62},{"$f":"VLOOKUP($CY21,J!$A$2:$AW$4000,16,FALSE)","v":66},{"$f":"VLOOKUP($CY21,J!$A$2:$AW$4000,17,FALSE)","v":67},{"$f":"VLOOKUP($CY21,J!$A$2:$AW$4000,18,FALSE)","v":75},{"$f":"VLOOKUP($CY21,J!$A$2:$AW$4000,19,FALSE)","v":81},{"$f":"VLOOKUP($CY21,J!$A$2:$AW$4000,20,FALSE)","v":86},{"$f":"VLOOKUP($CY21,J!$A$2:$AW$4000,21,FALSE)","v":92},{"$f":"VLOOKUP($CY21,J!$A$2:$AW$4000,22,FALSE)","v":97}]
[null,{"$f":"IF(COUNTIF($CZ22:$DS22,B$16),B$16,\"\")","v":""},{"$f":"IF(COUNTIF($CZ22:$DS22,C$16),C$16,\"\")","v":2},{"$f":"IF(COUNTIF($CZ22:$DS22,D$16),D$16,\"\")","v":""},{"$f":"IF(COUNTIF($CZ22:$DS22,E$16),E$16,\"\")","v":""},{"$f":"IF(COUNTIF($CZ22:$DS22,F$16),F$16,\"\")","v":""},{"$f":"IF(COUNTIF($CZ22:$DS22,G$16),G$16,\"\")","v":""},{"$f":"IF(COUNTIF($CZ22:$DS22,H$16),H$16,\"\")","v":7},{"$f":"IF(COUNTIF($CZ22:$DS22,I$16),I$16,\"\")","v":""},{"$f":"IF(COUNTIF($CZ22:$DS22,J$16),J$16,\"\")","v":""},{"$f":"IF(COUNTIF($CZ22:$DS22,K$16),K$16,\"\")","v":""},{"$f":"IF(COUNTIF($CZ22:$DS22,L$16),L$16,\"\")","v":11},{"$f":"IF(COUNTIF($CZ22:$DS22,M$16),M$16,\"\")","v":""},{"$f":"IF(COUNTIF($CZ22:$DS22,N$16),N$16,\"\")","v":""},{"$f":"IF(COUNTIF($CZ22:$DS22,O$16),O$16,\"\")","v":""},{"$f":"IF(COUNTIF($CZ22:$DS22,P$16),P$16,\"\")","v":""},{"$f":"IF(COUNTIF($CZ22:$DS22,Q$16),Q$16,\"\")","v":""},{"$f":"IF(COUNTIF($CZ22:$DS22,R$16),R$16,\"\")","v":""},{"$f":"IF(COUNTIF($CZ22:$DS22,S$16),S$16,\"\")","v":""},{"$f":"IF(COUNTIF($CZ22:$DS22,T$16),T$16,\"\")","v":""},{"$f":"IF(COUNTIF($CZ22:$DS22,U$16),U$16,\"\")","v":""},{"$f":"IF(COUNTIF($CZ22:$DS22,V$16),V$16,\"\")","v":""},{"$f":"IF(COUNTIF($CZ22:$DS22,W$16),W$16,\"\")","v":22},{"$f":"IF(COUNTIF($CZ22:$DS22,X$16),X$16,\"\")","v":""},{"$f":"IF(COUNTIF($CZ22:$DS22,Y$16),Y$16,\"\")","v":24},{"$f":"IF(COUNTIF($CZ22:$DS22,Z$16),Z$16,\"\")","v":""},{"$f":"IF(COUNTIF($CZ22:$DS22,AA$16),AA$16,\"\")","v":""},{"$f":"IF(COUNTIF($CZ22:$DS22,AB$16),AB$16,\"\")","v":""},{"$f":"IF(COUNTIF($CZ22:$DS22,AC$16),AC$16,\"\")","v":""},{"$f":"IF(COUNTIF($CZ22:$DS22,AD$16),AD$16,\"\")","v":""},{"$f":"IF(COUNTIF($CZ22:$DS22,AE$16),AE$16,\"\")","v":""},{"$f":"IF(COUNTIF($CZ22:$DS22,AF$16),AF$16,\"\")","v":""},{"$f":"IF(COUNTIF($CZ22:$DS22,AG$16),AG$16,\"\")","v":""},{"$f":"IF(COUNTIF($CZ22:$DS22,AH$16),AH$16,\"\")","v":""},{"$f":"IF(COUNTIF($CZ22:$DS22,AI$16),AI$16,\"\")","v":34},{"$f":"IF(COUNTIF($CZ22:$DS22,AJ$16),AJ$16,\"\")","v":""},{"$f":"IF(COUNTIF($CZ22:$DS22,AK$16),AK$16,\"\")","v":""},{"$f":"IF(COUNTIF($CZ22:$DS22,AL$16),AL$16,\"\")","v":""},{"$f":"IF(COUNTIF($CZ22:$DS22,AM$16),AM$16,\"\")","v":""},{"$f":"IF(COUNTIF($CZ22:$DS22,AN$16),AN$16,\"\")","v":""},{"$f":"IF(COUNTIF($CZ22:$DS22,AO$16),AO$16,\"\")","v":""},{"$f":"IF(COUNTIF($CZ22:$DS22,AP$16),AP$16,\"\")","v":""},{"$f":"IF(COUNTIF($CZ22:$DS22,AQ$16),AQ$16,\"\")","v":42},{"$f":"IF(COUNTIF($CZ22:$DS22,AR$16),AR$16,\"\")","v":""},{"$f":"IF(COUNTIF($CZ22:$DS22,AS$16),AS$16,\"\")","v":""},{"$f":"IF(COUNTIF($CZ22:$DS22,AT$16),AT$16,\"\")","v":45},{"$f":"IF(COUNTIF($CZ22:$DS22,AU$16),AU$16,\"\")","v":""},{"$f":"IF(COUNTIF($CZ22:$DS22,AV$16),AV$16,\"\")","v":""},{"$f":"IF(COUNTIF($CZ22:$DS22,AW$16),AW$16,\"\")","v":""},{"$f":"IF(COUNTIF($CZ22:$DS22,AX$16),AX$16,\"\")","v":""},{"$f":"IF(COUNTIF($CZ22:$DS22,AY$16),AY$16,\"\")","v":""},{"$f":"IF(COUNTIF($CZ22:$DS22,AZ$16),AZ$16,\"\")","v":51},{"$f":"IF(COUNTIF($CZ22:$DS22,BA$16),BA$16,\"\")","v":52},{"$f":"IF(COUNTIF($CZ22:$DS22,BB$16),BB$16,\"\")","v":""},{"$f":"IF(COUNTIF($CZ22:$DS22,BC$16),BC$16,\"\")","v":""},{"$f":"IF(COUNTIF($CZ22:$DS22,BD$16),BD$16,\"\")","v":""},{"$f":"IF(COUNTIF($CZ22:$DS22,BE$16),BE$16,\"\")","v":56},{"$f":"IF(COUNTIF($CZ22:$DS22,BF$16),BF$16,\"\")","v":""},{"$f":"IF(COUNTIF($CZ22:$DS22,BG$16),BG$16,\"\")","v":58},{"$f":"IF(COUNTIF($CZ22:$DS22,BH$16),BH$16,\"\")","v":""},{"$f":"IF(COUNTIF($CZ22:$DS22,BI$16),BI$16,\"\")","v":""},{"$f":"IF(COUNTIF($CZ22:$DS22,BJ$16),BJ$16,\"\")","v":""},{"$f":"IF(COUNTIF($CZ22:$DS22,BK$16),BK$16,\"\")","v":62},{"$f":"IF(COUNTIF($CZ22:$DS22,BL$16),BL$16,\"\")","v":""},{"$f":"IF(COUNTIF($CZ22:$DS22,BM$16),BM$16,\"\")","v":64},{"$f":"IF(COUNTIF($CZ22:$DS22,BN$16),BN$16,\"\")","v":""},{"$f":"IF(COUNTIF($CZ22:$DS22,BO$16),BO$16,\"\")","v":""},{"$f":"IF(COUNTIF($CZ22:$DS22,BP$16),BP$16,\"\")","v":""},{"$f":"IF(COUNTIF($CZ22:$DS22,BQ$16),BQ$16,\"\")","v":68},{"$f":"IF(COUNTIF($CZ22:$DS22,BR$16),BR$16,\"\")","v":""},{"$f":"IF(COUNTIF($CZ22:$DS22,BS$16),BS$16,\"\")","v":""},{"$f":"IF(COUNTIF($CZ22:$DS22,BT$16),BT$16,\"\")","v":""},{"$f":"IF(COUNTIF($CZ22:$DS22,BU$16),BU$16,\"\")","v":""},{"$f":"IF(COUNTIF($CZ22:$DS22,BV$16),BV$16,\"\")","v":""},{"$f":"IF(COUNTIF($CZ22:$DS22,BW$16),BW$16,\"\")","v":""},{"$f":"IF(COUNTIF($CZ22:$DS22,BX$16),BX$16,\"\")","v":75},{"$f":"IF(COUNTIF($CZ22:$DS22,BY$16),BY$16,\"\")","v":""},{"$f":"IF(COUNTIF($CZ22:$DS22,BZ$16),BZ$16,\"\")","v":""},{"$f":"IF(COUNTIF($CZ22:$DS22,CA$16),CA$16,\"\")","v":""},{"$f":"IF(COUNTIF($CZ22:$DS22,CB$16),CB$16,\"\")","v":79},{"$f":"IF(COUNTIF($CZ22:$DS22,CC$16),CC$16,\"\")","v":""},{"$f":"IF(COUNTIF($CZ22:$DS22,CD$16),CD$16,\"\")","v":""},{"$f":"IF(COUNTIF($CZ22:$DS22,CE$16),CE$16,\"\")","v":""},{"$f":"IF(COUNTIF($CZ22:$DS22,CF$16),CF$16,\"\")","v":""},{"$f":"IF(COUNTIF($CZ22:$DS22,CG$16),CG$16,\"\")","v":""},{"$f":"IF(COUNTIF($CZ22:$DS22,CH$16),CH$16,\"\")","v":""},{"$f":"IF(COUNTIF($CZ22:$DS22,CI$16),CI$16,\"\")","v":""},{"$f":"IF(COUNTIF($CZ22:$DS22,CJ$16),CJ$16,\"\")","v":""},{"$f":"IF(COUNTIF($CZ22:$DS22,CK$16),CK$16,\"\")","v":""},{"$f":"IF(COUNTIF($CZ22:$DS22,CL$16),CL$16,\"\")","v":""},{"$f":"IF(COUNTIF($CZ22:$DS22,CM$16),CM$16,\"\")","v":""},{"$f":"IF(COUNTIF($CZ22:$DS22,CN$16),CN$16,\"\")","v":""},{"$f":"IF(COUNTIF($CZ22:$DS22,CO$16),CO$16,\"\")","v":""},{"$f":"IF(COUNTIF($CZ22:$DS22,CP$16),CP$16,\"\")","v":""},{"$f":"IF(COUNTIF($CZ22:$DS22,CQ$16),CQ$16,\"\")","v":94},{"$f":"IF(COUNTIF($CZ22:$DS22,CR$16),CR$16,\"\")","v":""},{"$f":"IF(COUNTIF($CZ22:$DS22,CS$16),CS$16,\"\")","v":96},{"$f":"IF(COUNTIF($CZ22:$DS22,CT$16),CT$16,\"\")","v":""},{"$f":"IF(COUNTIF($CZ22:$DS22,CU$16),CU$16,\"\")","v":""},{"$f":"IF(COUNTIF($CZ22:$DS22,CV$16),CV$16,\"\")","v":99},{"$f":"IF(COUNTIF($CZ22:$DS22,0),0,\"\")","v":""},6,1864,{"$f":"VLOOKUP($CY22,J!$A$2:$AW$4000,3,FALSE)","v":2},{"$f":"VLOOKUP($CY22,J!$A$2:$AW$4000,4,FALSE)","v":7},{"$f":"VLOOKUP($CY22,J!$A$2:$AW$4000,5,FALSE)","v":11},{"$f":"VLOOKUP($CY22,J!$A$2:$AW$4000,6,FALSE)","v":22},{"$f":"VLOOKUP($CY22,J!$A$2:$AW$4000,7,FALSE)","v":24},{"$f":"VLOOKUP($CY22,J!$A$2:$AW$4000,8,FALSE)","v":34},{"$f":"VLOOKUP($CY22,J!$A$2:$AW$4000,9,FALSE)","v":42},{"$f":"VLOOKUP($CY22,J!$A$2:$AW$4000,10,FALSE)","v":45},{"$f":"VLOOKUP($CY22,J!$A$2:$AW$4000,11,FALSE)","v":51},{"$f":"VLOOKUP($CY22,J!$A$2:$AW$4000,12,FALSE)","v":52},{"$f":"VLOOKUP($CY22,J!$A$2:$AW$4000,13,FALSE)","v":56},{"$f":"VLOOKUP($CY22,J!$A$2:$AW$4000,14,FALSE)","v":58},{"$f":"VLOOKUP($CY22,J!$A$2:$AW$4000,15,FALSE)","v":62},{"$f":"VLOOKUP($CY22,J!$A$2:$AW$4000,16,FALSE)","v":64},{"$f":"VLOOKUP($CY22,J!$A$2:$AW$4000,17,FALSE)","v":68},{"$f":"VLOOKUP($CY22,J!$A$2:$AW$4000,18,FALSE)","v":75},{"$f":"VLOOKUP($CY22,J!$A$2:$AW$4000,19,FALSE)","v":79},{"$f":"VLOOKUP($CY22,J!$A$2:$AW$4000,20,FALSE)","v":94},{"$f":"VLOOKUP($CY22,J!$A$2:$AW$4000,21,FALSE)","v":96},{"$f":"VLOOKUP($CY22,J!$A$2:$AW$4000,22,FALSE)","v":99}]
[null,{"$f":"IF(COUNTIF($CZ23:$DS23,B$16),B$16,\"\")","v":""},{"$f":"IF(COUNTIF($CZ23:$DS23,C$16),C$16,\"\")","v":2},{"$f":"IF(COUNTIF($CZ23:$DS23,D$16),D$16,\"\")","v":""},{"$f":"IF(COUNTIF($CZ23:$DS23,E$16),E$16,\"\")","v":""},{"$f":"IF(COUNTIF($CZ23:$DS23,F$16),F$16,\"\")","v":""},{"$f":"IF(COUNTIF($CZ23:$DS23,G$16),G$16,\"\")","v":""},{"$f":"IF(COUNTIF($CZ23:$DS23,H$16),H$16,\"\")","v":""},{"$f":"IF(COUNTIF($CZ23:$DS23,I$16),I$16,\"\")","v":8},{"$f":"IF(COUNTIF($CZ23:$DS23,J$16),J$16,\"\")","v":""},{"$f":"IF(COUNTIF($CZ23:$DS23,K$16),K$16,\"\")","v":""},{"$f":"IF(COUNTIF($CZ23:$DS23,L$16),L$16,\"\")","v":""},{"$f":"IF(COUNTIF($CZ23:$DS23,M$16),M$16,\"\")","v":""},{"$f":"IF(COUNTIF($CZ23:$DS23,N$16),N$16,\"\")","v":""},{"$f":"IF(COUNTIF($CZ23:$DS23,O$16),O$16,\"\")","v":14},{"$f":"IF(COUNTIF($CZ23:$DS23,P$16),P$16,\"\")","v":""},{"$f":"IF(COUNTIF($CZ23:$DS23,Q$16),Q$16,\"\")","v":""},{"$f":"IF(COUNTIF($CZ23:$DS23,R$16),R$16,\"\")","v":17},{"$f":"IF(COUNTIF($CZ23:$DS23,S$16),S$16,\"\")","v":""},{"$f":"IF(COUNTIF($CZ23:$DS23,T$16),T$16,\"\")","v":""},{"$f":"IF(COUNTIF($CZ23:$DS23,U$16),U$16,\"\")","v":""},{"$f":"IF(COUNTIF($CZ23:$DS23,V$16),V$16,\"\")","v":""},{"$f":"IF(COUNTIF($CZ23:$DS23,W$16),W$16,\"\")","v":22},{"$f":"IF(COUNTIF($CZ23:$DS23,X$16),X$16,\"\")","v":""},{"$f":"IF(COUNTIF($CZ23:$DS23,Y$16),Y$16,\"\")","v":""},{"$f":"IF(COUNTIF($CZ23:$DS23,Z$16),Z$16,\"\")","v":""},{"$f":"IF(COUNTIF($CZ23:$DS23,AA$16),AA$16,\"\")","v":""},{"$f":"IF(COUNTIF($CZ23:$DS23,AB$16),AB$16,\"\")","v":""},{"$f":"IF(COUNTIF($CZ23:$DS23,AC$16),AC$16,\"\")","v":""},{"$f":"IF(COUNTIF($CZ23:$DS23,AD$16),AD$16,\"\")","v":""},{"$f":"IF(COUNTIF($CZ23:$DS23,AE$16),AE$16,\"\")","v":""},{"$f":"IF(COUNTIF($CZ23:$DS23,AF$16),AF$16,\"\")","v":""},{"$f":"IF(COUNTIF($CZ23:$DS23,AG$16),AG$16,\"\")","v":""},{"$f":"IF(COUNTIF($CZ23:$DS23,AH$16),AH$16,\"\")","v":33},{"$f":"IF(COUNTIF($CZ23:$DS23,AI$16),AI$16,\"\")","v":34},{"$f":"IF(COUNTIF($CZ23:$DS23,AJ$16),AJ$16,\"\")","v":""},{"$f":"IF(COUNTIF($CZ23:$DS23,AK$16),AK$16,\"\")","v":""},{"$f":"IF(COUNTIF($CZ23:$DS23,AL$16),AL$16,\"\")","v":""},{"$f":"IF(COUNTIF($CZ23:$DS23,AM$16),AM$16,\"\")","v":""},{"$f":"IF(COUNTIF($CZ23:$DS23,AN$16),AN$16,\"\")","v":""},{"$f":"IF(COUNTIF($CZ23:$DS23,AO$16),AO$16,\"\")","v":""},{"$f":"IF(COUNTIF($CZ23:$DS23,AP$16),AP$16,\"\")","v":""},{"$f":"IF(COUNTIF($CZ23:$DS23,AQ$16),AQ$16,\"\")","v":""},{"$f":"IF(COUNTIF($CZ23:$DS23,AR$16),AR$16,\"\")","v":43},{"$f":"IF(COUNTIF($CZ23:$DS23,AS$16),AS$16,\"\")","v":44},{"$f":"IF(COUNTIF($CZ23:$DS23,AT$16),AT$16,\"\")","v":""},{"$f":"IF(COUNTIF($CZ23:$DS23,AU$16),AU$16,\"\")","v":""},{"$f":"IF(COUNTIF($CZ23:$DS23,AV$16),AV$16,\"\")","v":""},{"$f":"IF(COUNTIF($CZ23:$DS23,AW$16),AW$16,\"\")","v":48},{"$f":"IF(COUNTIF($CZ23:$DS23,AX$16),AX$16,\"\")","v":""},{"$f":"IF(COUNTIF($CZ23:$DS23,AY$16),AY$16,\"\")","v":""},{"$f":"IF(COUNTIF($CZ23:$DS23,AZ$16),AZ$16,\"\")","v":""},{"$f":"IF(COUNTIF($CZ23:$DS23,BA$16),BA$16,\"\")","v":""},{"$f":"IF(COUNTIF($CZ23:$DS23,BB$16),BB$16,\"\")","v":53},{"$f":"IF(COUNTIF($CZ23:$DS23,BC$16),BC$16,\"\")","v":""},{"$f":"IF(COUNTIF($CZ23:$DS23,BD$16),BD$16,\"\")","v":""},{"$f":"IF(COUNTIF($CZ23:$DS23,BE$16),BE$16,\"\")","v":56},{"$f":"IF(COUNTIF($CZ23:$DS23,BF$16),BF$16,\"\")","v":""},{"$f":"IF(COUNTIF($CZ23:$DS23,BG$16),BG$16,\"\")","v":""},{"$f":"IF(COUNTIF($CZ23:$DS23,BH$16),BH$16,\"\")","v":""},{"$f":"IF(COUNTIF($CZ23:$DS23,BI$16),BI$16,\"\")","v":60},{"$f":"IF(COUNTIF($CZ23:$DS23,BJ$16),BJ$16,\"\")","v":""},{"$f":"IF(COUNTIF($CZ23:$DS23,BK$16),BK$16,\"\")","v":""},{"$f":"IF(COUNTIF($CZ23:$DS23,BL$16),BL$16,\"\")","v":""},{"$f":"IF(COUNTIF($CZ23:$DS23,BM$16),BM$16,\"\")","v":""},{"$f":"IF(COUNTIF($CZ23:$DS23,BN$16),BN$16,\"\")","v":""},{"$f":"IF(COUNTIF($CZ23:$DS23,BO$16),BO$16,\"\")","v":""},{"$f":"IF(COUNTIF($CZ23:$DS23,BP$16),BP$16,\"\")","v":""},{"$f":"IF(COUNTIF($CZ23:$DS23,BQ$16),BQ$16,\"\")","v":""},{"$f":"IF(COUNTIF($CZ23:$DS23,BR$16),BR$16,\"\")","v":""},{"$f":"IF(COUNTIF($CZ23:$DS23,BS$16),BS$16,\"\")","v":70},{"$f":"IF(COUNTIF($CZ23:$DS23,BT$16),BT$16,\"\")","v":""},{"$f":"IF(COUNTIF($CZ23:$DS23,BU$16),BU$16,\"\")","v":72},{"$f":"IF(COUNTIF($CZ23:$DS23,BV$16),BV$16,\"\")","v":""},{"$f":"IF(COUNTIF($CZ23:$DS23,BW$16),BW$16,\"\")","v":""},{"$f":"IF(COUNTIF($CZ23:$DS23,BX$16),BX$16,\"\")","v":""},{"$f":"IF(COUNTIF($CZ23:$DS23,BY$16),BY$16,\"\")","v":""},{"$f":"IF(COUNTIF($CZ23:$DS23,BZ$16),BZ$16,\"\")","v":""},{"$f":"IF(COUNTIF($CZ23:$DS23,CA$16),CA$16,\"\")","v":78},{"$f":"IF(COUNTIF($CZ23:$DS23,CB$16),CB$16,\"\")","v":79},{"$f":"IF(COUNTIF($CZ23:$DS23,CC$16),CC$16,\"\")","v":""},{"$f":"IF(COUNTIF($CZ23:$DS23,CD$16),CD$16,\"\")","v":""},{"$f":"IF(COUNTIF($CZ23:$DS23,CE$16),CE$16,\"\")","v":""},{"$f":"IF(COUNTIF($CZ23:$DS23,CF$16),CF$16,\"\")","v":83},{"$f":"IF(COUNTIF($CZ23:$DS23,CG$16),CG$16,\"\")","v":""},{"$f":"IF(COUNTIF($CZ23:$DS23,CH$16),CH$16,\"\")","v":85},{"$f":"IF(COUNTIF($CZ23:$DS23,CI$16),CI$16,\"\")","v":""},{"$f":"IF(COUNTIF($CZ23:$DS23,CJ$16),CJ$16,\"\")","v":""},{"$f":"IF(COUNTIF($CZ23:$DS23,CK$16),CK$16,\"\")","v":""},{"$f":"IF(COUNTIF($CZ23:$DS23,CL$16),CL$16,\"\")","v":""},{"$f":"IF(COUNTIF($CZ23:$DS23,CM$16),CM$16,\"\")","v":""},{"$f":"IF(COUNTIF($CZ23:$DS23,CN$16),CN$16,\"\")","v":""},{"$f":"IF(COUNTIF($CZ23:$DS23,CO$16),CO$16,\"\")","v":""},{"$f":"IF(COUNTIF($CZ23:$DS23,CP$16),CP$16,\"\")","v":""},{"$f":"IF(COUNTIF($CZ23:$DS23,CQ$16),CQ$16,\"\")","v":""},{"$f":"IF(COUNTIF($CZ23:$DS23,CR$16),CR$16,\"\")","v":""},{"$f":"IF(COUNTIF($CZ23:$DS23,CS$16),CS$16,\"\")","v":""},{"$f":"IF(COUNTIF($CZ23:$DS23,CT$16),CT$16,\"\")","v":97},{"$f":"IF(COUNTIF($CZ23:$DS23,CU$16),CU$16,\"\")","v":""},{"$f":"IF(COUNTIF($CZ23:$DS23,CV$16),CV$16,\"\")","v":""},{"$f":"IF(COUNTIF($CZ23:$DS23,0),0,\"\")","v":""},7,1863,{"$f":"VLOOKUP($CY23,J!$A$2:$AW$4000,3,FALSE)","v":2},{"$f":"VLOOKUP($CY23,J!$A$2:$AW$4000,4,FALSE)","v":8},{"$f":"VLOOKUP($CY23,J!$A$2:$AW$4000,5,FALSE)","v":14},{"$f":"VLOOKUP($CY23,J!$A$2:$AW$4000,6,FALSE)","v":17},{"$f":"VLOOKUP($CY23,J!$A$2:$AW$4000,7,FALSE)","v":22},{"$f":"VLOOKUP($CY23,J!$A$2:$AW$4000,8,FALSE)","v":33},{"$f":"VLOOKUP($CY23,J!$A$2:$AW$4000,9,FALSE)","v":34},{"$f":"VLOOKUP($CY23,J!$A$2:$AW$4000,10,FALSE)","v":43},{"$f":"VLOOKUP($CY23,J!$A$2:$AW$4000,11,FALSE)","v":44},{"$f":"VLOOKUP($CY23,J!$A$2:$AW$4000,12,FALSE)","v":48},{"$f":"VLOOKUP($CY23,J!$A$2:$AW$4000,13,FALSE)","v":53},{"$f":"VLOOKUP($CY23,J!$A$2:$AW$4000,14,FALSE)","v":56},{"$f":"VLOOKUP($CY23,J!$A$2:$AW$4000,15,FALSE)","v":60},{"$f":"VLOOKUP($CY23,J!$A$2:$AW$4000,16,FALSE)","v":70},{"$f":"VLOOKUP($CY23,J!$A$2:$AW$4000,17,FALSE)","v":72},{"$f":"VLOOKUP($CY23,J!$A$2:$AW$4000,18,FALSE)","v":78},{"$f":"VLOOKUP($CY23,J!$A$2:$AW$4000,19,FALSE)","v":79},{"$f":"VLOOKUP($CY23,J!$A$2:$AW$4000,20,FALSE)","v":83},{"$f":"VLOOKUP($CY23,J!$A$2:$AW$4000,21,FALSE)","v":85},{"$f":"VLOOKUP($CY23,J!$A$2:$AW$4000,22,FALSE)","v":97}]
[null,{"$f":"IF(COUNTIF($CZ24:$DS24,B$16),B$16,\"\")","v":""},{"$f":"IF(COUNTIF($CZ24:$DS24,C$16),C$16,\"\")","v":""},{"$f":"IF(COUNTIF($CZ24:$DS24,D$16),D$16,\"\")","v":3},{"$f":"IF(COUNTIF($CZ24:$DS24,E$16),E$16,\"\")","v":""},{"$f":"IF(COUNTIF($CZ24:$DS24,F$16),F$16,\"\")","v":5},{"$f":"IF(COUNTIF($CZ24:$DS24,G$16),G$16,\"\")","v":""},{"$f":"IF(COUNTIF($CZ24:$DS24,H$16),H$16,\"\")","v":""},{"$f":"IF(COUNTIF($CZ24:$DS24,I$16),I$16,\"\")","v":8},{"$f":"IF(COUNTIF($CZ24:$DS24,J$16),J$16,\"\")","v":""},{"$f":"IF(COUNTIF($CZ24:$DS24,K$16),K$16,\"\")","v":""},{"$f":"IF(COUNTIF($CZ24:$DS24,L$16),L$16,\"\")","v":""},{"$f":"IF(COUNTIF($CZ24:$DS24,M$16),M$16,\"\")","v":""},{"$f":"IF(COUNTIF($CZ24:$DS24,N$16),N$16,\"\")","v":""},{"$f":"IF(COUNTIF($CZ24:$DS24,O$16),O$16,\"\")","v":""},{"$f":"IF(COUNTIF($CZ24:$DS24,P$16),P$16,\"\")","v":""},{"$f":"IF(COUNTIF($CZ24:$DS24,Q$16),Q$16,\"\")","v":""},{"$f":"IF(COUNTIF($CZ24:$DS24,R$16),R$16,\"\")","v":""},{"$f":"IF(COUNTIF($CZ24:$DS24,S$16),S$16,\"\")","v":18},{"$f":"IF(COUNTIF($CZ24:$DS24,T$16),T$16,\"\")","v":""},{"$f":"IF(COUNTIF($CZ24:$DS24,U$16),U$16,\"\")","v":""},{"$f":"IF(COUNTIF($CZ24:$DS24,V$16),V$16,\"\")","v":""},{"$f":"IF(COUNTIF($CZ24:$DS24,W$16),W$16,\"\")","v":""},{"$f":"IF(COUNTIF($CZ24:$DS24,X$16),X$16,\"\")","v":""},{"$f":"IF(COUNTIF($CZ24:$DS24,Y$16),Y$16,\"\")","v":""},{"$f":"IF(COUNTIF($CZ24:$DS24,Z$16),Z$16,\"\")","v":""},{"$f":"IF(COUNTIF($CZ24:$DS24,AA$16),AA$16,\"\")","v":26},{"$f":"IF(COUNTIF($CZ24:$DS24,AB$16),AB$16,\"\")","v":""},{"$f":"IF(COUNTIF($CZ24:$DS24,AC$16),AC$16,\"\")","v":""},{"$f":"IF(COUNTIF($CZ24:$DS24,AD$16),AD$16,\"\")","v":""},{"$f":"IF(COUNTIF($CZ24:$DS24,AE$16),AE$16,\"\")","v":30},{"$f":"IF(COUNTIF($CZ24:$DS24,AF$16),AF$16,\"\")","v":""},{"$f":"IF(COUNTIF($CZ24:$DS24,AG$16),AG$16,\"\")","v":""},{"$f":"IF(COUNTIF($CZ24:$DS24,AH$16),AH$16,\"\")","v":""},{"$f":"IF(COUNTIF($CZ24:$DS24,AI$16),AI$16,\"\")","v":""},{"$f":"IF(COUNTIF($CZ24:$DS24,AJ$16),AJ$16,\"\")","v":""},{"$f":"IF(COUNTIF($CZ24:$DS24,AK$16),AK$16,\"\")","v":""},{"$f":"IF(COUNTIF($CZ24:$DS24,AL$16),AL$16,\"\")","v":""},{"$f":"IF(COUNTIF($CZ24:$DS24,AM$16),AM$16,\"\")","v":38},{"$f":"IF(COUNTIF($CZ24:$DS24,AN$16),AN$16,\"\")","v":""},{"$f":"IF(COUNTIF($CZ24:$DS24,AO$16),AO$16,\"\")","v":""},{"$f":"IF(COUNTIF($CZ24:$DS24,AP$16),AP$16,\"\")","v":""},{"$f":"IF(COUNTIF($CZ24:$DS24,AQ$16),AQ$16,\"\")","v":""},{"$f":"IF(COUNTIF($CZ24:$DS24,AR$16),AR$16,\"\")","v":43},{"$f":"IF(COUNTIF($CZ24:$DS24,AS$16),AS$16,\"\")","v":44},{"$f":"IF(COUNTIF($CZ24:$DS24,AT$16),AT$16,\"\")","v":""},{"$f":"IF(COUNTIF($CZ24:$DS24,AU$16),AU$16,\"\")","v":46},{"$f":"IF(COUNTIF($CZ24:$DS24,AV$16),AV$16,\"\")","v":""},{"$f":"IF(COUNTIF($CZ24:$DS24,AW$16),AW$16,\"\")","v":""},{"$f":"IF(COUNTIF($CZ24:$DS24,AX$16),AX$16,\"\")","v":49},{"$f":"IF(COUNTIF($CZ24:$DS24,AY$16),AY$16,\"\")","v":""},{"$f":"IF(COUNTIF($CZ24:$DS24,AZ$16),AZ$16,\"\")","v":""},{"$f":"IF(COUNTIF($CZ24:$DS24,BA$16),BA$16,\"\")","v":""},{"$f":"IF(COUNTIF($CZ24:$DS24,BB$16),BB$16,\"\")","v":""},{"$f":"IF(COUNTIF($CZ24:$DS24,BC$16),BC$16,\"\")","v":54},{"$f":"IF(COUNTIF($CZ24:$DS24,BD$16),BD$16,\"\")","v":""},{"$f":"IF(COUNTIF($CZ24:$DS24,BE$16),BE$16,\"\")","v":""},{"$f":"IF(COUNTIF($CZ24:$DS24,BF$16),BF$16,\"\")","v":""},{"$f":"IF(COUNTIF($CZ24:$DS24,BG$16),BG$16,\"\")","v":""},{"$f":"IF(COUNTIF($CZ24:$DS24,BH$16),BH$16,\"\")","v":""},{"$f":"IF(COUNTIF($CZ24:$DS24,BI$16),BI$16,\"\")","v":60},{"$f":"IF(COUNTIF($CZ24:$DS24,BJ$16),BJ$16,\"\")","v":61},{"$f":"IF(COUNTIF($CZ24:$DS24,BK$16),BK$16,\"\")","v":""},{"$f":"IF(COUNTIF($CZ24:$DS24,BL$16),BL$16,\"\")","v":""},{"$f":"IF(COUNTIF($CZ24:$DS24,BM$16),BM$16,\"\")","v":""},{"$f":"IF(COUNTIF($CZ24:$DS24,BN$16),BN$16,\"\")","v":65},{"$f":"IF(COUNTIF($CZ24:$DS24,BO$16),BO$16,\"\")","v":""},{"$f":"IF(COUNTIF($CZ24:$DS24,BP$16),BP$16,\"\")","v":""},{"$f":"IF(COUNTIF($CZ24:$DS24,BQ$16),BQ$16,\"\")","v":""},{"$f":"IF(COUNTIF($CZ24:$DS24,BR$16),BR$16,\"\")","v":""},{"$f":"IF(COUNTIF($CZ24:$DS24,BS$16),BS$16,\"\")","v":70},{"$f":"IF(COUNTIF($CZ24:$DS24,BT$16),BT$16,\"\")","v":71},{"$f":"IF(COUNTIF($CZ24:$DS24,BU$16),BU$16,\"\")","v":72},{"$f":"IF(COUNTIF($CZ24:$DS24,BV$16),BV$16,\"\")","v":""},{"$f":"IF(COUNTIF($CZ24:$DS24,BW$16),BW$16,\"\")","v":""},{"$f":"IF(COUNTIF($CZ24:$DS24,BX$16),BX$16,\"\")","v":""},{"$f":"IF(COUNTIF($CZ24:$DS24,BY$16),BY$16,\"\")","v":""},{"$f":"IF(COUNTIF($CZ24:$DS24,BZ$16),BZ$16,\"\")","v":""},{"$f":"IF(COUNTIF($CZ24:$DS24,CA$16),CA$16,\"\")","v":""},{"$f":"IF(COUNTIF($CZ24:$DS24,CB$16),CB$16,\"\")","v":""},{"$f":"IF(COUNTIF($CZ24:$DS24,CC$16),CC$16,\"\")","v":""},{"$f":"IF(COUNTIF($CZ24:$DS24,CD$16),CD$16,\"\")","v":""},{"$f":"IF(COUNTIF($CZ24:$DS24,CE$16),CE$16,\"\")","v":""},{"$f":"IF(COUNTIF($CZ24:$DS24,CF$16),CF$16,\"\")","v":""},{"$f":"IF(COUNTIF($CZ24:$DS24,CG$16),CG$16,\"\")","v":""},{"$f":"IF(COUNTIF($CZ24:$DS24,CH$16),CH$16,\"\")","v":""},{"$f":"IF(COUNTIF($CZ24:$DS24,CI$16),CI$16,\"\")","v":""},{"$f":"IF(COUNTIF($CZ24:$DS24,CJ$16),CJ$16,\"\")","v":87},{"$f":"IF(COUNTIF($CZ24:$DS24,CK$16),CK$16,\"\")","v":""},{"$f":"IF(COUNTIF($CZ24:$DS24,CL$16),CL$16,\"\")","v":""},{"$f":"IF(COUNTIF($CZ24:$DS24,CM$16),CM$16,\"\")","v":""},{"$f":"IF(COUNTIF($CZ24:$DS24,CN$16),CN$16,\"\")","v":""},{"$f":"IF(COUNTIF($CZ24:$DS24,CO$16),CO$16,\"\")","v":""},{"$f":"IF(COUNTIF($CZ24:$DS24,CP$16),CP$16,\"\")","v":""},{"$f":"IF(COUNTIF($CZ24:$DS24,CQ$16),CQ$16,\"\")","v":""},{"$f":"IF(COUNTIF($CZ24:$DS24,CR$16),CR$16,\"\")","v":95},{"$f":"IF(COUNTIF($CZ24:$DS24,CS$16),CS$16,\"\")","v":""},{"$f":"IF(COUNTIF($CZ24:$DS24,CT$16),CT$16,\"\")","v":""},{"$f":"IF(COUNTIF($CZ24:$DS24,CU$16),CU$16,\"\")","v":""},{"$f":"IF(COUNTIF($CZ24:$DS24,CV$16),CV$16,\"\")","v":""},{"$f":"IF(COUNTIF($CZ24:$DS24,0),0,\"\")","v":""},8,1862,{"$f":"VLOOKUP($CY24,J!$A$2:$AW$4000,3,FALSE)","v":3},{"$f":"VLOOKUP($CY24,J!$A$2:$AW$4000,4,FALSE)","v":5},{"$f":"VLOOKUP($CY24,J!$A$2:$AW$4000,5,FALSE)","v":8},{"$f":"VLOOKUP($CY24,J!$A$2:$AW$4000,6,FALSE)","v":18},{"$f":"VLOOKUP($CY24,J!$A$2:$AW$4000,7,FALSE)","v":26},{"$f":"VLOOKUP($CY24,J!$A$2:$AW$4000,8,FALSE)","v":30},{"$f":"VLOOKUP($CY24,J!$A$2:$AW$4000,9,FALSE)","v":38},{"$f":"VLOOKUP($CY24,J!$A$2:$AW$4000,10,FALSE)","v":43},{"$f":"VLOOKUP($CY24,J!$A$2:$AW$4000,11,FALSE)","v":44},{"$f":"VLOOKUP($CY24,J!$A$2:$AW$4000,12,FALSE)","v":46},{"$f":"VLOOKUP($CY24,J!$A$2:$AW$4000,13,FALSE)","v":49},{"$f":"VLOOKUP($CY24,J!$A$2:$AW$4000,14,FALSE)","v":54},{"$f":"VLOOKUP($CY24,J!$A$2:$AW$4000,15,FALSE)","v":60},{"$f":"VLOOKUP($CY24,J!$A$2:$AW$4000,16,FALSE)","v":61},{"$f":"VLOOKUP($CY24,J!$A$2:$AW$4000,17,FALSE)","v":65},{"$f":"VLOOKUP($CY24,J!$A$2:$AW$4000,18,FALSE)","v":70},{"$f":"VLOOKUP($CY24,J!$A$2:$AW$4000,19,FALSE)","v":71},{"$f":"VLOOKUP($CY24,J!$A$2:$AW$4000,20,FALSE)","v":72},{"$f":"VLOOKUP($CY24,J!$A$2:$AW$4000,21,FALSE)","v":87},{"$f":"VLOOKUP($CY24,J!$A$2:$AW$4000,22,FALSE)","v":95}]
[null,{"$f":"IF(COUNTIF($CZ25:$DS25,B$16),B$16,\"\")","v":1},{"$f":"IF(COUNTIF($CZ25:$DS25,C$16),C$16,\"\")","v":""},{"$f":"IF(COUNTIF($CZ25:$DS25,D$16),D$16,\"\")","v":""},{"$f":"IF(COUNTIF($CZ25:$DS25,E$16),E$16,\"\")","v":""},{"$f":"IF(COUNTIF($CZ25:$DS25,F$16),F$16,\"\")","v":""},{"$f":"IF(COUNTIF($CZ25:$DS25,G$16),G$16,\"\")","v":""},{"$f":"IF(COUNTIF($CZ25:$DS25,H$16),H$16,\"\")","v":""},{"$f":"IF(COUNTIF($CZ25:$DS25,I$16),I$16,\"\")","v":8},{"$f":"IF(COUNTIF($CZ25:$DS25,J$16),J$16,\"\")","v":""},{"$f":"IF(COUNTIF($CZ25:$DS25,K$16),K$16,\"\")","v":""},{"$f":"IF(COUNTIF($CZ25:$DS25,L$16),L$16,\"\")","v":""},{"$f":"IF(COUNTIF($CZ25:$DS25,M$16),M$16,\"\")","v":""},{"$f":"IF(COUNTIF($CZ25:$DS25,N$16),N$16,\"\")","v":13},{"$f":"IF(COUNTIF($CZ25:$DS25,O$16),O$16,\"\")","v":""},{"$f":"IF(COUNTIF($CZ25:$DS25,P$16),P$16,\"\")","v":15},{"$f":"IF(COUNTIF($CZ25:$DS25,Q$16),Q$16,\"\")","v":""},{"$f":"IF(COUNTIF($CZ25:$DS25,R$16),R$16,\"\")","v":""},{"$f":"IF(COUNTIF($CZ25:$DS25,S$16),S$16,\"\")","v":""},{"$f":"IF(COUNTIF($CZ25:$DS25,T$16),T$16,\"\")","v":""},{"$f":"IF(COUNTIF($CZ25:$DS25,U$16),U$16,\"\")","v":""},{"$f":"IF(COUNTIF($CZ25:$DS25,V$16),V$16,\"\")","v":""},{"$f":"IF(COUNTIF($CZ25:$DS25,W$16),W$16,\"\")","v":""},{"$f":"IF(COUNTIF($CZ25:$DS25,X$16),X$16,\"\")","v":""},{"$f":"IF(COUNTIF($CZ25:$DS25,Y$16),Y$16,\"\")","v":""},{"$f":"IF(COUNTIF($CZ25:$DS25,Z$16),Z$16,\"\")","v":""},{"$f":"IF(COUNTIF($CZ25:$DS25,AA$16),AA$16,\"\")","v":""},{"$f":"IF(COUNTIF($CZ25:$DS25,AB$16),AB$16,\"\")","v":27},{"$f":"IF(COUNTIF($CZ25:$DS25,AC$16),AC$16,\"\")","v":""},{"$f":"IF(COUNTIF($CZ25:$DS25,AD$16),AD$16,\"\")","v":""},{"$f":"IF(COUNTIF($CZ25:$DS25,AE$16),AE$16,\"\")","v":""},{"$f":"IF(COUNTIF($CZ25:$DS25,AF$16),AF$16,\"\")","v":""},{"$f":"IF(COUNTIF($CZ25:$DS25,AG$16),AG$16,\"\")","v":""},{"$f":"IF(COUNTIF($CZ25:$DS25,AH$16),AH$16,\"\")","v":""},{"$f":"IF(COUNTIF($CZ25:$DS25,AI$16),AI$16,\"\")","v":""},{"$f":"IF(COUNTIF($CZ25:$DS25,AJ$16),AJ$16,\"\")","v":""},{"$f":"IF(COUNTIF($CZ25:$DS25,AK$16),AK$16,\"\")","v":""},{"$f":"IF(COUNTIF($CZ25:$DS25,AL$16),AL$16,\"\")","v":""},{"$f":"IF(COUNTIF($CZ25:$DS25,AM$16),AM$16,\"\")","v":38},{"$f":"IF(COUNTIF($CZ25:$DS25,AN$16),AN$16,\"\")","v":""},{"$f":"IF(COUNTIF($CZ25:$DS25,AO$16),AO$16,\"\")","v":""},{"$f":"IF(COUNTIF($CZ25:$DS25,AP$16),AP$16,\"\")","v":41},{"$f":"IF(COUNTIF($CZ25:$DS25,AQ$16),AQ$16,\"\")","v":""},{"$f":"IF(COUNTIF($CZ25:$DS25,AR$16),AR$16,\"\")","v":""},{"$f":"IF(COUNTIF($CZ25:$DS25,AS$16),AS$16,\"\")","v":""},{"$f":"IF(COUNTIF($CZ25:$DS25,AT$16),AT$16,\"\")","v":""},{"$f":"IF(COUNTIF($CZ25:$DS25,AU$16),AU$16,\"\")","v":""},{"$f":"IF(COUNTIF($CZ25:$DS25,AV$16),AV$16,\"\")","v":""},{"$f":"IF(COUNTIF($CZ25:$DS25,AW$16),AW$16,\"\")","v":""},{"$f":"IF(COUNTIF($CZ25:$DS25,AX$16),AX$16,\"\")","v":49},{"$f":"IF(COUNTIF($CZ25:$DS25,AY$16),AY$16,\"\")","v":""},{"$f":"IF(COUNTIF($CZ25:$DS25,AZ$16),AZ$16,\"\")","v":""},{"$f":"IF(COUNTIF($CZ25:$DS25,BA$16),BA$16,\"\")","v":52},{"$f":"IF(COUNTIF($CZ25:$DS25,BB$16),BB$16,\"\")","v":""},{"$f":"IF(COUNTIF($CZ25:$DS25,BC$16),BC$16,\"\")","v":""},{"$f":"IF(COUNTIF($CZ25:$DS25,BD$16),BD$16,\"\")","v":""},{"$f":"IF(COUNTIF($CZ25:$DS25,BE$16),BE$16,\"\")","v":""},{"$f":"IF(COUNTIF($CZ25:$DS25,BF$16),BF$16,\"\")","v":""},{"$f":"IF(COUNTIF($CZ25:$DS25,BG$16),BG$16,\"\")","v":""},{"$f":"IF(COUNTIF($CZ25:$DS25,BH$16),BH$16,\"\")","v":""},{"$f":"IF(COUNTIF($CZ25:$DS25,BI$16),BI$16,\"\")","v":60},{"$f":"IF(COUNTIF($CZ25:$DS25,BJ$16),BJ$16,\"\")","v":""},{"$f":"IF(COUNTIF($CZ25:$DS25,BK$16),BK$16,\"\")","v":""},{"$f":"IF(COUNTIF($CZ25:$DS25,BL$16),BL$16,\"\")","v":63},{"$f":"IF(COUNTIF($CZ25:$DS25,BM$16),BM$16,\"\")","v":64},{"$f":"IF(COUNTIF($CZ25:$DS25,BN$16),BN$16,\"\")","v":""},{"$f":"IF(COUNTIF($CZ25:$DS25,BO$16),BO$16,\"\")","v":""},{"$f":"IF(COUNTIF($CZ25:$DS25,BP$16),BP$16,\"\")","v":""},{"$f":"IF(COUNTIF($CZ25:$DS25,BQ$16),BQ$16,\"\")","v":""},{"$f":"IF(COUNTIF($CZ25:$DS25,BR$16),BR$16,\"\")","v":69},{"$f":"IF(COUNTIF($CZ25:$DS25,BS$16),BS$16,\"\")","v":""},{"$f":"IF(COUNTIF($CZ25:$DS25,BT$16),BT$16,\"\")","v":""},{"$f":"IF(COUNTIF($CZ25:$DS25,BU$16),BU$16,\"\")","v":72},{"$f":"IF(COUNTIF($CZ25:$DS25,BV$16),BV$16,\"\")","v":""},{"$f":"IF(COUNTIF($CZ25:$DS25,BW$16),BW$16,\"\")","v":""},{"$f":"IF(COUNTIF($CZ25:$DS25,BX$16),BX$16,\"\")","v":75},{"$f":"IF(COUNTIF($CZ25:$DS25,BY$16),BY$16,\"\")","v":76},{"$f":"IF(COUNTIF($CZ25:$DS25,BZ$16),BZ$16,\"\")","v":""},{"$f":"IF(COUNTIF($CZ25:$DS25,CA$16),CA$16,\"\")","v":""},{"$f":"IF(COUNTIF($CZ25:$DS25,CB$16),CB$16,\"\")","v":""},{"$f":"IF(COUNTIF($CZ25:$DS25,CC$16),CC$16,\"\")","v":""},{"$f":"IF(COUNTIF($CZ25:$DS25,CD$16),CD$16,\"\")","v":""},{"$f":"IF(COUNTIF($CZ25:$DS25,CE$16),CE$16,\"\")","v":""},{"$f":"IF(COUNTIF($CZ25:$DS25,CF$16),CF$16,\"\")","v":""},{"$f":"IF(COUNTIF($CZ25:$DS25,CG$16),CG$16,\"\")","v":""},{"$f":"IF(COUNTIF($CZ25:$DS25,CH$16),CH$16,\"\")","v":""},{"$f":"IF(COUNTIF($CZ25:$DS25,CI$16),CI$16,\"\")","v":""},{"$f":"IF(COUNTIF($CZ25:$DS25,CJ$16),CJ$16,\"\")","v":""},{"$f":"IF(COUNTIF($CZ25:$DS25,CK$16),CK$16,\"\")","v":""},{"$f":"IF(COUNTIF($CZ25:$DS25,CL$16),CL$16,\"\")","v":89},{"$f":"IF(COUNTIF($CZ25:$DS25,CM$16),CM$16,\"\")","v":""},{"$f":"IF(COUNTIF($CZ25:$DS25,CN$16),CN$16,\"\")","v":91},{"$f":"IF(COUNTIF($CZ25:$DS25,CO$16),CO$16,\"\")","v":""},{"$f":"IF(COUNTIF($CZ25:$DS25,CP$16),CP$16,\"\")","v":93},{"$f":"IF(COUNTIF($CZ25:$DS25,CQ$16),CQ$16,\"\")","v":""},{"$f":"IF(COUNTIF($CZ25:$DS25,CR$16),CR$16,\"\")","v":""},{"$f":"IF(COUNTIF($CZ25:$DS25,CS$16),CS$16,\"\")","v":96},{"$f":"IF(COUNTIF($CZ25:$DS25,CT$16),CT$16,\"\")","v":""},{"$f":"IF(COUNTIF($CZ25:$DS25,CU$16),CU$16,\"\")","v":""},{"$f":"IF(COUNTIF($CZ25:$DS25,CV$16),CV$16,\"\")","v":""},{"$f":"IF(COUNTIF($CZ25:$DS25,0),0,\"\")","v":""},9,1861,{"$f":"VLOOKUP($CY25,J!$A$2:$AW$4000,3,FALSE)","v":1},{"$f":"VLOOKUP($CY25,J!$A$2:$AW$4000,4,FALSE)","v":8},{"$f":"VLOOKUP($CY25,J!$A$2:$AW$4000,5,FALSE)","v":13},{"$f":"VLOOKUP($CY25,J!$A$2:$AW$4000,6,FALSE)","v":15},{"$f":"VLOOKUP($CY25,J!$A$2:$AW$4000,7,FALSE)","v":27},{"$f":"VLOOKUP($CY25,J!$A$2:$AW$4000,8,FALSE)","v":38},{"$f":"VLOOKUP($CY25,J!$A$2:$AW$4000,9,FALSE)","v":41},{"$f":"VLOOKUP($CY25,J!$A$2:$AW$4000,10,FALSE)","v":49},{"$f":"VLOOKUP($CY25,J!$A$2:$AW$4000,11,FALSE)","v":52},{"$f":"VLOOKUP($CY25,J!$A$2:$AW$4000,12,FALSE)","v":60},{"$f":"VLOOKUP($CY25,J!$A$2:$AW$4000,13,FALSE)","v":63},{"$f":"VLOOKUP($CY25,J!$A$2:$AW$4000,14,FALSE)","v":64},{"$f":"VLOOKUP($CY25,J!$A$2:$AW$4000,15,FALSE)","v":69},{"$f":"VLOOKUP($CY25,J!$A$2:$AW$4000,16,FALSE)","v":72},{"$f":"VLOOKUP($CY25,J!$A$2:$AW$4000,17,FALSE)","v":75},{"$f":"VLOOKUP($CY25,J!$A$2:$AW$4000,18,FALSE)","v":76},{"$f":"VLOOKUP($CY25,J!$A$2:$AW$4000,19,FALSE)","v":89},{"$f":"VLOOKUP($CY25,J!$A$2:$AW$4000,20,FALSE)","v":91},{"$f":"VLOOKUP($CY25,J!$A$2:$AW$4000,21,FALSE)","v":93},{"$f":"VLOOKUP($CY25,J!$A$2:$AW$4000,22,FALSE)","v":96}]
[null,{"$f":"IF(COUNTIF($CZ26:$DS26,B$16),B$16,\"\")","v":""},{"$f":"IF(COUNTIF($CZ26:$DS26,C$16),C$16,\"\")","v":""},{"$f":"IF(COUNTIF($CZ26:$DS26,D$16),D$16,\"\")","v":""},{"$f":"IF(COUNTIF($CZ26:$DS26,E$16),E$16,\"\")","v":""},{"$f":"IF(COUNTIF($CZ26:$DS26,F$16),F$16,\"\")","v":""},{"$f":"IF(COUNTIF($CZ26:$DS26,G$16),G$16,\"\")","v":6},{"$f":"IF(COUNTIF($CZ26:$DS26,H$16),H$16,\"\")","v":""},{"$f":"IF(COUNTIF($CZ26:$DS26,I$16),I$16,\"\")","v":""},{"$f":"IF(COUNTIF($CZ26:$DS26,J$16),J$16,\"\")","v":9},{"$f":"IF(COUNTIF($CZ26:$DS26,K$16),K$16,\"\")","v":""},{"$f":"IF(COUNTIF($CZ26:$DS26,L$16),L$16,\"\")","v":11},{"$f":"IF(COUNTIF($CZ26:$DS26,M$16),M$16,\"\")","v":""},{"$f":"IF(COUNTIF($CZ26:$DS26,N$16),N$16,\"\")","v":13},{"$f":"IF(COUNTIF($CZ26:$DS26,O$16),O$16,\"\")","v":""},{"$f":"IF(COUNTIF($CZ26:$DS26,P$16),P$16,\"\")","v":""},{"$f":"IF(COUNTIF($CZ26:$DS26,Q$16),Q$16,\"\")","v":""},{"$f":"IF(COUNTIF($CZ26:$DS26,R$16),R$16,\"\")","v":""},{"$f":"IF(COUNTIF($CZ26:$DS26,S$16),S$16,\"\")","v":""},{"$f":"IF(COUNTIF($CZ26:$DS26,T$16),T$16,\"\")","v":""},{"$f":"IF(COUNTIF($CZ26:$DS26,U$16),U$16,\"\")","v":""},{"$f":"IF(COUNTIF($CZ26:$DS26,V$16),V$16,\"\")","v":""},{"$f":"IF(COUNTIF($CZ26:$DS26,W$16),W$16,\"\")","v":""},{"$f":"IF(COUNTIF($CZ26:$DS26,X$16),X$16,\"\")","v":""},{"$f":"IF(COUNTIF($CZ26:$DS26,Y$16),Y$16,\"\")","v":""},{"$f":"IF(COUNTIF($CZ26:$DS26,Z$16),Z$16,\"\")","v":""},{"$f":"IF(COUNTIF($CZ26:$DS26,AA$16),AA$16,\"\")","v":""},{"$f":"IF(COUNTIF($CZ26:$DS26,AB$16),AB$16,\"\")","v":27},{"$f":"IF(COUNTIF($CZ26:$DS26,AC$16),AC$16,\"\")","v":""},{"$f":"IF(COUNTIF($CZ26:$DS26,AD$16),AD$16,\"\")","v":""},{"$f":"IF(COUNTIF($CZ26:$DS26,AE$16),AE$16,\"\")","v":30},{"$f":"IF(COUNTIF($CZ26:$DS26,AF$16),AF$16,\"\")","v":""},{"$f":"IF(COUNTIF($CZ26:$DS26,AG$16),AG$16,\"\")","v":""},{"$f":"IF(COUNTIF($CZ26:$DS26,AH$16),AH$16,\"\")","v":""},{"$f":"IF(COUNTIF($CZ26:$DS26,AI$16),AI$16,\"\")","v":""},{"$f":"IF(COUNTIF($CZ26:$DS26,AJ$16),AJ$16,\"\")","v":""},{"$f":"IF(COUNTIF($CZ26:$DS26,AK$16),AK$16,\"\")","v":""},{"$f":"IF(COUNTIF($CZ26:$DS26,AL$16),AL$16,\"\")","v":""},{"$f":"IF(COUNTIF($CZ26:$DS26,AM$16),AM$16,\"\")","v":38},{"$f":"IF(COUNTIF($CZ26:$DS26,AN$16),AN$16,\"\")","v":""},{"$f":"IF(COUNTIF($CZ26:$DS26,AO$16),AO$16,\"\")","v":""},{"$f":"IF(COUNTIF($CZ26:$DS26,AP$16),AP$16,\"\")","v":""},{"$f":"IF(COUNTIF($CZ26:$DS26,AQ$16),AQ$16,\"\")","v":""},{"$f":"IF(COUNTIF($CZ26:$DS26,AR$16),AR$16,\"\")","v":""},{"$f":"IF(COUNTIF($CZ26:$DS26,AS$16),AS$16,\"\")","v":""},{"$f":"IF(COUNTIF($CZ26:$DS26,AT$16),AT$16,\"\")","v":""},{"$f":"IF(COUNTIF($CZ26:$DS26,AU$16),AU$16,\"\")","v":""},{"$f":"IF(COUNTIF($CZ26:$DS26,AV$16),AV$16,\"\")","v":""},{"$f":"IF(COUNTIF($CZ26:$DS26,AW$16),AW$16,\"\")","v":""},{"$f":"IF(COUNTIF($CZ26:$DS26,AX$16),AX$16,\"\")","v":""},{"$f":"IF(COUNTIF($CZ26:$DS26,AY$16),AY$16,\"\")","v":""},{"$f":"IF(COUNTIF($CZ26:$DS26,AZ$16),AZ$16,\"\")","v":51},{"$f":"IF(COUNTIF($CZ26:$DS26,BA$16),BA$16,\"\")","v":""},{"$f":"IF(COUNTIF($CZ26:$DS26,BB$16),BB$16,\"\")","v":""},{"$f":"IF(COUNTIF($CZ26:$DS26,BC$16),BC$16,\"\")","v":""},{"$f":"IF(COUNTIF($CZ26:$DS26,BD$16),BD$16,\"\")","v":""},{"$f":"IF(COUNTIF($CZ26:$DS26,BE$16),BE$16,\"\")","v":56},{"$f":"IF(COUNTIF($CZ26:$DS26,BF$16),BF$16,\"\")","v":""},{"$f":"IF(COUNTIF($CZ26:$DS26,BG$16),BG$16,\"\")","v":""},{"$f":"IF(COUNTIF($CZ26:$DS26,BH$16),BH$16,\"\")","v":""},{"$f":"IF(COUNTIF($CZ26:$DS26,BI$16),BI$16,\"\")","v":""},{"$f":"IF(COUNTIF($CZ26:$DS26,BJ$16),BJ$16,\"\")","v":""},{"$f":"IF(COUNTIF($CZ26:$DS26,BK$16),BK$16,\"\")","v":""},{"$f":"IF(COUNTIF($CZ26:$DS26,BL$16),BL$16,\"\")","v":""},{"$f":"IF(COUNTIF($CZ26:$DS26,BM$16),BM$16,\"\")","v":""},{"$f":"IF(COUNTIF($CZ26:$DS26,BN$16),BN$16,\"\")","v":65},{"$f":"IF(COUNTIF($CZ26:$DS26,BO$16),BO$16,\"\")","v":""},{"$f":"IF(COUNTIF($CZ26:$DS26,BP$16),BP$16,\"\")","v":""},{"$f":"IF(COUNTIF($CZ26:$DS26,BQ$16),BQ$16,\"\")","v":""},{"$f":"IF(COUNTIF($CZ26:$DS26,BR$16),BR$16,\"\")","v":""},{"$f":"IF(COUNTIF($CZ26:$DS26,BS$16),BS$16,\"\")","v":""},{"$f":"IF(COUNTIF($CZ26:$DS26,BT$16),BT$16,\"\")","v":""},{"$f":"IF(COUNTIF($CZ26:$DS26,BU$16),BU$16,\"\")","v":""},{"$f":"IF(COUNTIF($CZ26:$DS26,BV$16),BV$16,\"\")","v":73},{"$f":"IF(COUNTIF($CZ26:$DS26,BW$16),BW$16,\"\")","v":""},{"$f":"IF(COUNTIF($CZ26:$DS26,BX$16),BX$16,\"\")","v":75},{"$f":"IF(COUNTIF($CZ26:$DS26,BY$16),BY$16,\"\")","v":""},{"$f":"IF(COUNTIF($CZ26:$DS26,BZ$16),BZ$16,\"\")","v":77},{"$f":"IF(COUNTIF($CZ26:$DS26,CA$16),CA$16,\"\")","v":78},{"$f":"IF(COUNTIF($CZ26:$DS26,CB$16),CB$16,\"\")","v":79},{"$f":"IF(COUNTIF($CZ26:$DS26,CC$16),CC$16,\"\")","v":80},{"$f":"IF(COUNTIF($CZ26:$DS26,CD$16),CD$16,\"\")","v":""},{"$f":"IF(COUNTIF($CZ26:$DS26,CE$16),CE$16,\"\")","v":""},{"$f":"IF(COUNTIF($CZ26:$DS26,CF$16),CF$16,\"\")","v":""},{"$f":"IF(COUNTIF($CZ26:$DS26,CG$16),CG$16,\"\")","v":""},{"$f":"IF(COUNTIF($CZ26:$DS26,CH$16),CH$16,\"\")","v":""},{"$f":"IF(COUNTIF($CZ26:$DS26,CI$16),CI$16,\"\")","v":""},{"$f":"IF(COUNTIF($CZ26:$DS26,CJ$16),CJ$16,\"\")","v":""},{"$f":"IF(COUNTIF($CZ26:$DS26,CK$16),CK$16,\"\")","v":""},{"$f":"IF(COUNTIF($CZ26:$DS26,CL$16),CL$16,\"\")","v":""},{"$f":"IF(COUNTIF($CZ26:$DS26,CM$16),CM$16,\"\")","v":""},{"$f":"IF(COUNTIF($CZ26:$DS26,CN$16),CN$16,\"\")","v":91},{"$f":"IF(COUNTIF($CZ26:$DS26,CO$16),CO$16,\"\")","v":92},{"$f":"IF(COUNTIF($CZ26:$DS26,CP$16),CP$16,\"\")","v":""},{"$f":"IF(COUNTIF($CZ26:$DS26,CQ$16),CQ$16,\"\")","v":""},{"$f":"IF(COUNTIF($CZ26:$DS26,CR$16),CR$16,\"\")","v":95},{"$f":"IF(COUNTIF($CZ26:$DS26,CS$16),CS$16,\"\")","v":""},{"$f":"IF(COUNTIF($CZ26:$DS26,CT$16),CT$16,\"\")","v":""},{"$f":"IF(COUNTIF($CZ26:$DS26,CU$16),CU$16,\"\")","v":""},{"$f":"IF(COUNTIF($CZ26:$DS26,CV$16),CV$16,\"\")","v":99},{"$f":"IF(COUNTIF($CZ26:$DS26,0),0,\"\")","v":""},10,1860,{"$f":"VLOOKUP($CY26,J!$A$2:$AW$4000,3,FALSE)","v":6},{"$f":"VLOOKUP($CY26,J!$A$2:$AW$4000,4,FALSE)","v":9},{"$f":"VLOOKUP($CY26,J!$A$2:$AW$4000,5,FALSE)","v":11},{"$f":"VLOOKUP($CY26,J!$A$2:$AW$4000,6,FALSE)","v":13},{"$f":"VLOOKUP($CY26,J!$A$2:$AW$4000,7,FALSE)","v":27},{"$f":"VLOOKUP($CY26,J!$A$2:$AW$4000,8,FALSE)","v":30},{"$f":"VLOOKUP($CY26,J!$A$2:$AW$4000,9,FALSE)","v":38},{"$f":"VLOOKUP($CY26,J!$A$2:$AW$4000,10,FALSE)","v":51},{"$f":"VLOOKUP($CY26,J!$A$2:$AW$4000,11,FALSE)","v":56},{"$f":"VLOOKUP($CY26,J!$A$2:$AW$4000,12,FALSE)","v":65},{"$f":"VLOOKUP($CY26,J!$A$2:$AW$4000,13,FALSE)","v":73},{"$f":"VLOOKUP($CY26,J!$A$2:$AW$4000,14,FALSE)","v":75},{"$f":"VLOOKUP($CY26,J!$A$2:$AW$4000,15,FALSE)","v":77},{"$f":"VLOOKUP($CY26,J!$A$2:$AW$4000,16,FALSE)","v":78},{"$f":"VLOOKUP($CY26,J!$A$2:$AW$4000,17,FALSE)","v":79},{"$f":"VLOOKUP($CY26,J!$A$2:$AW$4000,18,FALSE)","v":80},{"$f":"VLOOKUP($CY26,J!$A$2:$AW$4000,19,FALSE)","v":91},{"$f":"VLOOKUP($CY26,J!$A$2:$AW$4000,20,FALSE)","v":92},{"$f":"VLOOKUP($CY26,J!$A$2:$AW$4000,21,FALSE)","v":95},{"$f":"VLOOKUP($CY26,J!$A$2:$AW$4000,22,FALSE)","v":99}]
[null,{"$f":"IF(COUNTIF($CZ27:$DS27,B$16),B$16,\"\")","v":""},{"$f":"IF(COUNTIF($CZ27:$DS27,C$16),C$16,\"\")","v":""},{"$f":"IF(COUNTIF($CZ27:$DS27,D$16),D$16,\"\")","v":""},{"$f":"IF(COUNTIF($CZ27:$DS27,E$16),E$16,\"\")","v":""},{"$f":"IF(COUNTIF($CZ27:$DS27,F$16),F$16,\"\")","v":""},{"$f":"IF(COUNTIF($CZ27:$DS27,G$16),G$16,\"\")","v":""},{"$f":"IF(COUNTIF($CZ27:$DS27,H$16),H$16,\"\")","v":7},{"$f":"IF(COUNTIF($CZ27:$DS27,I$16),I$16,\"\")","v":""},{"$f":"IF(COUNTIF($CZ27:$DS27,J$16),J$16,\"\")","v":""},{"$f":"IF(COUNTIF($CZ27:$DS27,K$16),K$16,\"\")","v":""},{"$f":"IF(COUNTIF($CZ27:$DS27,L$16),L$16,\"\")","v":11},{"$f":"IF(COUNTIF($CZ27:$DS27,M$16),M$16,\"\")","v":12},{"$f":"IF(COUNTIF($CZ27:$DS27,N$16),N$16,\"\")","v":""},{"$f":"IF(COUNTIF($CZ27:$DS27,O$16),O$16,\"\")","v":""},{"$f":"IF(COUNTIF($CZ27:$DS27,P$16),P$16,\"\")","v":""},{"$f":"IF(COUNTIF($CZ27:$DS27,Q$16),Q$16,\"\")","v":""},{"$f":"IF(COUNTIF($CZ27:$DS27,R$16),R$16,\"\")","v":""},{"$f":"IF(COUNTIF($CZ27:$DS27,S$16),S$16,\"\")","v":""},{"$f":"IF(COUNTIF($CZ27:$DS27,T$16),T$16,\"\")","v":""},{"$f":"IF(COUNTIF($CZ27:$DS27,U$16),U$16,\"\")","v":""},{"$f":"IF(COUNTIF($CZ27:$DS27,V$16),V$16,\"\")","v":""},{"$f":"IF(COUNTIF($CZ27:$DS27,W$16),W$16,\"\")","v":""},{"$f":"IF(COUNTIF($CZ27:$DS27,X$16),X$16,\"\")","v":""},{"$f":"IF(COUNTIF($CZ27:$DS27,Y$16),Y$16,\"\")","v":24},{"$f":"IF(COUNTIF($CZ27:$DS27,Z$16),Z$16,\"\")","v":""},{"$f":"IF(COUNTIF($CZ27:$DS27,AA$16),AA$16,\"\")","v":""},{"$f":"IF(COUNTIF($CZ27:$DS27,AB$16),AB$16,\"\")","v":""},{"$f":"IF(COUNTIF($CZ27:$DS27,AC$16),AC$16,\"\")","v":""},{"$f":"IF(COUNTIF($CZ27:$DS27,AD$16),AD$16,\"\")","v":""},{"$f":"IF(COUNTIF($CZ27:$DS27,AE$16),AE$16,\"\")","v":""},{"$f":"IF(COUNTIF($CZ27:$DS27,AF$16),AF$16,\"\")","v":""},{"$f":"IF(COUNTIF($CZ27:$DS27,AG$16),AG$16,\"\")","v":32},{"$f":"IF(COUNTIF($CZ27:$DS27,AH$16),AH$16,\"\")","v":""},{"$f":"IF(COUNTIF($CZ27:$DS27,AI$16),AI$16,\"\")","v":""},{"$f":"IF(COUNTIF($CZ27:$DS27,AJ$16),AJ$16,\"\")","v":""},{"$f":"IF(COUNTIF($CZ27:$DS27,AK$16),AK$16,\"\")","v":""},{"$f":"IF(COUNTIF($CZ27:$DS27,AL$16),AL$16,\"\")","v":37},{"$f":"IF(COUNTIF($CZ27:$DS27,AM$16),AM$16,\"\")","v":""},{"$f":"IF(COUNTIF($CZ27:$DS27,AN$16),AN$16,\"\")","v":39},{"$f":"IF(COUNTIF($CZ27:$DS27,AO$16),AO$16,\"\")","v":""},{"$f":"IF(COUNTIF($CZ27:$DS27,AP$16),AP$16,\"\")","v":""},{"$f":"IF(COUNTIF($CZ27:$DS27,AQ$16),AQ$16,\"\")","v":""},{"$f":"IF(COUNTIF($CZ27:$DS27,AR$16),AR$16,\"\")","v":""},{"$f":"IF(COUNTIF($CZ27:$DS27,AS$16),AS$16,\"\")","v":""},{"$f":"IF(COUNTIF($CZ27:$DS27,AT$16),AT$16,\"\")","v":""},{"$f":"IF(COUNTIF($CZ27:$DS27,AU$16),AU$16,\"\")","v":""},{"$f":"IF(COUNTIF($CZ27:$DS27,AV$16),AV$16,\"\")","v":47},{"$f":"IF(COUNTIF($CZ27:$DS27,AW$16),AW$16,\"\")","v":48},{"$f":"IF(COUNTIF($CZ27:$DS27,AX$16),AX$16,\"\")","v":""},{"$f":"IF(COUNTIF($CZ27:$DS27,AY$16),AY$16,\"\")","v":""},{"$f":"IF(COUNTIF($CZ27:$DS27,AZ$16),AZ$16,\"\")","v":""},{"$f":"IF(COUNTIF($CZ27:$DS27,BA$16),BA$16,\"\")","v":""},{"$f":"IF(COUNTIF($CZ27:$DS27,BB$16),BB$16,\"\")","v":""},{"$f":"IF(COUNTIF($CZ27:$DS27,BC$16),BC$16,\"\")","v":""},{"$f":"IF(COUNTIF($CZ27:$DS27,BD$16),BD$16,\"\")","v":""},{"$f":"IF(COUNTIF($CZ27:$DS27,BE$16),BE$16,\"\")","v":""},{"$f":"IF(COUNTIF($CZ27:$DS27,BF$16),BF$16,\"\")","v":57},{"$f":"IF(COUNTIF($CZ27:$DS27,BG$16),BG$16,\"\")","v":58},{"$f":"IF(COUNTIF($CZ27:$DS27,BH$16),BH$16,\"\")","v":""},{"$f":"IF(COUNTIF($CZ27:$DS27,BI$16),BI$16,\"\")","v":60},{"$f":"IF(COUNTIF($CZ27:$DS27,BJ$16),BJ$16,\"\")","v":""},{"$f":"IF(COUNTIF($CZ27:$DS27,BK$16),BK$16,\"\")","v":""},{"$f":"IF(COUNTIF($CZ27:$DS27,BL$16),BL$16,\"\")","v":""},{"$f":"IF(COUNTIF($CZ27:$DS27,BM$16),BM$16,\"\")","v":""},{"$f":"IF(COUNTIF($CZ27:$DS27,BN$16),BN$16,\"\")","v":65},{"$f":"IF(COUNTIF($CZ27:$DS27,BO$16),BO$16,\"\")","v":66},{"$f":"IF(COUNTIF($CZ27:$DS27,BP$16),BP$16,\"\")","v":""},{"$f":"IF(COUNTIF($CZ27:$DS27,BQ$16),BQ$16,\"\")","v":""},{"$f":"IF(COUNTIF($CZ27:$DS27,BR$16),BR$16,\"\")","v":""},{"$f":"IF(COUNTIF($CZ27:$DS27,BS$16),BS$16,\"\")","v":""},{"$f":"IF(COUNTIF($CZ27:$DS27,BT$16),BT$16,\"\")","v":71},{"$f":"IF(COUNTIF($CZ27:$DS27,BU$16),BU$16,\"\")","v":""},{"$f":"IF(COUNTIF($CZ27:$DS27,BV$16),BV$16,\"\")","v":""},{"$f":"IF(COUNTIF($CZ27:$DS27,BW$16),BW$16,\"\")","v":74},{"$f":"IF(COUNTIF($CZ27:$DS27,BX$16),BX$16,\"\")","v":""},{"$f":"IF(COUNTIF($CZ27:$DS27,BY$16),BY$16,\"\")","v":""},{"$f":"IF(COUNTIF($CZ27:$DS27,BZ$16),BZ$16,\"\")","v":77},{"$f":"IF(COUNTIF($CZ27:$DS27,CA$16),CA$16,\"\")","v":""},{"$f":"IF(COUNTIF($CZ27:$DS27,CB$16),CB$16,\"\")","v":79},{"$f":"IF(COUNTIF($CZ27:$DS27,CC$16),CC$16,\"\")","v":""},{"$f":"IF(COUNTIF($CZ27:$DS27,CD$16),CD$16,\"\")","v":""},{"$f":"IF(COUNTIF($CZ27:$DS27,CE$16),CE$16,\"\")","v":""},{"$f":"IF(COUNTIF($CZ27:$DS27,CF$16),CF$16,\"\")","v":""},{"$f":"IF(COUNTIF($CZ27:$DS27,CG$16),CG$16,\"\")","v":84},{"$f":"IF(COUNTIF($CZ27:$DS27,CH$16),CH$16,\"\")","v":""},{"$f":"IF(COUNTIF($CZ27:$DS27,CI$16),CI$16,\"\")","v":""},{"$f":"IF(COUNTIF($CZ27:$DS27,CJ$16),CJ$16,\"\")","v":""},{"$f":"IF(COUNTIF($CZ27:$DS27,CK$16),CK$16,\"\")","v":""},{"$f":"IF(COUNTIF($CZ27:$DS27,CL$16),CL$16,\"\")","v":""},{"$f":"IF(COUNTIF($CZ27:$DS27,CM$16),CM$16,\"\")","v":""},{"$f":"IF(COUNTIF($CZ27:$DS27,CN$16),CN$16,\"\")","v":""},{"$f":"IF(COUNTIF($CZ27:$DS27,CO$16),CO$16,\"\")","v":""},{"$f":"IF(COUNTIF($CZ27:$DS27,CP$16),CP$16,\"\")","v":""},{"$f":"IF(COUNTIF($CZ27:$DS27,CQ$16),CQ$16,\"\")","v":""},{"$f":"IF(COUNTIF($CZ27:$DS27,CR$16),CR$16,\"\")","v":""},{"$f":"IF(COUNTIF($CZ27:$DS27,CS$16),CS$16,\"\")","v":""},{"$f":"IF(COUNTIF($CZ27:$DS27,CT$16),CT$16,\"\")","v":""},{"$f":"IF(COUNTIF($CZ27:$DS27,CU$16),CU$16,\"\")","v":""},{"$f":"IF(COUNTIF($CZ27:$DS27,CV$16),CV$16,\"\")","v":""},{"$f":"IF(COUNTIF($CZ27:$DS27,0),0,\"\")","v":0},11,1859,{"$f":"VLOOKUP($CY27,J!$A$2:$AW$4000,3,FALSE)","v":7},{"$f":"VLOOKUP($CY27,J!$A$2:$AW$4000,4,FALSE)","v":11},{"$f":"VLOOKUP($CY27,J!$A$2:$AW$4000,5,FALSE)","v":12},{"$f":"VLOOKUP($CY27,J!$A$2:$AW$4000,6,FALSE)","v":24},{"$f":"VLOOKUP($CY27,J!$A$2:$AW$4000,7,FALSE)","v":32},{"$f":"VLOOKUP($CY27,J!$A$2:$AW$4000,8,FALSE)","v":37},{"$f":"VLOOKUP($CY27,J!$A$2:$AW$4000,9,FALSE)","v":39},{"$f":"VLOOKUP($CY27,J!$A$2:$AW$4000,10,FALSE)","v":47},{"$f":"VLOOKUP($CY27,J!$A$2:$AW$4000,11,FALSE)","v":48},{"$f":"VLOOKUP($CY27,J!$A$2:$AW$4000,12,FALSE)","v":57},{"$f":"VLOOKUP($CY27,J!$A$2:$AW$4000,13,FALSE)","v":58},{"$f":"VLOOKUP($CY27,J!$A$2:$AW$4000,14,FALSE)","v":60},{"$f":"VLOOKUP($CY27,J!$A$2:$AW$4000,15,FALSE)","v":65},{"$f":"VLOOKUP($CY27,J!$A$2:$AW$4000,16,FALSE)","v":66},{"$f":"VLOOKUP($CY27,J!$A$2:$AW$4000,17,FALSE)","v":71},{"$f":"VLOOKUP($CY27,J!$A$2:$AW$4000,18,FALSE)","v":74},{"$f":"VLOOKUP($CY27,J!$A$2:$AW$4000,19,FALSE)","v":77},{"$f":"VLOOKUP($CY27,J!$A$2:$AW$4000,20,FALSE)","v":79},{"$f":"VLOOKUP($CY27,J!$A$2:$AW$4000,21,FALSE)","v":84},{"$f":"VLOOKUP($CY27,J!$A$2:$AW$4000,22,FALSE)","v":0}]
[null,{"$f":"IF(COUNTIF($CZ28:$DS28,B$16),B$16,\"\")","v":1},{"$f":"IF(COUNTIF($CZ28:$DS28,C$16),C$16,\"\")","v":2},{"$f":"IF(COUNTIF($CZ28:$DS28,D$16),D$16,\"\")","v":""},{"$f":"IF(COUNTIF($CZ28:$DS28,E$16),E$16,\"\")","v":""},{"$f":"IF(COUNTIF($CZ28:$DS28,F$16),F$16,\"\")","v":5},{"$f":"IF(COUNTIF($CZ28:$DS28,G$16),G$16,\"\")","v":6},{"$f":"IF(COUNTIF($CZ28:$DS28,H$16),H$16,\"\")","v":""},{"$f":"IF(COUNTIF($CZ28:$DS28,I$16),I$16,\"\")","v":""},{"$f":"IF(COUNTIF($CZ28:$DS28,J$16),J$16,\"\")","v":""},{"$f":"IF(COUNTIF($CZ28:$DS28,K$16),K$16,\"\")","v":""},{"$f":"IF(COUNTIF($CZ28:$DS28,L$16),L$16,\"\")","v":11},{"$f":"IF(COUNTIF($CZ28:$DS28,M$16),M$16,\"\")","v":""},{"$f":"IF(COUNTIF($CZ28:$DS28,N$16),N$16,\"\")","v":""},{"$f":"IF(COUNTIF($CZ28:$DS28,O$16),O$16,\"\")","v":""},{"$f":"IF(COUNTIF($CZ28:$DS28,P$16),P$16,\"\")","v":""},{"$f":"IF(COUNTIF($CZ28:$DS28,Q$16),Q$16,\"\")","v":16},{"$f":"IF(COUNTIF($CZ28:$DS28,R$16),R$16,\"\")","v":""},{"$f":"IF(COUNTIF($CZ28:$DS28,S$16),S$16,\"\")","v":""},{"$f":"IF(COUNTIF($CZ28:$DS28,T$16),T$16,\"\")","v":""},{"$f":"IF(COUNTIF($CZ28:$DS28,U$16),U$16,\"\")","v":""},{"$f":"IF(COUNTIF($CZ28:$DS28,V$16),V$16,\"\")","v":""},{"$f":"IF(COUNTIF($CZ28:$DS28,W$16),W$16,\"\")","v":22},{"$f":"IF(COUNTIF($CZ28:$DS28,X$16),X$16,\"\")","v":""},{"$f":"IF(COUNTIF($CZ28:$DS28,Y$16),Y$16,\"\")","v":""},{"$f":"IF(COUNTIF($CZ28:$DS28,Z$16),Z$16,\"\")","v":""},{"$f":"IF(COUNTIF($CZ28:$DS28,AA$16),AA$16,\"\")","v":""},{"$f":"IF(COUNTIF($CZ28:$DS28,AB$16),AB$16,\"\")","v":""},{"$f":"IF(COUNTIF($CZ28:$DS28,AC$16),AC$16,\"\")","v":""},{"$f":"IF(COUNTIF($CZ28:$DS28,AD$16),AD$16,\"\")","v":""},{"$f":"IF(COUNTIF($CZ28:$DS28,AE$16),AE$16,\"\")","v":30},{"$f":"IF(COUNTIF($CZ28:$DS28,AF$16),AF$16,\"\")","v":31},{"$f":"IF(COUNTIF($CZ28:$DS28,AG$16),AG$16,\"\")","v":""},{"$f":"IF(COUNTIF($CZ28:$DS28,AH$16),AH$16,\"\")","v":""},{"$f":"IF(COUNTIF($CZ28:$DS28,AI$16),AI$16,\"\")","v":34},{"$f":"IF(COUNTIF($CZ28:$DS28,AJ$16),AJ$16,\"\")","v":""},{"$f":"IF(COUNTIF($CZ28:$DS28,AK$16),AK$16,\"\")","v":36},{"$f":"IF(COUNTIF($CZ28:$DS28,AL$16),AL$16,\"\")","v":""},{"$f":"IF(COUNTIF($CZ28:$DS28,AM$16),AM$16,\"\")","v":38},{"$f":"IF(COUNTIF($CZ28:$DS28,AN$16),AN$16,\"\")","v":39},{"$f":"IF(COUNTIF($CZ28:$DS28,AO$16),AO$16,\"\")","v":40},{"$f":"IF(COUNTIF($CZ28:$DS28,AP$16),AP$16,\"\")","v":""},{"$f":"IF(COUNTIF($CZ28:$DS28,AQ$16),AQ$16,\"\")","v":42},{"$f":"IF(COUNTIF($CZ28:$DS28,AR$16),AR$16,\"\")","v":""},{"$f":"IF(COUNTIF($CZ28:$DS28,AS$16),AS$16,\"\")","v":""},{"$f":"IF(COUNTIF($CZ28:$DS28,AT$16),AT$16,\"\")","v":""},{"$f":"IF(COUNTIF($CZ28:$DS28,AU$16),AU$16,\"\")","v":""},{"$f":"IF(COUNTIF($CZ28:$DS28,AV$16),AV$16,\"\")","v":""},{"$f":"IF(COUNTIF($CZ28:$DS28,AW$16),AW$16,\"\")","v":""},{"$f":"IF(COUNTIF($CZ28:$DS28,AX$16),AX$16,\"\")","v":49},{"$f":"IF(COUNTIF($CZ28:$DS28,AY$16),AY$16,\"\")","v":""},{"$f":"IF(COUNTIF($CZ28:$DS28,AZ$16),AZ$16,\"\")","v":""},{"$f":"IF(COUNTIF($CZ28:$DS28,BA$16),BA$16,\"\")","v":""},{"$f":"IF(COUNTIF($CZ28:$DS28,BB$16),BB$16,\"\")","v":""},{"$f":"IF(COUNTIF($CZ28:$DS28,BC$16),BC$16,\"\")","v":""},{"$f":"IF(COUNTIF($CZ28:$DS28,BD$16),BD$16,\"\")","v":""},{"$f":"IF(COUNTIF($CZ28:$DS28,BE$16),BE$16,\"\")","v":""},{"$f":"IF(COUNTIF($CZ28:$DS28,BF$16),BF$16,\"\")","v":""},{"$f":"IF(COUNTIF($CZ28:$DS28,BG$16),BG$16,\"\")","v":""},{"$f":"IF(COUNTIF($CZ28:$DS28,BH$16),BH$16,\"\")","v":""},{"$f":"IF(COUNTIF($CZ28:$DS28,BI$16),BI$16,\"\")","v":""},{"$f":"IF(COUNTIF($CZ28:$DS28,BJ$16),BJ$16,\"\")","v":""},{"$f":"IF(COUNTIF($CZ28:$DS28,BK$16),BK$16,\"\")","v":62},{"$f":"IF(COUNTIF($CZ28:$DS28,BL$16),BL$16,\"\")","v":""},{"$f":"IF(COUNTIF($CZ28:$DS28,BM$16),BM$16,\"\")","v":""},{"$f":"IF(COUNTIF($CZ28:$DS28,BN$16),BN$16,\"\")","v":""},{"$f":"IF(COUNTIF($CZ28:$DS28,BO$16),BO$16,\"\")","v":""},{"$f":"IF(COUNTIF($CZ28:$DS28,BP$16),BP$16,\"\")","v":""},{"$f":"IF(COUNTIF($CZ28:$DS28,BQ$16),BQ$16,\"\")","v":""},{"$f":"IF(COUNTIF($CZ28:$DS28,BR$16),BR$16,\"\")","v":""},{"$f":"IF(COUNTIF($CZ28:$DS28,BS$16),BS$16,\"\")","v":""},{"$f":"IF(COUNTIF($CZ28:$DS28,BT$16),BT$16,\"\")","v":""},{"$f":"IF(COUNTIF($CZ28:$DS28,BU$16),BU$16,\"\")","v":""},{"$f":"IF(COUNTIF($CZ28:$DS28,BV$16),BV$16,\"\")","v":""},{"$f":"IF(COUNTIF($CZ28:$DS28,BW$16),BW$16,\"\")","v":""},{"$f":"IF(COUNTIF($CZ28:$DS28,BX$16),BX$16,\"\")","v":""},{"$f":"IF(COUNTIF($CZ28:$DS28,BY$16),BY$16,\"\")","v":76},{"$f":"IF(COUNTIF($CZ28:$DS28,BZ$16),BZ$16,\"\")","v":""},{"$f":"IF(COUNTIF($CZ28:$DS28,CA$16),CA$16,\"\")","v":""},{"$f":"IF(COUNTIF($CZ28:$DS28,CB$16),CB$16,\"\")","v":79},{"$f":"IF(COUNTIF($CZ28:$DS28,CC$16),CC$16,\"\")","v":""},{"$f":"IF(COUNTIF($CZ28:$DS28,CD$16),CD$16,\"\")","v":""},{"$f":"IF(COUNTIF($CZ28:$DS28,CE$16),CE$16,\"\")","v":""},{"$f":"IF(COUNTIF($CZ28:$DS28,CF$16),CF$16,\"\")","v":""},{"$f":"IF(COUNTIF($CZ28:$DS28,CG$16),CG$16,\"\")","v":""},{"$f":"IF(COUNTIF($CZ28:$DS28,CH$16),CH$16,\"\")","v":""},{"$f":"IF(COUNTIF($CZ28:$DS28,CI$16),CI$16,\"\")","v":""},{"$f":"IF(COUNTIF($CZ28:$DS28,CJ$16),CJ$16,\"\")","v":""},{"$f":"IF(COUNTIF($CZ28:$DS28,CK$16),CK$16,\"\")","v":""},{"$f":"IF(COUNTIF($CZ28:$DS28,CL$16),CL$16,\"\")","v":""},{"$f":"IF(COUNTIF($CZ28:$DS28,CM$16),CM$16,\"\")","v":""},{"$f":"IF(COUNTIF($CZ28:$DS28,CN$16),CN$16,\"\")","v":""},{"$f":"IF(COUNTIF($CZ28:$DS28,CO$16),CO$16,\"\")","v":""},{"$f":"IF(COUNTIF($CZ28:$DS28,CP$16),CP$16,\"\")","v":""},{"$f":"IF(COUNTIF($CZ28:$DS28,CQ$16),CQ$16,\"\")","v":""},{"$f":"IF(COUNTIF($CZ28:$DS28,CR$16),CR$16,\"\")","v":95},{"$f":"IF(COUNTIF($CZ28:$DS28,CS$16),CS$16,\"\")","v":""},{"$f":"IF(COUNTIF($CZ28:$DS28,CT$16),CT$16,\"\")","v":""},{"$f":"IF(COUNTIF($CZ28:$DS28,CU$16),CU$16,\"\")","v":""},{"$f":"IF(COUNTIF($CZ28:$DS28,CV$16),CV$16,\"\")","v":""},{"$f":"IF(COUNTIF($CZ28:$DS28,0),0,\"\")","v":""},12,1858,{"$f":"VLOOKUP($CY28,J!$A$2:$AW$4000,3,FALSE)","v":1},{"$f":"VLOOKUP($CY28,J!$A$2:$AW$4000,4,FALSE)","v":2},{"$f":"VLOOKUP($CY28,J!$A$2:$AW$4000,5,FALSE)","v":5},{"$f":"VLOOKUP($CY28,J!$A$2:$AW$4000,6,FALSE)","v":6},{"$f":"VLOOKUP($CY28,J!$A$2:$AW$4000,7,FALSE)","v":11},{"$f":"VLOOKUP($CY28,J!$A$2:$AW$4000,8,FALSE)","v":16},{"$f":"VLOOKUP($CY28,J!$A$2:$AW$4000,9,FALSE)","v":22},{"$f":"VLOOKUP($CY28,J!$A$2:$AW$4000,10,FALSE)","v":30},{"$f":"VLOOKUP($CY28,J!$A$2:$AW$4000,11,FALSE)","v":31},{"$f":"VLOOKUP($CY28,J!$A$2:$AW$4000,12,FALSE)","v":34},{"$f":"VLOOKUP($CY28,J!$A$2:$AW$4000,13,FALSE)","v":36},{"$f":"VLOOKUP($CY28,J!$A$2:$AW$4000,14,FALSE)","v":38},{"$f":"VLOOKUP($CY28,J!$A$2:$AW$4000,15,FALSE)","v":39},{"$f":"VLOOKUP($CY28,J!$A$2:$AW$4000,16,FALSE)","v":40},{"$f":"VLOOKUP($CY28,J!$A$2:$AW$4000,17,FALSE)","v":42},{"$f":"VLOOKUP($CY28,J!$A$2:$AW$4000,18,FALSE)","v":49},{"$f":"VLOOKUP($CY28,J!$A$2:$AW$4000,19,FALSE)","v":62},{"$f":"VLOOKUP($CY28,J!$A$2:$AW$4000,20,FALSE)","v":76},{"$f":"VLOOKUP($CY28,J!$A$2:$AW$4000,21,FALSE)","v":79},{"$f":"VLOOKUP($CY28,J!$A$2:$AW$4000,22,FALSE)","v":95}]
[null,{"$f":"IF(COUNTIF($CZ29:$DS29,B$16),B$16,\"\")","v":1},{"$f":"IF(COUNTIF($CZ29:$DS29,C$16),C$16,\"\")","v":""},{"$f":"IF(COUNTIF($CZ29:$DS29,D$16),D$16,\"\")","v":""},{"$f":"IF(COUNTIF($CZ29:$DS29,E$16),E$16,\"\")","v":""},{"$f":"IF(COUNTIF($CZ29:$DS29,F$16),F$16,\"\")","v":""},{"$f":"IF(COUNTIF($CZ29:$DS29,G$16),G$16,\"\")","v":6},{"$f":"IF(COUNTIF($CZ29:$DS29,H$16),H$16,\"\")","v":""},{"$f":"IF(COUNTIF($CZ29:$DS29,I$16),I$16,\"\")","v":""},{"$f":"IF(COUNTIF($CZ29:$DS29,J$16),J$16,\"\")","v":""},{"$f":"IF(COUNTIF($CZ29:$DS29,K$16),K$16,\"\")","v":""},{"$f":"IF(COUNTIF($CZ29:$DS29,L$16),L$16,\"\")","v":11},{"$f":"IF(COUNTIF($CZ29:$DS29,M$16),M$16,\"\")","v":""},{"$f":"IF(COUNTIF($CZ29:$DS29,N$16),N$16,\"\")","v":13},{"$f":"IF(COUNTIF($CZ29:$DS29,O$16),O$16,\"\")","v":""},{"$f":"IF(COUNTIF($CZ29:$DS29,P$16),P$16,\"\")","v":""},{"$f":"IF(COUNTIF($CZ29:$DS29,Q$16),Q$16,\"\")","v":""},{"$f":"IF(COUNTIF($CZ29:$DS29,R$16),R$16,\"\")","v":""},{"$f":"IF(COUNTIF($CZ29:$DS29,S$16),S$16,\"\")","v":18},{"$f":"IF(COUNTIF($CZ29:$DS29,T$16),T$16,\"\")","v":""},{"$f":"IF(COUNTIF($CZ29:$DS29,U$16),U$16,\"\")","v":""},{"$f":"IF(COUNTIF($CZ29:$DS29,V$16),V$16,\"\")","v":""},{"$f":"IF(COUNTIF($CZ29:$DS29,W$16),W$16,\"\")","v":""},{"$f":"IF(COUNTIF($CZ29:$DS29,X$16),X$16,\"\")","v":""},{"$f":"IF(COUNTIF($CZ29:$DS29,Y$16),Y$16,\"\")","v":24},{"$f":"IF(COUNTIF($CZ29:$DS29,Z$16),Z$16,\"\")","v":""},{"$f":"IF(COUNTIF($CZ29:$DS29,AA$16),AA$16,\"\")","v":""},{"$f":"IF(COUNTIF($CZ29:$DS29,AB$16),AB$16,\"\")","v":""},{"$f":"IF(COUNTIF($CZ29:$DS29,AC$16),AC$16,\"\")","v":28},{"$f":"IF(COUNTIF($CZ29:$DS29,AD$16),AD$16,\"\")","v":""},{"$f":"IF(COUNTIF($CZ29:$DS29,AE$16),AE$16,\"\")","v":""},{"$f":"IF(COUNTIF($CZ29:$DS29,AF$16),AF$16,\"\")","v":""},{"$f":"IF(COUNTIF($CZ29:$DS29,AG$16),AG$16,\"\")","v":""},{"$f":"IF(COUNTIF($CZ29:$DS29,AH$16),AH$16,\"\")","v":""},{"$f":"IF(COUNTIF($CZ29:$DS29,AI$16),AI$16,\"\")","v":""},{"$f":"IF(COUNTIF($CZ29:$DS29,AJ$16),AJ$16,\"\")","v":""},{"$f":"IF(COUNTIF($CZ29:$DS29,AK$16),AK$16,\"\")","v":""},{"$f":"IF(COUNTIF($CZ29:$DS29,AL$16),AL$16,\"\")","v":""},{"$f":"IF(COUNTIF($CZ29:$DS29,AM$16),AM$16,\"\")","v":38},{"$f":"IF(COUNTIF($CZ29:$DS29,AN$16),AN$16,\"\")","v":""},{"$f":"IF(COUNTIF($CZ29:$DS29,AO$16),AO$16,\"\")","v":""},{"$f":"IF(COUNTIF($CZ29:$DS29,AP$16),AP$16,\"\")","v":41},{"$f":"IF(COUNTIF($CZ29:$DS29,AQ$16),AQ$16,\"\")","v":""},{"$f":"IF(COUNTIF($CZ29:$DS29,AR$16),AR$16,\"\")","v":""},{"$f":"IF(COUNTIF($CZ29:$DS29,AS$16),AS$16,\"\")","v":44},{"$f":"IF(COUNTIF($CZ29:$DS29,AT$16),AT$16,\"\")","v":""},{"$f":"IF(COUNTIF($CZ29:$DS29,AU$16),AU$16,\"\")","v":""},{"$f":"IF(COUNTIF($CZ29:$DS29,AV$16),AV$16,\"\")","v":""},{"$f":"IF(COUNTIF($CZ29:$DS29,AW$16),AW$16,\"\")","v":""},{"$f":"IF(COUNTIF($CZ29:$DS29,AX$16),AX$16,\"\")","v":""},{"$f":"IF(COUNTIF($CZ29:$DS29,AY$16),AY$16,\"\")","v":50},{"$f":"IF(COUNTIF($CZ29:$DS29,AZ$16),AZ$16,\"\")","v":""},{"$f":"IF(COUNTIF($CZ29:$DS29,BA$16),BA$16,\"\")","v":""},{"$f":"IF(COUNTIF($CZ29:$DS29,BB$16),BB$16,\"\")","v":53},{"$f":"IF(COUNTIF($CZ29:$DS29,BC$16),BC$16,\"\")","v":""},{"$f":"IF(COUNTIF($CZ29:$DS29,BD$16),BD$16,\"\")","v":""},{"$f":"IF(COUNTIF($CZ29:$DS29,BE$16),BE$16,\"\")","v":""},{"$f":"IF(COUNTIF($CZ29:$DS29,BF$16),BF$16,\"\")","v":""},{"$f":"IF(COUNTIF($CZ29:$DS29,BG$16),BG$16,\"\")","v":""},{"$f":"IF(COUNTIF($CZ29:$DS29,BH$16),BH$16,\"\")","v":""},{"$f":"IF(COUNTIF($CZ29:$DS29,BI$16),BI$16,\"\")","v":""},{"$f":"IF(COUNTIF($CZ29:$DS29,BJ$16),BJ$16,\"\")","v":61},{"$f":"IF(COUNTIF($CZ29:$DS29,BK$16),BK$16,\"\")","v":""},{"$f":"IF(COUNTIF($CZ29:$DS29,BL$16),BL$16,\"\")","v":63},{"$f":"IF(COUNTIF($CZ29:$DS29,BM$16),BM$16,\"\")","v":""},{"$f":"IF(COUNTIF($CZ29:$DS29,BN$16),BN$16,\"\")","v":""},{"$f":"IF(COUNTIF($CZ29:$DS29,BO$16),BO$16,\"\")","v":""},{"$f":"IF(COUNTIF($CZ29:$DS29,BP$16),BP$16,\"\")","v":""},{"$f":"IF(COUNTIF($CZ29:$DS29,BQ$16),BQ$16,\"\")","v":""},{"$f":"IF(COUNTIF($CZ29:$DS29,BR$16),BR$16,\"\")","v":""},{"$f":"IF(COUNTIF($CZ29:$DS29,BS$16),BS$16,\"\")","v":70},{"$f":"IF(COUNTIF($CZ29:$DS29,BT$16),BT$16,\"\")","v":""},{"$f":"IF(COUNTIF($CZ29:$DS29,BU$16),BU$16,\"\")","v":""},{"$f":"IF(COUNTIF($CZ29:$DS29,BV$16),BV$16,\"\")","v":""},{"$f":"IF(COUNTIF($CZ29:$DS29,BW$16),BW$16,\"\")","v":""},{"$f":"IF(COUNTIF($CZ29:$DS29,BX$16),BX$16,\"\")","v":""},{"$f":"IF(COUNTIF($CZ29:$DS29,BY$16),BY$16,\"\")","v":76},{"$f":"IF(COUNTIF($CZ29:$DS29,BZ$16),BZ$16,\"\")","v":""},{"$f":"IF(COUNTIF($CZ29:$DS29,CA$16),CA$16,\"\")","v":78},{"$f":"IF(COUNTIF($CZ29:$DS29,CB$16),CB$16,\"\")","v":""},{"$f":"IF(COUNTIF($CZ29:$DS29,CC$16),CC$16,\"\")","v":""},{"$f":"IF(COUNTIF($CZ29:$DS29,CD$16),CD$16,\"\")","v":""},{"$f":"IF(COUNTIF($CZ29:$DS29,CE$16),CE$16,\"\")","v":""},{"$f":"IF(COUNTIF($CZ29:$DS29,CF$16),CF$16,\"\")","v":""},{"$f":"IF(COUNTIF($CZ29:$DS29,CG$16),CG$16,\"\")","v":""},{"$f":"IF(COUNTIF($CZ29:$DS29,CH$16),CH$16,\"\")","v":""},{"$f":"IF(COUNTIF($CZ29:$DS29,CI$16),CI$16,\"\")","v":""},{"$f":"IF(COUNTIF($CZ29:$DS29,CJ$16),CJ$16,\"\")","v":""},{"$f":"IF(COUNTIF($CZ29:$DS29,CK$16),CK$16,\"\")","v":""},{"$f":"IF(COUNTIF($CZ29:$DS29,CL$16),CL$16,\"\")","v":""},{"$f":"IF(COUNTIF($CZ29:$DS29,CM$16),CM$16,\"\")","v":""},{"$f":"IF(COUNTIF($CZ29:$DS29,CN$16),CN$16,\"\")","v":91},{"$f":"IF(COUNTIF($CZ29:$DS29,CO$16),CO$16,\"\")","v":92},{"$f":"IF(COUNTIF($CZ29:$DS29,CP$16),CP$16,\"\")","v":""},{"$f":"IF(COUNTIF($CZ29:$DS29,CQ$16),CQ$16,\"\")","v":""},{"$f":"IF(COUNTIF($CZ29:$DS29,CR$16),CR$16,\"\")","v":""},{"$f":"IF(COUNTIF($CZ29:$DS29,CS$16),CS$16,\"\")","v":""},{"$f":"IF(COUNTIF($CZ29:$DS29,CT$16),CT$16,\"\")","v":""},{"$f":"IF(COUNTIF($CZ29:$DS29,CU$16),CU$16,\"\")","v":98},{"$f":"IF(COUNTIF($CZ29:$DS29,CV$16),CV$16,\"\")","v":""},{"$f":"IF(COUNTIF($CZ29:$DS29,0),0,\"\")","v":""},13,1857,{"$f":"VLOOKUP($CY29,J!$A$2:$AW$4000,3,FALSE)","v":50},{"$f":"VLOOKUP($CY29,J!$A$2:$AW$4000,4,FALSE)","v":76},{"$f":"VLOOKUP($CY29,J!$A$2:$AW$4000,5,FALSE)","v":78},{"$f":"VLOOKUP($CY29,J!$A$2:$AW$4000,6,FALSE)","v":24},{"$f":"VLOOKUP($CY29,J!$A$2:$AW$4000,7,FALSE)","v":70},{"$f":"VLOOKUP($CY29,J!$A$2:$AW$4000,8,FALSE)","v":91},{"$f":"VLOOKUP($CY29,J!$A$2:$AW$4000,9,FALSE)","v":63},{"$f":"VLOOKUP($CY29,J!$A$2:$AW$4000,10,FALSE)","v":6},{"$f":"VLOOKUP($CY29,J!$A$2:$AW$4000,11,FALSE)","v":44},{"$f":"VLOOKUP($CY29,J!$A$2:$AW$4000,12,FALSE)","v":98},{"$f":"VLOOKUP($CY29,J!$A$2:$AW$4000,13,FALSE)","v":41},{"$f":"VLOOKUP($CY29,J!$A$2:$AW$4000,14,FALSE)","v":61},{"$f":"VLOOKUP($CY29,J!$A$2:$AW$4000,15,FALSE)","v":13},{"$f":"VLOOKUP($CY29,J!$A$2:$AW$4000,16,FALSE)","v":11},{"$f":"VLOOKUP($CY29,J!$A$2:$AW$4000,17,FALSE)","v":92},{"$f":"VLOOKUP($CY29,J!$A$2:$AW$4000,18,FALSE)","v":53},{"$f":"VLOOKUP($CY29,J!$A$2:$AW$4000,19,FALSE)","v":28},{"$f":"VLOOKUP($CY29,J!$A$2:$AW$4000,20,FALSE)","v":38},{"$f":"VLOOKUP($CY29,J!$A$2:$AW$4000,21,FALSE)","v":18},{"$f":"VLOOKUP($CY29,J!$A$2:$AW$4000,22,FALSE)","v":1}]
[null,{"$f":"IF(COUNTIF($CZ30:$DS30,B$16),B$16,\"\")","v":""},{"$f":"IF(COUNTIF($CZ30:$DS30,C$16),C$16,\"\")","v":""},{"$f":"IF(COUNTIF($CZ30:$DS30,D$16),D$16,\"\")","v":3},{"$f":"IF(COUNTIF($CZ30:$DS30,E$16),E$16,\"\")","v":""},{"$f":"IF(COUNTIF($CZ30:$DS30,F$16),F$16,\"\")","v":""},{"$f":"IF(COUNTIF($CZ30:$DS30,G$16),G$16,\"\")","v":""},{"$f":"IF(COUNTIF($CZ30:$DS30,H$16),H$16,\"\")","v":""},{"$f":"IF(COUNTIF($CZ30:$DS30,I$16),I$16,\"\")","v":8},{"$f":"IF(COUNTIF($CZ30:$DS30,J$16),J$16,\"\")","v":9},{"$f":"IF(COUNTIF($CZ30:$DS30,K$16),K$16,\"\")","v":""},{"$f":"IF(COUNTIF($CZ30:$DS30,L$16),L$16,\"\")","v":""},{"$f":"IF(COUNTIF($CZ30:$DS30,M$16),M$16,\"\")","v":12},{"$f":"IF(COUNTIF($CZ30:$DS30,N$16),N$16,\"\")","v":""},{"$f":"IF(COUNTIF($CZ30:$DS30,O$16),O$16,\"\")","v":""},{"$f":"IF(COUNTIF($CZ30:$DS30,P$16),P$16,\"\")","v":""},{"$f":"IF(COUNTIF($CZ30:$DS30,Q$16),Q$16,\"\")","v":""},{"$f":"IF(COUNTIF($CZ30:$DS30,R$16),R$16,\"\")","v":17},{"$f":"IF(COUNTIF($CZ30:$DS30,S$16),S$16,\"\")","v":""},{"$f":"IF(COUNTIF($CZ30:$DS30,T$16),T$16,\"\")","v":""},{"$f":"IF(COUNTIF($CZ30:$DS30,U$16),U$16,\"\")","v":""},{"$f":"IF(COUNTIF($CZ30:$DS30,V$16),V$16,\"\")","v":""},{"$f":"IF(COUNTIF($CZ30:$DS30,W$16),W$16,\"\")","v":""},{"$f":"IF(COUNTIF($CZ30:$DS30,X$16),X$16,\"\")","v":""},{"$f":"IF(COUNTIF($CZ30:$DS30,Y$16),Y$16,\"\")","v":24},{"$f":"IF(COUNTIF($CZ30:$DS30,Z$16),Z$16,\"\")","v":""},{"$f":"IF(COUNTIF($CZ30:$DS30,AA$16),AA$16,\"\")","v":""},{"$f":"IF(COUNTIF($CZ30:$DS30,AB$16),AB$16,\"\")","v":""},{"$f":"IF(COUNTIF($CZ30:$DS30,AC$16),AC$16,\"\")","v":""},{"$f":"IF(COUNTIF($CZ30:$DS30,AD$16),AD$16,\"\")","v":""},{"$f":"IF(COUNTIF($CZ30:$DS30,AE$16),AE$16,\"\")","v":30},{"$f":"IF(COUNTIF($CZ30:$DS30,AF$16),AF$16,\"\")","v":""},{"$f":"IF(COUNTIF($CZ30:$DS30,AG$16),AG$16,\"\")","v":32},{"$f":"IF(COUNTIF($CZ30:$DS30,AH$16),AH$16,\"\")","v":""},{"$f":"IF(COUNTIF($CZ30:$DS30,AI$16),AI$16,\"\")","v":""},{"$f":"IF(COUNTIF($CZ30:$DS30,AJ$16),AJ$16,\"\")","v":35},{"$f":"IF(COUNTIF($CZ30:$DS30,AK$16),AK$16,\"\")","v":""},{"$f":"IF(COUNTIF($CZ30:$DS30,AL$16),AL$16,\"\")","v":""},{"$f":"IF(COUNTIF($CZ30:$DS30,AM$16),AM$16,\"\")","v":38},{"$f":"IF(COUNTIF($CZ30:$DS30,AN$16),AN$16,\"\")","v":""},{"$f":"IF(COUNTIF($CZ30:$DS30,AO$16),AO$16,\"\")","v":""},{"$f":"IF(COUNTIF($CZ30:$DS30,AP$16),AP$16,\"\")","v":""},{"$f":"IF(COUNTIF($CZ30:$DS30,AQ$16),AQ$16,\"\")","v":42},{"$f":"IF(COUNTIF($CZ30:$DS30,AR$16),AR$16,\"\")","v":""},{"$f":"IF(COUNTIF($CZ30:$DS30,AS$16),AS$16,\"\")","v":""},{"$f":"IF(COUNTIF($CZ30:$DS30,AT$16),AT$16,\"\")","v":45},{"$f":"IF(COUNTIF($CZ30:$DS30,AU$16),AU$16,\"\")","v":""},{"$f":"IF(COUNTIF($CZ30:$DS30,AV$16),AV$16,\"\")","v":""},{"$f":"IF(COUNTIF($CZ30:$DS30,AW$16),AW$16,\"\")","v":""},{"$f":"IF(COUNTIF($CZ30:$DS30,AX$16),AX$16,\"\")","v":""},{"$f":"IF(COUNTIF($CZ30:$DS30,AY$16),AY$16,\"\")","v":""},{"$f":"IF(COUNTIF($CZ30:$DS30,AZ$16),AZ$16,\"\")","v":51},{"$f":"IF(COUNTIF($CZ30:$DS30,BA$16),BA$16,\"\")","v":""},{"$f":"IF(COUNTIF($CZ30:$DS30,BB$16),BB$16,\"\")","v":""},{"$f":"IF(COUNTIF($CZ30:$DS30,BC$16),BC$16,\"\")","v":""},{"$f":"IF(COUNTIF($CZ30:$DS30,BD$16),BD$16,\"\")","v":""},{"$f":"IF(COUNTIF($CZ30:$DS30,BE$16),BE$16,\"\")","v":""},{"$f":"IF(COUNTIF($CZ30:$DS30,BF$16),BF$16,\"\")","v":""},{"$f":"IF(COUNTIF($CZ30:$DS30,BG$16),BG$16,\"\")","v":""},{"$f":"IF(COUNTIF($CZ30:$DS30,BH$16),BH$16,\"\")","v":""},{"$f":"IF(COUNTIF($CZ30:$DS30,BI$16),BI$16,\"\")","v":""},{"$f":"IF(COUNTIF($CZ30:$DS30,BJ$16),BJ$16,\"\")","v":""},{"$f":"IF(COUNTIF($CZ30:$DS30,BK$16),BK$16,\"\")","v":""},{"$f":"IF(COUNTIF($CZ30:$DS30,BL$16),BL$16,\"\")","v":""},{"$f":"IF(COUNTIF($CZ30:$DS30,BM$16),BM$16,\"\")","v":""},{"$f":"IF(COUNTIF($CZ30:$DS30,BN$16),BN$16,\"\")","v":""},{"$f":"IF(COUNTIF($CZ30:$DS30,BO$16),BO$16,\"\")","v":""},{"$f":"IF(COUNTIF($CZ30:$DS30,BP$16),BP$16,\"\")","v":""},{"$f":"IF(COUNTIF($CZ30:$DS30,BQ$16),BQ$16,\"\")","v":""},{"$f":"IF(COUNTIF($CZ30:$DS30,BR$16),BR$16,\"\")","v":""},{"$f":"IF(COUNTIF($CZ30:$DS30,BS$16),BS$16,\"\")","v":""},{"$f":"IF(COUNTIF($CZ30:$DS30,BT$16),BT$16,\"\")","v":""},{"$f":"IF(COUNTIF($CZ30:$DS30,BU$16),BU$16,\"\")","v":""},{"$f":"IF(COUNTIF($CZ30:$DS30,BV$16),BV$16,\"\")","v":""},{"$f":"IF(COUNTIF($CZ30:$DS30,BW$16),BW$16,\"\")","v":""},{"$f":"IF(COUNTIF($CZ30:$DS30,BX$16),BX$16,\"\")","v":""},{"$f":"IF(COUNTIF($CZ30:$DS30,BY$16),BY$16,\"\")","v":""},{"$f":"IF(COUNTIF($CZ30:$DS30,BZ$16),BZ$16,\"\")","v":""},{"$f":"IF(COUNTIF($CZ30:$DS30,CA$16),CA$16,\"\")","v":""},{"$f":"IF(COUNTIF($CZ30:$DS30,CB$16),CB$16,\"\")","v":79},{"$f":"IF(COUNTIF($CZ30:$DS30,CC$16),CC$16,\"\")","v":80},{"$f":"IF(COUNTIF($CZ30:$DS30,CD$16),CD$16,\"\")","v":""},{"$f":"IF(COUNTIF($CZ30:$DS30,CE$16),CE$16,\"\")","v":82},{"$f":"IF(COUNTIF($CZ30:$DS30,CF$16),CF$16,\"\")","v":83},{"$f":"IF(COUNTIF($CZ30:$DS30,CG$16),CG$16,\"\")","v":""},{"$f":"IF(COUNTIF($CZ30:$DS30,CH$16),CH$16,\"\")","v":85},{"$f":"IF(COUNTIF($CZ30:$DS30,CI$16),CI$16,\"\")","v":""},{"$f":"IF(COUNTIF($CZ30:$DS30,CJ$16),CJ$16,\"\")","v":""},{"$f":"IF(COUNTIF($CZ30:$DS30,CK$16),CK$16,\"\")","v":""},{"$f":"IF(COUNTIF($CZ30:$DS30,CL$16),CL$16,\"\")","v":""},{"$f":"IF(COUNTIF($CZ30:$DS30,CM$16),CM$16,\"\")","v":""},{"$f":"IF(COUNTIF($CZ30:$DS30,CN$16),CN$16,\"\")","v":""},{"$f":"IF(COUNTIF($CZ30:$DS30,CO$16),CO$16,\"\")","v":""},{"$f":"IF(COUNTIF($CZ30:$DS30,CP$16),CP$16,\"\")","v":""},{"$f":"IF(COUNTIF($CZ30:$DS30,CQ$16),CQ$16,\"\")","v":""},{"$f":"IF(COUNTIF($CZ30:$DS30,CR$16),CR$16,\"\")","v":""},{"$f":"IF(COUNTIF($CZ30:$DS30,CS$16),CS$16,\"\")","v":96},{"$f":"IF(COUNTIF($CZ30:$DS30,CT$16),CT$16,\"\")","v":""},{"$f":"IF(COUNTIF($CZ30:$DS30,CU$16),CU$16,\"\")","v":""},{"$f":"IF(COUNTIF($CZ30:$DS30,CV$16),CV$16,\"\")","v":99},{"$f":"IF(COUNTIF($CZ30:$DS30,0),0,\"\")","v":""},14,1856,{"$f":"VLOOKUP($CY30,J!$A$2:$AW$4000,3,FALSE)","v":3},{"$f":"VLOOKUP($CY30,J!$A$2:$AW$4000,4,FALSE)","v":8},{"$f":"VLOOKUP($CY30,J!$A$2:$AW$4000,5,FALSE)","v":9},{"$f":"VLOOKUP($CY30,J!$A$2:$AW$4000,6,FALSE)","v":12},{"$f":"VLOOKUP($CY30,J!$A$2:$AW$4000,7,FALSE)","v":17},{"$f":"VLOOKUP($CY30,J!$A$2:$AW$4000,8,FALSE)","v":24},{"$f":"VLOOKUP($CY30,J!$A$2:$AW$4000,9,FALSE)","v":30},{"$f":"VLOOKUP($CY30,J!$A$2:$AW$4000,10,FALSE)","v":32},{"$f":"VLOOKUP($CY30,J!$A$2:$AW$4000,11,FALSE)","v":35},{"$f":"VLOOKUP($CY30,J!$A$2:$AW$4000,12,FALSE)","v":38},{"$f":"VLOOKUP($CY30,J!$A$2:$AW$4000,13,FALSE)","v":42},{"$f":"VLOOKUP($CY30,J!$A$2:$AW$4000,14,FALSE)","v":45},{"$f":"VLOOKUP($CY30,J!$A$2:$AW$4000,15,FALSE)","v":51},{"$f":"VLOOKUP($CY30,J!$A$2:$AW$4000,16,FALSE)","v":79},{"$f":"VLOOKUP($CY30,J!$A$2:$AW$4000,17,FALSE)","v":80},{"$f":"VLOOKUP($CY30,J!$A$2:$AW$4000,18,FALSE)","v":82},{"$f":"VLOOKUP($CY30,J!$A$2:$AW$4000,19,FALSE)","v":83},{"$f":"VLOOKUP($CY30,J!$A$2:$AW$4000,20,FALSE)","v":85},{"$f":"VLOOKUP($CY30,J!$A$2:$AW$4000,21,FALSE)","v":96},{"$f":"VLOOKUP($CY30,J!$A$2:$AW$4000,22,FALSE)","v":99}]
[null,{"$f":"IF(COUNTIF($CZ31:$DS31,B$16),B$16,\"\")","v":""},{"$f":"IF(COUNTIF($CZ31:$DS31,C$16),C$16,\"\")","v":""},{"$f":"IF(COUNTIF($CZ31:$DS31,D$16),D$16,\"\")","v":3},{"$f":"IF(COUNTIF($CZ31:$DS31,E$16),E$16,\"\")","v":4},{"$f":"IF(COUNTIF($CZ31:$DS31,F$16),F$16,\"\")","v":""},{"$f":"IF(COUNTIF($CZ31:$DS31,G$16),G$16,\"\")","v":6},{"$f":"IF(COUNTIF($CZ31:$DS31,H$16),H$16,\"\")","v":""},{"$f":"IF(COUNTIF($CZ31:$DS31,I$16),I$16,\"\")","v":""},{"$f":"IF(COUNTIF($CZ31:$DS31,J$16),J$16,\"\")","v":""},{"$f":"IF(COUNTIF($CZ31:$DS31,K$16),K$16,\"\")","v":10},{"$f":"IF(COUNTIF($CZ31:$DS31,L$16),L$16,\"\")","v":""},{"$f":"IF(COUNTIF($CZ31:$DS31,M$16),M$16,\"\")","v":""},{"$f":"IF(COUNTIF($CZ31:$DS31,N$16),N$16,\"\")","v":""},{"$f":"IF(COUNTIF($CZ31:$DS31,O$16),O$16,\"\")","v":""},{"$f":"IF(COUNTIF($CZ31:$DS31,P$16),P$16,\"\")","v":15},{"$f":"IF(COUNTIF($CZ31:$DS31,Q$16),Q$16,\"\")","v":""},{"$f":"IF(COUNTIF($CZ31:$DS31,R$16),R$16,\"\")","v":""},{"$f":"IF(COUNTIF($CZ31:$DS31,S$16),S$16,\"\")","v":""},{"$f":"IF(COUNTIF($CZ31:$DS31,T$16),T$16,\"\")","v":19},{"$f":"IF(COUNTIF($CZ31:$DS31,U$16),U$16,\"\")","v":20},{"$f":"IF(COUNTIF($CZ31:$DS31,V$16),V$16,\"\")","v":21},{"$f":"IF(COUNTIF($CZ31:$DS31,W$16),W$16,\"\")","v":""},{"$f":"IF(COUNTIF($CZ31:$DS31,X$16),X$16,\"\")","v":""},{"$f":"IF(COUNTIF($CZ31:$DS31,Y$16),Y$16,\"\")","v":""},{"$f":"IF(COUNTIF($CZ31:$DS31,Z$16),Z$16,\"\")","v":""},{"$f":"IF(COUNTIF($CZ31:$DS31,AA$16),AA$16,\"\")","v":""},{"$f":"IF(COUNTIF($CZ31:$DS31,AB$16),AB$16,\"\")","v":""},{"$f":"IF(COUNTIF($CZ31:$DS31,AC$16),AC$16,\"\")","v":28},{"$f":"IF(COUNTIF($CZ31:$DS31,AD$16),AD$16,\"\")","v":""},{"$f":"IF(COUNTIF($CZ31:$DS31,AE$16),AE$16,\"\")","v":""},{"$f":"IF(COUNTIF($CZ31:$DS31,AF$16),AF$16,\"\")","v":""},{"$f":"IF(COUNTIF($CZ31:$DS31,AG$16),AG$16,\"\")","v":""},{"$f":"IF(COUNTIF($CZ31:$DS31,AH$16),AH$16,\"\")","v":""},{"$f":"IF(COUNTIF($CZ31:$DS31,AI$16),AI$16,\"\")","v":""},{"$f":"IF(COUNTIF($CZ31:$DS31,AJ$16),AJ$16,\"\")","v":""},{"$f":"IF(COUNTIF($CZ31:$DS31,AK$16),AK$16,\"\")","v":""},{"$f":"IF(COUNTIF($CZ31:$DS31,AL$16),AL$16,\"\")","v":""},{"$f":"IF(COUNTIF($CZ31:$DS31,AM$16),AM$16,\"\")","v":""},{"$f":"IF(COUNTIF($CZ31:$DS31,AN$16),AN$16,\"\")","v":""},{"$f":"IF(COUNTIF($CZ31:$DS31,AO$16),AO$16,\"\")","v":""},{"$f":"IF(COUNTIF($CZ31:$DS31,AP$16),AP$16,\"\")","v":""},{"$f":"IF(COUNTIF($CZ31:$DS31,AQ$16),AQ$16,\"\")","v":""},{"$f":"IF(COUNTIF($CZ31:$DS31,AR$16),AR$16,\"\")","v":""},{"$f":"IF(COUNTIF($CZ31:$DS31,AS$16),AS$16,\"\")","v":""},{"$f":"IF(COUNTIF($CZ31:$DS31,AT$16),AT$16,\"\")","v":45},{"$f":"IF(COUNTIF($CZ31:$DS31,AU$16),AU$16,\"\")","v":""},{"$f":"IF(COUNTIF($CZ31:$DS31,AV$16),AV$16,\"\")","v":""},{"$f":"IF(COUNTIF($CZ31:$DS31,AW$16),AW$16,\"\")","v":""},{"$f":"IF(COUNTIF($CZ31:$DS31,AX$16),AX$16,\"\")","v":""},{"$f":"IF(COUNTIF($CZ31:$DS31,AY$16),AY$16,\"\")","v":50},{"$f":"IF(COUNTIF($CZ31:$DS31,AZ$16),AZ$16,\"\")","v":""},{"$f":"IF(COUNTIF($CZ31:$DS31,BA$16),BA$16,\"\")","v":""},{"$f":"IF(COUNTIF($CZ31:$DS31,BB$16),BB$16,\"\")","v":""},{"$f":"IF(COUNTIF($CZ31:$DS31,BC$16),BC$16,\"\")","v":""},{"$f":"IF(COUNTIF($CZ31:$DS31,BD$16),BD$16,\"\")","v":""},{"$f":"IF(COUNTIF($CZ31:$DS31,BE$16),BE$16,\"\")","v":56},{"$f":"IF(COUNTIF($CZ31:$DS31,BF$16),BF$16,\"\")","v":57},{"$f":"IF(COUNTIF($CZ31:$DS31,BG$16),BG$16,\"\")","v":""},{"$f":"IF(COUNTIF($CZ31:$DS31,BH$16),BH$16,\"\")","v":""},{"$f":"IF(COUNTIF($CZ31:$DS31,BI$16),BI$16,\"\")","v":60},{"$f":"IF(COUNTIF($CZ31:$DS31,BJ$16),BJ$16,\"\")","v":61},{"$f":"IF(COUNTIF($CZ31:$DS31,BK$16),BK$16,\"\")","v":""},{"$f":"IF(COUNTIF($CZ31:$DS31,BL$16),BL$16,\"\")","v":""},{"$f":"IF(COUNTIF($CZ31:$DS31,BM$16),BM$16,\"\")","v":64},{"$f":"IF(COUNTIF($CZ31:$DS31,BN$16),BN$16,\"\")","v":65},{"$f":"IF(COUNTIF($CZ31:$DS31,BO$16),BO$16,\"\")","v":""},{"$f":"IF(COUNTIF($CZ31:$DS31,BP$16),BP$16,\"\")","v":""},{"$f":"IF(COUNTIF($CZ31:$DS31,BQ$16),BQ$16,\"\")","v":""},{"$f":"IF(COUNTIF($CZ31:$DS31,BR$16),BR$16,\"\")","v":""},{"$f":"IF(COUNTIF($CZ31:$DS31,BS$16),BS$16,\"\")","v":""},{"$f":"IF(COUNTIF($CZ31:$DS31,BT$16),BT$16,\"\")","v":""},{"$f":"IF(COUNTIF($CZ31:$DS31,BU$16),BU$16,\"\")","v":""},{"$f":"IF(COUNTIF($CZ31:$DS31,BV$16),BV$16,\"\")","v":""},{"$f":"IF(COUNTIF($CZ31:$DS31,BW$16),BW$16,\"\")","v":""},{"$f":"IF(COUNTIF($CZ31:$DS31,BX$16),BX$16,\"\")","v":""},{"$f":"IF(COUNTIF($CZ31:$DS31,BY$16),BY$16,\"\")","v":""},{"$f":"IF(COUNTIF($CZ31:$DS31,BZ$16),BZ$16,\"\")","v":""},{"$f":"IF(COUNTIF($CZ31:$DS31,CA$16),CA$16,\"\")","v":""},{"$f":"IF(COUNTIF($CZ31:$DS31,CB$16),CB$16,\"\")","v":79},{"$f":"IF(COUNTIF($CZ31:$DS31,CC$16),CC$16,\"\")","v":80},{"$f":"IF(COUNTIF($CZ31:$DS31,CD$16),CD$16,\"\")","v":""},{"$f":"IF(COUNTIF($CZ31:$DS31,CE$16),CE$16,\"\")","v":""},{"$f":"IF(COUNTIF($CZ31:$DS31,CF$16),CF$16,\"\")","v":""},{"$f":"IF(COUNTIF($CZ31:$DS31,CG$16),CG$16,\"\")","v":""},{"$f":"IF(COUNTIF($CZ31:$DS31,CH$16),CH$16,\"\")","v":""},{"$f":"IF(COUNTIF($CZ31:$DS31,CI$16),CI$16,\"\")","v":""},{"$f":"IF(COUNTIF($CZ31:$DS31,CJ$16),CJ$16,\"\")","v":""},{"$f":"IF(COUNTIF($CZ31:$DS31,CK$16),CK$16,\"\")","v":""},{"$f":"IF(COUNTIF($CZ31:$DS31,CL$16),CL$16,\"\")","v":""},{"$f":"IF(COUNTIF($CZ31:$DS31,CM$16),CM$16,\"\")","v":""},{"$f":"IF(COUNTIF($CZ31:$DS31,CN$16),CN$16,\"\")","v":""},{"$f":"IF(COUNTIF($CZ31:$DS31,CO$16),CO$16,\"\")","v":""},{"$f":"IF(COUNTIF($CZ31:$DS31,CP$16),CP$16,\"\")","v":""},{"$f":"IF(COUNTIF($CZ31:$DS31,CQ$16),CQ$16,\"\")","v":""},{"$f":"IF(COUNTIF($CZ31:$DS31,CR$16),CR$16,\"\")","v":""},{"$f":"IF(COUNTIF($CZ31:$DS31,CS$16),CS$16,\"\")","v":""},{"$f":"IF(COUNTIF($CZ31:$DS31,CT$16),CT$16,\"\")","v":97},{"$f":"IF(COUNTIF($CZ31:$DS31,CU$16),CU$16,\"\")","v":""},{"$f":"IF(COUNTIF($CZ31:$DS31,CV$16),CV$16,\"\")","v":""},{"$f":"IF(COUNTIF($CZ31:$DS31,0),0,\"\")","v":""},15,1855,{"$f":"VLOOKUP($CY31,J!$A$2:$AW$4000,3,FALSE)","v":3},{"$f":"VLOOKUP($CY31,J!$A$2:$AW$4000,4,FALSE)","v":4},{"$f":"VLOOKUP($CY31,J!$A$2:$AW$4000,5,FALSE)","v":6},{"$f":"VLOOKUP($CY31,J!$A$2:$AW$4000,6,FALSE)","v":10},{"$f":"VLOOKUP($CY31,J!$A$2:$AW$4000,7,FALSE)","v":15},{"$f":"VLOOKUP($CY31,J!$A$2:$AW$4000,8,FALSE)","v":19},{"$f":"VLOOKUP($CY31,J!$A$2:$AW$4000,9,FALSE)","v":20},{"$f":"VLOOKUP($CY31,J!$A$2:$AW$4000,10,FALSE)","v":21},{"$f":"VLOOKUP($CY31,J!$A$2:$AW$4000,11,FALSE)","v":28},{"$f":"VLOOKUP($CY31,J!$A$2:$AW$4000,12,FALSE)","v":45},{"$f":"VLOOKUP($CY31,J!$A$2:$AW$4000,13,FALSE)","v":50},{"$f":"VLOOKUP($CY31,J!$A$2:$AW$4000,14,FALSE)","v":56},{"$f":"VLOOKUP($CY31,J!$A$2:$AW$4000,15,FALSE)","v":57},{"$f":"VLOOKUP($CY31,J!$A$2:$AW$4000,16,FALSE)","v":60},{"$f":"VLOOKUP($CY31,J!$A$2:$AW$4000,17,FALSE)","v":61},{"$f":"VLOOKUP($CY31,J!$A$2:$AW$4000,18,FALSE)","v":64},{"$f":"VLOOKUP($CY31,J!$A$2:$AW$4000,19,FALSE)","v":65},{"$f":"VLOOKUP($CY31,J!$A$2:$AW$4000,20,FALSE)","v":79},{"$f":"VLOOKUP($CY31,J!$A$2:$AW$4000,21,FALSE)","v":80},{"$f":"VLOOKUP($CY31,J!$A$2:$AW$4000,22,FALSE)","v":97}]
[null,{"$f":"IF(COUNTIF($CZ32:$DS32,B$16),B$16,\"\")","v":""},{"$f":"IF(COUNTIF($CZ32:$DS32,C$16),C$16,\"\")","v":""},{"$f":"IF(COUNTIF($CZ32:$DS32,D$16),D$16,\"\")","v":""},{"$f":"IF(COUNTIF($CZ32:$DS32,E$16),E$16,\"\")","v":4},{"$f":"IF(COUNTIF($CZ32:$DS32,F$16),F$16,\"\")","v":""},{"$f":"IF(COUNTIF($CZ32:$DS32,G$16),G$16,\"\")","v":""},{"$f":"IF(COUNTIF($CZ32:$DS32,H$16),H$16,\"\")","v":""},{"$f":"IF(COUNTIF($CZ32:$DS32,I$16),I$16,\"\")","v":""},{"$f":"IF(COUNTIF($CZ32:$DS32,J$16),J$16,\"\")","v":""},{"$f":"IF(COUNTIF($CZ32:$DS32,K$16),K$16,\"\")","v":""},{"$f":"IF(COUNTIF($CZ32:$DS32,L$16),L$16,\"\")","v":""},{"$f":"IF(COUNTIF($CZ32:$DS32,M$16),M$16,\"\")","v":""},{"$f":"IF(COUNTIF($CZ32:$DS32,N$16),N$16,\"\")","v":""},{"$f":"IF(COUNTIF($CZ32:$DS32,O$16),O$16,\"\")","v":""},{"$f":"IF(COUNTIF($CZ32:$DS32,P$16),P$16,\"\")","v":""},{"$f":"IF(COUNTIF($CZ32:$DS32,Q$16),Q$16,\"\")","v":""},{"$f":"IF(COUNTIF($CZ32:$DS32,R$16),R$16,\"\")","v":""},{"$f":"IF(COUNTIF($CZ32:$DS32,S$16),S$16,\"\")","v":""},{"$f":"IF(COUNTIF($CZ32:$DS32,T$16),T$16,\"\")","v":""},{"$f":"IF(COUNTIF($CZ32:$DS32,U$16),U$16,\"\")","v":20},{"$f":"IF(COUNTIF($CZ32:$DS32,V$16),V$16,\"\")","v":""},{"$f":"IF(COUNTIF($CZ32:$DS32,W$16),W$16,\"\")","v":""},{"$f":"IF(COUNTIF($CZ32:$DS32,X$16),X$16,\"\")","v":""},{"$f":"IF(COUNTIF($CZ32:$DS32,Y$16),Y$16,\"\")","v":24},{"$f":"IF(COUNTIF($CZ32:$DS32,Z$16),Z$16,\"\")","v":""},{"$f":"IF(COUNTIF($CZ32:$DS32,AA$16),AA$16,\"\")","v":""},{"$f":"IF(COUNTIF($CZ32:$DS32,AB$16),AB$16,\"\")","v":""},{"$f":"IF(COUNTIF($CZ32:$DS32,AC$16),AC$16,\"\")","v":""},{"$f":"IF(COUNTIF($CZ32:$DS32,AD$16),AD$16,\"\")","v":""},{"$f":"IF(COUNTIF($CZ32:$DS32,AE$16),AE$16,\"\")","v":""},{"$f":"IF(COUNTIF($CZ32:$DS32,AF$16),AF$16,\"\")","v":""},{"$f":"IF(COUNTIF($CZ32:$DS32,AG$16),AG$16,\"\")","v":32},{"$f":"IF(COUNTIF($CZ32:$DS32,AH$16),AH$16,\"\")","v":33},{"$f":"IF(COUNTIF($CZ32:$DS32,AI$16),AI$16,\"\")","v":""},{"$f":"IF(COUNTIF($CZ32:$DS32,AJ$16),AJ$16,\"\")","v":35},{"$f":"IF(COUNTIF($CZ32:$DS32,AK$16),AK$16,\"\")","v":""},{"$f":"IF(COUNTIF($CZ32:$DS32,AL$16),AL$16,\"\")","v":37},{"$f":"IF(COUNTIF($CZ32:$DS32,AM$16),AM$16,\"\")","v":""},{"$f":"IF(COUNTIF($CZ32:$DS32,AN$16),AN$16,\"\")","v":""},{"$f":"IF(COUNTIF($CZ32:$DS32,AO$16),AO$16,\"\")","v":""},{"$f":"IF(COUNTIF($CZ32:$DS32,AP$16),AP$16,\"\")","v":""},{"$f":"IF(COUNTIF($CZ32:$DS32,AQ$16),AQ$16,\"\")","v":""},{"$f":"IF(COUNTIF($CZ32:$DS32,AR$16),AR$16,\"\")","v":""},{"$f":"IF(COUNTIF($CZ32:$DS32,AS$16),AS$16,\"\")","v":""},{"$f":"IF(COUNTIF($CZ32:$DS32,AT$16),AT$16,\"\")","v":""},{"$f":"IF(COUNTIF($CZ32:$DS32,AU$16),AU$16,\"\")","v":""},{"$f":"IF(COUNTIF($CZ32:$DS32,AV$16),AV$16,\"\")","v":""},{"$f":"IF(COUNTIF($CZ32:$DS32,AW$16),AW$16,\"\")","v":""},{"$f":"IF(COUNTIF($CZ32:$DS32,AX$16),AX$16,\"\")","v":""},{"$f":"IF(COUNTIF($CZ32:$DS32,AY$16),AY$16,\"\")","v":""},{"$f":"IF(COUNTIF($CZ32:$DS32,AZ$16),AZ$16,\"\")","v":""},{"$f":"IF(COUNTIF($CZ32:$DS32,BA$16),BA$16,\"\")","v":""},{"$f":"IF(COUNTIF($CZ32:$DS32,BB$16),BB$16,\"\")","v":""},{"$f":"IF(COUNTIF($CZ32:$DS32,BC$16),BC$16,\"\")","v":""},{"$f":"IF(COUNTIF($CZ32:$DS32,BD$16),BD$16,\"\")","v":""},{"$f":"IF(COUNTIF($CZ32:$DS32,BE$16),BE$16,\"\")","v":""},{"$f":"IF(COUNTIF($CZ32:$DS32,BF$16),BF$16,\"\")","v":""},{"$f":"IF(COUNTIF($CZ32:$DS32,BG$16),BG$16,\"\")","v":""},{"$f":"IF(COUNTIF($CZ32:$DS32,BH$16),BH$16,\"\")","v":""},{"$f":"IF(COUNTIF($CZ32:$DS32,BI$16),BI$16,\"\")","v":60},{"$f":"IF(COUNTIF($CZ32:$DS32,BJ$16),BJ$16,\"\")","v":61},{"$f":"IF(COUNTIF($CZ32:$DS32,BK$16),BK$16,\"\")","v":""},{"$f":"IF(COUNTIF($CZ32:$DS32,BL$16),BL$16,\"\")","v":""},{"$f":"IF(COUNTIF($CZ32:$DS32,BM$16),BM$16,\"\")","v":""},{"$f":"IF(COUNTIF($CZ32:$DS32,BN$16),BN$16,\"\")","v":65},{"$f":"IF(COUNTIF($CZ32:$DS32,BO$16),BO$16,\"\")","v":""},{"$f":"IF(COUNTIF($CZ32:$DS32,BP$16),BP$16,\"\")","v":67},{"$f":"IF(COUNTIF($CZ32:$DS32,BQ$16),BQ$16,\"\")","v":""},{"$f":"IF(COUNTIF($CZ32:$DS32,BR$16),BR$16,\"\")","v":69},{"$f":"IF(COUNTIF($CZ32:$DS32,BS$16),BS$16,\"\")","v":""},{"$f":"IF(COUNTIF($CZ32:$DS32,BT$16),BT$16,\"\")","v":""},{"$f":"IF(COUNTIF($CZ32:$DS32,BU$16),BU$16,\"\")","v":72},{"$f":"IF(COUNTIF($CZ32:$DS32,BV$16),BV$16,\"\")","v":""},{"$f":"IF(COUNTIF($CZ32:$DS32,BW$16),BW$16,\"\")","v":""},{"$f":"IF(COUNTIF($CZ32:$DS32,BX$16),BX$16,\"\")","v":""},{"$f":"IF(COUNTIF($CZ32:$DS32,BY$16),BY$16,\"\")","v":""},{"$f":"IF(COUNTIF($CZ32:$DS32,BZ$16),BZ$16,\"\")","v":""},{"$f":"IF(COUNTIF($CZ32:$DS32,CA$16),CA$16,\"\")","v":""},{"$f":"IF(COUNTIF($CZ32:$DS32,CB$16),CB$16,\"\")","v":""},{"$f":"IF(COUNTIF($CZ32:$DS32,CC$16),CC$16,\"\")","v":""},{"$f":"IF(COUNTIF($CZ32:$DS32,CD$16),CD$16,\"\")","v":""},{"$f":"IF(COUNTIF($CZ32:$DS32,CE$16),CE$16,\"\")","v":""},{"$f":"IF(COUNTIF($CZ32:$DS32,CF$16),CF$16,\"\")","v":""},{"$f":"IF(COUNTIF($CZ32:$DS32,CG$16),CG$16,\"\")","v":84},{"$f":"IF(COUNTIF($CZ32:$DS32,CH$16),CH$16,\"\")","v":""},{"$f":"IF(COUNTIF($CZ32:$DS32,CI$16),CI$16,\"\")","v":""},{"$f":"IF(COUNTIF($CZ32:$DS32,CJ$16),CJ$16,\"\")","v":""},{"$f":"IF(COUNTIF($CZ32:$DS32,CK$16),CK$16,\"\")","v":88},{"$f":"IF(COUNTIF($CZ32:$DS32,CL$16),CL$16,\"\")","v":""},{"$f":"IF(COUNTIF($CZ32:$DS32,CM$16),CM$16,\"\")","v":90},{"$f":"IF(COUNTIF($CZ32:$DS32,CN$16),CN$16,\"\")","v":91},{"$f":"IF(COUNTIF($CZ32:$DS32,CO$16),CO$16,\"\")","v":""},{"$f":"IF(COUNTIF($CZ32:$DS32,CP$16),CP$16,\"\")","v":""},{"$f":"IF(COUNTIF($CZ32:$DS32,CQ$16),CQ$16,\"\")","v":""},{"$f":"IF(COUNTIF($CZ32:$DS32,CR$16),CR$16,\"\")","v":""},{"$f":"IF(COUNTIF($CZ32:$DS32,CS$16),CS$16,\"\")","v":96},{"$f":"IF(COUNTIF($CZ32:$DS32,CT$16),CT$16,\"\")","v":""},{"$f":"IF(COUNTIF($CZ32:$DS32,CU$16),CU$16,\"\")","v":""},{"$f":"IF(COUNTIF($CZ32:$DS32,CV$16),CV$16,\"\")","v":99},{"$f":"IF(COUNTIF($CZ32:$DS32,0),0,\"\")","v":0},16,1854,{"$f":"VLOOKUP($CY32,J!$A$2:$AW$4000,3,FALSE)","v":4},{"$f":"VLOOKUP($CY32,J!$A$2:$AW$4000,4,FALSE)","v":20},{"$f":"VLOOKUP($CY32,J!$A$2:$AW$4000,5,FALSE)","v":24},{"$f":"VLOOKUP($CY32,J!$A$2:$AW$4000,6,FALSE)","v":32},{"$f":"VLOOKUP($CY32,J!$A$2:$AW$4000,7,FALSE)","v":33},{"$f":"VLOOKUP($CY32,J!$A$2:$AW$4000,8,FALSE)","v":35},{"$f":"VLOOKUP($CY32,J!$A$2:$AW$4000,9,FALSE)","v":37},{"$f":"VLOOKUP($CY32,J!$A$2:$AW$4000,10,FALSE)","v":60},{"$f":"VLOOKUP($CY32,J!$A$2:$AW$4000,11,FALSE)","v":61},{"$f":"VLOOKUP($CY32,J!$A$2:$AW$4000,12,FALSE)","v":65},{"$f":"VLOOKUP($CY32,J!$A$2:$AW$4000,13,FALSE)","v":67},{"$f":"VLOOKUP($CY32,J!$A$2:$AW$4000,14,FALSE)","v":69},{"$f":"VLOOKUP($CY32,J!$A$2:$AW$4000,15,FALSE)","v":72},{"$f":"VLOOKUP($CY32,J!$A$2:$AW$4000,16,FALSE)","v":84},{"$f":"VLOOKUP($CY32,J!$A$2:$AW$4000,17,FALSE)","v":88},{"$f":"VLOOKUP($CY32,J!$A$2:$AW$4000,18,FALSE)","v":90},{"$f":"VLOOKUP($CY32,J!$A$2:$AW$4000,19,FALSE)","v":91},{"$f":"VLOOKUP($CY32,J!$A$2:$AW$4000,20,FALSE)","v":96},{"$f":"VLOOKUP($CY32,J!$A$2:$AW$4000,21,FALSE)","v":99},{"$f":"VLOOKUP($CY32,J!$A$2:$AW$4000,22,FALSE)","v":0}]
[null,{"$f":"IF(COUNTIF($CZ33:$DS33,B$16),B$16,\"\")","v":""},{"$f":"IF(COUNTIF($CZ33:$DS33,C$16),C$16,\"\")","v":""},{"$f":"IF(COUNTIF($CZ33:$DS33,D$16),D$16,\"\")","v":""},{"$f":"IF(COUNTIF($CZ33:$DS33,E$16),E$16,\"\")","v":""},{"$f":"IF(COUNTIF($CZ33:$DS33,F$16),F$16,\"\")","v":""},{"$f":"IF(COUNTIF($CZ33:$DS33,G$16),G$16,\"\")","v":""},{"$f":"IF(COUNTIF($CZ33:$DS33,H$16),H$16,\"\")","v":""},{"$f":"IF(COUNTIF($CZ33:$DS33,I$16),I$16,\"\")","v":""},{"$f":"IF(COUNTIF($CZ33:$DS33,J$16),J$16,\"\")","v":9},{"$f":"IF(COUNTIF($CZ33:$DS33,K$16),K$16,\"\")","v":""},{"$f":"IF(COUNTIF($CZ33:$DS33,L$16),L$16,\"\")","v":""},{"$f":"IF(COUNTIF($CZ33:$DS33,M$16),M$16,\"\")","v":12},{"$f":"IF(COUNTIF($CZ33:$DS33,N$16),N$16,\"\")","v":""},{"$f":"IF(COUNTIF($CZ33:$DS33,O$16),O$16,\"\")","v":14},{"$f":"IF(COUNTIF($CZ33:$DS33,P$16),P$16,\"\")","v":""},{"$f":"IF(COUNTIF($CZ33:$DS33,Q$16),Q$16,\"\")","v":""},{"$f":"IF(COUNTIF($CZ33:$DS33,R$16),R$16,\"\")","v":""},{"$f":"IF(COUNTIF($CZ33:$DS33,S$16),S$16,\"\")","v":""},{"$f":"IF(COUNTIF($CZ33:$DS33,T$16),T$16,\"\")","v":""},{"$f":"IF(COUNTIF($CZ33:$DS33,U$16),U$16,\"\")","v":""},{"$f":"IF(COUNTIF($CZ33:$DS33,V$16),V$16,\"\")","v":21},{"$f":"IF(COUNTIF($CZ33:$DS33,W$16),W$16,\"\")","v":""},{"$f":"IF(COUNTIF($CZ33:$DS33,X$16),X$16,\"\")","v":""},{"$f":"IF(COUNTIF($CZ33:$DS33,Y$16),Y$16,\"\")","v":""},{"$f":"IF(COUNTIF($CZ33:$DS33,Z$16),Z$16,\"\")","v":""},{"$f":"IF(COUNTIF($CZ33:$DS33,AA$16),AA$16,\"\")","v":""},{"$f":"IF(COUNTIF($CZ33:$DS33,AB$16),AB$16,\"\")","v":""},{"$f":"IF(COUNTIF($CZ33:$DS33,AC$16),AC$16,\"\")","v":""},{"$f":"IF(COUNTIF($CZ33:$DS33,AD$16),AD$16,\"\")","v":""},{"$f":"IF(COUNTIF($CZ33:$DS33,AE$16),AE$16,\"\")","v":""},{"$f":"IF(COUNTIF($CZ33:$DS33,AF$16),AF$16,\"\")","v":""},{"$f":"IF(COUNTIF($CZ33:$DS33,AG$16),AG$16,\"\")","v":""},{"$f":"IF(COUNTIF($CZ33:$DS33,AH$16),AH$16,\"\")","v":""},{"$f":"IF(COUNTIF($CZ33:$DS33,AI$16),AI$16,\"\")","v":34},{"$f":"IF(COUNTIF($CZ33:$DS33,AJ$16),AJ$16,\"\")","v":""},{"$f":"IF(COUNTIF($CZ33:$DS33,AK$16),AK$16,\"\")","v":""},{"$f":"IF(COUNTIF($CZ33:$DS33,AL$16),AL$16,\"\")","v":""},{"$f":"IF(COUNTIF($CZ33:$DS33,AM$16),AM$16,\"\")","v":""},{"$f":"IF(COUNTIF($CZ33:$DS33,AN$16),AN$16,\"\")","v":39},{"$f":"IF(COUNTIF($CZ33:$DS33,AO$16),AO$16,\"\")","v":""},{"$f":"IF(COUNTIF($CZ33:$DS33,AP$16),AP$16,\"\")","v":""},{"$f":"IF(COUNTIF($CZ33:$DS33,AQ$16),AQ$16,\"\")","v":""},{"$f":"IF(COUNTIF($CZ33:$DS33,AR$16),AR$16,\"\")","v":43},{"$f":"IF(COUNTIF($CZ33:$DS33,AS$16),AS$16,\"\")","v":""},{"$f":"IF(COUNTIF($CZ33:$DS33,AT$16),AT$16,\"\")","v":""},{"$f":"IF(COUNTIF($CZ33:$DS33,AU$16),AU$16,\"\")","v":""},{"$f":"IF(COUNTIF($CZ33:$DS33,AV$16),AV$16,\"\")","v":""},{"$f":"IF(COUNTIF($CZ33:$DS33,AW$16),AW$16,\"\")","v":""},{"$f":"IF(COUNTIF($CZ33:$DS33,AX$16),AX$16,\"\")","v":""},{"$f":"IF(COUNTIF($CZ33:$DS33,AY$16),AY$16,\"\")","v":""},{"$f":"IF(COUNTIF($CZ33:$DS33,AZ$16),AZ$16,\"\")","v":""},{"$f":"IF(COUNTIF($CZ33:$DS33,BA$16),BA$16,\"\")","v":""},{"$f":"IF(COUNTIF($CZ33:$DS33,BB$16),BB$16,\"\")","v":""},{"$f":"IF(COUNTIF($CZ33:$DS33,BC$16),BC$16,\"\")","v":""},{"$f":"IF(COUNTIF($CZ33:$DS33,BD$16),BD$16,\"\")","v":""},{"$f":"IF(COUNTIF($CZ33:$DS33,BE$16),BE$16,\"\")","v":56},{"$f":"IF(COUNTIF($CZ33:$DS33,BF$16),BF$16,\"\")","v":57},{"$f":"IF(COUNTIF($CZ33:$DS33,BG$16),BG$16,\"\")","v":""},{"$f":"IF(COUNTIF($CZ33:$DS33,BH$16),BH$16,\"\")","v":59},{"$f":"IF(COUNTIF($CZ33:$DS33,BI$16),BI$16,\"\")","v":""},{"$f":"IF(COUNTIF($CZ33:$DS33,BJ$16),BJ$16,\"\")","v":61},{"$f":"IF(COUNTIF($CZ33:$DS33,BK$16),BK$16,\"\")","v":""},{"$f":"IF(COUNTIF($CZ33:$DS33,BL$16),BL$16,\"\")","v":63},{"$f":"IF(COUNTIF($CZ33:$DS33,BM$16),BM$16,\"\")","v":""},{"$f":"IF(COUNTIF($CZ33:$DS33,BN$16),BN$16,\"\")","v":""},{"$f":"IF(COUNTIF($CZ33:$DS33,BO$16),BO$16,\"\")","v":""},{"$f":"IF(COUNTIF($CZ33:$DS33,BP$16),BP$16,\"\")","v":""},{"$f":"IF(COUNTIF($CZ33:$DS33,BQ$16),BQ$16,\"\")","v":""},{"$f":"IF(COUNTIF($CZ33:$DS33,BR$16),BR$16,\"\")","v":""},{"$f":"IF(COUNTIF($CZ33:$DS33,BS$16),BS$16,\"\")","v":""},{"$f":"IF(COUNTIF($CZ33:$DS33,BT$16),BT$16,\"\")","v":""},{"$f":"IF(COUNTIF($CZ33:$DS33,BU$16),BU$16,\"\")","v":72},{"$f":"IF(COUNTIF($CZ33:$DS33,BV$16),BV$16,\"\")","v":""},{"$f":"IF(COUNTIF($CZ33:$DS33,BW$16),BW$16,\"\")","v":""},{"$f":"IF(COUNTIF($CZ33:$DS33,BX$16),BX$16,\"\")","v":75},{"$f":"IF(COUNTIF($CZ33:$DS33,BY$16),BY$16,\"\")","v":""},{"$f":"IF(COUNTIF($CZ33:$DS33,BZ$16),BZ$16,\"\")","v":77},{"$f":"IF(COUNTIF($CZ33:$DS33,CA$16),CA$16,\"\")","v":""},{"$f":"IF(COUNTIF($CZ33:$DS33,CB$16),CB$16,\"\")","v":""},{"$f":"IF(COUNTIF($CZ33:$DS33,CC$16),CC$16,\"\")","v":80},{"$f":"IF(COUNTIF($CZ33:$DS33,CD$16),CD$16,\"\")","v":""},{"$f":"IF(COUNTIF($CZ33:$DS33,CE$16),CE$16,\"\")","v":""},{"$f":"IF(COUNTIF($CZ33:$DS33,CF$16),CF$16,\"\")","v":""},{"$f":"IF(COUNTIF($CZ33:$DS33,CG$16),CG$16,\"\")","v":84},{"$f":"IF(COUNTIF($CZ33:$DS33,CH$16),CH$16,\"\")","v":""},{"$f":"IF(COUNTIF($CZ33:$DS33,CI$16),CI$16,\"\")","v":""},{"$f":"IF(COUNTIF($CZ33:$DS33,CJ$16),CJ$16,\"\")","v":87},{"$f":"IF(COUNTIF($CZ33:$DS33,CK$16),CK$16,\"\")","v":88},{"$f":"IF(COUNTIF($CZ33:$DS33,CL$16),CL$16,\"\")","v":""},{"$f":"IF(COUNTIF($CZ33:$DS33,CM$16),CM$16,\"\")","v":""},{"$f":"IF(COUNTIF($CZ33:$DS33,CN$16),CN$16,\"\")","v":""},{"$f":"IF(COUNTIF($CZ33:$DS33,CO$16),CO$16,\"\")","v":""},{"$f":"IF(COUNTIF($CZ33:$DS33,CP$16),CP$16,\"\")","v":93},{"$f":"IF(COUNTIF($CZ33:$DS33,CQ$16),CQ$16,\"\")","v":""},{"$f":"IF(COUNTIF($CZ33:$DS33,CR$16),CR$16,\"\")","v":""},{"$f":"IF(COUNTIF($CZ33:$DS33,CS$16),CS$16,\"\")","v":""},{"$f":"IF(COUNTIF($CZ33:$DS33,CT$16),CT$16,\"\")","v":""},{"$f":"IF(COUNTIF($CZ33:$DS33,CU$16),CU$16,\"\")","v":""},{"$f":"IF(COUNTIF($CZ33:$DS33,CV$16),CV$16,\"\")","v":""},{"$f":"IF(COUNTIF($CZ33:$DS33,0),0,\"\")","v":""},17,1853,{"$f":"VLOOKUP($CY33,J!$A$2:$AW$4000,3,FALSE)","v":9},{"$f":"VLOOKUP($CY33,J!$A$2:$AW$4000,4,FALSE)","v":12},{"$f":"VLOOKUP($CY33,J!$A$2:$AW$4000,5,FALSE)","v":14},{"$f":"VLOOKUP($CY33,J!$A$2:$AW$4000,6,FALSE)","v":21},{"$f":"VLOOKUP($CY33,J!$A$2:$AW$4000,7,FALSE)","v":34},{"$f":"VLOOKUP($CY33,J!$A$2:$AW$4000,8,FALSE)","v":39},{"$f":"VLOOKUP($CY33,J!$A$2:$AW$4000,9,FALSE)","v":43},{"$f":"VLOOKUP($CY33,J!$A$2:$AW$4000,10,FALSE)","v":56},{"$f":"VLOOKUP($CY33,J!$A$2:$AW$4000,11,FALSE)","v":57},{"$f":"VLOOKUP($CY33,J!$A$2:$AW$4000,12,FALSE)","v":59},{"$f":"VLOOKUP($CY33,J!$A$2:$AW$4000,13,FALSE)","v":61},{"$f":"VLOOKUP($CY33,J!$A$2:$AW$4000,14,FALSE)","v":63},{"$f":"VLOOKUP($CY33,J!$A$2:$AW$4000,15,FALSE)","v":72},{"$f":"VLOOKUP($CY33,J!$A$2:$AW$4000,16,FALSE)","v":75},{"$f":"VLOOKUP($CY33,J!$A$2:$AW$4000,17,FALSE)","v":77},{"$f":"VLOOKUP($CY33,J!$A$2:$AW$4000,18,FALSE)","v":80},{"$f":"VLOOKUP($CY33,J!$A$2:$AW$4000,19,FALSE)","v":84},{"$f":"VLOOKUP($CY33,J!$A$2:$AW$4000,20,FALSE)","v":87},{"$f":"VLOOKUP($CY33,J!$A$2:$AW$4000,21,FALSE)","v":88},{"$f":"VLOOKUP($CY33,J!$A$2:$AW$4000,22,FALSE)","v":93}]
[null,{"$f":"IF(COUNTIF($CZ34:$DS34,B$16),B$16,\"\")","v":1},{"$f":"IF(COUNTIF($CZ34:$DS34,C$16),C$16,\"\")","v":""},{"$f":"IF(COUNTIF($CZ34:$DS34,D$16),D$16,\"\")","v":""},{"$f":"IF(COUNTIF($CZ34:$DS34,E$16),E$16,\"\")","v":""},{"$f":"IF(COUNTIF($CZ34:$DS34,F$16),F$16,\"\")","v":""},{"$f":"IF(COUNTIF($CZ34:$DS34,G$16),G$16,\"\")","v":6},{"$f":"IF(COUNTIF($CZ34:$DS34,H$16),H$16,\"\")","v":""},{"$f":"IF(COUNTIF($CZ34:$DS34,I$16),I$16,\"\")","v":8},{"$f":"IF(COUNTIF($CZ34:$DS34,J$16),J$16,\"\")","v":""},{"$f":"IF(COUNTIF($CZ34:$DS34,K$16),K$16,\"\")","v":10},{"$f":"IF(COUNTIF($CZ34:$DS34,L$16),L$16,\"\")","v":""},{"$f":"IF(COUNTIF($CZ34:$DS34,M$16),M$16,\"\")","v":""},{"$f":"IF(COUNTIF($CZ34:$DS34,N$16),N$16,\"\")","v":""},{"$f":"IF(COUNTIF($CZ34:$DS34,O$16),O$16,\"\")","v":""},{"$f":"IF(COUNTIF($CZ34:$DS34,P$16),P$16,\"\")","v":""},{"$f":"IF(COUNTIF($CZ34:$DS34,Q$16),Q$16,\"\")","v":""},{"$f":"IF(COUNTIF($CZ34:$DS34,R$16),R$16,\"\")","v":""},{"$f":"IF(COUNTIF($CZ34:$DS34,S$16),S$16,\"\")","v":""},{"$f":"IF(COUNTIF($CZ34:$DS34,T$16),T$16,\"\")","v":""},{"$f":"IF(COUNTIF($CZ34:$DS34,U$16),U$16,\"\")","v":""},{"$f":"IF(COUNTIF($CZ34:$DS34,V$16),V$16,\"\")","v":""},{"$f":"IF(COUNTIF($CZ34:$DS34,W$16),W$16,\"\")","v":""},{"$f":"IF(COUNTIF($CZ34:$DS34,X$16),X$16,\"\")","v":""},{"$f":"IF(COUNTIF($CZ34:$DS34,Y$16),Y$16,\"\")","v":""},{"$f":"IF(COUNTIF($CZ34:$DS34,Z$16),Z$16,\"\")","v":""},{"$f":"IF(COUNTIF($CZ34:$DS34,AA$16),AA$16,\"\")","v":26},{"$f":"IF(COUNTIF($CZ34:$DS34,AB$16),AB$16,\"\")","v":27},{"$f":"IF(COUNTIF($CZ34:$DS34,AC$16),AC$16,\"\")","v":""},{"$f":"IF(COUNTIF($CZ34:$DS34,AD$16),AD$16,\"\")","v":""},{"$f":"IF(COUNTIF($CZ34:$DS34,AE$16),AE$16,\"\")","v":""},{"$f":"IF(COUNTIF($CZ34:$DS34,AF$16),AF$16,\"\")","v":""},{"$f":"IF(COUNTIF($CZ34:$DS34,AG$16),AG$16,\"\")","v":""},{"$f":"IF(COUNTIF($CZ34:$DS34,AH$16),AH$16,\"\")","v":""},{"$f":"IF(COUNTIF($CZ34:$DS34,AI$16),AI$16,\"\")","v":""},{"$f":"IF(COUNTIF($CZ34:$DS34,AJ$16),AJ$16,\"\")","v":""},{"$f":"IF(COUNTIF($CZ34:$DS34,AK$16),AK$16,\"\")","v":36},{"$f":"IF(COUNTIF($CZ34:$DS34,AL$16),AL$16,\"\")","v":""},{"$f":"IF(COUNTIF($CZ34:$DS34,AM$16),AM$16,\"\")","v":""},{"$f":"IF(COUNTIF($CZ34:$DS34,AN$16),AN$16,\"\")","v":39},{"$f":"IF(COUNTIF($CZ34:$DS34,AO$16),AO$16,\"\")","v":""},{"$f":"IF(COUNTIF($CZ34:$DS34,AP$16),AP$16,\"\")","v":""},{"$f":"IF(COUNTIF($CZ34:$DS34,AQ$16),AQ$16,\"\")","v":""},{"$f":"IF(COUNTIF($CZ34:$DS34,AR$16),AR$16,\"\")","v":""},{"$f":"IF(COUNTIF($CZ34:$DS34,AS$16),AS$16,\"\")","v":44},{"$f":"IF(COUNTIF($CZ34:$DS34,AT$16),AT$16,\"\")","v":""},{"$f":"IF(COUNTIF($CZ34:$DS34,AU$16),AU$16,\"\")","v":""},{"$f":"IF(COUNTIF($CZ34:$DS34,AV$16),AV$16,\"\")","v":""},{"$f":"IF(COUNTIF($CZ34:$DS34,AW$16),AW$16,\"\")","v":""},{"$f":"IF(COUNTIF($CZ34:$DS34,AX$16),AX$16,\"\")","v":""},{"$f":"IF(COUNTIF($CZ34:$DS34,AY$16),AY$16,\"\")","v":""},{"$f":"IF(COUNTIF($CZ34:$DS34,AZ$16),AZ$16,\"\")","v":""},{"$f":"IF(COUNTIF($CZ34:$DS34,BA$16),BA$16,\"\")","v":""},{"$f":"IF(COUNTIF($CZ34:$DS34,BB$16),BB$16,\"\")","v":53},{"$f":"IF(COUNTIF($CZ34:$DS34,BC$16),BC$16,\"\")","v":""},{"$f":"IF(COUNTIF($CZ34:$DS34,BD$16),BD$16,\"\")","v":""},{"$f":"IF(COUNTIF($CZ34:$DS34,BE$16),BE$16,\"\")","v":""},{"$f":"IF(COUNTIF($CZ34:$DS34,BF$16),BF$16,\"\")","v":""},{"$f":"IF(COUNTIF($CZ34:$DS34,BG$16),BG$16,\"\")","v":""},{"$f":"IF(COUNTIF($CZ34:$DS34,BH$16),BH$16,\"\")","v":""},{"$f":"IF(COUNTIF($CZ34:$DS34,BI$16),BI$16,\"\")","v":""},{"$f":"IF(COUNTIF($CZ34:$DS34,BJ$16),BJ$16,\"\")","v":""},{"$f":"IF(COUNTIF($CZ34:$DS34,BK$16),BK$16,\"\")","v":62},{"$f":"IF(COUNTIF($CZ34:$DS34,BL$16),BL$16,\"\")","v":63},{"$f":"IF(COUNTIF($CZ34:$DS34,BM$16),BM$16,\"\")","v":""},{"$f":"IF(COUNTIF($CZ34:$DS34,BN$16),BN$16,\"\")","v":""},{"$f":"IF(COUNTIF($CZ34:$DS34,BO$16),BO$16,\"\")","v":""},{"$f":"IF(COUNTIF($CZ34:$DS34,BP$16),BP$16,\"\")","v":""},{"$f":"IF(COUNTIF($CZ34:$DS34,BQ$16),BQ$16,\"\")","v":68},{"$f":"IF(COUNTIF($CZ34:$DS34,BR$16),BR$16,\"\")","v":""},{"$f":"IF(COUNTIF($CZ34:$DS34,BS$16),BS$16,\"\")","v":""},{"$f":"IF(COUNTIF($CZ34:$DS34,BT$16),BT$16,\"\")","v":""},{"$f":"IF(COUNTIF($CZ34:$DS34,BU$16),BU$16,\"\")","v":""},{"$f":"IF(COUNTIF($CZ34:$DS34,BV$16),BV$16,\"\")","v":73},{"$f":"IF(COUNTIF($CZ34:$DS34,BW$16),BW$16,\"\")","v":""},{"$f":"IF(COUNTIF($CZ34:$DS34,BX$16),BX$16,\"\")","v":""},{"$f":"IF(COUNTIF($CZ34:$DS34,BY$16),BY$16,\"\")","v":76},{"$f":"IF(COUNTIF($CZ34:$DS34,BZ$16),BZ$16,\"\")","v":""},{"$f":"IF(COUNTIF($CZ34:$DS34,CA$16),CA$16,\"\")","v":78},{"$f":"IF(COUNTIF($CZ34:$DS34,CB$16),CB$16,\"\")","v":""},{"$f":"IF(COUNTIF($CZ34:$DS34,CC$16),CC$16,\"\")","v":""},{"$f":"IF(COUNTIF($CZ34:$DS34,CD$16),CD$16,\"\")","v":""},{"$f":"IF(COUNTIF($CZ34:$DS34,CE$16),CE$16,\"\")","v":""},{"$f":"IF(COUNTIF($CZ34:$DS34,CF$16),CF$16,\"\")","v":""},{"$f":"IF(COUNTIF($CZ34:$DS34,CG$16),CG$16,\"\")","v":84},{"$f":"IF(COUNTIF($CZ34:$DS34,CH$16),CH$16,\"\")","v":85},{"$f":"IF(COUNTIF($CZ34:$DS34,CI$16),CI$16,\"\")","v":""},{"$f":"IF(COUNTIF($CZ34:$DS34,CJ$16),CJ$16,\"\")","v":""},{"$f":"IF(COUNTIF($CZ34:$DS34,CK$16),CK$16,\"\")","v":""},{"$f":"IF(COUNTIF($CZ34:$DS34,CL$16),CL$16,\"\")","v":""},{"$f":"IF(COUNTIF($CZ34:$DS34,CM$16),CM$16,\"\")","v":""},{"$f":"IF(COUNTIF($CZ34:$DS34,CN$16),CN$16,\"\")","v":""},{"$f":"IF(COUNTIF($CZ34:$DS34,CO$16),CO$16,\"\")","v":""},{"$f":"IF(COUNTIF($CZ34:$DS34,CP$16),CP$16,\"\")","v":93},{"$f":"IF(COUNTIF($CZ34:$DS34,CQ$16),CQ$16,\"\")","v":""},{"$f":"IF(COUNTIF($CZ34:$DS34,CR$16),CR$16,\"\")","v":""},{"$f":"IF(COUNTIF($CZ34:$DS34,CS$16),CS$16,\"\")","v":""},{"$f":"IF(COUNTIF($CZ34:$DS34,CT$16),CT$16,\"\")","v":""},{"$f":"IF(COUNTIF($CZ34:$DS34,CU$16),CU$16,\"\")","v":98},{"$f":"IF(COUNTIF($CZ34:$DS34,CV$16),CV$16,\"\")","v":""},{"$f":"IF(COUNTIF($CZ34:$DS34,0),0,\"\")","v":""},18,1852,{"$f":"VLOOKUP($CY34,J!$A$2:$AW$4000,3,FALSE)","v":1},{"$f":"VLOOKUP($CY34,J!$A$2:$AW$4000,4,FALSE)","v":6},{"$f":"VLOOKUP($CY34,J!$A$2:$AW$4000,5,FALSE)","v":8},{"$f":"VLOOKUP($CY34,J!$A$2:$AW$4000,6,FALSE)","v":10},{"$f":"VLOOKUP($CY34,J!$A$2:$AW$4000,7,FALSE)","v":26},{"$f":"VLOOKUP($CY34,J!$A$2:$AW$4000,8,FALSE)","v":27},{"$f":"VLOOKUP($CY34,J!$A$2:$AW$4000,9,FALSE)","v":36},{"$f":"VLOOKUP($CY34,J!$A$2:$AW$4000,10,FALSE)","v":39},{"$f":"VLOOKUP($CY34,J!$A$2:$AW$4000,11,FALSE)","v":44},{"$f":"VLOOKUP($CY34,J!$A$2:$AW$4000,12,FALSE)","v":53},{"$f":"VLOOKUP($CY34,J!$A$2:$AW$4000,13,FALSE)","v":62},{"$f":"VLOOKUP($CY34,J!$A$2:$AW$4000,14,FALSE)","v":63},{"$f":"VLOOKUP($CY34,J!$A$2:$AW$4000,15,FALSE)","v":68},{"$f":"VLOOKUP($CY34,J!$A$2:$AW$4000,16,FALSE)","v":73},{"$f":"VLOOKUP($CY34,J!$A$2:$AW$4000,17,FALSE)","v":76},{"$f":"VLOOKUP($CY34,J!$A$2:$AW$4000,18,FALSE)","v":78},{"$f":"VLOOKUP($CY34,J!$A$2:$AW$4000,19,FALSE)","v":84},{"$f":"VLOOKUP($CY34,J!$A$2:$AW$4000,20,FALSE)","v":85},{"$f":"VLOOKUP($CY34,J!$A$2:$AW$4000,21,FALSE)","v":93},{"$f":"VLOOKUP($CY34,J!$A$2:$AW$4000,22,FALSE)","v":98}]
[null,{"$f":"IF(COUNTIF($CZ35:$DS35,B$16),B$16,\"\")","v":""},{"$f":"IF(COUNTIF($CZ35:$DS35,C$16),C$16,\"\")","v":""},{"$f":"IF(COUNTIF($CZ35:$DS35,D$16),D$16,\"\")","v":""},{"$f":"IF(COUNTIF($CZ35:$DS35,E$16),E$16,\"\")","v":""},{"$f":"IF(COUNTIF($CZ35:$DS35,F$16),F$16,\"\")","v":""},{"$f":"IF(COUNTIF($CZ35:$DS35,G$16),G$16,\"\")","v":""},{"$f":"IF(COUNTIF($CZ35:$DS35,H$16),H$16,\"\")","v":""},{"$f":"IF(COUNTIF($CZ35:$DS35,I$16),I$16,\"\")","v":""},{"$f":"IF(COUNTIF($CZ35:$DS35,J$16),J$16,\"\")","v":9},{"$f":"IF(COUNTIF($CZ35:$DS35,K$16),K$16,\"\")","v":""},{"$f":"IF(COUNTIF($CZ35:$DS35,L$16),L$16,\"\")","v":""},{"$f":"IF(COUNTIF($CZ35:$DS35,M$16),M$16,\"\")","v":""},{"$f":"IF(COUNTIF($CZ35:$DS35,N$16),N$16,\"\")","v":""},{"$f":"IF(COUNTIF($CZ35:$DS35,O$16),O$16,\"\")","v":""},{"$f":"IF(COUNTIF($CZ35:$DS35,P$16),P$16,\"\")","v":""},{"$f":"IF(COUNTIF($CZ35:$DS35,Q$16),Q$16,\"\")","v":""},{"$f":"IF(COUNTIF($CZ35:$DS35,R$16),R$16,\"\")","v":17},{"$f":"IF(COUNTIF($CZ35:$DS35,S$16),S$16,\"\")","v":""},{"$f":"IF(COUNTIF($CZ35:$DS35,T$16),T$16,\"\")","v":""},{"$f":"IF(COUNTIF($CZ35:$DS35,U$16),U$16,\"\")","v":""},{"$f":"IF(COUNTIF($CZ35:$DS35,V$16),V$16,\"\")","v":""},{"$f":"IF(COUNTIF($CZ35:$DS35,W$16),W$16,\"\")","v":""},{"$f":"IF(COUNTIF($CZ35:$DS35,X$16),X$16,\"\")","v":""},{"$f":"IF(COUNTIF($CZ35:$DS35,Y$16),Y$16,\"\")","v":""},{"$f":"IF(COUNTIF($CZ35:$DS35,Z$16),Z$16,\"\")","v":""},{"$f":"IF(COUNTIF($CZ35:$DS35,AA$16),AA$16,\"\")","v":26},{"$f":"IF(COUNTIF($CZ35:$DS35,AB$16),AB$16,\"\")","v":""},{"$f":"IF(COUNTIF($CZ35:$DS35,AC$16),AC$16,\"\")","v":""},{"$f":"IF(COUNTIF($CZ35:$DS35,AD$16),AD$16,\"\")","v":""},{"$f":"IF(COUNTIF($CZ35:$DS35,AE$16),AE$16,\"\")","v":""},{"$f":"IF(COUNTIF($CZ35:$DS35,AF$16),AF$16,\"\")","v":31},{"$f":"IF(COUNTIF($CZ35:$DS35,AG$16),AG$16,\"\")","v":32},{"$f":"IF(COUNTIF($CZ35:$DS35,AH$16),AH$16,\"\")","v":""},{"$f":"IF(COUNTIF($CZ35:$DS35,AI$16),AI$16,\"\")","v":""},{"$f":"IF(COUNTIF($CZ35:$DS35,AJ$16),AJ$16,\"\")","v":""},{"$f":"IF(COUNTIF($CZ35:$DS35,AK$16),AK$16,\"\")","v":""},{"$f":"IF(COUNTIF($CZ35:$DS35,AL$16),AL$16,\"\")","v":37},{"$f":"IF(COUNTIF($CZ35:$DS35,AM$16),AM$16,\"\")","v":38},{"$f":"IF(COUNTIF($CZ35:$DS35,AN$16),AN$16,\"\")","v":""},{"$f":"IF(COUNTIF($CZ35:$DS35,AO$16),AO$16,\"\")","v":40},{"$f":"IF(COUNTIF($CZ35:$DS35,AP$16),AP$16,\"\")","v":""},{"$f":"IF(COUNTIF($CZ35:$DS35,AQ$16),AQ$16,\"\")","v":""},{"$f":"IF(COUNTIF($CZ35:$DS35,AR$16),AR$16,\"\")","v":43},{"$f":"IF(COUNTIF($CZ35:$DS35,AS$16),AS$16,\"\")","v":44},{"$f":"IF(COUNTIF($CZ35:$DS35,AT$16),AT$16,\"\")","v":""},{"$f":"IF(COUNTIF($CZ35:$DS35,AU$16),AU$16,\"\")","v":""},{"$f":"IF(COUNTIF($CZ35:$DS35,AV$16),AV$16,\"\")","v":""},{"$f":"IF(COUNTIF($CZ35:$DS35,AW$16),AW$16,\"\")","v":48},{"$f":"IF(COUNTIF($CZ35:$DS35,AX$16),AX$16,\"\")","v":""},{"$f":"IF(COUNTIF($CZ35:$DS35,AY$16),AY$16,\"\")","v":50},{"$f":"IF(COUNTIF($CZ35:$DS35,AZ$16),AZ$16,\"\")","v":""},{"$f":"IF(COUNTIF($CZ35:$DS35,BA$16),BA$16,\"\")","v":""},{"$f":"IF(COUNTIF($CZ35:$DS35,BB$16),BB$16,\"\")","v":""},{"$f":"IF(COUNTIF($CZ35:$DS35,BC$16),BC$16,\"\")","v":""},{"$f":"IF(COUNTIF($CZ35:$DS35,BD$16),BD$16,\"\")","v":""},{"$f":"IF(COUNTIF($CZ35:$DS35,BE$16),BE$16,\"\")","v":""},{"$f":"IF(COUNTIF($CZ35:$DS35,BF$16),BF$16,\"\")","v":""},{"$f":"IF(COUNTIF($CZ35:$DS35,BG$16),BG$16,\"\")","v":""},{"$f":"IF(COUNTIF($CZ35:$DS35,BH$16),BH$16,\"\")","v":""},{"$f":"IF(COUNTIF($CZ35:$DS35,BI$16),BI$16,\"\")","v":60},{"$f":"IF(COUNTIF($CZ35:$DS35,BJ$16),BJ$16,\"\")","v":""},{"$f":"IF(COUNTIF($CZ35:$DS35,BK$16),BK$16,\"\")","v":""},{"$f":"IF(COUNTIF($CZ35:$DS35,BL$16),BL$16,\"\")","v":63},{"$f":"IF(COUNTIF($CZ35:$DS35,BM$16),BM$16,\"\")","v":""},{"$f":"IF(COUNTIF($CZ35:$DS35,BN$16),BN$16,\"\")","v":""},{"$f":"IF(COUNTIF($CZ35:$DS35,BO$16),BO$16,\"\")","v":""},{"$f":"IF(COUNTIF($CZ35:$DS35,BP$16),BP$16,\"\")","v":""},{"$f":"IF(COUNTIF($CZ35:$DS35,BQ$16),BQ$16,\"\")","v":""},{"$f":"IF(COUNTIF($CZ35:$DS35,BR$16),BR$16,\"\")","v":""},{"$f":"IF(COUNTIF($CZ35:$DS35,BS$16),BS$16,\"\")","v":""},{"$f":"IF(COUNTIF($CZ35:$DS35,BT$16),BT$16,\"\")","v":""},{"$f":"IF(COUNTIF($CZ35:$DS35,BU$16),BU$16,\"\")","v":""},{"$f":"IF(COUNTIF($CZ35:$DS35,BV$16),BV$16,\"\")","v":""},{"$f":"IF(COUNTIF($CZ35:$DS35,BW$16),BW$16,\"\")","v":""},{"$f":"IF(COUNTIF($CZ35:$DS35,BX$16),BX$16,\"\")","v":""},{"$f":"IF(COUNTIF($CZ35:$DS35,BY$16),BY$16,\"\")","v":""},{"$f":"IF(COUNTIF($CZ35:$DS35,BZ$16),BZ$16,\"\")","v":""},{"$f":"IF(COUNTIF($CZ35:$DS35,CA$16),CA$16,\"\")","v":""},{"$f":"IF(COUNTIF($CZ35:$DS35,CB$16),CB$16,\"\")","v":""},{"$f":"IF(COUNTIF($CZ35:$DS35,CC$16),CC$16,\"\")","v":80},{"$f":"IF(COUNTIF($CZ35:$DS35,CD$16),CD$16,\"\")","v":""},{"$f":"IF(COUNTIF($CZ35:$DS35,CE$16),CE$16,\"\")","v":82},{"$f":"IF(COUNTIF($CZ35:$DS35,CF$16),CF$16,\"\")","v":83},{"$f":"IF(COUNTIF($CZ35:$DS35,CG$16),CG$16,\"\")","v":""},{"$f":"IF(COUNTIF($CZ35:$DS35,CH$16),CH$16,\"\")","v":85},{"$f":"IF(COUNTIF($CZ35:$DS35,CI$16),CI$16,\"\")","v":""},{"$f":"IF(COUNTIF($CZ35:$DS35,CJ$16),CJ$16,\"\")","v":""},{"$f":"IF(COUNTIF($CZ35:$DS35,CK$16),CK$16,\"\")","v":88},{"$f":"IF(COUNTIF($CZ35:$DS35,CL$16),CL$16,\"\")","v":""},{"$f":"IF(COUNTIF($CZ35:$DS35,CM$16),CM$16,\"\")","v":""},{"$f":"IF(COUNTIF($CZ35:$DS35,CN$16),CN$16,\"\")","v":""},{"$f":"IF(COUNTIF($CZ35:$DS35,CO$16),CO$16,\"\")","v":""},{"$f":"IF(COUNTIF($CZ35:$DS35,CP$16),CP$16,\"\")","v":""},{"$f":"IF(COUNTIF($CZ35:$DS35,CQ$16),CQ$16,\"\")","v":""},{"$f":"IF(COUNTIF($CZ35:$DS35,CR$16),CR$16,\"\")","v":95},{"$f":"IF(COUNTIF($CZ35:$DS35,CS$16),CS$16,\"\")","v":""},{"$f":"IF(COUNTIF($CZ35:$DS35,CT$16),CT$16,\"\")","v":""},{"$f":"IF(COUNTIF($CZ35:$DS35,CU$16),CU$16,\"\")","v":""},{"$f":"IF(COUNTIF($CZ35:$DS35,CV$16),CV$16,\"\")","v":""},{"$f":"IF(COUNTIF($CZ35:$DS35,0),0,\"\")","v":""},19,1851,{"$f":"VLOOKUP($CY35,J!$A$2:$AW$4000,3,FALSE)","v":9},{"$f":"VLOOKUP($CY35,J!$A$2:$AW$4000,4,FALSE)","v":17},{"$f":"VLOOKUP($CY35,J!$A$2:$AW$4000,5,FALSE)","v":26},{"$f":"VLOOKUP($CY35,J!$A$2:$AW$4000,6,FALSE)","v":31},{"$f":"VLOOKUP($CY35,J!$A$2:$AW$4000,7,FALSE)","v":32},{"$f":"VLOOKUP($CY35,J!$A$2:$AW$4000,8,FALSE)","v":37},{"$f":"VLOOKUP($CY35,J!$A$2:$AW$4000,9,FALSE)","v":38},{"$f":"VLOOKUP($CY35,J!$A$2:$AW$4000,10,FALSE)","v":40},{"$f":"VLOOKUP($CY35,J!$A$2:$AW$4000,11,FALSE)","v":43},{"$f":"VLOOKUP($CY35,J!$A$2:$AW$4000,12,FALSE)","v":44},{"$f":"VLOOKUP($CY35,J!$A$2:$AW$4000,13,FALSE)","v":48},{"$f":"VLOOKUP($CY35,J!$A$2:$AW$4000,14,FALSE)","v":50},{"$f":"VLOOKUP($CY35,J!$A$2:$AW$4000,15,FALSE)","v":60},{"$f":"VLOOKUP($CY35,J!$A$2:$AW$4000,16,FALSE)","v":63},{"$f":"VLOOKUP($CY35,J!$A$2:$AW$4000,17,FALSE)","v":80},{"$f":"VLOOKUP($CY35,J!$A$2:$AW$4000,18,FALSE)","v":82},{"$f":"VLOOKUP($CY35,J!$A$2:$AW$4000,19,FALSE)","v":83},{"$f":"VLOOKUP($CY35,J!$A$2:$AW$4000,20,FALSE)","v":85},{"$f":"VLOOKUP($CY35,J!$A$2:$AW$4000,21,FALSE)","v":88},{"$f":"VLOOKUP($CY35,J!$A$2:$AW$4000,22,FALSE)","v":95}]
[null,{"$f":"IF(COUNTIF($CZ36:$DS36,B$16),B$16,\"\")","v":""},{"$f":"IF(COUNTIF($CZ36:$DS36,C$16),C$16,\"\")","v":""},{"$f":"IF(COUNTIF($CZ36:$DS36,D$16),D$16,\"\")","v":""},{"$f":"IF(COUNTIF($CZ36:$DS36,E$16),E$16,\"\")","v":""},{"$f":"IF(COUNTIF($CZ36:$DS36,F$16),F$16,\"\")","v":""},{"$f":"IF(COUNTIF($CZ36:$DS36,G$16),G$16,\"\")","v":""},{"$f":"IF(COUNTIF($CZ36:$DS36,H$16),H$16,\"\")","v":""},{"$f":"IF(COUNTIF($CZ36:$DS36,I$16),I$16,\"\")","v":""},{"$f":"IF(COUNTIF($CZ36:$DS36,J$16),J$16,\"\")","v":9},{"$f":"IF(COUNTIF($CZ36:$DS36,K$16),K$16,\"\")","v":""},{"$f":"IF(COUNTIF($CZ36:$DS36,L$16),L$16,\"\")","v":""},{"$f":"IF(COUNTIF($CZ36:$DS36,M$16),M$16,\"\")","v":""},{"$f":"IF(COUNTIF($CZ36:$DS36,N$16),N$16,\"\")","v":""},{"$f":"IF(COUNTIF($CZ36:$DS36,O$16),O$16,\"\")","v":14},{"$f":"IF(COUNTIF($CZ36:$DS36,P$16),P$16,\"\")","v":""},{"$f":"IF(COUNTIF($CZ36:$DS36,Q$16),Q$16,\"\")","v":""},{"$f":"IF(COUNTIF($CZ36:$DS36,R$16),R$16,\"\")","v":""},{"$f":"IF(COUNTIF($CZ36:$DS36,S$16),S$16,\"\")","v":""},{"$f":"IF(COUNTIF($CZ36:$DS36,T$16),T$16,\"\")","v":""},{"$f":"IF(COUNTIF($CZ36:$DS36,U$16),U$16,\"\")","v":20},{"$f":"IF(COUNTIF($CZ36:$DS36,V$16),V$16,\"\")","v":""},{"$f":"IF(COUNTIF($CZ36:$DS36,W$16),W$16,\"\")","v":""},{"$f":"IF(COUNTIF($CZ36:$DS36,X$16),X$16,\"\")","v":""},{"$f":"IF(COUNTIF($CZ36:$DS36,Y$16),Y$16,\"\")","v":""},{"$f":"IF(COUNTIF($CZ36:$DS36,Z$16),Z$16,\"\")","v":""},{"$f":"IF(COUNTIF($CZ36:$DS36,AA$16),AA$16,\"\")","v":""},{"$f":"IF(COUNTIF($CZ36:$DS36,AB$16),AB$16,\"\")","v":27},{"$f":"IF(COUNTIF($CZ36:$DS36,AC$16),AC$16,\"\")","v":""},{"$f":"IF(COUNTIF($CZ36:$DS36,AD$16),AD$16,\"\")","v":""},{"$f":"IF(COUNTIF($CZ36:$DS36,AE$16),AE$16,\"\")","v":""},{"$f":"IF(COUNTIF($CZ36:$DS36,AF$16),AF$16,\"\")","v":""},{"$f":"IF(COUNTIF($CZ36:$DS36,AG$16),AG$16,\"\")","v":""},{"$f":"IF(COUNTIF($CZ36:$DS36,AH$16),AH$16,\"\")","v":""},{"$f":"IF(COUNTIF($CZ36:$DS36,AI$16),AI$16,\"\")","v":""},{"$f":"IF(COUNTIF($CZ36:$DS36,AJ$16),AJ$16,\"\")","v":""},{"$f":"IF(COUNTIF($CZ36:$DS36,AK$16),AK$16,\"\")","v":""},{"$f":"IF(COUNTIF($CZ36:$DS36,AL$16),AL$16,\"\")","v":37},{"$f":"IF(COUNTIF($CZ36:$DS36,AM$16),AM$16,\"\")","v":38},{"$f":"IF(COUNTIF($CZ36:$DS36,AN$16),AN$16,\"\")","v":""},{"$f":"IF(COUNTIF($CZ36:$DS36,AO$16),AO$16,\"\")","v":""},{"$f":"IF(COUNTIF($CZ36:$DS36,AP$16),AP$16,\"\")","v":41},{"$f":"IF(COUNTIF($CZ36:$DS36,AQ$16),AQ$16,\"\")","v":""},{"$f":"IF(COUNTIF($CZ36:$DS36,AR$16),AR$16,\"\")","v":""},{"$f":"IF(COUNTIF($CZ36:$DS36,AS$16),AS$16,\"\")","v":""},{"$f":"IF(COUNTIF($CZ36:$DS36,AT$16),AT$16,\"\")","v":""},{"$f":"IF(COUNTIF($CZ36:$DS36,AU$16),AU$16,\"\")","v":46},{"$f":"IF(COUNTIF($CZ36:$DS36,AV$16),AV$16,\"\")","v":""},{"$f":"IF(COUNTIF($CZ36:$DS36,AW$16),AW$16,\"\")","v":""},{"$f":"IF(COUNTIF($CZ36:$DS36,AX$16),AX$16,\"\")","v":""},{"$f":"IF(COUNTIF($CZ36:$DS36,AY$16),AY$16,\"\")","v":50},{"$f":"IF(COUNTIF($CZ36:$DS36,AZ$16),AZ$16,\"\")","v":""},{"$f":"IF(COUNTIF($CZ36:$DS36,BA$16),BA$16,\"\")","v":""},{"$f":"IF(COUNTIF($CZ36:$DS36,BB$16),BB$16,\"\")","v":""},{"$f":"IF(COUNTIF($CZ36:$DS36,BC$16),BC$16,\"\")","v":""},{"$f":"IF(COUNTIF($CZ36:$DS36,BD$16),BD$16,\"\")","v":""},{"$f":"IF(COUNTIF($CZ36:$DS36,BE$16),BE$16,\"\")","v":""},{"$f":"IF(COUNTIF($CZ36:$DS36,BF$16),BF$16,\"\")","v":""},{"$f":"IF(COUNTIF($CZ36:$DS36,BG$16),BG$16,\"\")","v":""},{"$f":"IF(COUNTIF($CZ36:$DS36,BH$16),BH$16,\"\")","v":""},{"$f":"IF(COUNTIF($CZ36:$DS36,BI$16),BI$16,\"\")","v":""},{"$f":"IF(COUNTIF($CZ36:$DS36,BJ$16),BJ$16,\"\")","v":""},{"$f":"IF(COUNTIF($CZ36:$DS36,BK$16),BK$16,\"\")","v":""},{"$f":"IF(COUNTIF($CZ36:$DS36,BL$16),BL$16,\"\")","v":""},{"$f":"IF(COUNTIF($CZ36:$DS36,BM$16),BM$16,\"\")","v":64},{"$f":"IF(COUNTIF($CZ36:$DS36,BN$16),BN$16,\"\")","v":""},{"$f":"IF(COUNTIF($CZ36:$DS36,BO$16),BO$16,\"\")","v":""},{"$f":"IF(COUNTIF($CZ36:$DS36,BP$16),BP$16,\"\")","v":""},{"$f":"IF(COUNTIF($CZ36:$DS36,BQ$16),BQ$16,\"\")","v":""},{"$f":"IF(COUNTIF($CZ36:$DS36,BR$16),BR$16,\"\")","v":""},{"$f":"IF(COUNTIF($CZ36:$DS36,BS$16),BS$16,\"\")","v":70},{"$f":"IF(COUNTIF($CZ36:$DS36,BT$16),BT$16,\"\")","v":71},{"$f":"IF(COUNTIF($CZ36:$DS36,BU$16),BU$16,\"\")","v":72},{"$f":"IF(COUNTIF($CZ36:$DS36,BV$16),BV$16,\"\")","v":73},{"$f":"IF(COUNTIF($CZ36:$DS36,BW$16),BW$16,\"\")","v":""},{"$f":"IF(COUNTIF($CZ36:$DS36,BX$16),BX$16,\"\")","v":75},{"$f":"IF(COUNTIF($CZ36:$DS36,BY$16),BY$16,\"\")","v":76},{"$f":"IF(COUNTIF($CZ36:$DS36,BZ$16),BZ$16,\"\")","v":""},{"$f":"IF(COUNTIF($CZ36:$DS36,CA$16),CA$16,\"\")","v":""},{"$f":"IF(COUNTIF($CZ36:$DS36,CB$16),CB$16,\"\")","v":""},{"$f":"IF(COUNTIF($CZ36:$DS36,CC$16),CC$16,\"\")","v":""},{"$f":"IF(COUNTIF($CZ36:$DS36,CD$16),CD$16,\"\")","v":""},{"$f":"IF(COUNTIF($CZ36:$DS36,CE$16),CE$16,\"\")","v":82},{"$f":"IF(COUNTIF($CZ36:$DS36,CF$16),CF$16,\"\")","v":83},{"$f":"IF(COUNTIF($CZ36:$DS36,CG$16),CG$16,\"\")","v":""},{"$f":"IF(COUNTIF($CZ36:$DS36,CH$16),CH$16,\"\")","v":""},{"$f":"IF(COUNTIF($CZ36:$DS36,CI$16),CI$16,\"\")","v":""},{"$f":"IF(COUNTIF($CZ36:$DS36,CJ$16),CJ$16,\"\")","v":""},{"$f":"IF(COUNTIF($CZ36:$DS36,CK$16),CK$16,\"\")","v":""},{"$f":"IF(COUNTIF($CZ36:$DS36,CL$16),CL$16,\"\")","v":""},{"$f":"IF(COUNTIF($CZ36:$DS36,CM$16),CM$16,\"\")","v":""},{"$f":"IF(COUNTIF($CZ36:$DS36,CN$16),CN$16,\"\")","v":""},{"$f":"IF(COUNTIF($CZ36:$DS36,CO$16),CO$16,\"\")","v":92},{"$f":"IF(COUNTIF($CZ36:$DS36,CP$16),CP$16,\"\")","v":""},{"$f":"IF(COUNTIF($CZ36:$DS36,CQ$16),CQ$16,\"\")","v":""},{"$f":"IF(COUNTIF($CZ36:$DS36,CR$16),CR$16,\"\")","v":""},{"$f":"IF(COUNTIF($CZ36:$DS36,CS$16),CS$16,\"\")","v":""},{"$f":"IF(COUNTIF($CZ36:$DS36,CT$16),CT$16,\"\")","v":""},{"$f":"IF(COUNTIF($CZ36:$DS36,CU$16),CU$16,\"\")","v":""},{"$f":"IF(COUNTIF($CZ36:$DS36,CV$16),CV$16,\"\")","v":99},{"$f":"IF(COUNTIF($CZ36:$DS36,0),0,\"\")","v":""},20,1850,{"$f":"VLOOKUP($CY36,J!$A$2:$AW$4000,3,FALSE)","v":9},{"$f":"VLOOKUP($CY36,J!$A$2:$AW$4000,4,FALSE)","v":14},{"$f":"VLOOKUP($CY36,J!$A$2:$AW$4000,5,FALSE)","v":20},{"$f":"VLOOKUP($CY36,J!$A$2:$AW$4000,6,FALSE)","v":27},{"$f":"VLOOKUP($CY36,J!$A$2:$AW$4000,7,FALSE)","v":37},{"$f":"VLOOKUP($CY36,J!$A$2:$AW$4000,8,FALSE)","v":38},{"$f":"VLOOKUP($CY36,J!$A$2:$AW$4000,9,FALSE)","v":41},{"$f":"VLOOKUP($CY36,J!$A$2:$AW$4000,10,FALSE)","v":46},{"$f":"VLOOKUP($CY36,J!$A$2:$AW$4000,11,FALSE)","v":50},{"$f":"VLOOKUP($CY36,J!$A$2:$AW$4000,12,FALSE)","v":64},{"$f":"VLOOKUP($CY36,J!$A$2:$AW$4000,13,FALSE)","v":70},{"$f":"VLOOKUP($CY36,J!$A$2:$AW$4000,14,FALSE)","v":71},{"$f":"VLOOKUP($CY36,J!$A$2:$AW$4000,15,FALSE)","v":72},{"$f":"VLOOKUP($CY36,J!$A$2:$AW$4000,16,FALSE)","v":73},{"$f":"VLOOKUP($CY36,J!$A$2:$AW$4000,17,FALSE)","v":75},{"$f":"VLOOKUP($CY36,J!$A$2:$AW$4000,18,FALSE)","v":76},{"$f":"VLOOKUP($CY36,J!$A$2:$AW$4000,19,FALSE)","v":82},{"$f":"VLOOKUP($CY36,J!$A$2:$AW$4000,20,FALSE)","v":83},{"$f":"VLOOKUP($CY36,J!$A$2:$AW$4000,21,FALSE)","v":92},{"$f":"VLOOKUP($CY36,J!$A$2:$AW$4000,22,FALSE)","v":99}]
[null,{"$f":"IF(COUNTIF($CZ37:$DS37,B$16),B$16,\"\")","v":""},{"$f":"IF(COUNTIF($CZ37:$DS37,C$16),C$16,\"\")","v":""},{"$f":"IF(COUNTIF($CZ37:$DS37,D$16),D$16,\"\")","v":""},{"$f":"IF(COUNTIF($CZ37:$DS37,E$16),E$16,\"\")","v":""},{"$f":"IF(COUNTIF($CZ37:$DS37,F$16),F$16,\"\")","v":""},{"$f":"IF(COUNTIF($CZ37:$DS37,G$16),G$16,\"\")","v":""},{"$f":"IF(COUNTIF($CZ37:$DS37,H$16),H$16,\"\")","v":""},{"$f":"IF(COUNTIF($CZ37:$DS37,I$16),I$16,\"\")","v":""},{"$f":"IF(COUNTIF($CZ37:$DS37,J$16),J$16,\"\")","v":""},{"$f":"IF(COUNTIF($CZ37:$DS37,K$16),K$16,\"\")","v":""},{"$f":"IF(COUNTIF($CZ37:$DS37,L$16),L$16,\"\")","v":""},{"$f":"IF(COUNTIF($CZ37:$DS37,M$16),M$16,\"\")","v":""},{"$f":"IF(COUNTIF($CZ37:$DS37,N$16),N$16,\"\")","v":""},{"$f":"IF(COUNTIF($CZ37:$DS37,O$16),O$16,\"\")","v":14},{"$f":"IF(COUNTIF($CZ37:$DS37,P$16),P$16,\"\")","v":15},{"$f":"IF(COUNTIF($CZ37:$DS37,Q$16),Q$16,\"\")","v":""},{"$f":"IF(COUNTIF($CZ37:$DS37,R$16),R$16,\"\")","v":""},{"$f":"IF(COUNTIF($CZ37:$DS37,S$16),S$16,\"\")","v":""},{"$f":"IF(COUNTIF($CZ37:$DS37,T$16),T$16,\"\")","v":""},{"$f":"IF(COUNTIF($CZ37:$DS37,U$16),U$16,\"\")","v":""},{"$f":"IF(COUNTIF($CZ37:$DS37,V$16),V$16,\"\")","v":""},{"$f":"IF(COUNTIF($CZ37:$DS37,W$16),W$16,\"\")","v":""},{"$f":"IF(COUNTIF($CZ37:$DS37,X$16),X$16,\"\")","v":23},{"$f":"IF(COUNTIF($CZ37:$DS37,Y$16),Y$16,\"\")","v":""},{"$f":"IF(COUNTIF($CZ37:$DS37,Z$16),Z$16,\"\")","v":""},{"$f":"IF(COUNTIF($CZ37:$DS37,AA$16),AA$16,\"\")","v":""},{"$f":"IF(COUNTIF($CZ37:$DS37,AB$16),AB$16,\"\")","v":""},{"$f":"IF(COUNTIF($CZ37:$DS37,AC$16),AC$16,\"\")","v":""},{"$f":"IF(COUNTIF($CZ37:$DS37,AD$16),AD$16,\"\")","v":29},{"$f":"IF(COUNTIF($CZ37:$DS37,AE$16),AE$16,\"\")","v":""},{"$f":"IF(COUNTIF($CZ37:$DS37,AF$16),AF$16,\"\")","v":""},{"$f":"IF(COUNTIF($CZ37:$DS37,AG$16),AG$16,\"\")","v":""},{"$f":"IF(COUNTIF($CZ37:$DS37,AH$16),AH$16,\"\")","v":""},{"$f":"IF(COUNTIF($CZ37:$DS37,AI$16),AI$16,\"\")","v":""},{"$f":"IF(COUNTIF($CZ37:$DS37,AJ$16),AJ$16,\"\")","v":""},{"$f":"IF(COUNTIF($CZ37:$DS37,AK$16),AK$16,\"\")","v":""},{"$f":"IF(COUNTIF($CZ37:$DS37,AL$16),AL$16,\"\")","v":""},{"$f":"IF(COUNTIF($CZ37:$DS37,AM$16),AM$16,\"\")","v":""},{"$f":"IF(COUNTIF($CZ37:$DS37,AN$16),AN$16,\"\")","v":""},{"$f":"IF(COUNTIF($CZ37:$DS37,AO$16),AO$16,\"\")","v":""},{"$f":"IF(COUNTIF($CZ37:$DS37,AP$16),AP$16,\"\")","v":""},{"$f":"IF(COUNTIF($CZ37:$DS37,AQ$16),AQ$16,\"\")","v":""},{"$f":"IF(COUNTIF($CZ37:$DS37,AR$16),AR$16,\"\")","v":""},{"$f":"IF(COUNTIF($CZ37:$DS37,AS$16),AS$16,\"\")","v":""},{"$f":"IF(COUNTIF($CZ37:$DS37,AT$16),AT$16,\"\")","v":""},{"$f":"IF(COUNTIF($CZ37:$DS37,AU$16),AU$16,\"\")","v":""},{"$f":"IF(COUNTIF($CZ37:$DS37,AV$16),AV$16,\"\")","v":""},{"$f":"IF(COUNTIF($CZ37:$DS37,AW$16),AW$16,\"\")","v":48},{"$f":"IF(COUNTIF($CZ37:$DS37,AX$16),AX$16,\"\")","v":""},{"$f":"IF(COUNTIF($CZ37:$DS37,AY$16),AY$16,\"\")","v":""},{"$f":"IF(COUNTIF($CZ37:$DS37,AZ$16),AZ$16,\"\")","v":""},{"$f":"IF(COUNTIF($CZ37:$DS37,BA$16),BA$16,\"\")","v":""},{"$f":"IF(COUNTIF($CZ37:$DS37,BB$16),BB$16,\"\")","v":53},{"$f":"IF(COUNTIF($CZ37:$DS37,BC$16),BC$16,\"\")","v":""},{"$f":"IF(COUNTIF($CZ37:$DS37,BD$16),BD$16,\"\")","v":""},{"$f":"IF(COUNTIF($CZ37:$DS37,BE$16),BE$16,\"\")","v":""},{"$f":"IF(COUNTIF($CZ37:$DS37,BF$16),BF$16,\"\")","v":""},{"$f":"IF(COUNTIF($CZ37:$DS37,BG$16),BG$16,\"\")","v":58},{"$f":"IF(COUNTIF($CZ37:$DS37,BH$16),BH$16,\"\")","v":59},{"$f":"IF(COUNTIF($CZ37:$DS37,BI$16),BI$16,\"\")","v":""},{"$f":"IF(COUNTIF($CZ37:$DS37,BJ$16),BJ$16,\"\")","v":61},{"$f":"IF(COUNTIF($CZ37:$DS37,BK$16),BK$16,\"\")","v":""},{"$f":"IF(COUNTIF($CZ37:$DS37,BL$16),BL$16,\"\")","v":""},{"$f":"IF(COUNTIF($CZ37:$DS37,BM$16),BM$16,\"\")","v":""},{"$f":"IF(COUNTIF($CZ37:$DS37,BN$16),BN$16,\"\")","v":""},{"$f":"IF(COUNTIF($CZ37:$DS37,BO$16),BO$16,\"\")","v":""},{"$f":"IF(COUNTIF($CZ37:$DS37,BP$16),BP$16,\"\")","v":""},{"$f":"IF(COUNTIF($CZ37:$DS37,BQ$16),BQ$16,\"\")","v":68},{"$f":"IF(COUNTIF($CZ37:$DS37,BR$16),BR$16,\"\")","v":69},{"$f":"IF(COUNTIF($CZ37:$DS37,BS$16),BS$16,\"\")","v":""},{"$f":"IF(COUNTIF($CZ37:$DS37,BT$16),BT$16,\"\")","v":71},{"$f":"IF(COUNTIF($CZ37:$DS37,BU$16),BU$16,\"\")","v":72},{"$f":"IF(COUNTIF($CZ37:$DS37,BV$16),BV$16,\"\")","v":""},{"$f":"IF(COUNTIF($CZ37:$DS37,BW$16),BW$16,\"\")","v":74},{"$f":"IF(COUNTIF($CZ37:$DS37,BX$16),BX$16,\"\")","v":""},{"$f":"IF(COUNTIF($CZ37:$DS37,BY$16),BY$16,\"\")","v":""},{"$f":"IF(COUNTIF($CZ37:$DS37,BZ$16),BZ$16,\"\")","v":77},{"$f":"IF(COUNTIF($CZ37:$DS37,CA$16),CA$16,\"\")","v":""},{"$f":"IF(COUNTIF($CZ37:$DS37,CB$16),CB$16,\"\")","v":79},{"$f":"IF(COUNTIF($CZ37:$DS37,CC$16),CC$16,\"\")","v":80},{"$f":"IF(COUNTIF($CZ37:$DS37,CD$16),CD$16,\"\")","v":""},{"$f":"IF(COUNTIF($CZ37:$DS37,CE$16),CE$16,\"\")","v":""},{"$f":"IF(COUNTIF($CZ37:$DS37,CF$16),CF$16,\"\")","v":""},{"$f":"IF(COUNTIF($CZ37:$DS37,CG$16),CG$16,\"\")","v":""},{"$f":"IF(COUNTIF($CZ37:$DS37,CH$16),CH$16,\"\")","v":""},{"$f":"IF(COUNTIF($CZ37:$DS37,CI$16),CI$16,\"\")","v":""},{"$f":"IF(COUNTIF($CZ37:$DS37,CJ$16),CJ$16,\"\")","v":""},{"$f":"IF(COUNTIF($CZ37:$DS37,CK$16),CK$16,\"\")","v":""},{"$f":"IF(COUNTIF($CZ37:$DS37,CL$16),CL$16,\"\")","v":""},{"$f":"IF(COUNTIF($CZ37:$DS37,CM$16),CM$16,\"\")","v":""},{"$f":"IF(COUNTIF($CZ37:$DS37,CN$16),CN$16,\"\")","v":""},{"$f":"IF(COUNTIF($CZ37:$DS37,CO$16),CO$16,\"\")","v":""},{"$f":"IF(COUNTIF($CZ37:$DS37,CP$16),CP$16,\"\")","v":""},{"$f":"IF(COUNTIF($CZ37:$DS37,CQ$16),CQ$16,\"\")","v":94},{"$f":"IF(COUNTIF($CZ37:$DS37,CR$16),CR$16,\"\")","v":95},{"$f":"IF(COUNTIF($CZ37:$DS37,CS$16),CS$16,\"\")","v":""},{"$f":"IF(COUNTIF($CZ37:$DS37,CT$16),CT$16,\"\")","v":97},{"$f":"IF(COUNTIF($CZ37:$DS37,CU$16),CU$16,\"\")","v":""},{"$f":"IF(COUNTIF($CZ37:$DS37,CV$16),CV$16,\"\")","v":""},{"$f":"IF(COUNTIF($CZ37:$DS37,0),0,\"\")","v":""},21,1849,{"$f":"VLOOKUP($CY37,J!$A$2:$AW$4000,3,FALSE)","v":14},{"$f":"VLOOKUP($CY37,J!$A$2:$AW$4000,4,FALSE)","v":15},{"$f":"VLOOKUP($CY37,J!$A$2:$AW$4000,5,FALSE)","v":23},{"$f":"VLOOKUP($CY37,J!$A$2:$AW$4000,6,FALSE)","v":29},{"$f":"VLOOKUP($CY37,J!$A$2:$AW$4000,7,FALSE)","v":48},{"$f":"VLOOKUP($CY37,J!$A$2:$AW$4000,8,FALSE)","v":53},{"$f":"VLOOKUP($CY37,J!$A$2:$AW$4000,9,FALSE)","v":58},{"$f":"VLOOKUP($CY37,J!$A$2:$AW$4000,10,FALSE)","v":59},{"$f":"VLOOKUP($CY37,J!$A$2:$AW$4000,11,FALSE)","v":61},{"$f":"VLOOKUP($CY37,J!$A$2:$AW$4000,12,FALSE)","v":68},{"$f":"VLOOKUP($CY37,J!$A$2:$AW$4000,13,FALSE)","v":69},{"$f":"VLOOKUP($CY37,J!$A$2:$AW$4000,14,FALSE)","v":71},{"$f":"VLOOKUP($CY37,J!$A$2:$AW$4000,15,FALSE)","v":72},{"$f":"VLOOKUP($CY37,J!$A$2:$AW$4000,16,FALSE)","v":74},{"$f":"VLOOKUP($CY37,J!$A$2:$AW$4000,17,FALSE)","v":77},{"$f":"VLOOKUP($CY37,J!$A$2:$AW$4000,18,FALSE)","v":79},{"$f":"VLOOKUP($CY37,J!$A$2:$AW$4000,19,FALSE)","v":80},{"$f":"VLOOKUP($CY37,J!$A$2:$AW$4000,20,FALSE)","v":94},{"$f":"VLOOKUP($CY37,J!$A$2:$AW$4000,21,FALSE)","v":95},{"$f":"VLOOKUP($CY37,J!$A$2:$AW$4000,22,FALSE)","v":97}]
[null,{"$f":"IF(COUNTIF($CZ38:$DS38,B$16),B$16,\"\")","v":""},{"$f":"IF(COUNTIF($CZ38:$DS38,C$16),C$16,\"\")","v":""},{"$f":"IF(COUNTIF($CZ38:$DS38,D$16),D$16,\"\")","v":""},{"$f":"IF(COUNTIF($CZ38:$DS38,E$16),E$16,\"\")","v":4},{"$f":"IF(COUNTIF($CZ38:$DS38,F$16),F$16,\"\")","v":5},{"$f":"IF(COUNTIF($CZ38:$DS38,G$16),G$16,\"\")","v":""},{"$f":"IF(COUNTIF($CZ38:$DS38,H$16),H$16,\"\")","v":7},{"$f":"IF(COUNTIF($CZ38:$DS38,I$16),I$16,\"\")","v":""},{"$f":"IF(COUNTIF($CZ38:$DS38,J$16),J$16,\"\")","v":""},{"$f":"IF(COUNTIF($CZ38:$DS38,K$16),K$16,\"\")","v":""},{"$f":"IF(COUNTIF($CZ38:$DS38,L$16),L$16,\"\")","v":""},{"$f":"IF(COUNTIF($CZ38:$DS38,M$16),M$16,\"\")","v":""},{"$f":"IF(COUNTIF($CZ38:$DS38,N$16),N$16,\"\")","v":""},{"$f":"IF(COUNTIF($CZ38:$DS38,O$16),O$16,\"\")","v":14},{"$f":"IF(COUNTIF($CZ38:$DS38,P$16),P$16,\"\")","v":""},{"$f":"IF(COUNTIF($CZ38:$DS38,Q$16),Q$16,\"\")","v":""},{"$f":"IF(COUNTIF($CZ38:$DS38,R$16),R$16,\"\")","v":""},{"$f":"IF(COUNTIF($CZ38:$DS38,S$16),S$16,\"\")","v":""},{"$f":"IF(COUNTIF($CZ38:$DS38,T$16),T$16,\"\")","v":""},{"$f":"IF(COUNTIF($CZ38:$DS38,U$16),U$16,\"\")","v":20},{"$f":"IF(COUNTIF($CZ38:$DS38,V$16),V$16,\"\")","v":21},{"$f":"IF(COUNTIF($CZ38:$DS38,W$16),W$16,\"\")","v":""},{"$f":"IF(COUNTIF($CZ38:$DS38,X$16),X$16,\"\")","v":""},{"$f":"IF(COUNTIF($CZ38:$DS38,Y$16),Y$16,\"\")","v":""},{"$f":"IF(COUNTIF($CZ38:$DS38,Z$16),Z$16,\"\")","v":""},{"$f":"IF(COUNTIF($CZ38:$DS38,AA$16),AA$16,\"\")","v":""},{"$f":"IF(COUNTIF($CZ38:$DS38,AB$16),AB$16,\"\")","v":""},{"$f":"IF(COUNTIF($CZ38:$DS38,AC$16),AC$16,\"\")","v":""},{"$f":"IF(COUNTIF($CZ38:$DS38,AD$16),AD$16,\"\")","v":""},{"$f":"IF(COUNTIF($CZ38:$DS38,AE$16),AE$16,\"\")","v":""},{"$f":"IF(COUNTIF($CZ38:$DS38,AF$16),AF$16,\"\")","v":31},{"$f":"IF(COUNTIF($CZ38:$DS38,AG$16),AG$16,\"\")","v":""},{"$f":"IF(COUNTIF($CZ38:$DS38,AH$16),AH$16,\"\")","v":""},{"$f":"IF(COUNTIF($CZ38:$DS38,AI$16),AI$16,\"\")","v":""},{"$f":"IF(COUNTIF($CZ38:$DS38,AJ$16),AJ$16,\"\")","v":""},{"$f":"IF(COUNTIF($CZ38:$DS38,AK$16),AK$16,\"\")","v":""},{"$f":"IF(COUNTIF($CZ38:$DS38,AL$16),AL$16,\"\")","v":37},{"$f":"IF(COUNTIF($CZ38:$DS38,AM$16),AM$16,\"\")","v":""},{"$f":"IF(COUNTIF($CZ38:$DS38,AN$16),AN$16,\"\")","v":""},{"$f":"IF(COUNTIF($CZ38:$DS38,AO$16),AO$16,\"\")","v":""},{"$f":"IF(COUNTIF($CZ38:$DS38,AP$16),AP$16,\"\")","v":""},{"$f":"IF(COUNTIF($CZ38:$DS38,AQ$16),AQ$16,\"\")","v":""},{"$f":"IF(COUNTIF($CZ38:$DS38,AR$16),AR$16,\"\")","v":""},{"$f":"IF(COUNTIF($CZ38:$DS38,AS$16),AS$16,\"\")","v":""},{"$f":"IF(COUNTIF($CZ38:$DS38,AT$16),AT$16,\"\")","v":""},{"$f":"IF(COUNTIF($CZ38:$DS38,AU$16),AU$16,\"\")","v":""},{"$f":"IF(COUNTIF($CZ38:$DS38,AV$16),AV$16,\"\")","v":47},{"$f":"IF(COUNTIF($CZ38:$DS38,AW$16),AW$16,\"\")","v":""},{"$f":"IF(COUNTIF($CZ38:$DS38,AX$16),AX$16,\"\")","v":""},{"$f":"IF(COUNTIF($CZ38:$DS38,AY$16),AY$16,\"\")","v":""},{"$f":"IF(COUNTIF($CZ38:$DS38,AZ$16),AZ$16,\"\")","v":""},{"$f":"IF(COUNTIF($CZ38:$DS38,BA$16),BA$16,\"\")","v":""},{"$f":"IF(COUNTIF($CZ38:$DS38,BB$16),BB$16,\"\")","v":""},{"$f":"IF(COUNTIF($CZ38:$DS38,BC$16),BC$16,\"\")","v":""},{"$f":"IF(COUNTIF($CZ38:$DS38,BD$16),BD$16,\"\")","v":""},{"$f":"IF(COUNTIF($CZ38:$DS38,BE$16),BE$16,\"\")","v":""},{"$f":"IF(COUNTIF($CZ38:$DS38,BF$16),BF$16,\"\")","v":57},{"$f":"IF(COUNTIF($CZ38:$DS38,BG$16),BG$16,\"\")","v":""},{"$f":"IF(COUNTIF($CZ38:$DS38,BH$16),BH$16,\"\")","v":59},{"$f":"IF(COUNTIF($CZ38:$DS38,BI$16),BI$16,\"\")","v":""},{"$f":"IF(COUNTIF($CZ38:$DS38,BJ$16),BJ$16,\"\")","v":""},{"$f":"IF(COUNTIF($CZ38:$DS38,BK$16),BK$16,\"\")","v":""},{"$f":"IF(COUNTIF($CZ38:$DS38,BL$16),BL$16,\"\")","v":""},{"$f":"IF(COUNTIF($CZ38:$DS38,BM$16),BM$16,\"\")","v":""},{"$f":"IF(COUNTIF($CZ38:$DS38,BN$16),BN$16,\"\")","v":""},{"$f":"IF(COUNTIF($CZ38:$DS38,BO$16),BO$16,\"\")","v":""},{"$f":"IF(COUNTIF($CZ38:$DS38,BP$16),BP$16,\"\")","v":""},{"$f":"IF(COUNTIF($CZ38:$DS38,BQ$16),BQ$16,\"\")","v":""},{"$f":"IF(COUNTIF($CZ38:$DS38,BR$16),BR$16,\"\")","v":""},{"$f":"IF(COUNTIF($CZ38:$DS38,BS$16),BS$16,\"\")","v":""},{"$f":"IF(COUNTIF($CZ38:$DS38,BT$16),BT$16,\"\")","v":71},{"$f":"IF(COUNTIF($CZ38:$DS38,BU$16),BU$16,\"\")","v":""},{"$f":"IF(COUNTIF($CZ38:$DS38,BV$16),BV$16,\"\")","v":""},{"$f":"IF(COUNTIF($CZ38:$DS38,BW$16),BW$16,\"\")","v":74},{"$f":"IF(COUNTIF($CZ38:$DS38,BX$16),BX$16,\"\")","v":75},{"$f":"IF(COUNTIF($CZ38:$DS38,BY$16),BY$16,\"\")","v":76},{"$f":"IF(COUNTIF($CZ38:$DS38,BZ$16),BZ$16,\"\")","v":""},{"$f":"IF(COUNTIF($CZ38:$DS38,CA$16),CA$16,\"\")","v":""},{"$f":"IF(COUNTIF($CZ38:$DS38,CB$16),CB$16,\"\")","v":""},{"$f":"IF(COUNTIF($CZ38:$DS38,CC$16),CC$16,\"\")","v":""},{"$f":"IF(COUNTIF($CZ38:$DS38,CD$16),CD$16,\"\")","v":""},{"$f":"IF(COUNTIF($CZ38:$DS38,CE$16),CE$16,\"\")","v":""},{"$f":"IF(COUNTIF($CZ38:$DS38,CF$16),CF$16,\"\")","v":""},{"$f":"IF(COUNTIF($CZ38:$DS38,CG$16),CG$16,\"\")","v":""},{"$f":"IF(COUNTIF($CZ38:$DS38,CH$16),CH$16,\"\")","v":""},{"$f":"IF(COUNTIF($CZ38:$DS38,CI$16),CI$16,\"\")","v":""},{"$f":"IF(COUNTIF($CZ38:$DS38,CJ$16),CJ$16,\"\")","v":""},{"$f":"IF(COUNTIF($CZ38:$DS38,CK$16),CK$16,\"\")","v":""},{"$f":"IF(COUNTIF($CZ38:$DS38,CL$16),CL$16,\"\")","v":""},{"$f":"IF(COUNTIF($CZ38:$DS38,CM$16),CM$16,\"\")","v":90},{"$f":"IF(COUNTIF($CZ38:$DS38,CN$16),CN$16,\"\")","v":""},{"$f":"IF(COUNTIF($CZ38:$DS38,CO$16),CO$16,\"\")","v":""},{"$f":"IF(COUNTIF($CZ38:$DS38,CP$16),CP$16,\"\")","v":93},{"$f":"IF(COUNTIF($CZ38:$DS38,CQ$16),CQ$16,\"\")","v":94},{"$f":"IF(COUNTIF($CZ38:$DS38,CR$16),CR$16,\"\")","v":95},{"$f":"IF(COUNTIF($CZ38:$DS38,CS$16),CS$16,\"\")","v":""},{"$f":"IF(COUNTIF($CZ38:$DS38,CT$16),CT$16,\"\")","v":97},{"$f":"IF(COUNTIF($CZ38:$DS38,CU$16),CU$16,\"\")","v":""},{"$f":"IF(COUNTIF($CZ38:$DS38,CV$16),CV$16,\"\")","v":""},{"$f":"IF(COUNTIF($CZ38:$DS38,0),0,\"\")","v":""},22,1848,{"$f":"VLOOKUP($CY38,J!$A$2:$AW$4000,3,FALSE)","v":4},{"$f":"VLOOKUP($CY38,J!$A$2:$AW$4000,4,FALSE)","v":5},{"$f":"VLOOKUP($CY38,J!$A$2:$AW$4000,5,FALSE)","v":7},{"$f":"VLOOKUP($CY38,J!$A$2:$AW$4000,6,FALSE)","v":14},{"$f":"VLOOKUP($CY38,J!$A$2:$AW$4000,7,FALSE)","v":20},{"$f":"VLOOKUP($CY38,J!$A$2:$AW$4000,8,FALSE)","v":21},{"$f":"VLOOKUP($CY38,J!$A$2:$AW$4000,9,FALSE)","v":31},{"$f":"VLOOKUP($CY38,J!$A$2:$AW$4000,10,FALSE)","v":37},{"$f":"VLOOKUP($CY38,J!$A$2:$AW$4000,11,FALSE)","v":47},{"$f":"VLOOKUP($CY38,J!$A$2:$AW$4000,12,FALSE)","v":57},{"$f":"VLOOKUP($CY38,J!$A$2:$AW$4000,13,FALSE)","v":59},{"$f":"VLOOKUP($CY38,J!$A$2:$AW$4000,14,FALSE)","v":71},{"$f":"VLOOKUP($CY38,J!$A$2:$AW$4000,15,FALSE)","v":74},{"$f":"VLOOKUP($CY38,J!$A$2:$AW$4000,16,FALSE)","v":75},{"$f":"VLOOKUP($CY38,J!$A$2:$AW$4000,17,FALSE)","v":76},{"$f":"VLOOKUP($CY38,J!$A$2:$AW$4000,18,FALSE)","v":90},{"$f":"VLOOKUP($CY38,J!$A$2:$AW$4000,19,FALSE)","v":93},{"$f":"VLOOKUP($CY38,J!$A$2:$AW$4000,20,FALSE)","v":94},{"$f":"VLOOKUP($CY38,J!$A$2:$AW$4000,21,FALSE)","v":95},{"$f":"VLOOKUP($CY38,J!$A$2:$AW$4000,22,FALSE)","v":97}]
[null,{"$f":"IF(COUNTIF($CZ39:$DS39,B$16),B$16,\"\")","v":""},{"$f":"IF(COUNTIF($CZ39:$DS39,C$16),C$16,\"\")","v":""},{"$f":"IF(COUNTIF($CZ39:$DS39,D$16),D$16,\"\")","v":3},{"$f":"IF(COUNTIF($CZ39:$DS39,E$16),E$16,\"\")","v":4},{"$f":"IF(COUNTIF($CZ39:$DS39,F$16),F$16,\"\")","v":5},{"$f":"IF(COUNTIF($CZ39:$DS39,G$16),G$16,\"\")","v":6},{"$f":"IF(COUNTIF($CZ39:$DS39,H$16),H$16,\"\")","v":""},{"$f":"IF(COUNTIF($CZ39:$DS39,I$16),I$16,\"\")","v":""},{"$f":"IF(COUNTIF($CZ39:$DS39,J$16),J$16,\"\")","v":""},{"$f":"IF(COUNTIF($CZ39:$DS39,K$16),K$16,\"\")","v":""},{"$f":"IF(COUNTIF($CZ39:$DS39,L$16),L$16,\"\")","v":""},{"$f":"IF(COUNTIF($CZ39:$DS39,M$16),M$16,\"\")","v":""},{"$f":"IF(COUNTIF($CZ39:$DS39,N$16),N$16,\"\")","v":""},{"$f":"IF(COUNTIF($CZ39:$DS39,O$16),O$16,\"\")","v":14},{"$f":"IF(COUNTIF($CZ39:$DS39,P$16),P$16,\"\")","v":""},{"$f":"IF(COUNTIF($CZ39:$DS39,Q$16),Q$16,\"\")","v":16},{"$f":"IF(COUNTIF($CZ39:$DS39,R$16),R$16,\"\")","v":""},{"$f":"IF(COUNTIF($CZ39:$DS39,S$16),S$16,\"\")","v":""},{"$f":"IF(COUNTIF($CZ39:$DS39,T$16),T$16,\"\")","v":""},{"$f":"IF(COUNTIF($CZ39:$DS39,U$16),U$16,\"\")","v":""},{"$f":"IF(COUNTIF($CZ39:$DS39,V$16),V$16,\"\")","v":""},{"$f":"IF(COUNTIF($CZ39:$DS39,W$16),W$16,\"\")","v":""},{"$f":"IF(COUNTIF($CZ39:$DS39,X$16),X$16,\"\")","v":""},{"$f":"IF(COUNTIF($CZ39:$DS39,Y$16),Y$16,\"\")","v":""},{"$f":"IF(COUNTIF($CZ39:$DS39,Z$16),Z$16,\"\")","v":""},{"$f":"IF(COUNTIF($CZ39:$DS39,AA$16),AA$16,\"\")","v":26},{"$f":"IF(COUNTIF($CZ39:$DS39,AB$16),AB$16,\"\")","v":""},{"$f":"IF(COUNTIF($CZ39:$DS39,AC$16),AC$16,\"\")","v":""},{"$f":"IF(COUNTIF($CZ39:$DS39,AD$16),AD$16,\"\")","v":""},{"$f":"IF(COUNTIF($CZ39:$DS39,AE$16),AE$16,\"\")","v":""},{"$f":"IF(COUNTIF($CZ39:$DS39,AF$16),AF$16,\"\")","v":""},{"$f":"IF(COUNTIF($CZ39:$DS39,AG$16),AG$16,\"\")","v":""},{"$f":"IF(COUNTIF($CZ39:$DS39,AH$16),AH$16,\"\")","v":33},{"$f":"IF(COUNTIF($CZ39:$DS39,AI$16),AI$16,\"\")","v":""},{"$f":"IF(COUNTIF($CZ39:$DS39,AJ$16),AJ$16,\"\")","v":""},{"$f":"IF(COUNTIF($CZ39:$DS39,AK$16),AK$16,\"\")","v":""},{"$f":"IF(COUNTIF($CZ39:$DS39,AL$16),AL$16,\"\")","v":""},{"$f":"IF(COUNTIF($CZ39:$DS39,AM$16),AM$16,\"\")","v":""},{"$f":"IF(COUNTIF($CZ39:$DS39,AN$16),AN$16,\"\")","v":""},{"$f":"IF(COUNTIF($CZ39:$DS39,AO$16),AO$16,\"\")","v":""},{"$f":"IF(COUNTIF($CZ39:$DS39,AP$16),AP$16,\"\")","v":41},{"$f":"IF(COUNTIF($CZ39:$DS39,AQ$16),AQ$16,\"\")","v":""},{"$f":"IF(COUNTIF($CZ39:$DS39,AR$16),AR$16,\"\")","v":""},{"$f":"IF(COUNTIF($CZ39:$DS39,AS$16),AS$16,\"\")","v":""},{"$f":"IF(COUNTIF($CZ39:$DS39,AT$16),AT$16,\"\")","v":""},{"$f":"IF(COUNTIF($CZ39:$DS39,AU$16),AU$16,\"\")","v":46},{"$f":"IF(COUNTIF($CZ39:$DS39,AV$16),AV$16,\"\")","v":""},{"$f":"IF(COUNTIF($CZ39:$DS39,AW$16),AW$16,\"\")","v":""},{"$f":"IF(COUNTIF($CZ39:$DS39,AX$16),AX$16,\"\")","v":""},{"$f":"IF(COUNTIF($CZ39:$DS39,AY$16),AY$16,\"\")","v":""},{"$f":"IF(COUNTIF($CZ39:$DS39,AZ$16),AZ$16,\"\")","v":51},{"$f":"IF(COUNTIF($CZ39:$DS39,BA$16),BA$16,\"\")","v":""},{"$f":"IF(COUNTIF($CZ39:$DS39,BB$16),BB$16,\"\")","v":53},{"$f":"IF(COUNTIF($CZ39:$DS39,BC$16),BC$16,\"\")","v":""},{"$f":"IF(COUNTIF($CZ39:$DS39,BD$16),BD$16,\"\")","v":""},{"$f":"IF(COUNTIF($CZ39:$DS39,BE$16),BE$16,\"\")","v":""},{"$f":"IF(COUNTIF($CZ39:$DS39,BF$16),BF$16,\"\")","v":""},{"$f":"IF(COUNTIF($CZ39:$DS39,BG$16),BG$16,\"\")","v":""},{"$f":"IF(COUNTIF($CZ39:$DS39,BH$16),BH$16,\"\")","v":""},{"$f":"IF(COUNTIF($CZ39:$DS39,BI$16),BI$16,\"\")","v":""},{"$f":"IF(COUNTIF($CZ39:$DS39,BJ$16),BJ$16,\"\")","v":""},{"$f":"IF(COUNTIF($CZ39:$DS39,BK$16),BK$16,\"\")","v":""},{"$f":"IF(COUNTIF($CZ39:$DS39,BL$16),BL$16,\"\")","v":""},{"$f":"IF(COUNTIF($CZ39:$DS39,BM$16),BM$16,\"\")","v":""},{"$f":"IF(COUNTIF($CZ39:$DS39,BN$16),BN$16,\"\")","v":""},{"$f":"IF(COUNTIF($CZ39:$DS39,BO$16),BO$16,\"\")","v":""},{"$f":"IF(COUNTIF($CZ39:$DS39,BP$16),BP$16,\"\")","v":67},{"$f":"IF(COUNTIF($CZ39:$DS39,BQ$16),BQ$16,\"\")","v":""},{"$f":"IF(COUNTIF($CZ39:$DS39,BR$16),BR$16,\"\")","v":69},{"$f":"IF(COUNTIF($CZ39:$DS39,BS$16),BS$16,\"\")","v":70},{"$f":"IF(COUNTIF($CZ39:$DS39,BT$16),BT$16,\"\")","v":""},{"$f":"IF(COUNTIF($CZ39:$DS39,BU$16),BU$16,\"\")","v":""},{"$f":"IF(COUNTIF($CZ39:$DS39,BV$16),BV$16,\"\")","v":73},{"$f":"IF(COUNTIF($CZ39:$DS39,BW$16),BW$16,\"\")","v":""},{"$f":"IF(COUNTIF($CZ39:$DS39,BX$16),BX$16,\"\")","v":75},{"$f":"IF(COUNTIF($CZ39:$DS39,BY$16),BY$16,\"\")","v":""},{"$f":"IF(COUNTIF($CZ39:$DS39,BZ$16),BZ$16,\"\")","v":""},{"$f":"IF(COUNTIF($CZ39:$DS39,CA$16),CA$16,\"\")","v":""},{"$f":"IF(COUNTIF($CZ39:$DS39,CB$16),CB$16,\"\")","v":""},{"$f":"IF(COUNTIF($CZ39:$DS39,CC$16),CC$16,\"\")","v":""},{"$f":"IF(COUNTIF($CZ39:$DS39,CD$16),CD$16,\"\")","v":""},{"$f":"IF(COUNTIF($CZ39:$DS39,CE$16),CE$16,\"\")","v":""},{"$f":"IF(COUNTIF($CZ39:$DS39,CF$16),CF$16,\"\")","v":""},{"$f":"IF(COUNTIF($CZ39:$DS39,CG$16),CG$16,\"\")","v":84},{"$f":"IF(COUNTIF($CZ39:$DS39,CH$16),CH$16,\"\")","v":""},{"$f":"IF(COUNTIF($CZ39:$DS39,CI$16),CI$16,\"\")","v":""},{"$f":"IF(COUNTIF($CZ39:$DS39,CJ$16),CJ$16,\"\")","v":""},{"$f":"IF(COUNTIF($CZ39:$DS39,CK$16),CK$16,\"\")","v":""},{"$f":"IF(COUNTIF($CZ39:$DS39,CL$16),CL$16,\"\")","v":""},{"$f":"IF(COUNTIF($CZ39:$DS39,CM$16),CM$16,\"\")","v":""},{"$f":"IF(COUNTIF($CZ39:$DS39,CN$16),CN$16,\"\")","v":""},{"$f":"IF(COUNTIF($CZ39:$DS39,CO$16),CO$16,\"\")","v":""},{"$f":"IF(COUNTIF($CZ39:$DS39,CP$16),CP$16,\"\")","v":""},{"$f":"IF(COUNTIF($CZ39:$DS39,CQ$16),CQ$16,\"\")","v":94},{"$f":"IF(COUNTIF($CZ39:$DS39,CR$16),CR$16,\"\")","v":95},{"$f":"IF(COUNTIF($CZ39:$DS39,CS$16),CS$16,\"\")","v":""},{"$f":"IF(COUNTIF($CZ39:$DS39,CT$16),CT$16,\"\")","v":""},{"$f":"IF(COUNTIF($CZ39:$DS39,CU$16),CU$16,\"\")","v":""},{"$f":"IF(COUNTIF($CZ39:$DS39,CV$16),CV$16,\"\")","v":""},{"$f":"IF(COUNTIF($CZ39:$DS39,0),0,\"\")","v":""},23,1847,{"$f":"VLOOKUP($CY39,J!$A$2:$AW$4000,3,FALSE)","v":3},{"$f":"VLOOKUP($CY39,J!$A$2:$AW$4000,4,FALSE)","v":4},{"$f":"VLOOKUP($CY39,J!$A$2:$AW$4000,5,FALSE)","v":5},{"$f":"VLOOKUP($CY39,J!$A$2:$AW$4000,6,FALSE)","v":6},{"$f":"VLOOKUP($CY39,J!$A$2:$AW$4000,7,FALSE)","v":14},{"$f":"VLOOKUP($CY39,J!$A$2:$AW$4000,8,FALSE)","v":16},{"$f":"VLOOKUP($CY39,J!$A$2:$AW$4000,9,FALSE)","v":26},{"$f":"VLOOKUP($CY39,J!$A$2:$AW$4000,10,FALSE)","v":33},{"$f":"VLOOKUP($CY39,J!$A$2:$AW$4000,11,FALSE)","v":41},{"$f":"VLOOKUP($CY39,J!$A$2:$AW$4000,12,FALSE)","v":46},{"$f":"VLOOKUP($CY39,J!$A$2:$AW$4000,13,FALSE)","v":51},{"$f":"VLOOKUP($CY39,J!$A$2:$AW$4000,14,FALSE)","v":53},{"$f":"VLOOKUP($CY39,J!$A$2:$AW$4000,15,FALSE)","v":67},{"$f":"VLOOKUP($CY39,J!$A$2:$AW$4000,16,FALSE)","v":69},{"$f":"VLOOKUP($CY39,J!$A$2:$AW$4000,17,FALSE)","v":70},{"$f":"VLOOKUP($CY39,J!$A$2:$AW$4000,18,FALSE)","v":73},{"$f":"VLOOKUP($CY39,J!$A$2:$AW$4000,19,FALSE)","v":75},{"$f":"VLOOKUP($CY39,J!$A$2:$AW$4000,20,FALSE)","v":84},{"$f":"VLOOKUP($CY39,J!$A$2:$AW$4000,21,FALSE)","v":94},{"$f":"VLOOKUP($CY39,J!$A$2:$AW$4000,22,FALSE)","v":95}]
[null,{"$f":"IF(COUNTIF($CZ40:$DS40,B$16),B$16,\"\")","v":""},{"$f":"IF(COUNTIF($CZ40:$DS40,C$16),C$16,\"\")","v":""},{"$f":"IF(COUNTIF($CZ40:$DS40,D$16),D$16,\"\")","v":""},{"$f":"IF(COUNTIF($CZ40:$DS40,E$16),E$16,\"\")","v":""},{"$f":"IF(COUNTIF($CZ40:$DS40,F$16),F$16,\"\")","v":""},{"$f":"IF(COUNTIF($CZ40:$DS40,G$16),G$16,\"\")","v":""},{"$f":"IF(COUNTIF($CZ40:$DS40,H$16),H$16,\"\")","v":""},{"$f":"IF(COUNTIF($CZ40:$DS40,I$16),I$16,\"\")","v":8},{"$f":"IF(COUNTIF($CZ40:$DS40,J$16),J$16,\"\")","v":""},{"$f":"IF(COUNTIF($CZ40:$DS40,K$16),K$16,\"\")","v":""},{"$f":"IF(COUNTIF($CZ40:$DS40,L$16),L$16,\"\")","v":""},{"$f":"IF(COUNTIF($CZ40:$DS40,M$16),M$16,\"\")","v":12},{"$f":"IF(COUNTIF($CZ40:$DS40,N$16),N$16,\"\")","v":""},{"$f":"IF(COUNTIF($CZ40:$DS40,O$16),O$16,\"\")","v":14},{"$f":"IF(COUNTIF($CZ40:$DS40,P$16),P$16,\"\")","v":""},{"$f":"IF(COUNTIF($CZ40:$DS40,Q$16),Q$16,\"\")","v":16},{"$f":"IF(COUNTIF($CZ40:$DS40,R$16),R$16,\"\")","v":""},{"$f":"IF(COUNTIF($CZ40:$DS40,S$16),S$16,\"\")","v":""},{"$f":"IF(COUNTIF($CZ40:$DS40,T$16),T$16,\"\")","v":19},{"$f":"IF(COUNTIF($CZ40:$DS40,U$16),U$16,\"\")","v":""},{"$f":"IF(COUNTIF($CZ40:$DS40,V$16),V$16,\"\")","v":""},{"$f":"IF(COUNTIF($CZ40:$DS40,W$16),W$16,\"\")","v":22},{"$f":"IF(COUNTIF($CZ40:$DS40,X$16),X$16,\"\")","v":""},{"$f":"IF(COUNTIF($CZ40:$DS40,Y$16),Y$16,\"\")","v":""},{"$f":"IF(COUNTIF($CZ40:$DS40,Z$16),Z$16,\"\")","v":""},{"$f":"IF(COUNTIF($CZ40:$DS40,AA$16),AA$16,\"\")","v":26},{"$f":"IF(COUNTIF($CZ40:$DS40,AB$16),AB$16,\"\")","v":""},{"$f":"IF(COUNTIF($CZ40:$DS40,AC$16),AC$16,\"\")","v":""},{"$f":"IF(COUNTIF($CZ40:$DS40,AD$16),AD$16,\"\")","v":""},{"$f":"IF(COUNTIF($CZ40:$DS40,AE$16),AE$16,\"\")","v":30},{"$f":"IF(COUNTIF($CZ40:$DS40,AF$16),AF$16,\"\")","v":""},{"$f":"IF(COUNTIF($CZ40:$DS40,AG$16),AG$16,\"\")","v":32},{"$f":"IF(COUNTIF($CZ40:$DS40,AH$16),AH$16,\"\")","v":""},{"$f":"IF(COUNTIF($CZ40:$DS40,AI$16),AI$16,\"\")","v":""},{"$f":"IF(COUNTIF($CZ40:$DS40,AJ$16),AJ$16,\"\")","v":35},{"$f":"IF(COUNTIF($CZ40:$DS40,AK$16),AK$16,\"\")","v":""},{"$f":"IF(COUNTIF($CZ40:$DS40,AL$16),AL$16,\"\")","v":""},{"$f":"IF(COUNTIF($CZ40:$DS40,AM$16),AM$16,\"\")","v":""},{"$f":"IF(COUNTIF($CZ40:$DS40,AN$16),AN$16,\"\")","v":39},{"$f":"IF(COUNTIF($CZ40:$DS40,AO$16),AO$16,\"\")","v":""},{"$f":"IF(COUNTIF($CZ40:$DS40,AP$16),AP$16,\"\")","v":41},{"$f":"IF(COUNTIF($CZ40:$DS40,AQ$16),AQ$16,\"\")","v":""},{"$f":"IF(COUNTIF($CZ40:$DS40,AR$16),AR$16,\"\")","v":""},{"$f":"IF(COUNTIF($CZ40:$DS40,AS$16),AS$16,\"\")","v":""},{"$f":"IF(COUNTIF($CZ40:$DS40,AT$16),AT$16,\"\")","v":45},{"$f":"IF(COUNTIF($CZ40:$DS40,AU$16),AU$16,\"\")","v":46},{"$f":"IF(COUNTIF($CZ40:$DS40,AV$16),AV$16,\"\")","v":""},{"$f":"IF(COUNTIF($CZ40:$DS40,AW$16),AW$16,\"\")","v":""},{"$f":"IF(COUNTIF($CZ40:$DS40,AX$16),AX$16,\"\")","v":49},{"$f":"IF(COUNTIF($CZ40:$DS40,AY$16),AY$16,\"\")","v":50},{"$f":"IF(COUNTIF($CZ40:$DS40,AZ$16),AZ$16,\"\")","v":""},{"$f":"IF(COUNTIF($CZ40:$DS40,BA$16),BA$16,\"\")","v":""},{"$f":"IF(COUNTIF($CZ40:$DS40,BB$16),BB$16,\"\")","v":""},{"$f":"IF(COUNTIF($CZ40:$DS40,BC$16),BC$16,\"\")","v":""},{"$f":"IF(COUNTIF($CZ40:$DS40,BD$16),BD$16,\"\")","v":""},{"$f":"IF(COUNTIF($CZ40:$DS40,BE$16),BE$16,\"\")","v":""},{"$f":"IF(COUNTIF($CZ40:$DS40,BF$16),BF$16,\"\")","v":""},{"$f":"IF(COUNTIF($CZ40:$DS40,BG$16),BG$16,\"\")","v":""},{"$f":"IF(COUNTIF($CZ40:$DS40,BH$16),BH$16,\"\")","v":59},{"$f":"IF(COUNTIF($CZ40:$DS40,BI$16),BI$16,\"\")","v":60},{"$f":"IF(COUNTIF($CZ40:$DS40,BJ$16),BJ$16,\"\")","v":61},{"$f":"IF(COUNTIF($CZ40:$DS40,BK$16),BK$16,\"\")","v":""},{"$f":"IF(COUNTIF($CZ40:$DS40,BL$16),BL$16,\"\")","v":""},{"$f":"IF(COUNTIF($CZ40:$DS40,BM$16),BM$16,\"\")","v":""},{"$f":"IF(COUNTIF($CZ40:$DS40,BN$16),BN$16,\"\")","v":""},{"$f":"IF(COUNTIF($CZ40:$DS40,BO$16),BO$16,\"\")","v":""},{"$f":"IF(COUNTIF($CZ40:$DS40,BP$16),BP$16,\"\")","v":""},{"$f":"IF(COUNTIF($CZ40:$DS40,BQ$16),BQ$16,\"\")","v":""},{"$f":"IF(COUNTIF($CZ40:$DS40,BR$16),BR$16,\"\")","v":""},{"$f":"IF(COUNTIF($CZ40:$DS40,BS$16),BS$16,\"\")","v":""},{"$f":"IF(COUNTIF($CZ40:$DS40,BT$16),BT$16,\"\")","v":""},{"$f":"IF(COUNTIF($CZ40:$DS40,BU$16),BU$16,\"\")","v":""},{"$f":"IF(COUNTIF($CZ40:$DS40,BV$16),BV$16,\"\")","v":""},{"$f":"IF(COUNTIF($CZ40:$DS40,BW$16),BW$16,\"\")","v":74},{"$f":"IF(COUNTIF($CZ40:$DS40,BX$16),BX$16,\"\")","v":""},{"$f":"IF(COUNTIF($CZ40:$DS40,BY$16),BY$16,\"\")","v":""},{"$f":"IF(COUNTIF($CZ40:$DS40,BZ$16),BZ$16,\"\")","v":""},{"$f":"IF(COUNTIF($CZ40:$DS40,CA$16),CA$16,\"\")","v":""},{"$f":"IF(COUNTIF($CZ40:$DS40,CB$16),CB$16,\"\")","v":""},{"$f":"IF(COUNTIF($CZ40:$DS40,CC$16),CC$16,\"\")","v":""},{"$f":"IF(COUNTIF($CZ40:$DS40,CD$16),CD$16,\"\")","v":""},{"$f":"IF(COUNTIF($CZ40:$DS40,CE$16),CE$16,\"\")","v":""},{"$f":"IF(COUNTIF($CZ40:$DS40,CF$16),CF$16,\"\")","v":""},{"$f":"IF(COUNTIF($CZ40:$DS40,CG$16),CG$16,\"\")","v":""},{"$f":"IF(COUNTIF($CZ40:$DS40,CH$16),CH$16,\"\")","v":""},{"$f":"IF(COUNTIF($CZ40:$DS40,CI$16),CI$16,\"\")","v":""},{"$f":"IF(COUNTIF($CZ40:$DS40,CJ$16),CJ$16,\"\")","v":""},{"$f":"IF(COUNTIF($CZ40:$DS40,CK$16),CK$16,\"\")","v":""},{"$f":"IF(COUNTIF($CZ40:$DS40,CL$16),CL$16,\"\")","v":""},{"$f":"IF(COUNTIF($CZ40:$DS40,CM$16),CM$16,\"\")","v":""},{"$f":"IF(COUNTIF($CZ40:$DS40,CN$16),CN$16,\"\")","v":""},{"$f":"IF(COUNTIF($CZ40:$DS40,CO$16),CO$16,\"\")","v":""},{"$f":"IF(COUNTIF($CZ40:$DS40,CP$16),CP$16,\"\")","v":""},{"$f":"IF(COUNTIF($CZ40:$DS40,CQ$16),CQ$16,\"\")","v":""},{"$f":"IF(COUNTIF($CZ40:$DS40,CR$16),CR$16,\"\")","v":""},{"$f":"IF(COUNTIF($CZ40:$DS40,CS$16),CS$16,\"\")","v":""},{"$f":"IF(COUNTIF($CZ40:$DS40,CT$16),CT$16,\"\")","v":""},{"$f":"IF(COUNTIF($CZ40:$DS40,CU$16),CU$16,\"\")","v":""},{"$f":"IF(COUNTIF($CZ40:$DS40,CV$16),CV$16,\"\")","v":""},{"$f":"IF(COUNTIF($CZ40:$DS40,0),0,\"\")","v":""},24,1846,{"$f":"VLOOKUP($CY40,J!$A$2:$AW$4000,3,FALSE)","v":8},{"$f":"VLOOKUP($CY40,J!$A$2:$AW$4000,4,FALSE)","v":12},{"$f":"VLOOKUP($CY40,J!$A$2:$AW$4000,5,FALSE)","v":14},{"$f":"VLOOKUP($CY40,J!$A$2:$AW$4000,6,FALSE)","v":16},{"$f":"VLOOKUP($CY40,J!$A$2:$AW$4000,7,FALSE)","v":19},{"$f":"VLOOKUP($CY40,J!$A$2:$AW$4000,8,FALSE)","v":22},{"$f":"VLOOKUP($CY40,J!$A$2:$AW$4000,9,FALSE)","v":26},{"$f":"VLOOKUP($CY40,J!$A$2:$AW$4000,10,FALSE)","v":30},{"$f":"VLOOKUP($CY40,J!$A$2:$AW$4000,11,FALSE)","v":32},{"$f":"VLOOKUP($CY40,J!$A$2:$AW$4000,12,FALSE)","v":35},{"$f":"VLOOKUP($CY40,J!$A$2:$AW$4000,13,FALSE)","v":39},{"$f":"VLOOKUP($CY40,J!$A$2:$AW$4000,14,FALSE)","v":41},{"$f":"VLOOKUP($CY40,J!$A$2:$AW$4000,15,FALSE)","v":45},{"$f":"VLOOKUP($CY40,J!$A$2:$AW$4000,16,FALSE)","v":46},{"$f":"VLOOKUP($CY40,J!$A$2:$AW$4000,17,FALSE)","v":49},{"$f":"VLOOKUP($CY40,J!$A$2:$AW$4000,18,FALSE)","v":50},{"$f":"VLOOKUP($CY40,J!$A$2:$AW$4000,19,FALSE)","v":59},{"$f":"VLOOKUP($CY40,J!$A$2:$AW$4000,20,FALSE)","v":60},{"$f":"VLOOKUP($CY40,J!$A$2:$AW$4000,21,FALSE)","v":61},{"$f":"VLOOKUP($CY40,J!$A$2:$AW$4000,22,FALSE)","v":74}]
[null,{"$f":"IF(COUNTIF($CZ41:$DS41,B$16),B$16,\"\")","v":1},{"$f":"IF(COUNTIF($CZ41:$DS41,C$16),C$16,\"\")","v":""},{"$f":"IF(COUNTIF($CZ41:$DS41,D$16),D$16,\"\")","v":""},{"$f":"IF(COUNTIF($CZ41:$DS41,E$16),E$16,\"\")","v":""},{"$f":"IF(COUNTIF($CZ41:$DS41,F$16),F$16,\"\")","v":""},{"$f":"IF(COUNTIF($CZ41:$DS41,G$16),G$16,\"\")","v":""},{"$f":"IF(COUNTIF($CZ41:$DS41,H$16),H$16,\"\")","v":""},{"$f":"IF(COUNTIF($CZ41:$DS41,I$16),I$16,\"\")","v":""},{"$f":"IF(COUNTIF($CZ41:$DS41,J$16),J$16,\"\")","v":""},{"$f":"IF(COUNTIF($CZ41:$DS41,K$16),K$16,\"\")","v":""},{"$f":"IF(COUNTIF($CZ41:$DS41,L$16),L$16,\"\")","v":""},{"$f":"IF(COUNTIF($CZ41:$DS41,M$16),M$16,\"\")","v":12},{"$f":"IF(COUNTIF($CZ41:$DS41,N$16),N$16,\"\")","v":13},{"$f":"IF(COUNTIF($CZ41:$DS41,O$16),O$16,\"\")","v":""},{"$f":"IF(COUNTIF($CZ41:$DS41,P$16),P$16,\"\")","v":""},{"$f":"IF(COUNTIF($CZ41:$DS41,Q$16),Q$16,\"\")","v":""},{"$f":"IF(COUNTIF($CZ41:$DS41,R$16),R$16,\"\")","v":""},{"$f":"IF(COUNTIF($CZ41:$DS41,S$16),S$16,\"\")","v":""},{"$f":"IF(COUNTIF($CZ41:$DS41,T$16),T$16,\"\")","v":""},{"$f":"IF(COUNTIF($CZ41:$DS41,U$16),U$16,\"\")","v":20},{"$f":"IF(COUNTIF($CZ41:$DS41,V$16),V$16,\"\")","v":""},{"$f":"IF(COUNTIF($CZ41:$DS41,W$16),W$16,\"\")","v":""},{"$f":"IF(COUNTIF($CZ41:$DS41,X$16),X$16,\"\")","v":""},{"$f":"IF(COUNTIF($CZ41:$DS41,Y$16),Y$16,\"\")","v":""},{"$f":"IF(COUNTIF($CZ41:$DS41,Z$16),Z$16,\"\")","v":""},{"$f":"IF(COUNTIF($CZ41:$DS41,AA$16),AA$16,\"\")","v":""},{"$f":"IF(COUNTIF($CZ41:$DS41,AB$16),AB$16,\"\")","v":""},{"$f":"IF(COUNTIF($CZ41:$DS41,AC$16),AC$16,\"\")","v":""},{"$f":"IF(COUNTIF($CZ41:$DS41,AD$16),AD$16,\"\")","v":""},{"$f":"IF(COUNTIF($CZ41:$DS41,AE$16),AE$16,\"\")","v":""},{"$f":"IF(COUNTIF($CZ41:$DS41,AF$16),AF$16,\"\")","v":""},{"$f":"IF(COUNTIF($CZ41:$DS41,AG$16),AG$16,\"\")","v":32},{"$f":"IF(COUNTIF($CZ41:$DS41,AH$16),AH$16,\"\")","v":""},{"$f":"IF(COUNTIF($CZ41:$DS41,AI$16),AI$16,\"\")","v":""},{"$f":"IF(COUNTIF($CZ41:$DS41,AJ$16),AJ$16,\"\")","v":35},{"$f":"IF(COUNTIF($CZ41:$DS41,AK$16),AK$16,\"\")","v":""},{"$f":"IF(COUNTIF($CZ41:$DS41,AL$16),AL$16,\"\")","v":""},{"$f":"IF(COUNTIF($CZ41:$DS41,AM$16),AM$16,\"\")","v":""},{"$f":"IF(COUNTIF($CZ41:$DS41,AN$16),AN$16,\"\")","v":""},{"$f":"IF(COUNTIF($CZ41:$DS41,AO$16),AO$16,\"\")","v":40},{"$f":"IF(COUNTIF($CZ41:$DS41,AP$16),AP$16,\"\")","v":""},{"$f":"IF(COUNTIF($CZ41:$DS41,AQ$16),AQ$16,\"\")","v":""},{"$f":"IF(COUNTIF($CZ41:$DS41,AR$16),AR$16,\"\")","v":""},{"$f":"IF(COUNTIF($CZ41:$DS41,AS$16),AS$16,\"\")","v":""},{"$f":"IF(COUNTIF($CZ41:$DS41,AT$16),AT$16,\"\")","v":""},{"$f":"IF(COUNTIF($CZ41:$DS41,AU$16),AU$16,\"\")","v":""},{"$f":"IF(COUNTIF($CZ41:$DS41,AV$16),AV$16,\"\")","v":""},{"$f":"IF(COUNTIF($CZ41:$DS41,AW$16),AW$16,\"\")","v":48},{"$f":"IF(COUNTIF($CZ41:$DS41,AX$16),AX$16,\"\")","v":""},{"$f":"IF(COUNTIF($CZ41:$DS41,AY$16),AY$16,\"\")","v":""},{"$f":"IF(COUNTIF($CZ41:$DS41,AZ$16),AZ$16,\"\")","v":""},{"$f":"IF(COUNTIF($CZ41:$DS41,BA$16),BA$16,\"\")","v":""},{"$f":"IF(COUNTIF($CZ41:$DS41,BB$16),BB$16,\"\")","v":""},{"$f":"IF(COUNTIF($CZ41:$DS41,BC$16),BC$16,\"\")","v":54},{"$f":"IF(COUNTIF($CZ41:$DS41,BD$16),BD$16,\"\")","v":""},{"$f":"IF(COUNTIF($CZ41:$DS41,BE$16),BE$16,\"\")","v":""},{"$f":"IF(COUNTIF($CZ41:$DS41,BF$16),BF$16,\"\")","v":""},{"$f":"IF(COUNTIF($CZ41:$DS41,BG$16),BG$16,\"\")","v":58},{"$f":"IF(COUNTIF($CZ41:$DS41,BH$16),BH$16,\"\")","v":""},{"$f":"IF(COUNTIF($CZ41:$DS41,BI$16),BI$16,\"\")","v":""},{"$f":"IF(COUNTIF($CZ41:$DS41,BJ$16),BJ$16,\"\")","v":""},{"$f":"IF(COUNTIF($CZ41:$DS41,BK$16),BK$16,\"\")","v":""},{"$f":"IF(COUNTIF($CZ41:$DS41,BL$16),BL$16,\"\")","v":""},{"$f":"IF(COUNTIF($CZ41:$DS41,BM$16),BM$16,\"\")","v":64},{"$f":"IF(COUNTIF($CZ41:$DS41,BN$16),BN$16,\"\")","v":""},{"$f":"IF(COUNTIF($CZ41:$DS41,BO$16),BO$16,\"\")","v":""},{"$f":"IF(COUNTIF($CZ41:$DS41,BP$16),BP$16,\"\")","v":67},{"$f":"IF(COUNTIF($CZ41:$DS41,BQ$16),BQ$16,\"\")","v":""},{"$f":"IF(COUNTIF($CZ41:$DS41,BR$16),BR$16,\"\")","v":""},{"$f":"IF(COUNTIF($CZ41:$DS41,BS$16),BS$16,\"\")","v":70},{"$f":"IF(COUNTIF($CZ41:$DS41,BT$16),BT$16,\"\")","v":""},{"$f":"IF(COUNTIF($CZ41:$DS41,BU$16),BU$16,\"\")","v":""},{"$f":"IF(COUNTIF($CZ41:$DS41,BV$16),BV$16,\"\")","v":""},{"$f":"IF(COUNTIF($CZ41:$DS41,BW$16),BW$16,\"\")","v":""},{"$f":"IF(COUNTIF($CZ41:$DS41,BX$16),BX$16,\"\")","v":""},{"$f":"IF(COUNTIF($CZ41:$DS41,BY$16),BY$16,\"\")","v":""},{"$f":"IF(COUNTIF($CZ41:$DS41,BZ$16),BZ$16,\"\")","v":""},{"$f":"IF(COUNTIF($CZ41:$DS41,CA$16),CA$16,\"\")","v":""},{"$f":"IF(COUNTIF($CZ41:$DS41,CB$16),CB$16,\"\")","v":""},{"$f":"IF(COUNTIF($CZ41:$DS41,CC$16),CC$16,\"\")","v":""},{"$f":"IF(COUNTIF($CZ41:$DS41,CD$16),CD$16,\"\")","v":""},{"$f":"IF(COUNTIF($CZ41:$DS41,CE$16),CE$16,\"\")","v":""},{"$f":"IF(COUNTIF($CZ41:$DS41,CF$16),CF$16,\"\")","v":""},{"$f":"IF(COUNTIF($CZ41:$DS41,CG$16),CG$16,\"\")","v":84},{"$f":"IF(COUNTIF($CZ41:$DS41,CH$16),CH$16,\"\")","v":""},{"$f":"IF(COUNTIF($CZ41:$DS41,CI$16),CI$16,\"\")","v":86},{"$f":"IF(COUNTIF($CZ41:$DS41,CJ$16),CJ$16,\"\")","v":87},{"$f":"IF(COUNTIF($CZ41:$DS41,CK$16),CK$16,\"\")","v":""},{"$f":"IF(COUNTIF($CZ41:$DS41,CL$16),CL$16,\"\")","v":""},{"$f":"IF(COUNTIF($CZ41:$DS41,CM$16),CM$16,\"\")","v":""},{"$f":"IF(COUNTIF($CZ41:$DS41,CN$16),CN$16,\"\")","v":91},{"$f":"IF(COUNTIF($CZ41:$DS41,CO$16),CO$16,\"\")","v":92},{"$f":"IF(COUNTIF($CZ41:$DS41,CP$16),CP$16,\"\")","v":""},{"$f":"IF(COUNTIF($CZ41:$DS41,CQ$16),CQ$16,\"\")","v":94},{"$f":"IF(COUNTIF($CZ41:$DS41,CR$16),CR$16,\"\")","v":""},{"$f":"IF(COUNTIF($CZ41:$DS41,CS$16),CS$16,\"\")","v":""},{"$f":"IF(COUNTIF($CZ41:$DS41,CT$16),CT$16,\"\")","v":""},{"$f":"IF(COUNTIF($CZ41:$DS41,CU$16),CU$16,\"\")","v":""},{"$f":"IF(COUNTIF($CZ41:$DS41,CV$16),CV$16,\"\")","v":""},{"$f":"IF(COUNTIF($CZ41:$DS41,0),0,\"\")","v":0},25,1845,{"$f":"VLOOKUP($CY41,J!$A$2:$AW$4000,3,FALSE)","v":0},{"$f":"VLOOKUP($CY41,J!$A$2:$AW$4000,4,FALSE)","v":1},{"$f":"VLOOKUP($CY41,J!$A$2:$AW$4000,5,FALSE)","v":12},{"$f":"VLOOKUP($CY41,J!$A$2:$AW$4000,6,FALSE)","v":13},{"$f":"VLOOKUP($CY41,J!$A$2:$AW$4000,7,FALSE)","v":20},{"$f":"VLOOKUP($CY41,J!$A$2:$AW$4000,8,FALSE)","v":32},{"$f":"VLOOKUP($CY41,J!$A$2:$AW$4000,9,FALSE)","v":35},{"$f":"VLOOKUP($CY41,J!$A$2:$AW$4000,10,FALSE)","v":40},{"$f":"VLOOKUP($CY41,J!$A$2:$AW$4000,11,FALSE)","v":48},{"$f":"VLOOKUP($CY41,J!$A$2:$AW$4000,12,FALSE)","v":54},{"$f":"VLOOKUP($CY41,J!$A$2:$AW$4000,13,FALSE)","v":58},{"$f":"VLOOKUP($CY41,J!$A$2:$AW$4000,14,FALSE)","v":64},{"$f":"VLOOKUP($CY41,J!$A$2:$AW$4000,15,FALSE)","v":67},{"$f":"VLOOKUP($CY41,J!$A$2:$AW$4000,16,FALSE)","v":70},{"$f":"VLOOKUP($CY41,J!$A$2:$AW$4000,17,FALSE)","v":84},{"$f":"VLOOKUP($CY41,J!$A$2:$AW$4000,18,FALSE)","v":86},{"$f":"VLOOKUP($CY41,J!$A$2:$AW$4000,19,FALSE)","v":87},{"$f":"VLOOKUP($CY41,J!$A$2:$AW$4000,20,FALSE)","v":91},{"$f":"VLOOKUP($CY41,J!$A$2:$AW$4000,21,FALSE)","v":92},{"$f":"VLOOKUP($CY41,J!$A$2:$AW$4000,22,FALSE)","v":94}]
[null,{"$f":"IF(COUNTIF($CZ42:$DS42,B$16),B$16,\"\")","v":""},{"$f":"IF(COUNTIF($CZ42:$DS42,C$16),C$16,\"\")","v":""},{"$f":"IF(COUNTIF($CZ42:$DS42,D$16),D$16,\"\")","v":""},{"$f":"IF(COUNTIF($CZ42:$DS42,E$16),E$16,\"\")","v":4},{"$f":"IF(COUNTIF($CZ42:$DS42,F$16),F$16,\"\")","v":""},{"$f":"IF(COUNTIF($CZ42:$DS42,G$16),G$16,\"\")","v":""},{"$f":"IF(COUNTIF($CZ42:$DS42,H$16),H$16,\"\")","v":""},{"$f":"IF(COUNTIF($CZ42:$DS42,I$16),I$16,\"\")","v":""},{"$f":"IF(COUNTIF($CZ42:$DS42,J$16),J$16,\"\")","v":9},{"$f":"IF(COUNTIF($CZ42:$DS42,K$16),K$16,\"\")","v":""},{"$f":"IF(COUNTIF($CZ42:$DS42,L$16),L$16,\"\")","v":""},{"$f":"IF(COUNTIF($CZ42:$DS42,M$16),M$16,\"\")","v":""},{"$f":"IF(COUNTIF($CZ42:$DS42,N$16),N$16,\"\")","v":""},{"$f":"IF(COUNTIF($CZ42:$DS42,O$16),O$16,\"\")","v":""},{"$f":"IF(COUNTIF($CZ42:$DS42,P$16),P$16,\"\")","v":""},{"$f":"IF(COUNTIF($CZ42:$DS42,Q$16),Q$16,\"\")","v":16},{"$f":"IF(COUNTIF($CZ42:$DS42,R$16),R$16,\"\")","v":""},{"$f":"IF(COUNTIF($CZ42:$DS42,S$16),S$16,\"\")","v":""},{"$f":"IF(COUNTIF($CZ42:$DS42,T$16),T$16,\"\")","v":""},{"$f":"IF(COUNTIF($CZ42:$DS42,U$16),U$16,\"\")","v":20},{"$f":"IF(COUNTIF($CZ42:$DS42,V$16),V$16,\"\")","v":21},{"$f":"IF(COUNTIF($CZ42:$DS42,W$16),W$16,\"\")","v":""},{"$f":"IF(COUNTIF($CZ42:$DS42,X$16),X$16,\"\")","v":""},{"$f":"IF(COUNTIF($CZ42:$DS42,Y$16),Y$16,\"\")","v":""},{"$f":"IF(COUNTIF($CZ42:$DS42,Z$16),Z$16,\"\")","v":""},{"$f":"IF(COUNTIF($CZ42:$DS42,AA$16),AA$16,\"\")","v":""},{"$f":"IF(COUNTIF($CZ42:$DS42,AB$16),AB$16,\"\")","v":""},{"$f":"IF(COUNTIF($CZ42:$DS42,AC$16),AC$16,\"\")","v":""},{"$f":"IF(COUNTIF($CZ42:$DS42,AD$16),AD$16,\"\")","v":""},{"$f":"IF(COUNTIF($CZ42:$DS42,AE$16),AE$16,\"\")","v":""},{"$f":"IF(COUNTIF($CZ42:$DS42,AF$16),AF$16,\"\")","v":31},{"$f":"IF(COUNTIF($CZ42:$DS42,AG$16),AG$16,\"\")","v":""},{"$f":"IF(COUNTIF($CZ42:$DS42,AH$16),AH$16,\"\")","v":""},{"$f":"IF(COUNTIF($CZ42:$DS42,AI$16),AI$16,\"\")","v":""},{"$f":"IF(COUNTIF($CZ42:$DS42,AJ$16),AJ$16,\"\")","v":35},{"$f":"IF(COUNTIF($CZ42:$DS42,AK$16),AK$16,\"\")","v":""},{"$f":"IF(COUNTIF($CZ42:$DS42,AL$16),AL$16,\"\")","v":""},{"$f":"IF(COUNTIF($CZ42:$DS42,AM$16),AM$16,\"\")","v":38},{"$f":"IF(COUNTIF($CZ42:$DS42,AN$16),AN$16,\"\")","v":39},{"$f":"IF(COUNTIF($CZ42:$DS42,AO$16),AO$16,\"\")","v":""},{"$f":"IF(COUNTIF($CZ42:$DS42,AP$16),AP$16,\"\")","v":""},{"$f":"IF(COUNTIF($CZ42:$DS42,AQ$16),AQ$16,\"\")","v":""},{"$f":"IF(COUNTIF($CZ42:$DS42,AR$16),AR$16,\"\")","v":43},{"$f":"IF(COUNTIF($CZ42:$DS42,AS$16),AS$16,\"\")","v":""},{"$f":"IF(COUNTIF($CZ42:$DS42,AT$16),AT$16,\"\")","v":""},{"$f":"IF(COUNTIF($CZ42:$DS42,AU$16),AU$16,\"\")","v":""},{"$f":"IF(COUNTIF($CZ42:$DS42,AV$16),AV$16,\"\")","v":""},{"$f":"IF(COUNTIF($CZ42:$DS42,AW$16),AW$16,\"\")","v":""},{"$f":"IF(COUNTIF($CZ42:$DS42,AX$16),AX$16,\"\")","v":""},{"$f":"IF(COUNTIF($CZ42:$DS42,AY$16),AY$16,\"\")","v":""},{"$f":"IF(COUNTIF($CZ42:$DS42,AZ$16),AZ$16,\"\")","v":""},{"$f":"IF(COUNTIF($CZ42:$DS42,BA$16),BA$16,\"\")","v":""},{"$f":"IF(COUNTIF($CZ42:$DS42,BB$16),BB$16,\"\")","v":53},{"$f":"IF(COUNTIF($CZ42:$DS42,BC$16),BC$16,\"\")","v":""},{"$f":"IF(COUNTIF($CZ42:$DS42,BD$16),BD$16,\"\")","v":""},{"$f":"IF(COUNTIF($CZ42:$DS42,BE$16),BE$16,\"\")","v":""},{"$f":"IF(COUNTIF($CZ42:$DS42,BF$16),BF$16,\"\")","v":""},{"$f":"IF(COUNTIF($CZ42:$DS42,BG$16),BG$16,\"\")","v":""},{"$f":"IF(COUNTIF($CZ42:$DS42,BH$16),BH$16,\"\")","v":""},{"$f":"IF(COUNTIF($CZ42:$DS42,BI$16),BI$16,\"\")","v":""},{"$f":"IF(COUNTIF($CZ42:$DS42,BJ$16),BJ$16,\"\")","v":""},{"$f":"IF(COUNTIF($CZ42:$DS42,BK$16),BK$16,\"\")","v":""},{"$f":"IF(COUNTIF($CZ42:$DS42,BL$16),BL$16,\"\")","v":""},{"$f":"IF(COUNTIF($CZ42:$DS42,BM$16),BM$16,\"\")","v":""},{"$f":"IF(COUNTIF($CZ42:$DS42,BN$16),BN$16,\"\")","v":""},{"$f":"IF(COUNTIF($CZ42:$DS42,BO$16),BO$16,\"\")","v":""},{"$f":"IF(COUNTIF($CZ42:$DS42,BP$16),BP$16,\"\")","v":""},{"$f":"IF(COUNTIF($CZ42:$DS42,BQ$16),BQ$16,\"\")","v":""},{"$f":"IF(COUNTIF($CZ42:$DS42,BR$16),BR$16,\"\")","v":""},{"$f":"IF(COUNTIF($CZ42:$DS42,BS$16),BS$16,\"\")","v":""},{"$f":"IF(COUNTIF($CZ42:$DS42,BT$16),BT$16,\"\")","v":71},{"$f":"IF(COUNTIF($CZ42:$DS42,BU$16),BU$16,\"\")","v":72},{"$f":"IF(COUNTIF($CZ42:$DS42,BV$16),BV$16,\"\")","v":""},{"$f":"IF(COUNTIF($CZ42:$DS42,BW$16),BW$16,\"\")","v":74},{"$f":"IF(COUNTIF($CZ42:$DS42,BX$16),BX$16,\"\")","v":""},{"$f":"IF(COUNTIF($CZ42:$DS42,BY$16),BY$16,\"\")","v":""},{"$f":"IF(COUNTIF($CZ42:$DS42,BZ$16),BZ$16,\"\")","v":""},{"$f":"IF(COUNTIF($CZ42:$DS42,CA$16),CA$16,\"\")","v":""},{"$f":"IF(COUNTIF($CZ42:$DS42,CB$16),CB$16,\"\")","v":""},{"$f":"IF(COUNTIF($CZ42:$DS42,CC$16),CC$16,\"\")","v":80},{"$f":"IF(COUNTIF($CZ42:$DS42,CD$16),CD$16,\"\")","v":""},{"$f":"IF(COUNTIF($CZ42:$DS42,CE$16),CE$16,\"\")","v":""},{"$f":"IF(COUNTIF($CZ42:$DS42,CF$16),CF$16,\"\")","v":""},{"$f":"IF(COUNTIF($CZ42:$DS42,CG$16),CG$16,\"\")","v":""},{"$f":"IF(COUNTIF($CZ42:$DS42,CH$16),CH$16,\"\")","v":""},{"$f":"IF(COUNTIF($CZ42:$DS42,CI$16),CI$16,\"\")","v":""},{"$f":"IF(COUNTIF($CZ42:$DS42,CJ$16),CJ$16,\"\")","v":""},{"$f":"IF(COUNTIF($CZ42:$DS42,CK$16),CK$16,\"\")","v":""},{"$f":"IF(COUNTIF($CZ42:$DS42,CL$16),CL$16,\"\")","v":""},{"$f":"IF(COUNTIF($CZ42:$DS42,CM$16),CM$16,\"\")","v":""},{"$f":"IF(COUNTIF($CZ42:$DS42,CN$16),CN$16,\"\")","v":91},{"$f":"IF(COUNTIF($CZ42:$DS42,CO$16),CO$16,\"\")","v":92},{"$f":"IF(COUNTIF($CZ42:$DS42,CP$16),CP$16,\"\")","v":93},{"$f":"IF(COUNTIF($CZ42:$DS42,CQ$16),CQ$16,\"\")","v":94},{"$f":"IF(COUNTIF($CZ42:$DS42,CR$16),CR$16,\"\")","v":""},{"$f":"IF(COUNTIF($CZ42:$DS42,CS$16),CS$16,\"\")","v":""},{"$f":"IF(COUNTIF($CZ42:$DS42,CT$16),CT$16,\"\")","v":""},{"$f":"IF(COUNTIF($CZ42:$DS42,CU$16),CU$16,\"\")","v":""},{"$f":"IF(COUNTIF($CZ42:$DS42,CV$16),CV$16,\"\")","v":""},{"$f":"IF(COUNTIF($CZ42:$DS42,0),0,\"\")","v":0},26,1844,{"$f":"VLOOKUP($CY42,J!$A$2:$AW$4000,3,FALSE)","v":0},{"$f":"VLOOKUP($CY42,J!$A$2:$AW$4000,4,FALSE)","v":4},{"$f":"VLOOKUP($CY42,J!$A$2:$AW$4000,5,FALSE)","v":9},{"$f":"VLOOKUP($CY42,J!$A$2:$AW$4000,6,FALSE)","v":16},{"$f":"VLOOKUP($CY42,J!$A$2:$AW$4000,7,FALSE)","v":20},{"$f":"VLOOKUP($CY42,J!$A$2:$AW$4000,8,FALSE)","v":21},{"$f":"VLOOKUP($CY42,J!$A$2:$AW$4000,9,FALSE)","v":31},{"$f":"VLOOKUP($CY42,J!$A$2:$AW$4000,10,FALSE)","v":35},{"$f":"VLOOKUP($CY42,J!$A$2:$AW$4000,11,FALSE)","v":38},{"$f":"VLOOKUP($CY42,J!$A$2:$AW$4000,12,FALSE)","v":39},{"$f":"VLOOKUP($CY42,J!$A$2:$AW$4000,13,FALSE)","v":43},{"$f":"VLOOKUP($CY42,J!$A$2:$AW$4000,14,FALSE)","v":53},{"$f":"VLOOKUP($CY42,J!$A$2:$AW$4000,15,FALSE)","v":71},{"$f":"VLOOKUP($CY42,J!$A$2:$AW$4000,16,FALSE)","v":72},{"$f":"VLOOKUP($CY42,J!$A$2:$AW$4000,17,FALSE)","v":74},{"$f":"VLOOKUP($CY42,J!$A$2:$AW$4000,18,FALSE)","v":80},{"$f":"VLOOKUP($CY42,J!$A$2:$AW$4000,19,FALSE)","v":91},{"$f":"VLOOKUP($CY42,J!$A$2:$AW$4000,20,FALSE)","v":92},{"$f":"VLOOKUP($CY42,J!$A$2:$AW$4000,21,FALSE)","v":93},{"$f":"VLOOKUP($CY42,J!$A$2:$AW$4000,22,FALSE)","v":94}]
[null,{"$f":"IF(COUNTIF($CZ43:$DS43,B$16),B$16,\"\")","v":1},{"$f":"IF(COUNTIF($CZ43:$DS43,C$16),C$16,\"\")","v":""},{"$f":"IF(COUNTIF($CZ43:$DS43,D$16),D$16,\"\")","v":""},{"$f":"IF(COUNTIF($CZ43:$DS43,E$16),E$16,\"\")","v":""},{"$f":"IF(COUNTIF($CZ43:$DS43,F$16),F$16,\"\")","v":""},{"$f":"IF(COUNTIF($CZ43:$DS43,G$16),G$16,\"\")","v":""},{"$f":"IF(COUNTIF($CZ43:$DS43,H$16),H$16,\"\")","v":""},{"$f":"IF(COUNTIF($CZ43:$DS43,I$16),I$16,\"\")","v":""},{"$f":"IF(COUNTIF($CZ43:$DS43,J$16),J$16,\"\")","v":""},{"$f":"IF(COUNTIF($CZ43:$DS43,K$16),K$16,\"\")","v":""},{"$f":"IF(COUNTIF($CZ43:$DS43,L$16),L$16,\"\")","v":""},{"$f":"IF(COUNTIF($CZ43:$DS43,M$16),M$16,\"\")","v":12},{"$f":"IF(COUNTIF($CZ43:$DS43,N$16),N$16,\"\")","v":13},{"$f":"IF(COUNTIF($CZ43:$DS43,O$16),O$16,\"\")","v":""},{"$f":"IF(COUNTIF($CZ43:$DS43,P$16),P$16,\"\")","v":""},{"$f":"IF(COUNTIF($CZ43:$DS43,Q$16),Q$16,\"\")","v":16},{"$f":"IF(COUNTIF($CZ43:$DS43,R$16),R$16,\"\")","v":""},{"$f":"IF(COUNTIF($CZ43:$DS43,S$16),S$16,\"\")","v":""},{"$f":"IF(COUNTIF($CZ43:$DS43,T$16),T$16,\"\")","v":""},{"$f":"IF(COUNTIF($CZ43:$DS43,U$16),U$16,\"\")","v":""},{"$f":"IF(COUNTIF($CZ43:$DS43,V$16),V$16,\"\")","v":""},{"$f":"IF(COUNTIF($CZ43:$DS43,W$16),W$16,\"\")","v":""},{"$f":"IF(COUNTIF($CZ43:$DS43,X$16),X$16,\"\")","v":""},{"$f":"IF(COUNTIF($CZ43:$DS43,Y$16),Y$16,\"\")","v":""},{"$f":"IF(COUNTIF($CZ43:$DS43,Z$16),Z$16,\"\")","v":""},{"$f":"IF(COUNTIF($CZ43:$DS43,AA$16),AA$16,\"\")","v":""},{"$f":"IF(COUNTIF($CZ43:$DS43,AB$16),AB$16,\"\")","v":""},{"$f":"IF(COUNTIF($CZ43:$DS43,AC$16),AC$16,\"\")","v":28},{"$f":"IF(COUNTIF($CZ43:$DS43,AD$16),AD$16,\"\")","v":""},{"$f":"IF(COUNTIF($CZ43:$DS43,AE$16),AE$16,\"\")","v":30},{"$f":"IF(COUNTIF($CZ43:$DS43,AF$16),AF$16,\"\")","v":""},{"$f":"IF(COUNTIF($CZ43:$DS43,AG$16),AG$16,\"\")","v":""},{"$f":"IF(COUNTIF($CZ43:$DS43,AH$16),AH$16,\"\")","v":""},{"$f":"IF(COUNTIF($CZ43:$DS43,AI$16),AI$16,\"\")","v":""},{"$f":"IF(COUNTIF($CZ43:$DS43,AJ$16),AJ$16,\"\")","v":35},{"$f":"IF(COUNTIF($CZ43:$DS43,AK$16),AK$16,\"\")","v":36},{"$f":"IF(COUNTIF($CZ43:$DS43,AL$16),AL$16,\"\")","v":""},{"$f":"IF(COUNTIF($CZ43:$DS43,AM$16),AM$16,\"\")","v":38},{"$f":"IF(COUNTIF($CZ43:$DS43,AN$16),AN$16,\"\")","v":""},{"$f":"IF(COUNTIF($CZ43:$DS43,AO$16),AO$16,\"\")","v":40},{"$f":"IF(COUNTIF($CZ43:$DS43,AP$16),AP$16,\"\")","v":41},{"$f":"IF(COUNTIF($CZ43:$DS43,AQ$16),AQ$16,\"\")","v":""},{"$f":"IF(COUNTIF($CZ43:$DS43,AR$16),AR$16,\"\")","v":""},{"$f":"IF(COUNTIF($CZ43:$DS43,AS$16),AS$16,\"\")","v":44},{"$f":"IF(COUNTIF($CZ43:$DS43,AT$16),AT$16,\"\")","v":""},{"$f":"IF(COUNTIF($CZ43:$DS43,AU$16),AU$16,\"\")","v":46},{"$f":"IF(COUNTIF($CZ43:$DS43,AV$16),AV$16,\"\")","v":""},{"$f":"IF(COUNTIF($CZ43:$DS43,AW$16),AW$16,\"\")","v":""},{"$f":"IF(COUNTIF($CZ43:$DS43,AX$16),AX$16,\"\")","v":""},{"$f":"IF(COUNTIF($CZ43:$DS43,AY$16),AY$16,\"\")","v":""},{"$f":"IF(COUNTIF($CZ43:$DS43,AZ$16),AZ$16,\"\")","v":""},{"$f":"IF(COUNTIF($CZ43:$DS43,BA$16),BA$16,\"\")","v":""},{"$f":"IF(COUNTIF($CZ43:$DS43,BB$16),BB$16,\"\")","v":""},{"$f":"IF(COUNTIF($CZ43:$DS43,BC$16),BC$16,\"\")","v":""},{"$f":"IF(COUNTIF($CZ43:$DS43,BD$16),BD$16,\"\")","v":""},{"$f":"IF(COUNTIF($CZ43:$DS43,BE$16),BE$16,\"\")","v":56},{"$f":"IF(COUNTIF($CZ43:$DS43,BF$16),BF$16,\"\")","v":""},{"$f":"IF(COUNTIF($CZ43:$DS43,BG$16),BG$16,\"\")","v":""},{"$f":"IF(COUNTIF($CZ43:$DS43,BH$16),BH$16,\"\")","v":""},{"$f":"IF(COUNTIF($CZ43:$DS43,BI$16),BI$16,\"\")","v":""},{"$f":"IF(COUNTIF($CZ43:$DS43,BJ$16),BJ$16,\"\")","v":""},{"$f":"IF(COUNTIF($CZ43:$DS43,BK$16),BK$16,\"\")","v":""},{"$f":"IF(COUNTIF($CZ43:$DS43,BL$16),BL$16,\"\")","v":""},{"$f":"IF(COUNTIF($CZ43:$DS43,BM$16),BM$16,\"\")","v":64},{"$f":"IF(COUNTIF($CZ43:$DS43,BN$16),BN$16,\"\")","v":""},{"$f":"IF(COUNTIF($CZ43:$DS43,BO$16),BO$16,\"\")","v":""},{"$f":"IF(COUNTIF($CZ43:$DS43,BP$16),BP$16,\"\")","v":""},{"$f":"IF(COUNTIF($CZ43:$DS43,BQ$16),BQ$16,\"\")","v":""},{"$f":"IF(COUNTIF($CZ43:$DS43,BR$16),BR$16,\"\")","v":""},{"$f":"IF(COUNTIF($CZ43:$DS43,BS$16),BS$16,\"\")","v":""},{"$f":"IF(COUNTIF($CZ43:$DS43,BT$16),BT$16,\"\")","v":""},{"$f":"IF(COUNTIF($CZ43:$DS43,BU$16),BU$16,\"\")","v":72},{"$f":"IF(COUNTIF($CZ43:$DS43,BV$16),BV$16,\"\")","v":""},{"$f":"IF(COUNTIF($CZ43:$DS43,BW$16),BW$16,\"\")","v":""},{"$f":"IF(COUNTIF($CZ43:$DS43,BX$16),BX$16,\"\")","v":""},{"$f":"IF(COUNTIF($CZ43:$DS43,BY$16),BY$16,\"\")","v":""},{"$f":"IF(COUNTIF($CZ43:$DS43,BZ$16),BZ$16,\"\")","v":""},{"$f":"IF(COUNTIF($CZ43:$DS43,CA$16),CA$16,\"\")","v":""},{"$f":"IF(COUNTIF($CZ43:$DS43,CB$16),CB$16,\"\")","v":""},{"$f":"IF(COUNTIF($CZ43:$DS43,CC$16),CC$16,\"\")","v":""},{"$f":"IF(COUNTIF($CZ43:$DS43,CD$16),CD$16,\"\")","v":""},{"$f":"IF(COUNTIF($CZ43:$DS43,CE$16),CE$16,\"\")","v":82},{"$f":"IF(COUNTIF($CZ43:$DS43,CF$16),CF$16,\"\")","v":""},{"$f":"IF(COUNTIF($CZ43:$DS43,CG$16),CG$16,\"\")","v":""},{"$f":"IF(COUNTIF($CZ43:$DS43,CH$16),CH$16,\"\")","v":""},{"$f":"IF(COUNTIF($CZ43:$DS43,CI$16),CI$16,\"\")","v":""},{"$f":"IF(COUNTIF($CZ43:$DS43,CJ$16),CJ$16,\"\")","v":""},{"$f":"IF(COUNTIF($CZ43:$DS43,CK$16),CK$16,\"\")","v":""},{"$f":"IF(COUNTIF($CZ43:$DS43,CL$16),CL$16,\"\")","v":89},{"$f":"IF(COUNTIF($CZ43:$DS43,CM$16),CM$16,\"\")","v":""},{"$f":"IF(COUNTIF($CZ43:$DS43,CN$16),CN$16,\"\")","v":""},{"$f":"IF(COUNTIF($CZ43:$DS43,CO$16),CO$16,\"\")","v":""},{"$f":"IF(COUNTIF($CZ43:$DS43,CP$16),CP$16,\"\")","v":""},{"$f":"IF(COUNTIF($CZ43:$DS43,CQ$16),CQ$16,\"\")","v":""},{"$f":"IF(COUNTIF($CZ43:$DS43,CR$16),CR$16,\"\")","v":""},{"$f":"IF(COUNTIF($CZ43:$DS43,CS$16),CS$16,\"\")","v":""},{"$f":"IF(COUNTIF($CZ43:$DS43,CT$16),CT$16,\"\")","v":""},{"$f":"IF(COUNTIF($CZ43:$DS43,CU$16),CU$16,\"\")","v":98},{"$f":"IF(COUNTIF($CZ43:$DS43,CV$16),CV$16,\"\")","v":""},{"$f":"IF(COUNTIF($CZ43:$DS43,0),0,\"\")","v":0},27,1843,{"$f":"VLOOKUP($CY43,J!$A$2:$AW$4000,3,FALSE)","v":0},{"$f":"VLOOKUP($CY43,J!$A$2:$AW$4000,4,FALSE)","v":1},{"$f":"VLOOKUP($CY43,J!$A$2:$AW$4000,5,FALSE)","v":12},{"$f":"VLOOKUP($CY43,J!$A$2:$AW$4000,6,FALSE)","v":13},{"$f":"VLOOKUP($CY43,J!$A$2:$AW$4000,7,FALSE)","v":16},{"$f":"VLOOKUP($CY43,J!$A$2:$AW$4000,8,FALSE)","v":28},{"$f":"VLOOKUP($CY43,J!$A$2:$AW$4000,9,FALSE)","v":30},{"$f":"VLOOKUP($CY43,J!$A$2:$AW$4000,10,FALSE)","v":35},{"$f":"VLOOKUP($CY43,J!$A$2:$AW$4000,11,FALSE)","v":36},{"$f":"VLOOKUP($CY43,J!$A$2:$AW$4000,12,FALSE)","v":38},{"$f":"VLOOKUP($CY43,J!$A$2:$AW$4000,13,FALSE)","v":40},{"$f":"VLOOKUP($CY43,J!$A$2:$AW$4000,14,FALSE)","v":41},{"$f":"VLOOKUP($CY43,J!$A$2:$AW$4000,15,FALSE)","v":44},{"$f":"VLOOKUP($CY43,J!$A$2:$AW$4000,16,FALSE)","v":46},{"$f":"VLOOKUP($CY43,J!$A$2:$AW$4000,17,FALSE)","v":56},{"$f":"VLOOKUP($CY43,J!$A$2:$AW$4000,18,FALSE)","v":64},{"$f":"VLOOKUP($CY43,J!$A$2:$AW$4000,19,FALSE)","v":72},{"$f":"VLOOKUP($CY43,J!$A$2:$AW$4000,20,FALSE)","v":82},{"$f":"VLOOKUP($CY43,J!$A$2:$AW$4000,21,FALSE)","v":89},{"$f":"VLOOKUP($CY43,J!$A$2:$AW$4000,22,FALSE)","v":98}]
[null,{"$f":"IF(COUNTIF($CZ44:$DS44,B$16),B$16,\"\")","v":""},{"$f":"IF(COUNTIF($CZ44:$DS44,C$16),C$16,\"\")","v":""},{"$f":"IF(COUNTIF($CZ44:$DS44,D$16),D$16,\"\")","v":""},{"$f":"IF(COUNTIF($CZ44:$DS44,E$16),E$16,\"\")","v":""},{"$f":"IF(COUNTIF($CZ44:$DS44,F$16),F$16,\"\")","v":""},{"$f":"IF(COUNTIF($CZ44:$DS44,G$16),G$16,\"\")","v":6},{"$f":"IF(COUNTIF($CZ44:$DS44,H$16),H$16,\"\")","v":""},{"$f":"IF(COUNTIF($CZ44:$DS44,I$16),I$16,\"\")","v":""},{"$f":"IF(COUNTIF($CZ44:$DS44,J$16),J$16,\"\")","v":""},{"$f":"IF(COUNTIF($CZ44:$DS44,K$16),K$16,\"\")","v":10},{"$f":"IF(COUNTIF($CZ44:$DS44,L$16),L$16,\"\")","v":""},{"$f":"IF(COUNTIF($CZ44:$DS44,M$16),M$16,\"\")","v":12},{"$f":"IF(COUNTIF($CZ44:$DS44,N$16),N$16,\"\")","v":""},{"$f":"IF(COUNTIF($CZ44:$DS44,O$16),O$16,\"\")","v":14},{"$f":"IF(COUNTIF($CZ44:$DS44,P$16),P$16,\"\")","v":""},{"$f":"IF(COUNTIF($CZ44:$DS44,Q$16),Q$16,\"\")","v":""},{"$f":"IF(COUNTIF($CZ44:$DS44,R$16),R$16,\"\")","v":""},{"$f":"IF(COUNTIF($CZ44:$DS44,S$16),S$16,\"\")","v":""},{"$f":"IF(COUNTIF($CZ44:$DS44,T$16),T$16,\"\")","v":19},{"$f":"IF(COUNTIF($CZ44:$DS44,U$16),U$16,\"\")","v":20},{"$f":"IF(COUNTIF($CZ44:$DS44,V$16),V$16,\"\")","v":""},{"$f":"IF(COUNTIF($CZ44:$DS44,W$16),W$16,\"\")","v":""},{"$f":"IF(COUNTIF($CZ44:$DS44,X$16),X$16,\"\")","v":""},{"$f":"IF(COUNTIF($CZ44:$DS44,Y$16),Y$16,\"\")","v":""},{"$f":"IF(COUNTIF($CZ44:$DS44,Z$16),Z$16,\"\")","v":""},{"$f":"IF(COUNTIF($CZ44:$DS44,AA$16),AA$16,\"\")","v":26},{"$f":"IF(COUNTIF($CZ44:$DS44,AB$16),AB$16,\"\")","v":""},{"$f":"IF(COUNTIF($CZ44:$DS44,AC$16),AC$16,\"\")","v":""},{"$f":"IF(COUNTIF($CZ44:$DS44,AD$16),AD$16,\"\")","v":""},{"$f":"IF(COUNTIF($CZ44:$DS44,AE$16),AE$16,\"\")","v":""},{"$f":"IF(COUNTIF($CZ44:$DS44,AF$16),AF$16,\"\")","v":""},{"$f":"IF(COUNTIF($CZ44:$DS44,AG$16),AG$16,\"\")","v":32},{"$f":"IF(COUNTIF($CZ44:$DS44,AH$16),AH$16,\"\")","v":33},{"$f":"IF(COUNTIF($CZ44:$DS44,AI$16),AI$16,\"\")","v":""},{"$f":"IF(COUNTIF($CZ44:$DS44,AJ$16),AJ$16,\"\")","v":""},{"$f":"IF(COUNTIF($CZ44:$DS44,AK$16),AK$16,\"\")","v":36},{"$f":"IF(COUNTIF($CZ44:$DS44,AL$16),AL$16,\"\")","v":""},{"$f":"IF(COUNTIF($CZ44:$DS44,AM$16),AM$16,\"\")","v":38},{"$f":"IF(COUNTIF($CZ44:$DS44,AN$16),AN$16,\"\")","v":""},{"$f":"IF(COUNTIF($CZ44:$DS44,AO$16),AO$16,\"\")","v":""},{"$f":"IF(COUNTIF($CZ44:$DS44,AP$16),AP$16,\"\")","v":""},{"$f":"IF(COUNTIF($CZ44:$DS44,AQ$16),AQ$16,\"\")","v":""},{"$f":"IF(COUNTIF($CZ44:$DS44,AR$16),AR$16,\"\")","v":""},{"$f":"IF(COUNTIF($CZ44:$DS44,AS$16),AS$16,\"\")","v":""},{"$f":"IF(COUNTIF($CZ44:$DS44,AT$16),AT$16,\"\")","v":""},{"$f":"IF(COUNTIF($CZ44:$DS44,AU$16),AU$16,\"\")","v":46},{"$f":"IF(COUNTIF($CZ44:$DS44,AV$16),AV$16,\"\")","v":""},{"$f":"IF(COUNTIF($CZ44:$DS44,AW$16),AW$16,\"\")","v":""},{"$f":"IF(COUNTIF($CZ44:$DS44,AX$16),AX$16,\"\")","v":""},{"$f":"IF(COUNTIF($CZ44:$DS44,AY$16),AY$16,\"\")","v":""},{"$f":"IF(COUNTIF($CZ44:$DS44,AZ$16),AZ$16,\"\")","v":""},{"$f":"IF(COUNTIF($CZ44:$DS44,BA$16),BA$16,\"\")","v":""},{"$f":"IF(COUNTIF($CZ44:$DS44,BB$16),BB$16,\"\")","v":""},{"$f":"IF(COUNTIF($CZ44:$DS44,BC$16),BC$16,\"\")","v":""},{"$f":"IF(COUNTIF($CZ44:$DS44,BD$16),BD$16,\"\")","v":55},{"$f":"IF(COUNTIF($CZ44:$DS44,BE$16),BE$16,\"\")","v":""},{"$f":"IF(COUNTIF($CZ44:$DS44,BF$16),BF$16,\"\")","v":""},{"$f":"IF(COUNTIF($CZ44:$DS44,BG$16),BG$16,\"\")","v":""},{"$f":"IF(COUNTIF($CZ44:$DS44,BH$16),BH$16,\"\")","v":""},{"$f":"IF(COUNTIF($CZ44:$DS44,BI$16),BI$16,\"\")","v":""},{"$f":"IF(COUNTIF($CZ44:$DS44,BJ$16),BJ$16,\"\")","v":""},{"$f":"IF(COUNTIF($CZ44:$DS44,BK$16),BK$16,\"\")","v":62},{"$f":"IF(COUNTIF($CZ44:$DS44,BL$16),BL$16,\"\")","v":""},{"$f":"IF(COUNTIF($CZ44:$DS44,BM$16),BM$16,\"\")","v":""},{"$f":"IF(COUNTIF($CZ44:$DS44,BN$16),BN$16,\"\")","v":65},{"$f":"IF(COUNTIF($CZ44:$DS44,BO$16),BO$16,\"\")","v":""},{"$f":"IF(COUNTIF($CZ44:$DS44,BP$16),BP$16,\"\")","v":""},{"$f":"IF(COUNTIF($CZ44:$DS44,BQ$16),BQ$16,\"\")","v":""},{"$f":"IF(COUNTIF($CZ44:$DS44,BR$16),BR$16,\"\")","v":""},{"$f":"IF(COUNTIF($CZ44:$DS44,BS$16),BS$16,\"\")","v":""},{"$f":"IF(COUNTIF($CZ44:$DS44,BT$16),BT$16,\"\")","v":""},{"$f":"IF(COUNTIF($CZ44:$DS44,BU$16),BU$16,\"\")","v":""},{"$f":"IF(COUNTIF($CZ44:$DS44,BV$16),BV$16,\"\")","v":""},{"$f":"IF(COUNTIF($CZ44:$DS44,BW$16),BW$16,\"\")","v":74},{"$f":"IF(COUNTIF($CZ44:$DS44,BX$16),BX$16,\"\")","v":""},{"$f":"IF(COUNTIF($CZ44:$DS44,BY$16),BY$16,\"\")","v":""},{"$f":"IF(COUNTIF($CZ44:$DS44,BZ$16),BZ$16,\"\")","v":""},{"$f":"IF(COUNTIF($CZ44:$DS44,CA$16),CA$16,\"\")","v":78},{"$f":"IF(COUNTIF($CZ44:$DS44,CB$16),CB$16,\"\")","v":""},{"$f":"IF(COUNTIF($CZ44:$DS44,CC$16),CC$16,\"\")","v":""},{"$f":"IF(COUNTIF($CZ44:$DS44,CD$16),CD$16,\"\")","v":""},{"$f":"IF(COUNTIF($CZ44:$DS44,CE$16),CE$16,\"\")","v":""},{"$f":"IF(COUNTIF($CZ44:$DS44,CF$16),CF$16,\"\")","v":""},{"$f":"IF(COUNTIF($CZ44:$DS44,CG$16),CG$16,\"\")","v":""},{"$f":"IF(COUNTIF($CZ44:$DS44,CH$16),CH$16,\"\")","v":85},{"$f":"IF(COUNTIF($CZ44:$DS44,CI$16),CI$16,\"\")","v":""},{"$f":"IF(COUNTIF($CZ44:$DS44,CJ$16),CJ$16,\"\")","v":""},{"$f":"IF(COUNTIF($CZ44:$DS44,CK$16),CK$16,\"\")","v":""},{"$f":"IF(COUNTIF($CZ44:$DS44,CL$16),CL$16,\"\")","v":""},{"$f":"IF(COUNTIF($CZ44:$DS44,CM$16),CM$16,\"\")","v":""},{"$f":"IF(COUNTIF($CZ44:$DS44,CN$16),CN$16,\"\")","v":""},{"$f":"IF(COUNTIF($CZ44:$DS44,CO$16),CO$16,\"\")","v":""},{"$f":"IF(COUNTIF($CZ44:$DS44,CP$16),CP$16,\"\")","v":93},{"$f":"IF(COUNTIF($CZ44:$DS44,CQ$16),CQ$16,\"\")","v":""},{"$f":"IF(COUNTIF($CZ44:$DS44,CR$16),CR$16,\"\")","v":95},{"$f":"IF(COUNTIF($CZ44:$DS44,CS$16),CS$16,\"\")","v":""},{"$f":"IF(COUNTIF($CZ44:$DS44,CT$16),CT$16,\"\")","v":""},{"$f":"IF(COUNTIF($CZ44:$DS44,CU$16),CU$16,\"\")","v":""},{"$f":"IF(COUNTIF($CZ44:$DS44,CV$16),CV$16,\"\")","v":""},{"$f":"IF(COUNTIF($CZ44:$DS44,0),0,\"\")","v":""},28,1842,{"$f":"VLOOKUP($CY44,J!$A$2:$AW$4000,3,FALSE)","v":6},{"$f":"VLOOKUP($CY44,J!$A$2:$AW$4000,4,FALSE)","v":10},{"$f":"VLOOKUP($CY44,J!$A$2:$AW$4000,5,FALSE)","v":12},{"$f":"VLOOKUP($CY44,J!$A$2:$AW$4000,6,FALSE)","v":14},{"$f":"VLOOKUP($CY44,J!$A$2:$AW$4000,7,FALSE)","v":19},{"$f":"VLOOKUP($CY44,J!$A$2:$AW$4000,8,FALSE)","v":20},{"$f":"VLOOKUP($CY44,J!$A$2:$AW$4000,9,FALSE)","v":26},{"$f":"VLOOKUP($CY44,J!$A$2:$AW$4000,10,FALSE)","v":32},{"$f":"VLOOKUP($CY44,J!$A$2:$AW$4000,11,FALSE)","v":33},{"$f":"VLOOKUP($CY44,J!$A$2:$AW$4000,12,FALSE)","v":36},{"$f":"VLOOKUP($CY44,J!$A$2:$AW$4000,13,FALSE)","v":38},{"$f":"VLOOKUP($CY44,J!$A$2:$AW$4000,14,FALSE)","v":46},{"$f":"VLOOKUP($CY44,J!$A$2:$AW$4000,15,FALSE)","v":55},{"$f":"VLOOKUP($CY44,J!$A$2:$AW$4000,16,FALSE)","v":62},{"$f":"VLOOKUP($CY44,J!$A$2:$AW$4000,17,FALSE)","v":65},{"$f":"VLOOKUP($CY44,J!$A$2:$AW$4000,18,FALSE)","v":74},{"$f":"VLOOKUP($CY44,J!$A$2:$AW$4000,19,FALSE)","v":78},{"$f":"VLOOKUP($CY44,J!$A$2:$AW$4000,20,FALSE)","v":85},{"$f":"VLOOKUP($CY44,J!$A$2:$AW$4000,21,FALSE)","v":93},{"$f":"VLOOKUP($CY44,J!$A$2:$AW$4000,22,FALSE)","v":95}]
[null,{"$f":"IF(COUNTIF($CZ45:$DS45,B$16),B$16,\"\")","v":""},{"$f":"IF(COUNTIF($CZ45:$DS45,C$16),C$16,\"\")","v":""},{"$f":"IF(COUNTIF($CZ45:$DS45,D$16),D$16,\"\")","v":3},{"$f":"IF(COUNTIF($CZ45:$DS45,E$16),E$16,\"\")","v":""},{"$f":"IF(COUNTIF($CZ45:$DS45,F$16),F$16,\"\")","v":""},{"$f":"IF(COUNTIF($CZ45:$DS45,G$16),G$16,\"\")","v":6},{"$f":"IF(COUNTIF($CZ45:$DS45,H$16),H$16,\"\")","v":""},{"$f":"IF(COUNTIF($CZ45:$DS45,I$16),I$16,\"\")","v":""},{"$f":"IF(COUNTIF($CZ45:$DS45,J$16),J$16,\"\")","v":""},{"$f":"IF(COUNTIF($CZ45:$DS45,K$16),K$16,\"\")","v":10},{"$f":"IF(COUNTIF($CZ45:$DS45,L$16),L$16,\"\")","v":""},{"$f":"IF(COUNTIF($CZ45:$DS45,M$16),M$16,\"\")","v":""},{"$f":"IF(COUNTIF($CZ45:$DS45,N$16),N$16,\"\")","v":""},{"$f":"IF(COUNTIF($CZ45:$DS45,O$16),O$16,\"\")","v":""},{"$f":"IF(COUNTIF($CZ45:$DS45,P$16),P$16,\"\")","v":""},{"$f":"IF(COUNTIF($CZ45:$DS45,Q$16),Q$16,\"\")","v":""},{"$f":"IF(COUNTIF($CZ45:$DS45,R$16),R$16,\"\")","v":""},{"$f":"IF(COUNTIF($CZ45:$DS45,S$16),S$16,\"\")","v":""},{"$f":"IF(COUNTIF($CZ45:$DS45,T$16),T$16,\"\")","v":19},{"$f":"IF(COUNTIF($CZ45:$DS45,U$16),U$16,\"\")","v":""},{"$f":"IF(COUNTIF($CZ45:$DS45,V$16),V$16,\"\")","v":""},{"$f":"IF(COUNTIF($CZ45:$DS45,W$16),W$16,\"\")","v":""},{"$f":"IF(COUNTIF($CZ45:$DS45,X$16),X$16,\"\")","v":""},{"$f":"IF(COUNTIF($CZ45:$DS45,Y$16),Y$16,\"\")","v":""},{"$f":"IF(COUNTIF($CZ45:$DS45,Z$16),Z$16,\"\")","v":""},{"$f":"IF(COUNTIF($CZ45:$DS45,AA$16),AA$16,\"\")","v":26},{"$f":"IF(COUNTIF($CZ45:$DS45,AB$16),AB$16,\"\")","v":""},{"$f":"IF(COUNTIF($CZ45:$DS45,AC$16),AC$16,\"\")","v":""},{"$f":"IF(COUNTIF($CZ45:$DS45,AD$16),AD$16,\"\")","v":""},{"$f":"IF(COUNTIF($CZ45:$DS45,AE$16),AE$16,\"\")","v":""},{"$f":"IF(COUNTIF($CZ45:$DS45,AF$16),AF$16,\"\")","v":""},{"$f":"IF(COUNTIF($CZ45:$DS45,AG$16),AG$16,\"\")","v":32},{"$f":"IF(COUNTIF($CZ45:$DS45,AH$16),AH$16,\"\")","v":""},{"$f":"IF(COUNTIF($CZ45:$DS45,AI$16),AI$16,\"\")","v":""},{"$f":"IF(COUNTIF($CZ45:$DS45,AJ$16),AJ$16,\"\")","v":35},{"$f":"IF(COUNTIF($CZ45:$DS45,AK$16),AK$16,\"\")","v":36},{"$f":"IF(COUNTIF($CZ45:$DS45,AL$16),AL$16,\"\")","v":""},{"$f":"IF(COUNTIF($CZ45:$DS45,AM$16),AM$16,\"\")","v":""},{"$f":"IF(COUNTIF($CZ45:$DS45,AN$16),AN$16,\"\")","v":""},{"$f":"IF(COUNTIF($CZ45:$DS45,AO$16),AO$16,\"\")","v":""},{"$f":"IF(COUNTIF($CZ45:$DS45,AP$16),AP$16,\"\")","v":41},{"$f":"IF(COUNTIF($CZ45:$DS45,AQ$16),AQ$16,\"\")","v":42},{"$f":"IF(COUNTIF($CZ45:$DS45,AR$16),AR$16,\"\")","v":""},{"$f":"IF(COUNTIF($CZ45:$DS45,AS$16),AS$16,\"\")","v":""},{"$f":"IF(COUNTIF($CZ45:$DS45,AT$16),AT$16,\"\")","v":""},{"$f":"IF(COUNTIF($CZ45:$DS45,AU$16),AU$16,\"\")","v":""},{"$f":"IF(COUNTIF($CZ45:$DS45,AV$16),AV$16,\"\")","v":""},{"$f":"IF(COUNTIF($CZ45:$DS45,AW$16),AW$16,\"\")","v":""},{"$f":"IF(COUNTIF($CZ45:$DS45,AX$16),AX$16,\"\")","v":""},{"$f":"IF(COUNTIF($CZ45:$DS45,AY$16),AY$16,\"\")","v":""},{"$f":"IF(COUNTIF($CZ45:$DS45,AZ$16),AZ$16,\"\")","v":51},{"$f":"IF(COUNTIF($CZ45:$DS45,BA$16),BA$16,\"\")","v":""},{"$f":"IF(COUNTIF($CZ45:$DS45,BB$16),BB$16,\"\")","v":""},{"$f":"IF(COUNTIF($CZ45:$DS45,BC$16),BC$16,\"\")","v":""},{"$f":"IF(COUNTIF($CZ45:$DS45,BD$16),BD$16,\"\")","v":""},{"$f":"IF(COUNTIF($CZ45:$DS45,BE$16),BE$16,\"\")","v":56},{"$f":"IF(COUNTIF($CZ45:$DS45,BF$16),BF$16,\"\")","v":""},{"$f":"IF(COUNTIF($CZ45:$DS45,BG$16),BG$16,\"\")","v":""},{"$f":"IF(COUNTIF($CZ45:$DS45,BH$16),BH$16,\"\")","v":""},{"$f":"IF(COUNTIF($CZ45:$DS45,BI$16),BI$16,\"\")","v":""},{"$f":"IF(COUNTIF($CZ45:$DS45,BJ$16),BJ$16,\"\")","v":61},{"$f":"IF(COUNTIF($CZ45:$DS45,BK$16),BK$16,\"\")","v":""},{"$f":"IF(COUNTIF($CZ45:$DS45,BL$16),BL$16,\"\")","v":""},{"$f":"IF(COUNTIF($CZ45:$DS45,BM$16),BM$16,\"\")","v":""},{"$f":"IF(COUNTIF($CZ45:$DS45,BN$16),BN$16,\"\")","v":65},{"$f":"IF(COUNTIF($CZ45:$DS45,BO$16),BO$16,\"\")","v":""},{"$f":"IF(COUNTIF($CZ45:$DS45,BP$16),BP$16,\"\")","v":""},{"$f":"IF(COUNTIF($CZ45:$DS45,BQ$16),BQ$16,\"\")","v":""},{"$f":"IF(COUNTIF($CZ45:$DS45,BR$16),BR$16,\"\")","v":""},{"$f":"IF(COUNTIF($CZ45:$DS45,BS$16),BS$16,\"\")","v":""},{"$f":"IF(COUNTIF($CZ45:$DS45,BT$16),BT$16,\"\")","v":""},{"$f":"IF(COUNTIF($CZ45:$DS45,BU$16),BU$16,\"\")","v":""},{"$f":"IF(COUNTIF($CZ45:$DS45,BV$16),BV$16,\"\")","v":""},{"$f":"IF(COUNTIF($CZ45:$DS45,BW$16),BW$16,\"\")","v":74},{"$f":"IF(COUNTIF($CZ45:$DS45,BX$16),BX$16,\"\")","v":""},{"$f":"IF(COUNTIF($CZ45:$DS45,BY$16),BY$16,\"\")","v":""},{"$f":"IF(COUNTIF($CZ45:$DS45,BZ$16),BZ$16,\"\")","v":77},{"$f":"IF(COUNTIF($CZ45:$DS45,CA$16),CA$16,\"\")","v":78},{"$f":"IF(COUNTIF($CZ45:$DS45,CB$16),CB$16,\"\")","v":""},{"$f":"IF(COUNTIF($CZ45:$DS45,CC$16),CC$16,\"\")","v":""},{"$f":"IF(COUNTIF($CZ45:$DS45,CD$16),CD$16,\"\")","v":""},{"$f":"IF(COUNTIF($CZ45:$DS45,CE$16),CE$16,\"\")","v":""},{"$f":"IF(COUNTIF($CZ45:$DS45,CF$16),CF$16,\"\")","v":""},{"$f":"IF(COUNTIF($CZ45:$DS45,CG$16),CG$16,\"\")","v":""},{"$f":"IF(COUNTIF($CZ45:$DS45,CH$16),CH$16,\"\")","v":""},{"$f":"IF(COUNTIF($CZ45:$DS45,CI$16),CI$16,\"\")","v":""},{"$f":"IF(COUNTIF($CZ45:$DS45,CJ$16),CJ$16,\"\")","v":""},{"$f":"IF(COUNTIF($CZ45:$DS45,CK$16),CK$16,\"\")","v":""},{"$f":"IF(COUNTIF($CZ45:$DS45,CL$16),CL$16,\"\")","v":89},{"$f":"IF(COUNTIF($CZ45:$DS45,CM$16),CM$16,\"\")","v":""},{"$f":"IF(COUNTIF($CZ45:$DS45,CN$16),CN$16,\"\")","v":""},{"$f":"IF(COUNTIF($CZ45:$DS45,CO$16),CO$16,\"\")","v":""},{"$f":"IF(COUNTIF($CZ45:$DS45,CP$16),CP$16,\"\")","v":""},{"$f":"IF(COUNTIF($CZ45:$DS45,CQ$16),CQ$16,\"\")","v":""},{"$f":"IF(COUNTIF($CZ45:$DS45,CR$16),CR$16,\"\")","v":95},{"$f":"IF(COUNTIF($CZ45:$DS45,CS$16),CS$16,\"\")","v":""},{"$f":"IF(COUNTIF($CZ45:$DS45,CT$16),CT$16,\"\")","v":""},{"$f":"IF(COUNTIF($CZ45:$DS45,CU$16),CU$16,\"\")","v":""},{"$f":"IF(COUNTIF($CZ45:$DS45,CV$16),CV$16,\"\")","v":""},{"$f":"IF(COUNTIF($CZ45:$DS45,0),0,\"\")","v":0},29,1841,{"$f":"VLOOKUP($CY45,J!$A$2:$AW$4000,3,FALSE)","v":0},{"$f":"VLOOKUP($CY45,J!$A$2:$AW$4000,4,FALSE)","v":3},{"$f":"VLOOKUP($CY45,J!$A$2:$AW$4000,5,FALSE)","v":6},{"$f":"VLOOKUP($CY45,J!$A$2:$AW$4000,6,FALSE)","v":10},{"$f":"VLOOKUP($CY45,J!$A$2:$AW$4000,7,FALSE)","v":19},{"$f":"VLOOKUP($CY45,J!$A$2:$AW$4000,8,FALSE)","v":26},{"$f":"VLOOKUP($CY45,J!$A$2:$AW$4000,9,FALSE)","v":32},{"$f":"VLOOKUP($CY45,J!$A$2:$AW$4000,10,FALSE)","v":35},{"$f":"VLOOKUP($CY45,J!$A$2:$AW$4000,11,FALSE)","v":36},{"$f":"VLOOKUP($CY45,J!$A$2:$AW$4000,12,FALSE)","v":41},{"$f":"VLOOKUP($CY45,J!$A$2:$AW$4000,13,FALSE)","v":42},{"$f":"VLOOKUP($CY45,J!$A$2:$AW$4000,14,FALSE)","v":51},{"$f":"VLOOKUP($CY45,J!$A$2:$AW$4000,15,FALSE)","v":56},{"$f":"VLOOKUP($CY45,J!$A$2:$AW$4000,16,FALSE)","v":61},{"$f":"VLOOKUP($CY45,J!$A$2:$AW$4000,17,FALSE)","v":65},{"$f":"VLOOKUP($CY45,J!$A$2:$AW$4000,18,FALSE)","v":74},{"$f":"VLOOKUP($CY45,J!$A$2:$AW$4000,19,FALSE)","v":77},{"$f":"VLOOKUP($CY45,J!$A$2:$AW$4000,20,FALSE)","v":78},{"$f":"VLOOKUP($CY45,J!$A$2:$AW$4000,21,FALSE)","v":89},{"$f":"VLOOKUP($CY45,J!$A$2:$AW$4000,22,FALSE)","v":95}]
[null,{"$f":"IF(COUNTIF($CZ46:$DS46,B$16),B$16,\"\")","v":""},{"$f":"IF(COUNTIF($CZ46:$DS46,C$16),C$16,\"\")","v":""},{"$f":"IF(COUNTIF($CZ46:$DS46,D$16),D$16,\"\")","v":""},{"$f":"IF(COUNTIF($CZ46:$DS46,E$16),E$16,\"\")","v":""},{"$f":"IF(COUNTIF($CZ46:$DS46,F$16),F$16,\"\")","v":""},{"$f":"IF(COUNTIF($CZ46:$DS46,G$16),G$16,\"\")","v":""},{"$f":"IF(COUNTIF($CZ46:$DS46,H$16),H$16,\"\")","v":""},{"$f":"IF(COUNTIF($CZ46:$DS46,I$16),I$16,\"\")","v":8},{"$f":"IF(COUNTIF($CZ46:$DS46,J$16),J$16,\"\")","v":9},{"$f":"IF(COUNTIF($CZ46:$DS46,K$16),K$16,\"\")","v":""},{"$f":"IF(COUNTIF($CZ46:$DS46,L$16),L$16,\"\")","v":""},{"$f":"IF(COUNTIF($CZ46:$DS46,M$16),M$16,\"\")","v":""},{"$f":"IF(COUNTIF($CZ46:$DS46,N$16),N$16,\"\")","v":13},{"$f":"IF(COUNTIF($CZ46:$DS46,O$16),O$16,\"\")","v":""},{"$f":"IF(COUNTIF($CZ46:$DS46,P$16),P$16,\"\")","v":""},{"$f":"IF(COUNTIF($CZ46:$DS46,Q$16),Q$16,\"\")","v":""},{"$f":"IF(COUNTIF($CZ46:$DS46,R$16),R$16,\"\")","v":17},{"$f":"IF(COUNTIF($CZ46:$DS46,S$16),S$16,\"\")","v":""},{"$f":"IF(COUNTIF($CZ46:$DS46,T$16),T$16,\"\")","v":""},{"$f":"IF(COUNTIF($CZ46:$DS46,U$16),U$16,\"\")","v":""},{"$f":"IF(COUNTIF($CZ46:$DS46,V$16),V$16,\"\")","v":""},{"$f":"IF(COUNTIF($CZ46:$DS46,W$16),W$16,\"\")","v":""},{"$f":"IF(COUNTIF($CZ46:$DS46,X$16),X$16,\"\")","v":""},{"$f":"IF(COUNTIF($CZ46:$DS46,Y$16),Y$16,\"\")","v":24},{"$f":"IF(COUNTIF($CZ46:$DS46,Z$16),Z$16,\"\")","v":""},{"$f":"IF(COUNTIF($CZ46:$DS46,AA$16),AA$16,\"\")","v":""},{"$f":"IF(COUNTIF($CZ46:$DS46,AB$16),AB$16,\"\")","v":""},{"$f":"IF(COUNTIF($CZ46:$DS46,AC$16),AC$16,\"\")","v":28},{"$f":"IF(COUNTIF($CZ46:$DS46,AD$16),AD$16,\"\")","v":""},{"$f":"IF(COUNTIF($CZ46:$DS46,AE$16),AE$16,\"\")","v":""},{"$f":"IF(COUNTIF($CZ46:$DS46,AF$16),AF$16,\"\")","v":""},{"$f":"IF(COUNTIF($CZ46:$DS46,AG$16),AG$16,\"\")","v":""},{"$f":"IF(COUNTIF($CZ46:$DS46,AH$16),AH$16,\"\")","v":""},{"$f":"IF(COUNTIF($CZ46:$DS46,AI$16),AI$16,\"\")","v":""},{"$f":"IF(COUNTIF($CZ46:$DS46,AJ$16),AJ$16,\"\")","v":""},{"$f":"IF(COUNTIF($CZ46:$DS46,AK$16),AK$16,\"\")","v":36},{"$f":"IF(COUNTIF($CZ46:$DS46,AL$16),AL$16,\"\")","v":""},{"$f":"IF(COUNTIF($CZ46:$DS46,AM$16),AM$16,\"\")","v":""},{"$f":"IF(COUNTIF($CZ46:$DS46,AN$16),AN$16,\"\")","v":""},{"$f":"IF(COUNTIF($CZ46:$DS46,AO$16),AO$16,\"\")","v":""},{"$f":"IF(COUNTIF($CZ46:$DS46,AP$16),AP$16,\"\")","v":""},{"$f":"IF(COUNTIF($CZ46:$DS46,AQ$16),AQ$16,\"\")","v":""},{"$f":"IF(COUNTIF($CZ46:$DS46,AR$16),AR$16,\"\")","v":43},{"$f":"IF(COUNTIF($CZ46:$DS46,AS$16),AS$16,\"\")","v":""},{"$f":"IF(COUNTIF($CZ46:$DS46,AT$16),AT$16,\"\")","v":""},{"$f":"IF(COUNTIF($CZ46:$DS46,AU$16),AU$16,\"\")","v":46},{"$f":"IF(COUNTIF($CZ46:$DS46,AV$16),AV$16,\"\")","v":47},{"$f":"IF(COUNTIF($CZ46:$DS46,AW$16),AW$16,\"\")","v":""},{"$f":"IF(COUNTIF($CZ46:$DS46,AX$16),AX$16,\"\")","v":""},{"$f":"IF(COUNTIF($CZ46:$DS46,AY$16),AY$16,\"\")","v":""},{"$f":"IF(COUNTIF($CZ46:$DS46,AZ$16),AZ$16,\"\")","v":""},{"$f":"IF(COUNTIF($CZ46:$DS46,BA$16),BA$16,\"\")","v":52},{"$f":"IF(COUNTIF($CZ46:$DS46,BB$16),BB$16,\"\")","v":""},{"$f":"IF(COUNTIF($CZ46:$DS46,BC$16),BC$16,\"\")","v":""},{"$f":"IF(COUNTIF($CZ46:$DS46,BD$16),BD$16,\"\")","v":""},{"$f":"IF(COUNTIF($CZ46:$DS46,BE$16),BE$16,\"\")","v":""},{"$f":"IF(COUNTIF($CZ46:$DS46,BF$16),BF$16,\"\")","v":""},{"$f":"IF(COUNTIF($CZ46:$DS46,BG$16),BG$16,\"\")","v":""},{"$f":"IF(COUNTIF($CZ46:$DS46,BH$16),BH$16,\"\")","v":""},{"$f":"IF(COUNTIF($CZ46:$DS46,BI$16),BI$16,\"\")","v":""},{"$f":"IF(COUNTIF($CZ46:$DS46,BJ$16),BJ$16,\"\")","v":61},{"$f":"IF(COUNTIF($CZ46:$DS46,BK$16),BK$16,\"\")","v":""},{"$f":"IF(COUNTIF($CZ46:$DS46,BL$16),BL$16,\"\")","v":""},{"$f":"IF(COUNTIF($CZ46:$DS46,BM$16),BM$16,\"\")","v":64},{"$f":"IF(COUNTIF($CZ46:$DS46,BN$16),BN$16,\"\")","v":""},{"$f":"IF(COUNTIF($CZ46:$DS46,BO$16),BO$16,\"\")","v":""},{"$f":"IF(COUNTIF($CZ46:$DS46,BP$16),BP$16,\"\")","v":""},{"$f":"IF(COUNTIF($CZ46:$DS46,BQ$16),BQ$16,\"\")","v":""},{"$f":"IF(COUNTIF($CZ46:$DS46,BR$16),BR$16,\"\")","v":""},{"$f":"IF(COUNTIF($CZ46:$DS46,BS$16),BS$16,\"\")","v":""},{"$f":"IF(COUNTIF($CZ46:$DS46,BT$16),BT$16,\"\")","v":71},{"$f":"IF(COUNTIF($CZ46:$DS46,BU$16),BU$16,\"\")","v":""},{"$f":"IF(COUNTIF($CZ46:$DS46,BV$16),BV$16,\"\")","v":""},{"$f":"IF(COUNTIF($CZ46:$DS46,BW$16),BW$16,\"\")","v":""},{"$f":"IF(COUNTIF($CZ46:$DS46,BX$16),BX$16,\"\")","v":""},{"$f":"IF(COUNTIF($CZ46:$DS46,BY$16),BY$16,\"\")","v":76},{"$f":"IF(COUNTIF($CZ46:$DS46,BZ$16),BZ$16,\"\")","v":""},{"$f":"IF(COUNTIF($CZ46:$DS46,CA$16),CA$16,\"\")","v":78},{"$f":"IF(COUNTIF($CZ46:$DS46,CB$16),CB$16,\"\")","v":""},{"$f":"IF(COUNTIF($CZ46:$DS46,CC$16),CC$16,\"\")","v":""},{"$f":"IF(COUNTIF($CZ46:$DS46,CD$16),CD$16,\"\")","v":""},{"$f":"IF(COUNTIF($CZ46:$DS46,CE$16),CE$16,\"\")","v":""},{"$f":"IF(COUNTIF($CZ46:$DS46,CF$16),CF$16,\"\")","v":""},{"$f":"IF(COUNTIF($CZ46:$DS46,CG$16),CG$16,\"\")","v":""},{"$f":"IF(COUNTIF($CZ46:$DS46,CH$16),CH$16,\"\")","v":85},{"$f":"IF(COUNTIF($CZ46:$DS46,CI$16),CI$16,\"\")","v":""},{"$f":"IF(COUNTIF($CZ46:$DS46,CJ$16),CJ$16,\"\")","v":""},{"$f":"IF(COUNTIF($CZ46:$DS46,CK$16),CK$16,\"\")","v":""},{"$f":"IF(COUNTIF($CZ46:$DS46,CL$16),CL$16,\"\")","v":89},{"$f":"IF(COUNTIF($CZ46:$DS46,CM$16),CM$16,\"\")","v":""},{"$f":"IF(COUNTIF($CZ46:$DS46,CN$16),CN$16,\"\")","v":""},{"$f":"IF(COUNTIF($CZ46:$DS46,CO$16),CO$16,\"\")","v":""},{"$f":"IF(COUNTIF($CZ46:$DS46,CP$16),CP$16,\"\")","v":""},{"$f":"IF(COUNTIF($CZ46:$DS46,CQ$16),CQ$16,\"\")","v":""},{"$f":"IF(COUNTIF($CZ46:$DS46,CR$16),CR$16,\"\")","v":""},{"$f":"IF(COUNTIF($CZ46:$DS46,CS$16),CS$16,\"\")","v":96},{"$f":"IF(COUNTIF($CZ46:$DS46,CT$16),CT$16,\"\")","v":""},{"$f":"IF(COUNTIF($CZ46:$DS46,CU$16),CU$16,\"\")","v":98},{"$f":"IF(COUNTIF($CZ46:$DS46,CV$16),CV$16,\"\")","v":""},{"$f":"IF(COUNTIF($CZ46:$DS46,0),0,\"\")","v":""},30,1840,{"$f":"VLOOKUP($CY46,J!$A$2:$AW$4000,3,FALSE)","v":8},{"$f":"VLOOKUP($CY46,J!$A$2:$AW$4000,4,FALSE)","v":9},{"$f":"VLOOKUP($CY46,J!$A$2:$AW$4000,5,FALSE)","v":13},{"$f":"VLOOKUP($CY46,J!$A$2:$AW$4000,6,FALSE)","v":17},{"$f":"VLOOKUP($CY46,J!$A$2:$AW$4000,7,FALSE)","v":24},{"$f":"VLOOKUP($CY46,J!$A$2:$AW$4000,8,FALSE)","v":28},{"$f":"VLOOKUP($CY46,J!$A$2:$AW$4000,9,FALSE)","v":36},{"$f":"VLOOKUP($CY46,J!$A$2:$AW$4000,10,FALSE)","v":43},{"$f":"VLOOKUP($CY46,J!$A$2:$AW$4000,11,FALSE)","v":46},{"$f":"VLOOKUP($CY46,J!$A$2:$AW$4000,12,FALSE)","v":47},{"$f":"VLOOKUP($CY46,J!$A$2:$AW$4000,13,FALSE)","v":52},{"$f":"VLOOKUP($CY46,J!$A$2:$AW$4000,14,FALSE)","v":61},{"$f":"VLOOKUP($CY46,J!$A$2:$AW$4000,15,FALSE)","v":64},{"$f":"VLOOKUP($CY46,J!$A$2:$AW$4000,16,FALSE)","v":71},{"$f":"VLOOKUP($CY46,J!$A$2:$AW$4000,17,FALSE)","v":76},{"$f":"VLOOKUP($CY46,J!$A$2:$AW$4000,18,FALSE)","v":78},{"$f":"VLOOKUP($CY46,J!$A$2:$AW$4000,19,FALSE)","v":85},{"$f":"VLOOKUP($CY46,J!$A$2:$AW$4000,20,FALSE)","v":89},{"$f":"VLOOKUP($CY46,J!$A$2:$AW$4000,21,FALSE)","v":96},{"$f":"VLOOKUP($CY46,J!$A$2:$AW$4000,22,FALSE)","v":98}]
[null,{"$f":"IF(COUNTIF($CZ47:$DS47,B$16),B$16,\"\")","v":""},{"$f":"IF(COUNTIF($CZ47:$DS47,C$16),C$16,\"\")","v":""},{"$f":"IF(COUNTIF($CZ47:$DS47,D$16),D$16,\"\")","v":3},{"$f":"IF(COUNTIF($CZ47:$DS47,E$16),E$16,\"\")","v":""},{"$f":"IF(COUNTIF($CZ47:$DS47,F$16),F$16,\"\")","v":""},{"$f":"IF(COUNTIF($CZ47:$DS47,G$16),G$16,\"\")","v":""},{"$f":"IF(COUNTIF($CZ47:$DS47,H$16),H$16,\"\")","v":7},{"$f":"IF(COUNTIF($CZ47:$DS47,I$16),I$16,\"\")","v":""},{"$f":"IF(COUNTIF($CZ47:$DS47,J$16),J$16,\"\")","v":""},{"$f":"IF(COUNTIF($CZ47:$DS47,K$16),K$16,\"\")","v":""},{"$f":"IF(COUNTIF($CZ47:$DS47,L$16),L$16,\"\")","v":""},{"$f":"IF(COUNTIF($CZ47:$DS47,M$16),M$16,\"\")","v":""},{"$f":"IF(COUNTIF($CZ47:$DS47,N$16),N$16,\"\")","v":""},{"$f":"IF(COUNTIF($CZ47:$DS47,O$16),O$16,\"\")","v":""},{"$f":"IF(COUNTIF($CZ47:$DS47,P$16),P$16,\"\")","v":15},{"$f":"IF(COUNTIF($CZ47:$DS47,Q$16),Q$16,\"\")","v":""},{"$f":"IF(COUNTIF($CZ47:$DS47,R$16),R$16,\"\")","v":""},{"$f":"IF(COUNTIF($CZ47:$DS47,S$16),S$16,\"\")","v":""},{"$f":"IF(COUNTIF($CZ47:$DS47,T$16),T$16,\"\")","v":19},{"$f":"IF(COUNTIF($CZ47:$DS47,U$16),U$16,\"\")","v":""},{"$f":"IF(COUNTIF($CZ47:$DS47,V$16),V$16,\"\")","v":""},{"$f":"IF(COUNTIF($CZ47:$DS47,W$16),W$16,\"\")","v":""},{"$f":"IF(COUNTIF($CZ47:$DS47,X$16),X$16,\"\")","v":""},{"$f":"IF(COUNTIF($CZ47:$DS47,Y$16),Y$16,\"\")","v":""},{"$f":"IF(COUNTIF($CZ47:$DS47,Z$16),Z$16,\"\")","v":""},{"$f":"IF(COUNTIF($CZ47:$DS47,AA$16),AA$16,\"\")","v":""},{"$f":"IF(COUNTIF($CZ47:$DS47,AB$16),AB$16,\"\")","v":""},{"$f":"IF(COUNTIF($CZ47:$DS47,AC$16),AC$16,\"\")","v":""},{"$f":"IF(COUNTIF($CZ47:$DS47,AD$16),AD$16,\"\")","v":""},{"$f":"IF(COUNTIF($CZ47:$DS47,AE$16),AE$16,\"\")","v":""},{"$f":"IF(COUNTIF($CZ47:$DS47,AF$16),AF$16,\"\")","v":""},{"$f":"IF(COUNTIF($CZ47:$DS47,AG$16),AG$16,\"\")","v":""},{"$f":"IF(COUNTIF($CZ47:$DS47,AH$16),AH$16,\"\")","v":""},{"$f":"IF(COUNTIF($CZ47:$DS47,AI$16),AI$16,\"\")","v":34},{"$f":"IF(COUNTIF($CZ47:$DS47,AJ$16),AJ$16,\"\")","v":""},{"$f":"IF(COUNTIF($CZ47:$DS47,AK$16),AK$16,\"\")","v":""},{"$f":"IF(COUNTIF($CZ47:$DS47,AL$16),AL$16,\"\")","v":37},{"$f":"IF(COUNTIF($CZ47:$DS47,AM$16),AM$16,\"\")","v":""},{"$f":"IF(COUNTIF($CZ47:$DS47,AN$16),AN$16,\"\")","v":""},{"$f":"IF(COUNTIF($CZ47:$DS47,AO$16),AO$16,\"\")","v":""},{"$f":"IF(COUNTIF($CZ47:$DS47,AP$16),AP$16,\"\")","v":""},{"$f":"IF(COUNTIF($CZ47:$DS47,AQ$16),AQ$16,\"\")","v":42},{"$f":"IF(COUNTIF($CZ47:$DS47,AR$16),AR$16,\"\")","v":""},{"$f":"IF(COUNTIF($CZ47:$DS47,AS$16),AS$16,\"\")","v":""},{"$f":"IF(COUNTIF($CZ47:$DS47,AT$16),AT$16,\"\")","v":""},{"$f":"IF(COUNTIF($CZ47:$DS47,AU$16),AU$16,\"\")","v":""},{"$f":"IF(COUNTIF($CZ47:$DS47,AV$16),AV$16,\"\")","v":""},{"$f":"IF(COUNTIF($CZ47:$DS47,AW$16),AW$16,\"\")","v":48},{"$f":"IF(COUNTIF($CZ47:$DS47,AX$16),AX$16,\"\")","v":""},{"$f":"IF(COUNTIF($CZ47:$DS47,AY$16),AY$16,\"\")","v":""},{"$f":"IF(COUNTIF($CZ47:$DS47,AZ$16),AZ$16,\"\")","v":51},{"$f":"IF(COUNTIF($CZ47:$DS47,BA$16),BA$16,\"\")","v":52},{"$f":"IF(COUNTIF($CZ47:$DS47,BB$16),BB$16,\"\")","v":""},{"$f":"IF(COUNTIF($CZ47:$DS47,BC$16),BC$16,\"\")","v":""},{"$f":"IF(COUNTIF($CZ47:$DS47,BD$16),BD$16,\"\")","v":""},{"$f":"IF(COUNTIF($CZ47:$DS47,BE$16),BE$16,\"\")","v":""},{"$f":"IF(COUNTIF($CZ47:$DS47,BF$16),BF$16,\"\")","v":""},{"$f":"IF(COUNTIF($CZ47:$DS47,BG$16),BG$16,\"\")","v":58},{"$f":"IF(COUNTIF($CZ47:$DS47,BH$16),BH$16,\"\")","v":""},{"$f":"IF(COUNTIF($CZ47:$DS47,BI$16),BI$16,\"\")","v":""},{"$f":"IF(COUNTIF($CZ47:$DS47,BJ$16),BJ$16,\"\")","v":""},{"$f":"IF(COUNTIF($CZ47:$DS47,BK$16),BK$16,\"\")","v":62},{"$f":"IF(COUNTIF($CZ47:$DS47,BL$16),BL$16,\"\")","v":""},{"$f":"IF(COUNTIF($CZ47:$DS47,BM$16),BM$16,\"\")","v":""},{"$f":"IF(COUNTIF($CZ47:$DS47,BN$16),BN$16,\"\")","v":""},{"$f":"IF(COUNTIF($CZ47:$DS47,BO$16),BO$16,\"\")","v":""},{"$f":"IF(COUNTIF($CZ47:$DS47,BP$16),BP$16,\"\")","v":""},{"$f":"IF(COUNTIF($CZ47:$DS47,BQ$16),BQ$16,\"\")","v":""},{"$f":"IF(COUNTIF($CZ47:$DS47,BR$16),BR$16,\"\")","v":""},{"$f":"IF(COUNTIF($CZ47:$DS47,BS$16),BS$16,\"\")","v":70},{"$f":"IF(COUNTIF($CZ47:$DS47,BT$16),BT$16,\"\")","v":""},{"$f":"IF(COUNTIF($CZ47:$DS47,BU$16),BU$16,\"\")","v":72},{"$f":"IF(COUNTIF($CZ47:$DS47,BV$16),BV$16,\"\")","v":""},{"$f":"IF(COUNTIF($CZ47:$DS47,BW$16),BW$16,\"\")","v":""},{"$f":"IF(COUNTIF($CZ47:$DS47,BX$16),BX$16,\"\")","v":""},{"$f":"IF(COUNTIF($CZ47:$DS47,BY$16),BY$16,\"\")","v":""},{"$f":"IF(COUNTIF($CZ47:$DS47,BZ$16),BZ$16,\"\")","v":""},{"$f":"IF(COUNTIF($CZ47:$DS47,CA$16),CA$16,\"\")","v":""},{"$f":"IF(COUNTIF($CZ47:$DS47,CB$16),CB$16,\"\")","v":""},{"$f":"IF(COUNTIF($CZ47:$DS47,CC$16),CC$16,\"\")","v":""},{"$f":"IF(COUNTIF($CZ47:$DS47,CD$16),CD$16,\"\")","v":81},{"$f":"IF(COUNTIF($CZ47:$DS47,CE$16),CE$16,\"\")","v":""},{"$f":"IF(COUNTIF($CZ47:$DS47,CF$16),CF$16,\"\")","v":""},{"$f":"IF(COUNTIF($CZ47:$DS47,CG$16),CG$16,\"\")","v":""},{"$f":"IF(COUNTIF($CZ47:$DS47,CH$16),CH$16,\"\")","v":85},{"$f":"IF(COUNTIF($CZ47:$DS47,CI$16),CI$16,\"\")","v":""},{"$f":"IF(COUNTIF($CZ47:$DS47,CJ$16),CJ$16,\"\")","v":87},{"$f":"IF(COUNTIF($CZ47:$DS47,CK$16),CK$16,\"\")","v":""},{"$f":"IF(COUNTIF($CZ47:$DS47,CL$16),CL$16,\"\")","v":89},{"$f":"IF(COUNTIF($CZ47:$DS47,CM$16),CM$16,\"\")","v":""},{"$f":"IF(COUNTIF($CZ47:$DS47,CN$16),CN$16,\"\")","v":""},{"$f":"IF(COUNTIF($CZ47:$DS47,CO$16),CO$16,\"\")","v":""},{"$f":"IF(COUNTIF($CZ47:$DS47,CP$16),CP$16,\"\")","v":""},{"$f":"IF(COUNTIF($CZ47:$DS47,CQ$16),CQ$16,\"\")","v":""},{"$f":"IF(COUNTIF($CZ47:$DS47,CR$16),CR$16,\"\")","v":""},{"$f":"IF(COUNTIF($CZ47:$DS47,CS$16),CS$16,\"\")","v":""},{"$f":"IF(COUNTIF($CZ47:$DS47,CT$16),CT$16,\"\")","v":97},{"$f":"IF(COUNTIF($CZ47:$DS47,CU$16),CU$16,\"\")","v":98},{"$f":"IF(COUNTIF($CZ47:$DS47,CV$16),CV$16,\"\")","v":""},{"$f":"IF(COUNTIF($CZ47:$DS47,0),0,\"\")","v":""},31,1839,{"$f":"VLOOKUP($CY47,J!$A$2:$AW$4000,3,FALSE)","v":3},{"$f":"VLOOKUP($CY47,J!$A$2:$AW$4000,4,FALSE)","v":7},{"$f":"VLOOKUP($CY47,J!$A$2:$AW$4000,5,FALSE)","v":15},{"$f":"VLOOKUP($CY47,J!$A$2:$AW$4000,6,FALSE)","v":19},{"$f":"VLOOKUP($CY47,J!$A$2:$AW$4000,7,FALSE)","v":34},{"$f":"VLOOKUP($CY47,J!$A$2:$AW$4000,8,FALSE)","v":37},{"$f":"VLOOKUP($CY47,J!$A$2:$AW$4000,9,FALSE)","v":42},{"$f":"VLOOKUP($CY47,J!$A$2:$AW$4000,10,FALSE)","v":48},{"$f":"VLOOKUP($CY47,J!$A$2:$AW$4000,11,FALSE)","v":51},{"$f":"VLOOKUP($CY47,J!$A$2:$AW$4000,12,FALSE)","v":52},{"$f":"VLOOKUP($CY47,J!$A$2:$AW$4000,13,FALSE)","v":58},{"$f":"VLOOKUP($CY47,J!$A$2:$AW$4000,14,FALSE)","v":62},{"$f":"VLOOKUP($CY47,J!$A$2:$AW$4000,15,FALSE)","v":70},{"$f":"VLOOKUP($CY47,J!$A$2:$AW$4000,16,FALSE)","v":72},{"$f":"VLOOKUP($CY47,J!$A$2:$AW$4000,17,FALSE)","v":81},{"$f":"VLOOKUP($CY47,J!$A$2:$AW$4000,18,FALSE)","v":85},{"$f":"VLOOKUP($CY47,J!$A$2:$AW$4000,19,FALSE)","v":87},{"$f":"VLOOKUP($CY47,J!$A$2:$AW$4000,20,FALSE)","v":89},{"$f":"VLOOKUP($CY47,J!$A$2:$AW$4000,21,FALSE)","v":97},{"$f":"VLOOKUP($CY47,J!$A$2:$AW$4000,22,FALSE)","v":98}]
[null,{"$f":"IF(COUNTIF($CZ48:$DS48,B$16),B$16,\"\")","v":""},{"$f":"IF(COUNTIF($CZ48:$DS48,C$16),C$16,\"\")","v":""},{"$f":"IF(COUNTIF($CZ48:$DS48,D$16),D$16,\"\")","v":""},{"$f":"IF(COUNTIF($CZ48:$DS48,E$16),E$16,\"\")","v":""},{"$f":"IF(COUNTIF($CZ48:$DS48,F$16),F$16,\"\")","v":5},{"$f":"IF(COUNTIF($CZ48:$DS48,G$16),G$16,\"\")","v":""},{"$f":"IF(COUNTIF($CZ48:$DS48,H$16),H$16,\"\")","v":7},{"$f":"IF(COUNTIF($CZ48:$DS48,I$16),I$16,\"\")","v":""},{"$f":"IF(COUNTIF($CZ48:$DS48,J$16),J$16,\"\")","v":""},{"$f":"IF(COUNTIF($CZ48:$DS48,K$16),K$16,\"\")","v":""},{"$f":"IF(COUNTIF($CZ48:$DS48,L$16),L$16,\"\")","v":""},{"$f":"IF(COUNTIF($CZ48:$DS48,M$16),M$16,\"\")","v":12},{"$f":"IF(COUNTIF($CZ48:$DS48,N$16),N$16,\"\")","v":""},{"$f":"IF(COUNTIF($CZ48:$DS48,O$16),O$16,\"\")","v":""},{"$f":"IF(COUNTIF($CZ48:$DS48,P$16),P$16,\"\")","v":""},{"$f":"IF(COUNTIF($CZ48:$DS48,Q$16),Q$16,\"\")","v":""},{"$f":"IF(COUNTIF($CZ48:$DS48,R$16),R$16,\"\")","v":""},{"$f":"IF(COUNTIF($CZ48:$DS48,S$16),S$16,\"\")","v":""},{"$f":"IF(COUNTIF($CZ48:$DS48,T$16),T$16,\"\")","v":""},{"$f":"IF(COUNTIF($CZ48:$DS48,U$16),U$16,\"\")","v":""},{"$f":"IF(COUNTIF($CZ48:$DS48,V$16),V$16,\"\")","v":""},{"$f":"IF(COUNTIF($CZ48:$DS48,W$16),W$16,\"\")","v":""},{"$f":"IF(COUNTIF($CZ48:$DS48,X$16),X$16,\"\")","v":""},{"$f":"IF(COUNTIF($CZ48:$DS48,Y$16),Y$16,\"\")","v":""},{"$f":"IF(COUNTIF($CZ48:$DS48,Z$16),Z$16,\"\")","v":""},{"$f":"IF(COUNTIF($CZ48:$DS48,AA$16),AA$16,\"\")","v":""},{"$f":"IF(COUNTIF($CZ48:$DS48,AB$16),AB$16,\"\")","v":""},{"$f":"IF(COUNTIF($CZ48:$DS48,AC$16),AC$16,\"\")","v":""},{"$f":"IF(COUNTIF($CZ48:$DS48,AD$16),AD$16,\"\")","v":""},{"$f":"IF(COUNTIF($CZ48:$DS48,AE$16),AE$16,\"\")","v":30},{"$f":"IF(COUNTIF($CZ48:$DS48,AF$16),AF$16,\"\")","v":""},{"$f":"IF(COUNTIF($CZ48:$DS48,AG$16),AG$16,\"\")","v":""},{"$f":"IF(COUNTIF($CZ48:$DS48,AH$16),AH$16,\"\")","v":33},{"$f":"IF(COUNTIF($CZ48:$DS48,AI$16),AI$16,\"\")","v":""},{"$f":"IF(COUNTIF($CZ48:$DS48,AJ$16),AJ$16,\"\")","v":""},{"$f":"IF(COUNTIF($CZ48:$DS48,AK$16),AK$16,\"\")","v":""},{"$f":"IF(COUNTIF($CZ48:$DS48,AL$16),AL$16,\"\")","v":""},{"$f":"IF(COUNTIF($CZ48:$DS48,AM$16),AM$16,\"\")","v":38},{"$f":"IF(COUNTIF($CZ48:$DS48,AN$16),AN$16,\"\")","v":""},{"$f":"IF(COUNTIF($CZ48:$DS48,AO$16),AO$16,\"\")","v":""},{"$f":"IF(COUNTIF($CZ48:$DS48,AP$16),AP$16,\"\")","v":""},{"$f":"IF(COUNTIF($CZ48:$DS48,AQ$16),AQ$16,\"\")","v":""},{"$f":"IF(COUNTIF($CZ48:$DS48,AR$16),AR$16,\"\")","v":43},{"$f":"IF(COUNTIF($CZ48:$DS48,AS$16),AS$16,\"\")","v":""},{"$f":"IF(COUNTIF($CZ48:$DS48,AT$16),AT$16,\"\")","v":""},{"$f":"IF(COUNTIF($CZ48:$DS48,AU$16),AU$16,\"\")","v":""},{"$f":"IF(COUNTIF($CZ48:$DS48,AV$16),AV$16,\"\")","v":""},{"$f":"IF(COUNTIF($CZ48:$DS48,AW$16),AW$16,\"\")","v":48},{"$f":"IF(COUNTIF($CZ48:$DS48,AX$16),AX$16,\"\")","v":""},{"$f":"IF(COUNTIF($CZ48:$DS48,AY$16),AY$16,\"\")","v":50},{"$f":"IF(COUNTIF($CZ48:$DS48,AZ$16),AZ$16,\"\")","v":""},{"$f":"IF(COUNTIF($CZ48:$DS48,BA$16),BA$16,\"\")","v":""},{"$f":"IF(COUNTIF($CZ48:$DS48,BB$16),BB$16,\"\")","v":""},{"$f":"IF(COUNTIF($CZ48:$DS48,BC$16),BC$16,\"\")","v":54},{"$f":"IF(COUNTIF($CZ48:$DS48,BD$16),BD$16,\"\")","v":""},{"$f":"IF(COUNTIF($CZ48:$DS48,BE$16),BE$16,\"\")","v":""},{"$f":"IF(COUNTIF($CZ48:$DS48,BF$16),BF$16,\"\")","v":57},{"$f":"IF(COUNTIF($CZ48:$DS48,BG$16),BG$16,\"\")","v":""},{"$f":"IF(COUNTIF($CZ48:$DS48,BH$16),BH$16,\"\")","v":59},{"$f":"IF(COUNTIF($CZ48:$DS48,BI$16),BI$16,\"\")","v":""},{"$f":"IF(COUNTIF($CZ48:$DS48,BJ$16),BJ$16,\"\")","v":""},{"$f":"IF(COUNTIF($CZ48:$DS48,BK$16),BK$16,\"\")","v":""},{"$f":"IF(COUNTIF($CZ48:$DS48,BL$16),BL$16,\"\")","v":""},{"$f":"IF(COUNTIF($CZ48:$DS48,BM$16),BM$16,\"\")","v":""},{"$f":"IF(COUNTIF($CZ48:$DS48,BN$16),BN$16,\"\")","v":65},{"$f":"IF(COUNTIF($CZ48:$DS48,BO$16),BO$16,\"\")","v":""},{"$f":"IF(COUNTIF($CZ48:$DS48,BP$16),BP$16,\"\")","v":67},{"$f":"IF(COUNTIF($CZ48:$DS48,BQ$16),BQ$16,\"\")","v":""},{"$f":"IF(COUNTIF($CZ48:$DS48,BR$16),BR$16,\"\")","v":""},{"$f":"IF(COUNTIF($CZ48:$DS48,BS$16),BS$16,\"\")","v":70},{"$f":"IF(COUNTIF($CZ48:$DS48,BT$16),BT$16,\"\")","v":""},{"$f":"IF(COUNTIF($CZ48:$DS48,BU$16),BU$16,\"\")","v":""},{"$f":"IF(COUNTIF($CZ48:$DS48,BV$16),BV$16,\"\")","v":""},{"$f":"IF(COUNTIF($CZ48:$DS48,BW$16),BW$16,\"\")","v":""},{"$f":"IF(COUNTIF($CZ48:$DS48,BX$16),BX$16,\"\")","v":""},{"$f":"IF(COUNTIF($CZ48:$DS48,BY$16),BY$16,\"\")","v":""},{"$f":"IF(COUNTIF($CZ48:$DS48,BZ$16),BZ$16,\"\")","v":""},{"$f":"IF(COUNTIF($CZ48:$DS48,CA$16),CA$16,\"\")","v":""},{"$f":"IF(COUNTIF($CZ48:$DS48,CB$16),CB$16,\"\")","v":""},{"$f":"IF(COUNTIF($CZ48:$DS48,CC$16),CC$16,\"\")","v":80},{"$f":"IF(COUNTIF($CZ48:$DS48,CD$16),CD$16,\"\")","v":""},{"$f":"IF(COUNTIF($CZ48:$DS48,CE$16),CE$16,\"\")","v":""},{"$f":"IF(COUNTIF($CZ48:$DS48,CF$16),CF$16,\"\")","v":""},{"$f":"IF(COUNTIF($CZ48:$DS48,CG$16),CG$16,\"\")","v":84},{"$f":"IF(COUNTIF($CZ48:$DS48,CH$16),CH$16,\"\")","v":""},{"$f":"IF(COUNTIF($CZ48:$DS48,CI$16),CI$16,\"\")","v":""},{"$f":"IF(COUNTIF($CZ48:$DS48,CJ$16),CJ$16,\"\")","v":""},{"$f":"IF(COUNTIF($CZ48:$DS48,CK$16),CK$16,\"\")","v":""},{"$f":"IF(COUNTIF($CZ48:$DS48,CL$16),CL$16,\"\")","v":""},{"$f":"IF(COUNTIF($CZ48:$DS48,CM$16),CM$16,\"\")","v":90},{"$f":"IF(COUNTIF($CZ48:$DS48,CN$16),CN$16,\"\")","v":""},{"$f":"IF(COUNTIF($CZ48:$DS48,CO$16),CO$16,\"\")","v":""},{"$f":"IF(COUNTIF($CZ48:$DS48,CP$16),CP$16,\"\")","v":""},{"$f":"IF(COUNTIF($CZ48:$DS48,CQ$16),CQ$16,\"\")","v":94},{"$f":"IF(COUNTIF($CZ48:$DS48,CR$16),CR$16,\"\")","v":""},{"$f":"IF(COUNTIF($CZ48:$DS48,CS$16),CS$16,\"\")","v":""},{"$f":"IF(COUNTIF($CZ48:$DS48,CT$16),CT$16,\"\")","v":""},{"$f":"IF(COUNTIF($CZ48:$DS48,CU$16),CU$16,\"\")","v":98},{"$f":"IF(COUNTIF($CZ48:$DS48,CV$16),CV$16,\"\")","v":""},{"$f":"IF(COUNTIF($CZ48:$DS48,0),0,\"\")","v":""},32,1838,{"$f":"VLOOKUP($CY48,J!$A$2:$AW$4000,3,FALSE)","v":5},{"$f":"VLOOKUP($CY48,J!$A$2:$AW$4000,4,FALSE)","v":7},{"$f":"VLOOKUP($CY48,J!$A$2:$AW$4000,5,FALSE)","v":12},{"$f":"VLOOKUP($CY48,J!$A$2:$AW$4000,6,FALSE)","v":30},{"$f":"VLOOKUP($CY48,J!$A$2:$AW$4000,7,FALSE)","v":33},{"$f":"VLOOKUP($CY48,J!$A$2:$AW$4000,8,FALSE)","v":38},{"$f":"VLOOKUP($CY48,J!$A$2:$AW$4000,9,FALSE)","v":43},{"$f":"VLOOKUP($CY48,J!$A$2:$AW$4000,10,FALSE)","v":48},{"$f":"VLOOKUP($CY48,J!$A$2:$AW$4000,11,FALSE)","v":50},{"$f":"VLOOKUP($CY48,J!$A$2:$AW$4000,12,FALSE)","v":54},{"$f":"VLOOKUP($CY48,J!$A$2:$AW$4000,13,FALSE)","v":57},{"$f":"VLOOKUP($CY48,J!$A$2:$AW$4000,14,FALSE)","v":59},{"$f":"VLOOKUP($CY48,J!$A$2:$AW$4000,15,FALSE)","v":65},{"$f":"VLOOKUP($CY48,J!$A$2:$AW$4000,16,FALSE)","v":67},{"$f":"VLOOKUP($CY48,J!$A$2:$AW$4000,17,FALSE)","v":70},{"$f":"VLOOKUP($CY48,J!$A$2:$AW$4000,18,FALSE)","v":80},{"$f":"VLOOKUP($CY48,J!$A$2:$AW$4000,19,FALSE)","v":84},{"$f":"VLOOKUP($CY48,J!$A$2:$AW$4000,20,FALSE)","v":90},{"$f":"VLOOKUP($CY48,J!$A$2:$AW$4000,21,FALSE)","v":94},{"$f":"VLOOKUP($CY48,J!$A$2:$AW$4000,22,FALSE)","v":98}]
[null,{"$f":"IF(COUNTIF($CZ49:$DS49,B$16),B$16,\"\")","v":""},{"$f":"IF(COUNTIF($CZ49:$DS49,C$16),C$16,\"\")","v":""},{"$f":"IF(COUNTIF($CZ49:$DS49,D$16),D$16,\"\")","v":""},{"$f":"IF(COUNTIF($CZ49:$DS49,E$16),E$16,\"\")","v":""},{"$f":"IF(COUNTIF($CZ49:$DS49,F$16),F$16,\"\")","v":""},{"$f":"IF(COUNTIF($CZ49:$DS49,G$16),G$16,\"\")","v":""},{"$f":"IF(COUNTIF($CZ49:$DS49,H$16),H$16,\"\")","v":""},{"$f":"IF(COUNTIF($CZ49:$DS49,I$16),I$16,\"\")","v":""},{"$f":"IF(COUNTIF($CZ49:$DS49,J$16),J$16,\"\")","v":""},{"$f":"IF(COUNTIF($CZ49:$DS49,K$16),K$16,\"\")","v":""},{"$f":"IF(COUNTIF($CZ49:$DS49,L$16),L$16,\"\")","v":""},{"$f":"IF(COUNTIF($CZ49:$DS49,M$16),M$16,\"\")","v":""},{"$f":"IF(COUNTIF($CZ49:$DS49,N$16),N$16,\"\")","v":""},{"$f":"IF(COUNTIF($CZ49:$DS49,O$16),O$16,\"\")","v":14},{"$f":"IF(COUNTIF($CZ49:$DS49,P$16),P$16,\"\")","v":""},{"$f":"IF(COUNTIF($CZ49:$DS49,Q$16),Q$16,\"\")","v":16},{"$f":"IF(COUNTIF($CZ49:$DS49,R$16),R$16,\"\")","v":""},{"$f":"IF(COUNTIF($CZ49:$DS49,S$16),S$16,\"\")","v":18},{"$f":"IF(COUNTIF($CZ49:$DS49,T$16),T$16,\"\")","v":""},{"$f":"IF(COUNTIF($CZ49:$DS49,U$16),U$16,\"\")","v":""},{"$f":"IF(COUNTIF($CZ49:$DS49,V$16),V$16,\"\")","v":""},{"$f":"IF(COUNTIF($CZ49:$DS49,W$16),W$16,\"\")","v":""},{"$f":"IF(COUNTIF($CZ49:$DS49,X$16),X$16,\"\")","v":""},{"$f":"IF(COUNTIF($CZ49:$DS49,Y$16),Y$16,\"\")","v":24},{"$f":"IF(COUNTIF($CZ49:$DS49,Z$16),Z$16,\"\")","v":""},{"$f":"IF(COUNTIF($CZ49:$DS49,AA$16),AA$16,\"\")","v":""},{"$f":"IF(COUNTIF($CZ49:$DS49,AB$16),AB$16,\"\")","v":""},{"$f":"IF(COUNTIF($CZ49:$DS49,AC$16),AC$16,\"\")","v":""},{"$f":"IF(COUNTIF($CZ49:$DS49,AD$16),AD$16,\"\")","v":""},{"$f":"IF(COUNTIF($CZ49:$DS49,AE$16),AE$16,\"\")","v":30},{"$f":"IF(COUNTIF($CZ49:$DS49,AF$16),AF$16,\"\")","v":""},{"$f":"IF(COUNTIF($CZ49:$DS49,AG$16),AG$16,\"\")","v":""},{"$f":"IF(COUNTIF($CZ49:$DS49,AH$16),AH$16,\"\")","v":""},{"$f":"IF(COUNTIF($CZ49:$DS49,AI$16),AI$16,\"\")","v":34},{"$f":"IF(COUNTIF($CZ49:$DS49,AJ$16),AJ$16,\"\")","v":""},{"$f":"IF(COUNTIF($CZ49:$DS49,AK$16),AK$16,\"\")","v":""},{"$f":"IF(COUNTIF($CZ49:$DS49,AL$16),AL$16,\"\")","v":37},{"$f":"IF(COUNTIF($CZ49:$DS49,AM$16),AM$16,\"\")","v":""},{"$f":"IF(COUNTIF($CZ49:$DS49,AN$16),AN$16,\"\")","v":""},{"$f":"IF(COUNTIF($CZ49:$DS49,AO$16),AO$16,\"\")","v":""},{"$f":"IF(COUNTIF($CZ49:$DS49,AP$16),AP$16,\"\")","v":""},{"$f":"IF(COUNTIF($CZ49:$DS49,AQ$16),AQ$16,\"\")","v":42},{"$f":"IF(COUNTIF($CZ49:$DS49,AR$16),AR$16,\"\")","v":""},{"$f":"IF(COUNTIF($CZ49:$DS49,AS$16),AS$16,\"\")","v":""},{"$f":"IF(COUNTIF($CZ49:$DS49,AT$16),AT$16,\"\")","v":""},{"$f":"IF(COUNTIF($CZ49:$DS49,AU$16),AU$16,\"\")","v":""},{"$f":"IF(COUNTIF($CZ49:$DS49,AV$16),AV$16,\"\")","v":""},{"$f":"IF(COUNTIF($CZ49:$DS49,AW$16),AW$16,\"\")","v":48},{"$f":"IF(COUNTIF($CZ49:$DS49,AX$16),AX$16,\"\")","v":49},{"$f":"IF(COUNTIF($CZ49:$DS49,AY$16),AY$16,\"\")","v":""},{"$f":"IF(COUNTIF($CZ49:$DS49,AZ$16),AZ$16,\"\")","v":""},{"$f":"IF(COUNTIF($CZ49:$DS49,BA$16),BA$16,\"\")","v":""},{"$f":"IF(COUNTIF($CZ49:$DS49,BB$16),BB$16,\"\")","v":""},{"$f":"IF(COUNTIF($CZ49:$DS49,BC$16),BC$16,\"\")","v":""},{"$f":"IF(COUNTIF($CZ49:$DS49,BD$16),BD$16,\"\")","v":""},{"$f":"IF(COUNTIF($CZ49:$DS49,BE$16),BE$16,\"\")","v":""},{"$f":"IF(COUNTIF($CZ49:$DS49,BF$16),BF$16,\"\")","v":57},{"$f":"IF(COUNTIF($CZ49:$DS49,BG$16),BG$16,\"\")","v":""},{"$f":"IF(COUNTIF($CZ49:$DS49,BH$16),BH$16,\"\")","v":59},{"$f":"IF(COUNTIF($CZ49:$DS49,BI$16),BI$16,\"\")","v":60},{"$f":"IF(COUNTIF($CZ49:$DS49,BJ$16),BJ$16,\"\")","v":""},{"$f":"IF(COUNTIF($CZ49:$DS49,BK$16),BK$16,\"\")","v":""},{"$f":"IF(COUNTIF($CZ49:$DS49,BL$16),BL$16,\"\")","v":""},{"$f":"IF(COUNTIF($CZ49:$DS49,BM$16),BM$16,\"\")","v":""},{"$f":"IF(COUNTIF($CZ49:$DS49,BN$16),BN$16,\"\")","v":""},{"$f":"IF(COUNTIF($CZ49:$DS49,BO$16),BO$16,\"\")","v":""},{"$f":"IF(COUNTIF($CZ49:$DS49,BP$16),BP$16,\"\")","v":""},{"$f":"IF(COUNTIF($CZ49:$DS49,BQ$16),BQ$16,\"\")","v":""},{"$f":"IF(COUNTIF($CZ49:$DS49,BR$16),BR$16,\"\")","v":""},{"$f":"IF(COUNTIF($CZ49:$DS49,BS$16),BS$16,\"\")","v":70},{"$f":"IF(COUNTIF($CZ49:$DS49,BT$16),BT$16,\"\")","v":""},{"$f":"IF(COUNTIF($CZ49:$DS49,BU$16),BU$16,\"\")","v":""},{"$f":"IF(COUNTIF($CZ49:$DS49,BV$16),BV$16,\"\")","v":""},{"$f":"IF(COUNTIF($CZ49:$DS49,BW$16),BW$16,\"\")","v":74},{"$f":"IF(COUNTIF($CZ49:$DS49,BX$16),BX$16,\"\")","v":""},{"$f":"IF(COUNTIF($CZ49:$DS49,BY$16),BY$16,\"\")","v":""},{"$f":"IF(COUNTIF($CZ49:$DS49,BZ$16),BZ$16,\"\")","v":77},{"$f":"IF(COUNTIF($CZ49:$DS49,CA$16),CA$16,\"\")","v":""},{"$f":"IF(COUNTIF($CZ49:$DS49,CB$16),CB$16,\"\")","v":""},{"$f":"IF(COUNTIF($CZ49:$DS49,CC$16),CC$16,\"\")","v":""},{"$f":"IF(COUNTIF($CZ49:$DS49,CD$16),CD$16,\"\")","v":""},{"$f":"IF(COUNTIF($CZ49:$DS49,CE$16),CE$16,\"\")","v":82},{"$f":"IF(COUNTIF($CZ49:$DS49,CF$16),CF$16,\"\")","v":83},{"$f":"IF(COUNTIF($CZ49:$DS49,CG$16),CG$16,\"\")","v":""},{"$f":"IF(COUNTIF($CZ49:$DS49,CH$16),CH$16,\"\")","v":85},{"$f":"IF(COUNTIF($CZ49:$DS49,CI$16),CI$16,\"\")","v":""},{"$f":"IF(COUNTIF($CZ49:$DS49,CJ$16),CJ$16,\"\")","v":""},{"$f":"IF(COUNTIF($CZ49:$DS49,CK$16),CK$16,\"\")","v":""},{"$f":"IF(COUNTIF($CZ49:$DS49,CL$16),CL$16,\"\")","v":""},{"$f":"IF(COUNTIF($CZ49:$DS49,CM$16),CM$16,\"\")","v":""},{"$f":"IF(COUNTIF($CZ49:$DS49,CN$16),CN$16,\"\")","v":""},{"$f":"IF(COUNTIF($CZ49:$DS49,CO$16),CO$16,\"\")","v":""},{"$f":"IF(COUNTIF($CZ49:$DS49,CP$16),CP$16,\"\")","v":""},{"$f":"IF(COUNTIF($CZ49:$DS49,CQ$16),CQ$16,\"\")","v":94},{"$f":"IF(COUNTIF($CZ49:$DS49,CR$16),CR$16,\"\")","v":""},{"$f":"IF(COUNTIF($CZ49:$DS49,CS$16),CS$16,\"\")","v":""},{"$f":"IF(COUNTIF($CZ49:$DS49,CT$16),CT$16,\"\")","v":""},{"$f":"IF(COUNTIF($CZ49:$DS49,CU$16),CU$16,\"\")","v":""},{"$f":"IF(COUNTIF($CZ49:$DS49,CV$16),CV$16,\"\")","v":""},{"$f":"IF(COUNTIF($CZ49:$DS49,0),0,\"\")","v":""},33,1837,{"$f":"VLOOKUP($CY49,J!$A$2:$AW$4000,3,FALSE)","v":14},{"$f":"VLOOKUP($CY49,J!$A$2:$AW$4000,4,FALSE)","v":16},{"$f":"VLOOKUP($CY49,J!$A$2:$AW$4000,5,FALSE)","v":18},{"$f":"VLOOKUP($CY49,J!$A$2:$AW$4000,6,FALSE)","v":24},{"$f":"VLOOKUP($CY49,J!$A$2:$AW$4000,7,FALSE)","v":30},{"$f":"VLOOKUP($CY49,J!$A$2:$AW$4000,8,FALSE)","v":34},{"$f":"VLOOKUP($CY49,J!$A$2:$AW$4000,9,FALSE)","v":37},{"$f":"VLOOKUP($CY49,J!$A$2:$AW$4000,10,FALSE)","v":42},{"$f":"VLOOKUP($CY49,J!$A$2:$AW$4000,11,FALSE)","v":48},{"$f":"VLOOKUP($CY49,J!$A$2:$AW$4000,12,FALSE)","v":49},{"$f":"VLOOKUP($CY49,J!$A$2:$AW$4000,13,FALSE)","v":57},{"$f":"VLOOKUP($CY49,J!$A$2:$AW$4000,14,FALSE)","v":59},{"$f":"VLOOKUP($CY49,J!$A$2:$AW$4000,15,FALSE)","v":60},{"$f":"VLOOKUP($CY49,J!$A$2:$AW$4000,16,FALSE)","v":70},{"$f":"VLOOKUP($CY49,J!$A$2:$AW$4000,17,FALSE)","v":74},{"$f":"VLOOKUP($CY49,J!$A$2:$AW$4000,18,FALSE)","v":77},{"$f":"VLOOKUP($CY49,J!$A$2:$AW$4000,19,FALSE)","v":82},{"$f":"VLOOKUP($CY49,J!$A$2:$AW$4000,20,FALSE)","v":83},{"$f":"VLOOKUP($CY49,J!$A$2:$AW$4000,21,FALSE)","v":85},{"$f":"VLOOKUP($CY49,J!$A$2:$AW$4000,22,FALSE)","v":94}]
[null,{"$f":"IF(COUNTIF($CZ50:$DS50,B$16),B$16,\"\")","v":""},{"$f":"IF(COUNTIF($CZ50:$DS50,C$16),C$16,\"\")","v":""},{"$f":"IF(COUNTIF($CZ50:$DS50,D$16),D$16,\"\")","v":""},{"$f":"IF(COUNTIF($CZ50:$DS50,E$16),E$16,\"\")","v":""},{"$f":"IF(COUNTIF($CZ50:$DS50,F$16),F$16,\"\")","v":""},{"$f":"IF(COUNTIF($CZ50:$DS50,G$16),G$16,\"\")","v":""},{"$f":"IF(COUNTIF($CZ50:$DS50,H$16),H$16,\"\")","v":""},{"$f":"IF(COUNTIF($CZ50:$DS50,I$16),I$16,\"\")","v":8},{"$f":"IF(COUNTIF($CZ50:$DS50,J$16),J$16,\"\")","v":""},{"$f":"IF(COUNTIF($CZ50:$DS50,K$16),K$16,\"\")","v":10},{"$f":"IF(COUNTIF($CZ50:$DS50,L$16),L$16,\"\")","v":""},{"$f":"IF(COUNTIF($CZ50:$DS50,M$16),M$16,\"\")","v":""},{"$f":"IF(COUNTIF($CZ50:$DS50,N$16),N$16,\"\")","v":""},{"$f":"IF(COUNTIF($CZ50:$DS50,O$16),O$16,\"\")","v":""},{"$f":"IF(COUNTIF($CZ50:$DS50,P$16),P$16,\"\")","v":15},{"$f":"IF(COUNTIF($CZ50:$DS50,Q$16),Q$16,\"\")","v":""},{"$f":"IF(COUNTIF($CZ50:$DS50,R$16),R$16,\"\")","v":""},{"$f":"IF(COUNTIF($CZ50:$DS50,S$16),S$16,\"\")","v":""},{"$f":"IF(COUNTIF($CZ50:$DS50,T$16),T$16,\"\")","v":19},{"$f":"IF(COUNTIF($CZ50:$DS50,U$16),U$16,\"\")","v":""},{"$f":"IF(COUNTIF($CZ50:$DS50,V$16),V$16,\"\")","v":""},{"$f":"IF(COUNTIF($CZ50:$DS50,W$16),W$16,\"\")","v":""},{"$f":"IF(COUNTIF($CZ50:$DS50,X$16),X$16,\"\")","v":23},{"$f":"IF(COUNTIF($CZ50:$DS50,Y$16),Y$16,\"\")","v":""},{"$f":"IF(COUNTIF($CZ50:$DS50,Z$16),Z$16,\"\")","v":""},{"$f":"IF(COUNTIF($CZ50:$DS50,AA$16),AA$16,\"\")","v":26},{"$f":"IF(COUNTIF($CZ50:$DS50,AB$16),AB$16,\"\")","v":27},{"$f":"IF(COUNTIF($CZ50:$DS50,AC$16),AC$16,\"\")","v":""},{"$f":"IF(COUNTIF($CZ50:$DS50,AD$16),AD$16,\"\")","v":""},{"$f":"IF(COUNTIF($CZ50:$DS50,AE$16),AE$16,\"\")","v":""},{"$f":"IF(COUNTIF($CZ50:$DS50,AF$16),AF$16,\"\")","v":""},{"$f":"IF(COUNTIF($CZ50:$DS50,AG$16),AG$16,\"\")","v":""},{"$f":"IF(COUNTIF($CZ50:$DS50,AH$16),AH$16,\"\")","v":""},{"$f":"IF(COUNTIF($CZ50:$DS50,AI$16),AI$16,\"\")","v":""},{"$f":"IF(COUNTIF($CZ50:$DS50,AJ$16),AJ$16,\"\")","v":""},{"$f":"IF(COUNTIF($CZ50:$DS50,AK$16),AK$16,\"\")","v":""},{"$f":"IF(COUNTIF($CZ50:$DS50,AL$16),AL$16,\"\")","v":""},{"$f":"IF(COUNTIF($CZ50:$DS50,AM$16),AM$16,\"\")","v":""},{"$f":"IF(COUNTIF($CZ50:$DS50,AN$16),AN$16,\"\")","v":39},{"$f":"IF(COUNTIF($CZ50:$DS50,AO$16),AO$16,\"\")","v":""},{"$f":"IF(COUNTIF($CZ50:$DS50,AP$16),AP$16,\"\")","v":41},{"$f":"IF(COUNTIF($CZ50:$DS50,AQ$16),AQ$16,\"\")","v":""},{"$f":"IF(COUNTIF($CZ50:$DS50,AR$16),AR$16,\"\")","v":""},{"$f":"IF(COUNTIF($CZ50:$DS50,AS$16),AS$16,\"\")","v":""},{"$f":"IF(COUNTIF($CZ50:$DS50,AT$16),AT$16,\"\")","v":""},{"$f":"IF(COUNTIF($CZ50:$DS50,AU$16),AU$16,\"\")","v":""},{"$f":"IF(COUNTIF($CZ50:$DS50,AV$16),AV$16,\"\")","v":""},{"$f":"IF(COUNTIF($CZ50:$DS50,AW$16),AW$16,\"\")","v":""},{"$f":"IF(COUNTIF($CZ50:$DS50,AX$16),AX$16,\"\")","v":""},{"$f":"IF(COUNTIF($CZ50:$DS50,AY$16),AY$16,\"\")","v":""},{"$f":"IF(COUNTIF($CZ50:$DS50,AZ$16),AZ$16,\"\")","v":""},{"$f":"IF(COUNTIF($CZ50:$DS50,BA$16),BA$16,\"\")","v":""},{"$f":"IF(COUNTIF($CZ50:$DS50,BB$16),BB$16,\"\")","v":""},{"$f":"IF(COUNTIF($CZ50:$DS50,BC$16),BC$16,\"\")","v":""},{"$f":"IF(COUNTIF($CZ50:$DS50,BD$16),BD$16,\"\")","v":""},{"$f":"IF(COUNTIF($CZ50:$DS50,BE$16),BE$16,\"\")","v":56},{"$f":"IF(COUNTIF($CZ50:$DS50,BF$16),BF$16,\"\")","v":""},{"$f":"IF(COUNTIF($CZ50:$DS50,BG$16),BG$16,\"\")","v":""},{"$f":"IF(COUNTIF($CZ50:$DS50,BH$16),BH$16,\"\")","v":59},{"$f":"IF(COUNTIF($CZ50:$DS50,BI$16),BI$16,\"\")","v":""},{"$f":"IF(COUNTIF($CZ50:$DS50,BJ$16),BJ$16,\"\")","v":""},{"$f":"IF(COUNTIF($CZ50:$DS50,BK$16),BK$16,\"\")","v":""},{"$f":"IF(COUNTIF($CZ50:$DS50,BL$16),BL$16,\"\")","v":63},{"$f":"IF(COUNTIF($CZ50:$DS50,BM$16),BM$16,\"\")","v":""},{"$f":"IF(COUNTIF($CZ50:$DS50,BN$16),BN$16,\"\")","v":""},{"$f":"IF(COUNTIF($CZ50:$DS50,BO$16),BO$16,\"\")","v":66},{"$f":"IF(COUNTIF($CZ50:$DS50,BP$16),BP$16,\"\")","v":""},{"$f":"IF(COUNTIF($CZ50:$DS50,BQ$16),BQ$16,\"\")","v":68},{"$f":"IF(COUNTIF($CZ50:$DS50,BR$16),BR$16,\"\")","v":""},{"$f":"IF(COUNTIF($CZ50:$DS50,BS$16),BS$16,\"\")","v":""},{"$f":"IF(COUNTIF($CZ50:$DS50,BT$16),BT$16,\"\")","v":""},{"$f":"IF(COUNTIF($CZ50:$DS50,BU$16),BU$16,\"\")","v":""},{"$f":"IF(COUNTIF($CZ50:$DS50,BV$16),BV$16,\"\")","v":""},{"$f":"IF(COUNTIF($CZ50:$DS50,BW$16),BW$16,\"\")","v":""},{"$f":"IF(COUNTIF($CZ50:$DS50,BX$16),BX$16,\"\")","v":""},{"$f":"IF(COUNTIF($CZ50:$DS50,BY$16),BY$16,\"\")","v":""},{"$f":"IF(COUNTIF($CZ50:$DS50,BZ$16),BZ$16,\"\")","v":""},{"$f":"IF(COUNTIF($CZ50:$DS50,CA$16),CA$16,\"\")","v":78},{"$f":"IF(COUNTIF($CZ50:$DS50,CB$16),CB$16,\"\")","v":79},{"$f":"IF(COUNTIF($CZ50:$DS50,CC$16),CC$16,\"\")","v":""},{"$f":"IF(COUNTIF($CZ50:$DS50,CD$16),CD$16,\"\")","v":""},{"$f":"IF(COUNTIF($CZ50:$DS50,CE$16),CE$16,\"\")","v":""},{"$f":"IF(COUNTIF($CZ50:$DS50,CF$16),CF$16,\"\")","v":""},{"$f":"IF(COUNTIF($CZ50:$DS50,CG$16),CG$16,\"\")","v":""},{"$f":"IF(COUNTIF($CZ50:$DS50,CH$16),CH$16,\"\")","v":""},{"$f":"IF(COUNTIF($CZ50:$DS50,CI$16),CI$16,\"\")","v":""},{"$f":"IF(COUNTIF($CZ50:$DS50,CJ$16),CJ$16,\"\")","v":""},{"$f":"IF(COUNTIF($CZ50:$DS50,CK$16),CK$16,\"\")","v":""},{"$f":"IF(COUNTIF($CZ50:$DS50,CL$16),CL$16,\"\")","v":""},{"$f":"IF(COUNTIF($CZ50:$DS50,CM$16),CM$16,\"\")","v":90},{"$f":"IF(COUNTIF($CZ50:$DS50,CN$16),CN$16,\"\")","v":""},{"$f":"IF(COUNTIF($CZ50:$DS50,CO$16),CO$16,\"\")","v":""},{"$f":"IF(COUNTIF($CZ50:$DS50,CP$16),CP$16,\"\")","v":93},{"$f":"IF(COUNTIF($CZ50:$DS50,CQ$16),CQ$16,\"\")","v":""},{"$f":"IF(COUNTIF($CZ50:$DS50,CR$16),CR$16,\"\")","v":95},{"$f":"IF(COUNTIF($CZ50:$DS50,CS$16),CS$16,\"\")","v":""},{"$f":"IF(COUNTIF($CZ50:$DS50,CT$16),CT$16,\"\")","v":""},{"$f":"IF(COUNTIF($CZ50:$DS50,CU$16),CU$16,\"\")","v":98},{"$f":"IF(COUNTIF($CZ50:$DS50,CV$16),CV$16,\"\")","v":""},{"$f":"IF(COUNTIF($CZ50:$DS50,0),0,\"\")","v":""},34,1836,{"$f":"VLOOKUP($CY50,J!$A$2:$AW$4000,3,FALSE)","v":8},{"$f":"VLOOKUP($CY50,J!$A$2:$AW$4000,4,FALSE)","v":10},{"$f":"VLOOKUP($CY50,J!$A$2:$AW$4000,5,FALSE)","v":15},{"$f":"VLOOKUP($CY50,J!$A$2:$AW$4000,6,FALSE)","v":19},{"$f":"VLOOKUP($CY50,J!$A$2:$AW$4000,7,FALSE)","v":23},{"$f":"VLOOKUP($CY50,J!$A$2:$AW$4000,8,FALSE)","v":26},{"$f":"VLOOKUP($CY50,J!$A$2:$AW$4000,9,FALSE)","v":27},{"$f":"VLOOKUP($CY50,J!$A$2:$AW$4000,10,FALSE)","v":39},{"$f":"VLOOKUP($CY50,J!$A$2:$AW$4000,11,FALSE)","v":41},{"$f":"VLOOKUP($CY50,J!$A$2:$AW$4000,12,FALSE)","v":56},{"$f":"VLOOKUP($CY50,J!$A$2:$AW$4000,13,FALSE)","v":59},{"$f":"VLOOKUP($CY50,J!$A$2:$AW$4000,14,FALSE)","v":63},{"$f":"VLOOKUP($CY50,J!$A$2:$AW$4000,15,FALSE)","v":66},{"$f":"VLOOKUP($CY50,J!$A$2:$AW$4000,16,FALSE)","v":68},{"$f":"VLOOKUP($CY50,J!$A$2:$AW$4000,17,FALSE)","v":78},{"$f":"VLOOKUP($CY50,J!$A$2:$AW$4000,18,FALSE)","v":79},{"$f":"VLOOKUP($CY50,J!$A$2:$AW$4000,19,FALSE)","v":90},{"$f":"VLOOKUP($CY50,J!$A$2:$AW$4000,20,FALSE)","v":93},{"$f":"VLOOKUP($CY50,J!$A$2:$AW$4000,21,FALSE)","v":95},{"$f":"VLOOKUP($CY50,J!$A$2:$AW$4000,22,FALSE)","v":98}]
[null,{"$f":"IF(COUNTIF($CZ51:$DS51,B$16),B$16,\"\")","v":1},{"$f":"IF(COUNTIF($CZ51:$DS51,C$16),C$16,\"\")","v":""},{"$f":"IF(COUNTIF($CZ51:$DS51,D$16),D$16,\"\")","v":""},{"$f":"IF(COUNTIF($CZ51:$DS51,E$16),E$16,\"\")","v":4},{"$f":"IF(COUNTIF($CZ51:$DS51,F$16),F$16,\"\")","v":""},{"$f":"IF(COUNTIF($CZ51:$DS51,G$16),G$16,\"\")","v":""},{"$f":"IF(COUNTIF($CZ51:$DS51,H$16),H$16,\"\")","v":""},{"$f":"IF(COUNTIF($CZ51:$DS51,I$16),I$16,\"\")","v":""},{"$f":"IF(COUNTIF($CZ51:$DS51,J$16),J$16,\"\")","v":9},{"$f":"IF(COUNTIF($CZ51:$DS51,K$16),K$16,\"\")","v":""},{"$f":"IF(COUNTIF($CZ51:$DS51,L$16),L$16,\"\")","v":""},{"$f":"IF(COUNTIF($CZ51:$DS51,M$16),M$16,\"\")","v":""},{"$f":"IF(COUNTIF($CZ51:$DS51,N$16),N$16,\"\")","v":""},{"$f":"IF(COUNTIF($CZ51:$DS51,O$16),O$16,\"\")","v":""},{"$f":"IF(COUNTIF($CZ51:$DS51,P$16),P$16,\"\")","v":15},{"$f":"IF(COUNTIF($CZ51:$DS51,Q$16),Q$16,\"\")","v":""},{"$f":"IF(COUNTIF($CZ51:$DS51,R$16),R$16,\"\")","v":17},{"$f":"IF(COUNTIF($CZ51:$DS51,S$16),S$16,\"\")","v":18},{"$f":"IF(COUNTIF($CZ51:$DS51,T$16),T$16,\"\")","v":""},{"$f":"IF(COUNTIF($CZ51:$DS51,U$16),U$16,\"\")","v":20},{"$f":"IF(COUNTIF($CZ51:$DS51,V$16),V$16,\"\")","v":""},{"$f":"IF(COUNTIF($CZ51:$DS51,W$16),W$16,\"\")","v":""},{"$f":"IF(COUNTIF($CZ51:$DS51,X$16),X$16,\"\")","v":""},{"$f":"IF(COUNTIF($CZ51:$DS51,Y$16),Y$16,\"\")","v":""},{"$f":"IF(COUNTIF($CZ51:$DS51,Z$16),Z$16,\"\")","v":""},{"$f":"IF(COUNTIF($CZ51:$DS51,AA$16),AA$16,\"\")","v":""},{"$f":"IF(COUNTIF($CZ51:$DS51,AB$16),AB$16,\"\")","v":27},{"$f":"IF(COUNTIF($CZ51:$DS51,AC$16),AC$16,\"\")","v":""},{"$f":"IF(COUNTIF($CZ51:$DS51,AD$16),AD$16,\"\")","v":""},{"$f":"IF(COUNTIF($CZ51:$DS51,AE$16),AE$16,\"\")","v":""},{"$f":"IF(COUNTIF($CZ51:$DS51,AF$16),AF$16,\"\")","v":""},{"$f":"IF(COUNTIF($CZ51:$DS51,AG$16),AG$16,\"\")","v":""},{"$f":"IF(COUNTIF($CZ51:$DS51,AH$16),AH$16,\"\")","v":""},{"$f":"IF(COUNTIF($CZ51:$DS51,AI$16),AI$16,\"\")","v":""},{"$f":"IF(COUNTIF($CZ51:$DS51,AJ$16),AJ$16,\"\")","v":""},{"$f":"IF(COUNTIF($CZ51:$DS51,AK$16),AK$16,\"\")","v":""},{"$f":"IF(COUNTIF($CZ51:$DS51,AL$16),AL$16,\"\")","v":""},{"$f":"IF(COUNTIF($CZ51:$DS51,AM$16),AM$16,\"\")","v":""},{"$f":"IF(COUNTIF($CZ51:$DS51,AN$16),AN$16,\"\")","v":""},{"$f":"IF(COUNTIF($CZ51:$DS51,AO$16),AO$16,\"\")","v":""},{"$f":"IF(COUNTIF($CZ51:$DS51,AP$16),AP$16,\"\")","v":""},{"$f":"IF(COUNTIF($CZ51:$DS51,AQ$16),AQ$16,\"\")","v":""},{"$f":"IF(COUNTIF($CZ51:$DS51,AR$16),AR$16,\"\")","v":""},{"$f":"IF(COUNTIF($CZ51:$DS51,AS$16),AS$16,\"\")","v":""},{"$f":"IF(COUNTIF($CZ51:$DS51,AT$16),AT$16,\"\")","v":""},{"$f":"IF(COUNTIF($CZ51:$DS51,AU$16),AU$16,\"\")","v":""},{"$f":"IF(COUNTIF($CZ51:$DS51,AV$16),AV$16,\"\")","v":""},{"$f":"IF(COUNTIF($CZ51:$DS51,AW$16),AW$16,\"\")","v":""},{"$f":"IF(COUNTIF($CZ51:$DS51,AX$16),AX$16,\"\")","v":""},{"$f":"IF(COUNTIF($CZ51:$DS51,AY$16),AY$16,\"\")","v":""},{"$f":"IF(COUNTIF($CZ51:$DS51,AZ$16),AZ$16,\"\")","v":""},{"$f":"IF(COUNTIF($CZ51:$DS51,BA$16),BA$16,\"\")","v":""},{"$f":"IF(COUNTIF($CZ51:$DS51,BB$16),BB$16,\"\")","v":53},{"$f":"IF(COUNTIF($CZ51:$DS51,BC$16),BC$16,\"\")","v":""},{"$f":"IF(COUNTIF($CZ51:$DS51,BD$16),BD$16,\"\")","v":55},{"$f":"IF(COUNTIF($CZ51:$DS51,BE$16),BE$16,\"\")","v":""},{"$f":"IF(COUNTIF($CZ51:$DS51,BF$16),BF$16,\"\")","v":""},{"$f":"IF(COUNTIF($CZ51:$DS51,BG$16),BG$16,\"\")","v":""},{"$f":"IF(COUNTIF($CZ51:$DS51,BH$16),BH$16,\"\")","v":""},{"$f":"IF(COUNTIF($CZ51:$DS51,BI$16),BI$16,\"\")","v":""},{"$f":"IF(COUNTIF($CZ51:$DS51,BJ$16),BJ$16,\"\")","v":""},{"$f":"IF(COUNTIF($CZ51:$DS51,BK$16),BK$16,\"\")","v":62},{"$f":"IF(COUNTIF($CZ51:$DS51,BL$16),BL$16,\"\")","v":""},{"$f":"IF(COUNTIF($CZ51:$DS51,BM$16),BM$16,\"\")","v":""},{"$f":"IF(COUNTIF($CZ51:$DS51,BN$16),BN$16,\"\")","v":""},{"$f":"IF(COUNTIF($CZ51:$DS51,BO$16),BO$16,\"\")","v":""},{"$f":"IF(COUNTIF($CZ51:$DS51,BP$16),BP$16,\"\")","v":67},{"$f":"IF(COUNTIF($CZ51:$DS51,BQ$16),BQ$16,\"\")","v":68},{"$f":"IF(COUNTIF($CZ51:$DS51,BR$16),BR$16,\"\")","v":""},{"$f":"IF(COUNTIF($CZ51:$DS51,BS$16),BS$16,\"\")","v":70},{"$f":"IF(COUNTIF($CZ51:$DS51,BT$16),BT$16,\"\")","v":""},{"$f":"IF(COUNTIF($CZ51:$DS51,BU$16),BU$16,\"\")","v":""},{"$f":"IF(COUNTIF($CZ51:$DS51,BV$16),BV$16,\"\")","v":""},{"$f":"IF(COUNTIF($CZ51:$DS51,BW$16),BW$16,\"\")","v":74},{"$f":"IF(COUNTIF($CZ51:$DS51,BX$16),BX$16,\"\")","v":""},{"$f":"IF(COUNTIF($CZ51:$DS51,BY$16),BY$16,\"\")","v":""},{"$f":"IF(COUNTIF($CZ51:$DS51,BZ$16),BZ$16,\"\")","v":""},{"$f":"IF(COUNTIF($CZ51:$DS51,CA$16),CA$16,\"\")","v":""},{"$f":"IF(COUNTIF($CZ51:$DS51,CB$16),CB$16,\"\")","v":79},{"$f":"IF(COUNTIF($CZ51:$DS51,CC$16),CC$16,\"\")","v":""},{"$f":"IF(COUNTIF($CZ51:$DS51,CD$16),CD$16,\"\")","v":""},{"$f":"IF(COUNTIF($CZ51:$DS51,CE$16),CE$16,\"\")","v":""},{"$f":"IF(COUNTIF($CZ51:$DS51,CF$16),CF$16,\"\")","v":""},{"$f":"IF(COUNTIF($CZ51:$DS51,CG$16),CG$16,\"\")","v":84},{"$f":"IF(COUNTIF($CZ51:$DS51,CH$16),CH$16,\"\")","v":""},{"$f":"IF(COUNTIF($CZ51:$DS51,CI$16),CI$16,\"\")","v":""},{"$f":"IF(COUNTIF($CZ51:$DS51,CJ$16),CJ$16,\"\")","v":""},{"$f":"IF(COUNTIF($CZ51:$DS51,CK$16),CK$16,\"\")","v":""},{"$f":"IF(COUNTIF($CZ51:$DS51,CL$16),CL$16,\"\")","v":""},{"$f":"IF(COUNTIF($CZ51:$DS51,CM$16),CM$16,\"\")","v":""},{"$f":"IF(COUNTIF($CZ51:$DS51,CN$16),CN$16,\"\")","v":""},{"$f":"IF(COUNTIF($CZ51:$DS51,CO$16),CO$16,\"\")","v":""},{"$f":"IF(COUNTIF($CZ51:$DS51,CP$16),CP$16,\"\")","v":93},{"$f":"IF(COUNTIF($CZ51:$DS51,CQ$16),CQ$16,\"\")","v":94},{"$f":"IF(COUNTIF($CZ51:$DS51,CR$16),CR$16,\"\")","v":""},{"$f":"IF(COUNTIF($CZ51:$DS51,CS$16),CS$16,\"\")","v":""},{"$f":"IF(COUNTIF($CZ51:$DS51,CT$16),CT$16,\"\")","v":""},{"$f":"IF(COUNTIF($CZ51:$DS51,CU$16),CU$16,\"\")","v":""},{"$f":"IF(COUNTIF($CZ51:$DS51,CV$16),CV$16,\"\")","v":99},{"$f":"IF(COUNTIF($CZ51:$DS51,0),0,\"\")","v":""},35,1835,{"$f":"VLOOKUP($CY51,J!$A$2:$AW$4000,3,FALSE)","v":1},{"$f":"VLOOKUP($CY51,J!$A$2:$AW$4000,4,FALSE)","v":4},{"$f":"VLOOKUP($CY51,J!$A$2:$AW$4000,5,FALSE)","v":9},{"$f":"VLOOKUP($CY51,J!$A$2:$AW$4000,6,FALSE)","v":15},{"$f":"VLOOKUP($CY51,J!$A$2:$AW$4000,7,FALSE)","v":17},{"$f":"VLOOKUP($CY51,J!$A$2:$AW$4000,8,FALSE)","v":18},{"$f":"VLOOKUP($CY51,J!$A$2:$AW$4000,9,FALSE)","v":20},{"$f":"VLOOKUP($CY51,J!$A$2:$AW$4000,10,FALSE)","v":27},{"$f":"VLOOKUP($CY51,J!$A$2:$AW$4000,11,FALSE)","v":53},{"$f":"VLOOKUP($CY51,J!$A$2:$AW$4000,12,FALSE)","v":55},{"$f":"VLOOKUP($CY51,J!$A$2:$AW$4000,13,FALSE)","v":62},{"$f":"VLOOKUP($CY51,J!$A$2:$AW$4000,14,FALSE)","v":67},{"$f":"VLOOKUP($CY51,J!$A$2:$AW$4000,15,FALSE)","v":68},{"$f":"VLOOKUP($CY51,J!$A$2:$AW$4000,16,FALSE)","v":70},{"$f":"VLOOKUP($CY51,J!$A$2:$AW$4000,17,FALSE)","v":74},{"$f":"VLOOKUP($CY51,J!$A$2:$AW$4000,18,FALSE)","v":79},{"$f":"VLOOKUP($CY51,J!$A$2:$AW$4000,19,FALSE)","v":84},{"$f":"VLOOKUP($CY51,J!$A$2:$AW$4000,20,FALSE)","v":93},{"$f":"VLOOKUP($CY51,J!$A$2:$AW$4000,21,FALSE)","v":94},{"$f":"VLOOKUP($CY51,J!$A$2:$AW$4000,22,FALSE)","v":99}]
[null,{"$f":"IF(COUNTIF($CZ52:$DS52,B$16),B$16,\"\")","v":1},{"$f":"IF(COUNTIF($CZ52:$DS52,C$16),C$16,\"\")","v":""},{"$f":"IF(COUNTIF($CZ52:$DS52,D$16),D$16,\"\")","v":""},{"$f":"IF(COUNTIF($CZ52:$DS52,E$16),E$16,\"\")","v":""},{"$f":"IF(COUNTIF($CZ52:$DS52,F$16),F$16,\"\")","v":""},{"$f":"IF(COUNTIF($CZ52:$DS52,G$16),G$16,\"\")","v":6},{"$f":"IF(COUNTIF($CZ52:$DS52,H$16),H$16,\"\")","v":""},{"$f":"IF(COUNTIF($CZ52:$DS52,I$16),I$16,\"\")","v":""},{"$f":"IF(COUNTIF($CZ52:$DS52,J$16),J$16,\"\")","v":""},{"$f":"IF(COUNTIF($CZ52:$DS52,K$16),K$16,\"\")","v":""},{"$f":"IF(COUNTIF($CZ52:$DS52,L$16),L$16,\"\")","v":""},{"$f":"IF(COUNTIF($CZ52:$DS52,M$16),M$16,\"\")","v":""},{"$f":"IF(COUNTIF($CZ52:$DS52,N$16),N$16,\"\")","v":""},{"$f":"IF(COUNTIF($CZ52:$DS52,O$16),O$16,\"\")","v":""},{"$f":"IF(COUNTIF($CZ52:$DS52,P$16),P$16,\"\")","v":""},{"$f":"IF(COUNTIF($CZ52:$DS52,Q$16),Q$16,\"\")","v":""},{"$f":"IF(COUNTIF($CZ52:$DS52,R$16),R$16,\"\")","v":""},{"$f":"IF(COUNTIF($CZ52:$DS52,S$16),S$16,\"\")","v":""},{"$f":"IF(COUNTIF($CZ52:$DS52,T$16),T$16,\"\")","v":""},{"$f":"IF(COUNTIF($CZ52:$DS52,U$16),U$16,\"\")","v":""},{"$f":"IF(COUNTIF($CZ52:$DS52,V$16),V$16,\"\")","v":""},{"$f":"IF(COUNTIF($CZ52:$DS52,W$16),W$16,\"\")","v":22},{"$f":"IF(COUNTIF($CZ52:$DS52,X$16),X$16,\"\")","v":23},{"$f":"IF(COUNTIF($CZ52:$DS52,Y$16),Y$16,\"\")","v":24},{"$f":"IF(COUNTIF($CZ52:$DS52,Z$16),Z$16,\"\")","v":""},{"$f":"IF(COUNTIF($CZ52:$DS52,AA$16),AA$16,\"\")","v":""},{"$f":"IF(COUNTIF($CZ52:$DS52,AB$16),AB$16,\"\")","v":""},{"$f":"IF(COUNTIF($CZ52:$DS52,AC$16),AC$16,\"\")","v":""},{"$f":"IF(COUNTIF($CZ52:$DS52,AD$16),AD$16,\"\")","v":""},{"$f":"IF(COUNTIF($CZ52:$DS52,AE$16),AE$16,\"\")","v":""},{"$f":"IF(COUNTIF($CZ52:$DS52,AF$16),AF$16,\"\")","v":""},{"$f":"IF(COUNTIF($CZ52:$DS52,AG$16),AG$16,\"\")","v":""},{"$f":"IF(COUNTIF($CZ52:$DS52,AH$16),AH$16,\"\")","v":""},{"$f":"IF(COUNTIF($CZ52:$DS52,AI$16),AI$16,\"\")","v":""},{"$f":"IF(COUNTIF($CZ52:$DS52,AJ$16),AJ$16,\"\")","v":35},{"$f":"IF(COUNTIF($CZ52:$DS52,AK$16),AK$16,\"\")","v":36},{"$f":"IF(COUNTIF($CZ52:$DS52,AL$16),AL$16,\"\")","v":37},{"$f":"IF(COUNTIF($CZ52:$DS52,AM$16),AM$16,\"\")","v":""},{"$f":"IF(COUNTIF($CZ52:$DS52,AN$16),AN$16,\"\")","v":""},{"$f":"IF(COUNTIF($CZ52:$DS52,AO$16),AO$16,\"\")","v":""},{"$f":"IF(COUNTIF($CZ52:$DS52,AP$16),AP$16,\"\")","v":""},{"$f":"IF(COUNTIF($CZ52:$DS52,AQ$16),AQ$16,\"\")","v":""},{"$f":"IF(COUNTIF($CZ52:$DS52,AR$16),AR$16,\"\")","v":""},{"$f":"IF(COUNTIF($CZ52:$DS52,AS$16),AS$16,\"\")","v":44},{"$f":"IF(COUNTIF($CZ52:$DS52,AT$16),AT$16,\"\")","v":""},{"$f":"IF(COUNTIF($CZ52:$DS52,AU$16),AU$16,\"\")","v":""},{"$f":"IF(COUNTIF($CZ52:$DS52,AV$16),AV$16,\"\")","v":""},{"$f":"IF(COUNTIF($CZ52:$DS52,AW$16),AW$16,\"\")","v":""},{"$f":"IF(COUNTIF($CZ52:$DS52,AX$16),AX$16,\"\")","v":""},{"$f":"IF(COUNTIF($CZ52:$DS52,AY$16),AY$16,\"\")","v":""},{"$f":"IF(COUNTIF($CZ52:$DS52,AZ$16),AZ$16,\"\")","v":51},{"$f":"IF(COUNTIF($CZ52:$DS52,BA$16),BA$16,\"\")","v":""},{"$f":"IF(COUNTIF($CZ52:$DS52,BB$16),BB$16,\"\")","v":""},{"$f":"IF(COUNTIF($CZ52:$DS52,BC$16),BC$16,\"\")","v":""},{"$f":"IF(COUNTIF($CZ52:$DS52,BD$16),BD$16,\"\")","v":55},{"$f":"IF(COUNTIF($CZ52:$DS52,BE$16),BE$16,\"\")","v":""},{"$f":"IF(COUNTIF($CZ52:$DS52,BF$16),BF$16,\"\")","v":""},{"$f":"IF(COUNTIF($CZ52:$DS52,BG$16),BG$16,\"\")","v":58},{"$f":"IF(COUNTIF($CZ52:$DS52,BH$16),BH$16,\"\")","v":""},{"$f":"IF(COUNTIF($CZ52:$DS52,BI$16),BI$16,\"\")","v":""},{"$f":"IF(COUNTIF($CZ52:$DS52,BJ$16),BJ$16,\"\")","v":61},{"$f":"IF(COUNTIF($CZ52:$DS52,BK$16),BK$16,\"\")","v":""},{"$f":"IF(COUNTIF($CZ52:$DS52,BL$16),BL$16,\"\")","v":""},{"$f":"IF(COUNTIF($CZ52:$DS52,BM$16),BM$16,\"\")","v":""},{"$f":"IF(COUNTIF($CZ52:$DS52,BN$16),BN$16,\"\")","v":""},{"$f":"IF(COUNTIF($CZ52:$DS52,BO$16),BO$16,\"\")","v":""},{"$f":"IF(COUNTIF($CZ52:$DS52,BP$16),BP$16,\"\")","v":""},{"$f":"IF(COUNTIF($CZ52:$DS52,BQ$16),BQ$16,\"\")","v":68},{"$f":"IF(COUNTIF($CZ52:$DS52,BR$16),BR$16,\"\")","v":""},{"$f":"IF(COUNTIF($CZ52:$DS52,BS$16),BS$16,\"\")","v":""},{"$f":"IF(COUNTIF($CZ52:$DS52,BT$16),BT$16,\"\")","v":71},{"$f":"IF(COUNTIF($CZ52:$DS52,BU$16),BU$16,\"\")","v":""},{"$f":"IF(COUNTIF($CZ52:$DS52,BV$16),BV$16,\"\")","v":""},{"$f":"IF(COUNTIF($CZ52:$DS52,BW$16),BW$16,\"\")","v":""},{"$f":"IF(COUNTIF($CZ52:$DS52,BX$16),BX$16,\"\")","v":""},{"$f":"IF(COUNTIF($CZ52:$DS52,BY$16),BY$16,\"\")","v":""},{"$f":"IF(COUNTIF($CZ52:$DS52,BZ$16),BZ$16,\"\")","v":77},{"$f":"IF(COUNTIF($CZ52:$DS52,CA$16),CA$16,\"\")","v":""},{"$f":"IF(COUNTIF($CZ52:$DS52,CB$16),CB$16,\"\")","v":79},{"$f":"IF(COUNTIF($CZ52:$DS52,CC$16),CC$16,\"\")","v":""},{"$f":"IF(COUNTIF($CZ52:$DS52,CD$16),CD$16,\"\")","v":81},{"$f":"IF(COUNTIF($CZ52:$DS52,CE$16),CE$16,\"\")","v":""},{"$f":"IF(COUNTIF($CZ52:$DS52,CF$16),CF$16,\"\")","v":""},{"$f":"IF(COUNTIF($CZ52:$DS52,CG$16),CG$16,\"\")","v":""},{"$f":"IF(COUNTIF($CZ52:$DS52,CH$16),CH$16,\"\")","v":""},{"$f":"IF(COUNTIF($CZ52:$DS52,CI$16),CI$16,\"\")","v":""},{"$f":"IF(COUNTIF($CZ52:$DS52,CJ$16),CJ$16,\"\")","v":""},{"$f":"IF(COUNTIF($CZ52:$DS52,CK$16),CK$16,\"\")","v":""},{"$f":"IF(COUNTIF($CZ52:$DS52,CL$16),CL$16,\"\")","v":""},{"$f":"IF(COUNTIF($CZ52:$DS52,CM$16),CM$16,\"\")","v":""},{"$f":"IF(COUNTIF($CZ52:$DS52,CN$16),CN$16,\"\")","v":""},{"$f":"IF(COUNTIF($CZ52:$DS52,CO$16),CO$16,\"\")","v":""},{"$f":"IF(COUNTIF($CZ52:$DS52,CP$16),CP$16,\"\")","v":93},{"$f":"IF(COUNTIF($CZ52:$DS52,CQ$16),CQ$16,\"\")","v":94},{"$f":"IF(COUNTIF($CZ52:$DS52,CR$16),CR$16,\"\")","v":""},{"$f":"IF(COUNTIF($CZ52:$DS52,CS$16),CS$16,\"\")","v":""},{"$f":"IF(COUNTIF($CZ52:$DS52,CT$16),CT$16,\"\")","v":""},{"$f":"IF(COUNTIF($CZ52:$DS52,CU$16),CU$16,\"\")","v":""},{"$f":"IF(COUNTIF($CZ52:$DS52,CV$16),CV$16,\"\")","v":""},{"$f":"IF(COUNTIF($CZ52:$DS52,0),0,\"\")","v":""},36,1834,{"$f":"VLOOKUP($CY52,J!$A$2:$AW$4000,3,FALSE)","v":1},{"$f":"VLOOKUP($CY52,J!$A$2:$AW$4000,4,FALSE)","v":6},{"$f":"VLOOKUP($CY52,J!$A$2:$AW$4000,5,FALSE)","v":22},{"$f":"VLOOKUP($CY52,J!$A$2:$AW$4000,6,FALSE)","v":23},{"$f":"VLOOKUP($CY52,J!$A$2:$AW$4000,7,FALSE)","v":24},{"$f":"VLOOKUP($CY52,J!$A$2:$AW$4000,8,FALSE)","v":35},{"$f":"VLOOKUP($CY52,J!$A$2:$AW$4000,9,FALSE)","v":36},{"$f":"VLOOKUP($CY52,J!$A$2:$AW$4000,10,FALSE)","v":37},{"$f":"VLOOKUP($CY52,J!$A$2:$AW$4000,11,FALSE)","v":44},{"$f":"VLOOKUP($CY52,J!$A$2:$AW$4000,12,FALSE)","v":51},{"$f":"VLOOKUP($CY52,J!$A$2:$AW$4000,13,FALSE)","v":55},{"$f":"VLOOKUP($CY52,J!$A$2:$AW$4000,14,FALSE)","v":58},{"$f":"VLOOKUP($CY52,J!$A$2:$AW$4000,15,FALSE)","v":61},{"$f":"VLOOKUP($CY52,J!$A$2:$AW$4000,16,FALSE)","v":68},{"$f":"VLOOKUP($CY52,J!$A$2:$AW$4000,17,FALSE)","v":71},{"$f":"VLOOKUP($CY52,J!$A$2:$AW$4000,18,FALSE)","v":77},{"$f":"VLOOKUP($CY52,J!$A$2:$AW$4000,19,FALSE)","v":79},{"$f":"VLOOKUP($CY52,J!$A$2:$AW$4000,20,FALSE)","v":81},{"$f":"VLOOKUP($CY52,J!$A$2:$AW$4000,21,FALSE)","v":93},{"$f":"VLOOKUP($CY52,J!$A$2:$AW$4000,22,FALSE)","v":94}]
[null,{"$f":"IF(COUNTIF($CZ53:$DS53,B$16),B$16,\"\")","v":1},{"$f":"IF(COUNTIF($CZ53:$DS53,C$16),C$16,\"\")","v":""},{"$f":"IF(COUNTIF($CZ53:$DS53,D$16),D$16,\"\")","v":""},{"$f":"IF(COUNTIF($CZ53:$DS53,E$16),E$16,\"\")","v":""},{"$f":"IF(COUNTIF($CZ53:$DS53,F$16),F$16,\"\")","v":5},{"$f":"IF(COUNTIF($CZ53:$DS53,G$16),G$16,\"\")","v":""},{"$f":"IF(COUNTIF($CZ53:$DS53,H$16),H$16,\"\")","v":7},{"$f":"IF(COUNTIF($CZ53:$DS53,I$16),I$16,\"\")","v":""},{"$f":"IF(COUNTIF($CZ53:$DS53,J$16),J$16,\"\")","v":""},{"$f":"IF(COUNTIF($CZ53:$DS53,K$16),K$16,\"\")","v":""},{"$f":"IF(COUNTIF($CZ53:$DS53,L$16),L$16,\"\")","v":""},{"$f":"IF(COUNTIF($CZ53:$DS53,M$16),M$16,\"\")","v":""},{"$f":"IF(COUNTIF($CZ53:$DS53,N$16),N$16,\"\")","v":""},{"$f":"IF(COUNTIF($CZ53:$DS53,O$16),O$16,\"\")","v":""},{"$f":"IF(COUNTIF($CZ53:$DS53,P$16),P$16,\"\")","v":15},{"$f":"IF(COUNTIF($CZ53:$DS53,Q$16),Q$16,\"\")","v":16},{"$f":"IF(COUNTIF($CZ53:$DS53,R$16),R$16,\"\")","v":""},{"$f":"IF(COUNTIF($CZ53:$DS53,S$16),S$16,\"\")","v":""},{"$f":"IF(COUNTIF($CZ53:$DS53,T$16),T$16,\"\")","v":""},{"$f":"IF(COUNTIF($CZ53:$DS53,U$16),U$16,\"\")","v":20},{"$f":"IF(COUNTIF($CZ53:$DS53,V$16),V$16,\"\")","v":""},{"$f":"IF(COUNTIF($CZ53:$DS53,W$16),W$16,\"\")","v":""},{"$f":"IF(COUNTIF($CZ53:$DS53,X$16),X$16,\"\")","v":""},{"$f":"IF(COUNTIF($CZ53:$DS53,Y$16),Y$16,\"\")","v":""},{"$f":"IF(COUNTIF($CZ53:$DS53,Z$16),Z$16,\"\")","v":25},{"$f":"IF(COUNTIF($CZ53:$DS53,AA$16),AA$16,\"\")","v":""},{"$f":"IF(COUNTIF($CZ53:$DS53,AB$16),AB$16,\"\")","v":""},{"$f":"IF(COUNTIF($CZ53:$DS53,AC$16),AC$16,\"\")","v":""},{"$f":"IF(COUNTIF($CZ53:$DS53,AD$16),AD$16,\"\")","v":""},{"$f":"IF(COUNTIF($CZ53:$DS53,AE$16),AE$16,\"\")","v":""},{"$f":"IF(COUNTIF($CZ53:$DS53,AF$16),AF$16,\"\")","v":""},{"$f":"IF(COUNTIF($CZ53:$DS53,AG$16),AG$16,\"\")","v":""},{"$f":"IF(COUNTIF($CZ53:$DS53,AH$16),AH$16,\"\")","v":""},{"$f":"IF(COUNTIF($CZ53:$DS53,AI$16),AI$16,\"\")","v":""},{"$f":"IF(COUNTIF($CZ53:$DS53,AJ$16),AJ$16,\"\")","v":""},{"$f":"IF(COUNTIF($CZ53:$DS53,AK$16),AK$16,\"\")","v":36},{"$f":"IF(COUNTIF($CZ53:$DS53,AL$16),AL$16,\"\")","v":37},{"$f":"IF(COUNTIF($CZ53:$DS53,AM$16),AM$16,\"\")","v":""},{"$f":"IF(COUNTIF($CZ53:$DS53,AN$16),AN$16,\"\")","v":""},{"$f":"IF(COUNTIF($CZ53:$DS53,AO$16),AO$16,\"\")","v":""},{"$f":"IF(COUNTIF($CZ53:$DS53,AP$16),AP$16,\"\")","v":""},{"$f":"IF(COUNTIF($CZ53:$DS53,AQ$16),AQ$16,\"\")","v":""},{"$f":"IF(COUNTIF($CZ53:$DS53,AR$16),AR$16,\"\")","v":""},{"$f":"IF(COUNTIF($CZ53:$DS53,AS$16),AS$16,\"\")","v":""},{"$f":"IF(COUNTIF($CZ53:$DS53,AT$16),AT$16,\"\")","v":""},{"$f":"IF(COUNTIF($CZ53:$DS53,AU$16),AU$16,\"\")","v":""},{"$f":"IF(COUNTIF($CZ53:$DS53,AV$16),AV$16,\"\")","v":""},{"$f":"IF(COUNTIF($CZ53:$DS53,AW$16),AW$16,\"\")","v":""},{"$f":"IF(COUNTIF($CZ53:$DS53,AX$16),AX$16,\"\")","v":""},{"$f":"IF(COUNTIF($CZ53:$DS53,AY$16),AY$16,\"\")","v":""},{"$f":"IF(COUNTIF($CZ53:$DS53,AZ$16),AZ$16,\"\")","v":""},{"$f":"IF(COUNTIF($CZ53:$DS53,BA$16),BA$16,\"\")","v":""},{"$f":"IF(COUNTIF($CZ53:$DS53,BB$16),BB$16,\"\")","v":53},{"$f":"IF(COUNTIF($CZ53:$DS53,BC$16),BC$16,\"\")","v":""},{"$f":"IF(COUNTIF($CZ53:$DS53,BD$16),BD$16,\"\")","v":""},{"$f":"IF(COUNTIF($CZ53:$DS53,BE$16),BE$16,\"\")","v":""},{"$f":"IF(COUNTIF($CZ53:$DS53,BF$16),BF$16,\"\")","v":57},{"$f":"IF(COUNTIF($CZ53:$DS53,BG$16),BG$16,\"\")","v":58},{"$f":"IF(COUNTIF($CZ53:$DS53,BH$16),BH$16,\"\")","v":""},{"$f":"IF(COUNTIF($CZ53:$DS53,BI$16),BI$16,\"\")","v":""},{"$f":"IF(COUNTIF($CZ53:$DS53,BJ$16),BJ$16,\"\")","v":""},{"$f":"IF(COUNTIF($CZ53:$DS53,BK$16),BK$16,\"\")","v":""},{"$f":"IF(COUNTIF($CZ53:$DS53,BL$16),BL$16,\"\")","v":""},{"$f":"IF(COUNTIF($CZ53:$DS53,BM$16),BM$16,\"\")","v":""},{"$f":"IF(COUNTIF($CZ53:$DS53,BN$16),BN$16,\"\")","v":""},{"$f":"IF(COUNTIF($CZ53:$DS53,BO$16),BO$16,\"\")","v":""},{"$f":"IF(COUNTIF($CZ53:$DS53,BP$16),BP$16,\"\")","v":""},{"$f":"IF(COUNTIF($CZ53:$DS53,BQ$16),BQ$16,\"\")","v":""},{"$f":"IF(COUNTIF($CZ53:$DS53,BR$16),BR$16,\"\")","v":""},{"$f":"IF(COUNTIF($CZ53:$DS53,BS$16),BS$16,\"\")","v":""},{"$f":"IF(COUNTIF($CZ53:$DS53,BT$16),BT$16,\"\")","v":""},{"$f":"IF(COUNTIF($CZ53:$DS53,BU$16),BU$16,\"\")","v":""},{"$f":"IF(COUNTIF($CZ53:$DS53,BV$16),BV$16,\"\")","v":""},{"$f":"IF(COUNTIF($CZ53:$DS53,BW$16),BW$16,\"\")","v":""},{"$f":"IF(COUNTIF($CZ53:$DS53,BX$16),BX$16,\"\")","v":""},{"$f":"IF(COUNTIF($CZ53:$DS53,BY$16),BY$16,\"\")","v":76},{"$f":"IF(COUNTIF($CZ53:$DS53,BZ$16),BZ$16,\"\")","v":77},{"$f":"IF(COUNTIF($CZ53:$DS53,CA$16),CA$16,\"\")","v":78},{"$f":"IF(COUNTIF($CZ53:$DS53,CB$16),CB$16,\"\")","v":""},{"$f":"IF(COUNTIF($CZ53:$DS53,CC$16),CC$16,\"\")","v":80},{"$f":"IF(COUNTIF($CZ53:$DS53,CD$16),CD$16,\"\")","v":""},{"$f":"IF(COUNTIF($CZ53:$DS53,CE$16),CE$16,\"\")","v":82},{"$f":"IF(COUNTIF($CZ53:$DS53,CF$16),CF$16,\"\")","v":""},{"$f":"IF(COUNTIF($CZ53:$DS53,CG$16),CG$16,\"\")","v":""},{"$f":"IF(COUNTIF($CZ53:$DS53,CH$16),CH$16,\"\")","v":85},{"$f":"IF(COUNTIF($CZ53:$DS53,CI$16),CI$16,\"\")","v":""},{"$f":"IF(COUNTIF($CZ53:$DS53,CJ$16),CJ$16,\"\")","v":""},{"$f":"IF(COUNTIF($CZ53:$DS53,CK$16),CK$16,\"\")","v":88},{"$f":"IF(COUNTIF($CZ53:$DS53,CL$16),CL$16,\"\")","v":""},{"$f":"IF(COUNTIF($CZ53:$DS53,CM$16),CM$16,\"\")","v":""},{"$f":"IF(COUNTIF($CZ53:$DS53,CN$16),CN$16,\"\")","v":""},{"$f":"IF(COUNTIF($CZ53:$DS53,CO$16),CO$16,\"\")","v":""},{"$f":"IF(COUNTIF($CZ53:$DS53,CP$16),CP$16,\"\")","v":93},{"$f":"IF(COUNTIF($CZ53:$DS53,CQ$16),CQ$16,\"\")","v":""},{"$f":"IF(COUNTIF($CZ53:$DS53,CR$16),CR$16,\"\")","v":""},{"$f":"IF(COUNTIF($CZ53:$DS53,CS$16),CS$16,\"\")","v":""},{"$f":"IF(COUNTIF($CZ53:$DS53,CT$16),CT$16,\"\")","v":""},{"$f":"IF(COUNTIF($CZ53:$DS53,CU$16),CU$16,\"\")","v":""},{"$f":"IF(COUNTIF($CZ53:$DS53,CV$16),CV$16,\"\")","v":""},{"$f":"IF(COUNTIF($CZ53:$DS53,0),0,\"\")","v":""},37,1833,{"$f":"VLOOKUP($CY53,J!$A$2:$AW$4000,3,FALSE)","v":1},{"$f":"VLOOKUP($CY53,J!$A$2:$AW$4000,4,FALSE)","v":5},{"$f":"VLOOKUP($CY53,J!$A$2:$AW$4000,5,FALSE)","v":7},{"$f":"VLOOKUP($CY53,J!$A$2:$AW$4000,6,FALSE)","v":15},{"$f":"VLOOKUP($CY53,J!$A$2:$AW$4000,7,FALSE)","v":16},{"$f":"VLOOKUP($CY53,J!$A$2:$AW$4000,8,FALSE)","v":20},{"$f":"VLOOKUP($CY53,J!$A$2:$AW$4000,9,FALSE)","v":25},{"$f":"VLOOKUP($CY53,J!$A$2:$AW$4000,10,FALSE)","v":36},{"$f":"VLOOKUP($CY53,J!$A$2:$AW$4000,11,FALSE)","v":37},{"$f":"VLOOKUP($CY53,J!$A$2:$AW$4000,12,FALSE)","v":53},{"$f":"VLOOKUP($CY53,J!$A$2:$AW$4000,13,FALSE)","v":57},{"$f":"VLOOKUP($CY53,J!$A$2:$AW$4000,14,FALSE)","v":58},{"$f":"VLOOKUP($CY53,J!$A$2:$AW$4000,15,FALSE)","v":76},{"$f":"VLOOKUP($CY53,J!$A$2:$AW$4000,16,FALSE)","v":77},{"$f":"VLOOKUP($CY53,J!$A$2:$AW$4000,17,FALSE)","v":78},{"$f":"VLOOKUP($CY53,J!$A$2:$AW$4000,18,FALSE)","v":80},{"$f":"VLOOKUP($CY53,J!$A$2:$AW$4000,19,FALSE)","v":82},{"$f":"VLOOKUP($CY53,J!$A$2:$AW$4000,20,FALSE)","v":85},{"$f":"VLOOKUP($CY53,J!$A$2:$AW$4000,21,FALSE)","v":88},{"$f":"VLOOKUP($CY53,J!$A$2:$AW$4000,22,FALSE)","v":93}]
[null,{"$f":"IF(COUNTIF($CZ54:$DS54,B$16),B$16,\"\")","v":""},{"$f":"IF(COUNTIF($CZ54:$DS54,C$16),C$16,\"\")","v":2},{"$f":"IF(COUNTIF($CZ54:$DS54,D$16),D$16,\"\")","v":""},{"$f":"IF(COUNTIF($CZ54:$DS54,E$16),E$16,\"\")","v":""},{"$f":"IF(COUNTIF($CZ54:$DS54,F$16),F$16,\"\")","v":""},{"$f":"IF(COUNTIF($CZ54:$DS54,G$16),G$16,\"\")","v":""},{"$f":"IF(COUNTIF($CZ54:$DS54,H$16),H$16,\"\")","v":""},{"$f":"IF(COUNTIF($CZ54:$DS54,I$16),I$16,\"\")","v":""},{"$f":"IF(COUNTIF($CZ54:$DS54,J$16),J$16,\"\")","v":""},{"$f":"IF(COUNTIF($CZ54:$DS54,K$16),K$16,\"\")","v":""},{"$f":"IF(COUNTIF($CZ54:$DS54,L$16),L$16,\"\")","v":""},{"$f":"IF(COUNTIF($CZ54:$DS54,M$16),M$16,\"\")","v":""},{"$f":"IF(COUNTIF($CZ54:$DS54,N$16),N$16,\"\")","v":""},{"$f":"IF(COUNTIF($CZ54:$DS54,O$16),O$16,\"\")","v":""},{"$f":"IF(COUNTIF($CZ54:$DS54,P$16),P$16,\"\")","v":""},{"$f":"IF(COUNTIF($CZ54:$DS54,Q$16),Q$16,\"\")","v":""},{"$f":"IF(COUNTIF($CZ54:$DS54,R$16),R$16,\"\")","v":""},{"$f":"IF(COUNTIF($CZ54:$DS54,S$16),S$16,\"\")","v":""},{"$f":"IF(COUNTIF($CZ54:$DS54,T$16),T$16,\"\")","v":""},{"$f":"IF(COUNTIF($CZ54:$DS54,U$16),U$16,\"\")","v":20},{"$f":"IF(COUNTIF($CZ54:$DS54,V$16),V$16,\"\")","v":""},{"$f":"IF(COUNTIF($CZ54:$DS54,W$16),W$16,\"\")","v":""},{"$f":"IF(COUNTIF($CZ54:$DS54,X$16),X$16,\"\")","v":""},{"$f":"IF(COUNTIF($CZ54:$DS54,Y$16),Y$16,\"\")","v":""},{"$f":"IF(COUNTIF($CZ54:$DS54,Z$16),Z$16,\"\")","v":25},{"$f":"IF(COUNTIF($CZ54:$DS54,AA$16),AA$16,\"\")","v":""},{"$f":"IF(COUNTIF($CZ54:$DS54,AB$16),AB$16,\"\")","v":""},{"$f":"IF(COUNTIF($CZ54:$DS54,AC$16),AC$16,\"\")","v":""},{"$f":"IF(COUNTIF($CZ54:$DS54,AD$16),AD$16,\"\")","v":""},{"$f":"IF(COUNTIF($CZ54:$DS54,AE$16),AE$16,\"\")","v":""},{"$f":"IF(COUNTIF($CZ54:$DS54,AF$16),AF$16,\"\")","v":""},{"$f":"IF(COUNTIF($CZ54:$DS54,AG$16),AG$16,\"\")","v":""},{"$f":"IF(COUNTIF($CZ54:$DS54,AH$16),AH$16,\"\")","v":""},{"$f":"IF(COUNTIF($CZ54:$DS54,AI$16),AI$16,\"\")","v":""},{"$f":"IF(COUNTIF($CZ54:$DS54,AJ$16),AJ$16,\"\")","v":""},{"$f":"IF(COUNTIF($CZ54:$DS54,AK$16),AK$16,\"\")","v":36},{"$f":"IF(COUNTIF($CZ54:$DS54,AL$16),AL$16,\"\")","v":""},{"$f":"IF(COUNTIF($CZ54:$DS54,AM$16),AM$16,\"\")","v":""},{"$f":"IF(COUNTIF($CZ54:$DS54,AN$16),AN$16,\"\")","v":39},{"$f":"IF(COUNTIF($CZ54:$DS54,AO$16),AO$16,\"\")","v":""},{"$f":"IF(COUNTIF($CZ54:$DS54,AP$16),AP$16,\"\")","v":""},{"$f":"IF(COUNTIF($CZ54:$DS54,AQ$16),AQ$16,\"\")","v":""},{"$f":"IF(COUNTIF($CZ54:$DS54,AR$16),AR$16,\"\")","v":""},{"$f":"IF(COUNTIF($CZ54:$DS54,AS$16),AS$16,\"\")","v":""},{"$f":"IF(COUNTIF($CZ54:$DS54,AT$16),AT$16,\"\")","v":""},{"$f":"IF(COUNTIF($CZ54:$DS54,AU$16),AU$16,\"\")","v":""},{"$f":"IF(COUNTIF($CZ54:$DS54,AV$16),AV$16,\"\")","v":47},{"$f":"IF(COUNTIF($CZ54:$DS54,AW$16),AW$16,\"\")","v":""},{"$f":"IF(COUNTIF($CZ54:$DS54,AX$16),AX$16,\"\")","v":49},{"$f":"IF(COUNTIF($CZ54:$DS54,AY$16),AY$16,\"\")","v":50},{"$f":"IF(COUNTIF($CZ54:$DS54,AZ$16),AZ$16,\"\")","v":51},{"$f":"IF(COUNTIF($CZ54:$DS54,BA$16),BA$16,\"\")","v":52},{"$f":"IF(COUNTIF($CZ54:$DS54,BB$16),BB$16,\"\")","v":""},{"$f":"IF(COUNTIF($CZ54:$DS54,BC$16),BC$16,\"\")","v":""},{"$f":"IF(COUNTIF($CZ54:$DS54,BD$16),BD$16,\"\")","v":""},{"$f":"IF(COUNTIF($CZ54:$DS54,BE$16),BE$16,\"\")","v":""},{"$f":"IF(COUNTIF($CZ54:$DS54,BF$16),BF$16,\"\")","v":""},{"$f":"IF(COUNTIF($CZ54:$DS54,BG$16),BG$16,\"\")","v":""},{"$f":"IF(COUNTIF($CZ54:$DS54,BH$16),BH$16,\"\")","v":""},{"$f":"IF(COUNTIF($CZ54:$DS54,BI$16),BI$16,\"\")","v":""},{"$f":"IF(COUNTIF($CZ54:$DS54,BJ$16),BJ$16,\"\")","v":""},{"$f":"IF(COUNTIF($CZ54:$DS54,BK$16),BK$16,\"\")","v":""},{"$f":"IF(COUNTIF($CZ54:$DS54,BL$16),BL$16,\"\")","v":""},{"$f":"IF(COUNTIF($CZ54:$DS54,BM$16),BM$16,\"\")","v":""},{"$f":"IF(COUNTIF($CZ54:$DS54,BN$16),BN$16,\"\")","v":""},{"$f":"IF(COUNTIF($CZ54:$DS54,BO$16),BO$16,\"\")","v":""},{"$f":"IF(COUNTIF($CZ54:$DS54,BP$16),BP$16,\"\")","v":""},{"$f":"IF(COUNTIF($CZ54:$DS54,BQ$16),BQ$16,\"\")","v":""},{"$f":"IF(COUNTIF($CZ54:$DS54,BR$16),BR$16,\"\")","v":""},{"$f":"IF(COUNTIF($CZ54:$DS54,BS$16),BS$16,\"\")","v":70},{"$f":"IF(COUNTIF($CZ54:$DS54,BT$16),BT$16,\"\")","v":""},{"$f":"IF(COUNTIF($CZ54:$DS54,BU$16),BU$16,\"\")","v":""},{"$f":"IF(COUNTIF($CZ54:$DS54,BV$16),BV$16,\"\")","v":""},{"$f":"IF(COUNTIF($CZ54:$DS54,BW$16),BW$16,\"\")","v":""},{"$f":"IF(COUNTIF($CZ54:$DS54,BX$16),BX$16,\"\")","v":75},{"$f":"IF(COUNTIF($CZ54:$DS54,BY$16),BY$16,\"\")","v":76},{"$f":"IF(COUNTIF($CZ54:$DS54,BZ$16),BZ$16,\"\")","v":77},{"$f":"IF(COUNTIF($CZ54:$DS54,CA$16),CA$16,\"\")","v":""},{"$f":"IF(COUNTIF($CZ54:$DS54,CB$16),CB$16,\"\")","v":79},{"$f":"IF(COUNTIF($CZ54:$DS54,CC$16),CC$16,\"\")","v":80},{"$f":"IF(COUNTIF($CZ54:$DS54,CD$16),CD$16,\"\")","v":""},{"$f":"IF(COUNTIF($CZ54:$DS54,CE$16),CE$16,\"\")","v":""},{"$f":"IF(COUNTIF($CZ54:$DS54,CF$16),CF$16,\"\")","v":83},{"$f":"IF(COUNTIF($CZ54:$DS54,CG$16),CG$16,\"\")","v":""},{"$f":"IF(COUNTIF($CZ54:$DS54,CH$16),CH$16,\"\")","v":""},{"$f":"IF(COUNTIF($CZ54:$DS54,CI$16),CI$16,\"\")","v":""},{"$f":"IF(COUNTIF($CZ54:$DS54,CJ$16),CJ$16,\"\")","v":""},{"$f":"IF(COUNTIF($CZ54:$DS54,CK$16),CK$16,\"\")","v":""},{"$f":"IF(COUNTIF($CZ54:$DS54,CL$16),CL$16,\"\")","v":""},{"$f":"IF(COUNTIF($CZ54:$DS54,CM$16),CM$16,\"\")","v":90},{"$f":"IF(COUNTIF($CZ54:$DS54,CN$16),CN$16,\"\")","v":""},{"$f":"IF(COUNTIF($CZ54:$DS54,CO$16),CO$16,\"\")","v":""},{"$f":"IF(COUNTIF($CZ54:$DS54,CP$16),CP$16,\"\")","v":93},{"$f":"IF(COUNTIF($CZ54:$DS54,CQ$16),CQ$16,\"\")","v":""},{"$f":"IF(COUNTIF($CZ54:$DS54,CR$16),CR$16,\"\")","v":95},{"$f":"IF(COUNTIF($CZ54:$DS54,CS$16),CS$16,\"\")","v":""},{"$f":"IF(COUNTIF($CZ54:$DS54,CT$16),CT$16,\"\")","v":""},{"$f":"IF(COUNTIF($CZ54:$DS54,CU$16),CU$16,\"\")","v":""},{"$f":"IF(COUNTIF($CZ54:$DS54,CV$16),CV$16,\"\")","v":""},{"$f":"IF(COUNTIF($CZ54:$DS54,0),0,\"\")","v":""},38,1832,{"$f":"VLOOKUP($CY54,J!$A$2:$AW$4000,3,FALSE)","v":2},{"$f":"VLOOKUP($CY54,J!$A$2:$AW$4000,4,FALSE)","v":20},{"$f":"VLOOKUP($CY54,J!$A$2:$AW$4000,5,FALSE)","v":25},{"$f":"VLOOKUP($CY54,J!$A$2:$AW$4000,6,FALSE)","v":36},{"$f":"VLOOKUP($CY54,J!$A$2:$AW$4000,7,FALSE)","v":39},{"$f":"VLOOKUP($CY54,J!$A$2:$AW$4000,8,FALSE)","v":47},{"$f":"VLOOKUP($CY54,J!$A$2:$AW$4000,9,FALSE)","v":49},{"$f":"VLOOKUP($CY54,J!$A$2:$AW$4000,10,FALSE)","v":50},{"$f":"VLOOKUP($CY54,J!$A$2:$AW$4000,11,FALSE)","v":51},{"$f":"VLOOKUP($CY54,J!$A$2:$AW$4000,12,FALSE)","v":52},{"$f":"VLOOKUP($CY54,J!$A$2:$AW$4000,13,FALSE)","v":70},{"$f":"VLOOKUP($CY54,J!$A$2:$AW$4000,14,FALSE)","v":75},{"$f":"VLOOKUP($CY54,J!$A$2:$AW$4000,15,FALSE)","v":76},{"$f":"VLOOKUP($CY54,J!$A$2:$AW$4000,16,FALSE)","v":77},{"$f":"VLOOKUP($CY54,J!$A$2:$AW$4000,17,FALSE)","v":79},{"$f":"VLOOKUP($CY54,J!$A$2:$AW$4000,18,FALSE)","v":80},{"$f":"VLOOKUP($CY54,J!$A$2:$AW$4000,19,FALSE)","v":83},{"$f":"VLOOKUP($CY54,J!$A$2:$AW$4000,20,FALSE)","v":90},{"$f":"VLOOKUP($CY54,J!$A$2:$AW$4000,21,FALSE)","v":93},{"$f":"VLOOKUP($CY54,J!$A$2:$AW$4000,22,FALSE)","v":95}]
[null,{"$f":"IF(COUNTIF($CZ55:$DS55,B$16),B$16,\"\")","v":1},{"$f":"IF(COUNTIF($CZ55:$DS55,C$16),C$16,\"\")","v":""},{"$f":"IF(COUNTIF($CZ55:$DS55,D$16),D$16,\"\")","v":3},{"$f":"IF(COUNTIF($CZ55:$DS55,E$16),E$16,\"\")","v":""},{"$f":"IF(COUNTIF($CZ55:$DS55,F$16),F$16,\"\")","v":5},{"$f":"IF(COUNTIF($CZ55:$DS55,G$16),G$16,\"\")","v":6},{"$f":"IF(COUNTIF($CZ55:$DS55,H$16),H$16,\"\")","v":""},{"$f":"IF(COUNTIF($CZ55:$DS55,I$16),I$16,\"\")","v":""},{"$f":"IF(COUNTIF($CZ55:$DS55,J$16),J$16,\"\")","v":9},{"$f":"IF(COUNTIF($CZ55:$DS55,K$16),K$16,\"\")","v":""},{"$f":"IF(COUNTIF($CZ55:$DS55,L$16),L$16,\"\")","v":11},{"$f":"IF(COUNTIF($CZ55:$DS55,M$16),M$16,\"\")","v":""},{"$f":"IF(COUNTIF($CZ55:$DS55,N$16),N$16,\"\")","v":""},{"$f":"IF(COUNTIF($CZ55:$DS55,O$16),O$16,\"\")","v":""},{"$f":"IF(COUNTIF($CZ55:$DS55,P$16),P$16,\"\")","v":""},{"$f":"IF(COUNTIF($CZ55:$DS55,Q$16),Q$16,\"\")","v":""},{"$f":"IF(COUNTIF($CZ55:$DS55,R$16),R$16,\"\")","v":""},{"$f":"IF(COUNTIF($CZ55:$DS55,S$16),S$16,\"\")","v":""},{"$f":"IF(COUNTIF($CZ55:$DS55,T$16),T$16,\"\")","v":""},{"$f":"IF(COUNTIF($CZ55:$DS55,U$16),U$16,\"\")","v":""},{"$f":"IF(COUNTIF($CZ55:$DS55,V$16),V$16,\"\")","v":""},{"$f":"IF(COUNTIF($CZ55:$DS55,W$16),W$16,\"\")","v":""},{"$f":"IF(COUNTIF($CZ55:$DS55,X$16),X$16,\"\")","v":""},{"$f":"IF(COUNTIF($CZ55:$DS55,Y$16),Y$16,\"\")","v":""},{"$f":"IF(COUNTIF($CZ55:$DS55,Z$16),Z$16,\"\")","v":""},{"$f":"IF(COUNTIF($CZ55:$DS55,AA$16),AA$16,\"\")","v":26},{"$f":"IF(COUNTIF($CZ55:$DS55,AB$16),AB$16,\"\")","v":""},{"$f":"IF(COUNTIF($CZ55:$DS55,AC$16),AC$16,\"\")","v":""},{"$f":"IF(COUNTIF($CZ55:$DS55,AD$16),AD$16,\"\")","v":29},{"$f":"IF(COUNTIF($CZ55:$DS55,AE$16),AE$16,\"\")","v":""},{"$f":"IF(COUNTIF($CZ55:$DS55,AF$16),AF$16,\"\")","v":31},{"$f":"IF(COUNTIF($CZ55:$DS55,AG$16),AG$16,\"\")","v":""},{"$f":"IF(COUNTIF($CZ55:$DS55,AH$16),AH$16,\"\")","v":""},{"$f":"IF(COUNTIF($CZ55:$DS55,AI$16),AI$16,\"\")","v":""},{"$f":"IF(COUNTIF($CZ55:$DS55,AJ$16),AJ$16,\"\")","v":35},{"$f":"IF(COUNTIF($CZ55:$DS55,AK$16),AK$16,\"\")","v":""},{"$f":"IF(COUNTIF($CZ55:$DS55,AL$16),AL$16,\"\")","v":""},{"$f":"IF(COUNTIF($CZ55:$DS55,AM$16),AM$16,\"\")","v":""},{"$f":"IF(COUNTIF($CZ55:$DS55,AN$16),AN$16,\"\")","v":""},{"$f":"IF(COUNTIF($CZ55:$DS55,AO$16),AO$16,\"\")","v":""},{"$f":"IF(COUNTIF($CZ55:$DS55,AP$16),AP$16,\"\")","v":""},{"$f":"IF(COUNTIF($CZ55:$DS55,AQ$16),AQ$16,\"\")","v":""},{"$f":"IF(COUNTIF($CZ55:$DS55,AR$16),AR$16,\"\")","v":""},{"$f":"IF(COUNTIF($CZ55:$DS55,AS$16),AS$16,\"\")","v":""},{"$f":"IF(COUNTIF($CZ55:$DS55,AT$16),AT$16,\"\")","v":""},{"$f":"IF(COUNTIF($CZ55:$DS55,AU$16),AU$16,\"\")","v":""},{"$f":"IF(COUNTIF($CZ55:$DS55,AV$16),AV$16,\"\")","v":""},{"$f":"IF(COUNTIF($CZ55:$DS55,AW$16),AW$16,\"\")","v":""},{"$f":"IF(COUNTIF($CZ55:$DS55,AX$16),AX$16,\"\")","v":""},{"$f":"IF(COUNTIF($CZ55:$DS55,AY$16),AY$16,\"\")","v":""},{"$f":"IF(COUNTIF($CZ55:$DS55,AZ$16),AZ$16,\"\")","v":""},{"$f":"IF(COUNTIF($CZ55:$DS55,BA$16),BA$16,\"\")","v":""},{"$f":"IF(COUNTIF($CZ55:$DS55,BB$16),BB$16,\"\")","v":53},{"$f":"IF(COUNTIF($CZ55:$DS55,BC$16),BC$16,\"\")","v":54},{"$f":"IF(COUNTIF($CZ55:$DS55,BD$16),BD$16,\"\")","v":""},{"$f":"IF(COUNTIF($CZ55:$DS55,BE$16),BE$16,\"\")","v":""},{"$f":"IF(COUNTIF($CZ55:$DS55,BF$16),BF$16,\"\")","v":""},{"$f":"IF(COUNTIF($CZ55:$DS55,BG$16),BG$16,\"\")","v":""},{"$f":"IF(COUNTIF($CZ55:$DS55,BH$16),BH$16,\"\")","v":""},{"$f":"IF(COUNTIF($CZ55:$DS55,BI$16),BI$16,\"\")","v":""},{"$f":"IF(COUNTIF($CZ55:$DS55,BJ$16),BJ$16,\"\")","v":""},{"$f":"IF(COUNTIF($CZ55:$DS55,BK$16),BK$16,\"\")","v":62},{"$f":"IF(COUNTIF($CZ55:$DS55,BL$16),BL$16,\"\")","v":63},{"$f":"IF(COUNTIF($CZ55:$DS55,BM$16),BM$16,\"\")","v":""},{"$f":"IF(COUNTIF($CZ55:$DS55,BN$16),BN$16,\"\")","v":""},{"$f":"IF(COUNTIF($CZ55:$DS55,BO$16),BO$16,\"\")","v":66},{"$f":"IF(COUNTIF($CZ55:$DS55,BP$16),BP$16,\"\")","v":""},{"$f":"IF(COUNTIF($CZ55:$DS55,BQ$16),BQ$16,\"\")","v":""},{"$f":"IF(COUNTIF($CZ55:$DS55,BR$16),BR$16,\"\")","v":""},{"$f":"IF(COUNTIF($CZ55:$DS55,BS$16),BS$16,\"\")","v":70},{"$f":"IF(COUNTIF($CZ55:$DS55,BT$16),BT$16,\"\")","v":""},{"$f":"IF(COUNTIF($CZ55:$DS55,BU$16),BU$16,\"\")","v":""},{"$f":"IF(COUNTIF($CZ55:$DS55,BV$16),BV$16,\"\")","v":""},{"$f":"IF(COUNTIF($CZ55:$DS55,BW$16),BW$16,\"\")","v":""},{"$f":"IF(COUNTIF($CZ55:$DS55,BX$16),BX$16,\"\")","v":""},{"$f":"IF(COUNTIF($CZ55:$DS55,BY$16),BY$16,\"\")","v":""},{"$f":"IF(COUNTIF($CZ55:$DS55,BZ$16),BZ$16,\"\")","v":""},{"$f":"IF(COUNTIF($CZ55:$DS55,CA$16),CA$16,\"\")","v":""},{"$f":"IF(COUNTIF($CZ55:$DS55,CB$16),CB$16,\"\")","v":79},{"$f":"IF(COUNTIF($CZ55:$DS55,CC$16),CC$16,\"\")","v":80},{"$f":"IF(COUNTIF($CZ55:$DS55,CD$16),CD$16,\"\")","v":""},{"$f":"IF(COUNTIF($CZ55:$DS55,CE$16),CE$16,\"\")","v":""},{"$f":"IF(COUNTIF($CZ55:$DS55,CF$16),CF$16,\"\")","v":""},{"$f":"IF(COUNTIF($CZ55:$DS55,CG$16),CG$16,\"\")","v":""},{"$f":"IF(COUNTIF($CZ55:$DS55,CH$16),CH$16,\"\")","v":""},{"$f":"IF(COUNTIF($CZ55:$DS55,CI$16),CI$16,\"\")","v":""},{"$f":"IF(COUNTIF($CZ55:$DS55,CJ$16),CJ$16,\"\")","v":87},{"$f":"IF(COUNTIF($CZ55:$DS55,CK$16),CK$16,\"\")","v":""},{"$f":"IF(COUNTIF($CZ55:$DS55,CL$16),CL$16,\"\")","v":""},{"$f":"IF(COUNTIF($CZ55:$DS55,CM$16),CM$16,\"\")","v":""},{"$f":"IF(COUNTIF($CZ55:$DS55,CN$16),CN$16,\"\")","v":91},{"$f":"IF(COUNTIF($CZ55:$DS55,CO$16),CO$16,\"\")","v":""},{"$f":"IF(COUNTIF($CZ55:$DS55,CP$16),CP$16,\"\")","v":""},{"$f":"IF(COUNTIF($CZ55:$DS55,CQ$16),CQ$16,\"\")","v":""},{"$f":"IF(COUNTIF($CZ55:$DS55,CR$16),CR$16,\"\")","v":""},{"$f":"IF(COUNTIF($CZ55:$DS55,CS$16),CS$16,\"\")","v":""},{"$f":"IF(COUNTIF($CZ55:$DS55,CT$16),CT$16,\"\")","v":""},{"$f":"IF(COUNTIF($CZ55:$DS55,CU$16),CU$16,\"\")","v":""},{"$f":"IF(COUNTIF($CZ55:$DS55,CV$16),CV$16,\"\")","v":""},{"$f":"IF(COUNTIF($CZ55:$DS55,0),0,\"\")","v":""},39,1831,{"$f":"VLOOKUP($CY55,J!$A$2:$AW$4000,3,FALSE)","v":1},{"$f":"VLOOKUP($CY55,J!$A$2:$AW$4000,4,FALSE)","v":3},{"$f":"VLOOKUP($CY55,J!$A$2:$AW$4000,5,FALSE)","v":5},{"$f":"VLOOKUP($CY55,J!$A$2:$AW$4000,6,FALSE)","v":6},{"$f":"VLOOKUP($CY55,J!$A$2:$AW$4000,7,FALSE)","v":9},{"$f":"VLOOKUP($CY55,J!$A$2:$AW$4000,8,FALSE)","v":11},{"$f":"VLOOKUP($CY55,J!$A$2:$AW$4000,9,FALSE)","v":26},{"$f":"VLOOKUP($CY55,J!$A$2:$AW$4000,10,FALSE)","v":29},{"$f":"VLOOKUP($CY55,J!$A$2:$AW$4000,11,FALSE)","v":31},{"$f":"VLOOKUP($CY55,J!$A$2:$AW$4000,12,FALSE)","v":35},{"$f":"VLOOKUP($CY55,J!$A$2:$AW$4000,13,FALSE)","v":53},{"$f":"VLOOKUP($CY55,J!$A$2:$AW$4000,14,FALSE)","v":54},{"$f":"VLOOKUP($CY55,J!$A$2:$AW$4000,15,FALSE)","v":62},{"$f":"VLOOKUP($CY55,J!$A$2:$AW$4000,16,FALSE)","v":63},{"$f":"VLOOKUP($CY55,J!$A$2:$AW$4000,17,FALSE)","v":66},{"$f":"VLOOKUP($CY55,J!$A$2:$AW$4000,18,FALSE)","v":70},{"$f":"VLOOKUP($CY55,J!$A$2:$AW$4000,19,FALSE)","v":79},{"$f":"VLOOKUP($CY55,J!$A$2:$AW$4000,20,FALSE)","v":80},{"$f":"VLOOKUP($CY55,J!$A$2:$AW$4000,21,FALSE)","v":87},{"$f":"VLOOKUP($CY55,J!$A$2:$AW$4000,22,FALSE)","v":91}]
[null,{"$f":"IF(COUNTIF($CZ56:$DS56,B$16),B$16,\"\")","v":""},{"$f":"IF(COUNTIF($CZ56:$DS56,C$16),C$16,\"\")","v":""},{"$f":"IF(COUNTIF($CZ56:$DS56,D$16),D$16,\"\")","v":3},{"$f":"IF(COUNTIF($CZ56:$DS56,E$16),E$16,\"\")","v":""},{"$f":"IF(COUNTIF($CZ56:$DS56,F$16),F$16,\"\")","v":5},{"$f":"IF(COUNTIF($CZ56:$DS56,G$16),G$16,\"\")","v":6},{"$f":"IF(COUNTIF($CZ56:$DS56,H$16),H$16,\"\")","v":""},{"$f":"IF(COUNTIF($CZ56:$DS56,I$16),I$16,\"\")","v":""},{"$f":"IF(COUNTIF($CZ56:$DS56,J$16),J$16,\"\")","v":""},{"$f":"IF(COUNTIF($CZ56:$DS56,K$16),K$16,\"\")","v":10},{"$f":"IF(COUNTIF($CZ56:$DS56,L$16),L$16,\"\")","v":""},{"$f":"IF(COUNTIF($CZ56:$DS56,M$16),M$16,\"\")","v":12},{"$f":"IF(COUNTIF($CZ56:$DS56,N$16),N$16,\"\")","v":""},{"$f":"IF(COUNTIF($CZ56:$DS56,O$16),O$16,\"\")","v":""},{"$f":"IF(COUNTIF($CZ56:$DS56,P$16),P$16,\"\")","v":""},{"$f":"IF(COUNTIF($CZ56:$DS56,Q$16),Q$16,\"\")","v":16},{"$f":"IF(COUNTIF($CZ56:$DS56,R$16),R$16,\"\")","v":""},{"$f":"IF(COUNTIF($CZ56:$DS56,S$16),S$16,\"\")","v":18},{"$f":"IF(COUNTIF($CZ56:$DS56,T$16),T$16,\"\")","v":""},{"$f":"IF(COUNTIF($CZ56:$DS56,U$16),U$16,\"\")","v":""},{"$f":"IF(COUNTIF($CZ56:$DS56,V$16),V$16,\"\")","v":21},{"$f":"IF(COUNTIF($CZ56:$DS56,W$16),W$16,\"\")","v":""},{"$f":"IF(COUNTIF($CZ56:$DS56,X$16),X$16,\"\")","v":""},{"$f":"IF(COUNTIF($CZ56:$DS56,Y$16),Y$16,\"\")","v":""},{"$f":"IF(COUNTIF($CZ56:$DS56,Z$16),Z$16,\"\")","v":""},{"$f":"IF(COUNTIF($CZ56:$DS56,AA$16),AA$16,\"\")","v":""},{"$f":"IF(COUNTIF($CZ56:$DS56,AB$16),AB$16,\"\")","v":""},{"$f":"IF(COUNTIF($CZ56:$DS56,AC$16),AC$16,\"\")","v":""},{"$f":"IF(COUNTIF($CZ56:$DS56,AD$16),AD$16,\"\")","v":""},{"$f":"IF(COUNTIF($CZ56:$DS56,AE$16),AE$16,\"\")","v":""},{"$f":"IF(COUNTIF($CZ56:$DS56,AF$16),AF$16,\"\")","v":""},{"$f":"IF(COUNTIF($CZ56:$DS56,AG$16),AG$16,\"\")","v":32},{"$f":"IF(COUNTIF($CZ56:$DS56,AH$16),AH$16,\"\")","v":""},{"$f":"IF(COUNTIF($CZ56:$DS56,AI$16),AI$16,\"\")","v":""},{"$f":"IF(COUNTIF($CZ56:$DS56,AJ$16),AJ$16,\"\")","v":""},{"$f":"IF(COUNTIF($CZ56:$DS56,AK$16),AK$16,\"\")","v":""},{"$f":"IF(COUNTIF($CZ56:$DS56,AL$16),AL$16,\"\")","v":""},{"$f":"IF(COUNTIF($CZ56:$DS56,AM$16),AM$16,\"\")","v":38},{"$f":"IF(COUNTIF($CZ56:$DS56,AN$16),AN$16,\"\")","v":""},{"$f":"IF(COUNTIF($CZ56:$DS56,AO$16),AO$16,\"\")","v":40},{"$f":"IF(COUNTIF($CZ56:$DS56,AP$16),AP$16,\"\")","v":""},{"$f":"IF(COUNTIF($CZ56:$DS56,AQ$16),AQ$16,\"\")","v":""},{"$f":"IF(COUNTIF($CZ56:$DS56,AR$16),AR$16,\"\")","v":""},{"$f":"IF(COUNTIF($CZ56:$DS56,AS$16),AS$16,\"\")","v":44},{"$f":"IF(COUNTIF($CZ56:$DS56,AT$16),AT$16,\"\")","v":""},{"$f":"IF(COUNTIF($CZ56:$DS56,AU$16),AU$16,\"\")","v":""},{"$f":"IF(COUNTIF($CZ56:$DS56,AV$16),AV$16,\"\")","v":""},{"$f":"IF(COUNTIF($CZ56:$DS56,AW$16),AW$16,\"\")","v":""},{"$f":"IF(COUNTIF($CZ56:$DS56,AX$16),AX$16,\"\")","v":49},{"$f":"IF(COUNTIF($CZ56:$DS56,AY$16),AY$16,\"\")","v":50},{"$f":"IF(COUNTIF($CZ56:$DS56,AZ$16),AZ$16,\"\")","v":""},{"$f":"IF(COUNTIF($CZ56:$DS56,BA$16),BA$16,\"\")","v":""},{"$f":"IF(COUNTIF($CZ56:$DS56,BB$16),BB$16,\"\")","v":53},{"$f":"IF(COUNTIF($CZ56:$DS56,BC$16),BC$16,\"\")","v":""},{"$f":"IF(COUNTIF($CZ56:$DS56,BD$16),BD$16,\"\")","v":""},{"$f":"IF(COUNTIF($CZ56:$DS56,BE$16),BE$16,\"\")","v":""},{"$f":"IF(COUNTIF($CZ56:$DS56,BF$16),BF$16,\"\")","v":""},{"$f":"IF(COUNTIF($CZ56:$DS56,BG$16),BG$16,\"\")","v":""},{"$f":"IF(COUNTIF($CZ56:$DS56,BH$16),BH$16,\"\")","v":""},{"$f":"IF(COUNTIF($CZ56:$DS56,BI$16),BI$16,\"\")","v":""},{"$f":"IF(COUNTIF($CZ56:$DS56,BJ$16),BJ$16,\"\")","v":61},{"$f":"IF(COUNTIF($CZ56:$DS56,BK$16),BK$16,\"\")","v":""},{"$f":"IF(COUNTIF($CZ56:$DS56,BL$16),BL$16,\"\")","v":""},{"$f":"IF(COUNTIF($CZ56:$DS56,BM$16),BM$16,\"\")","v":""},{"$f":"IF(COUNTIF($CZ56:$DS56,BN$16),BN$16,\"\")","v":""},{"$f":"IF(COUNTIF($CZ56:$DS56,BO$16),BO$16,\"\")","v":""},{"$f":"IF(COUNTIF($CZ56:$DS56,BP$16),BP$16,\"\")","v":""},{"$f":"IF(COUNTIF($CZ56:$DS56,BQ$16),BQ$16,\"\")","v":""},{"$f":"IF(COUNTIF($CZ56:$DS56,BR$16),BR$16,\"\")","v":""},{"$f":"IF(COUNTIF($CZ56:$DS56,BS$16),BS$16,\"\")","v":""},{"$f":"IF(COUNTIF($CZ56:$DS56,BT$16),BT$16,\"\")","v":""},{"$f":"IF(COUNTIF($CZ56:$DS56,BU$16),BU$16,\"\")","v":72},{"$f":"IF(COUNTIF($CZ56:$DS56,BV$16),BV$16,\"\")","v":""},{"$f":"IF(COUNTIF($CZ56:$DS56,BW$16),BW$16,\"\")","v":""},{"$f":"IF(COUNTIF($CZ56:$DS56,BX$16),BX$16,\"\")","v":""},{"$f":"IF(COUNTIF($CZ56:$DS56,BY$16),BY$16,\"\")","v":""},{"$f":"IF(COUNTIF($CZ56:$DS56,BZ$16),BZ$16,\"\")","v":77},{"$f":"IF(COUNTIF($CZ56:$DS56,CA$16),CA$16,\"\")","v":""},{"$f":"IF(COUNTIF($CZ56:$DS56,CB$16),CB$16,\"\")","v":""},{"$f":"IF(COUNTIF($CZ56:$DS56,CC$16),CC$16,\"\")","v":""},{"$f":"IF(COUNTIF($CZ56:$DS56,CD$16),CD$16,\"\")","v":""},{"$f":"IF(COUNTIF($CZ56:$DS56,CE$16),CE$16,\"\")","v":""},{"$f":"IF(COUNTIF($CZ56:$DS56,CF$16),CF$16,\"\")","v":""},{"$f":"IF(COUNTIF($CZ56:$DS56,CG$16),CG$16,\"\")","v":""},{"$f":"IF(COUNTIF($CZ56:$DS56,CH$16),CH$16,\"\")","v":85},{"$f":"IF(COUNTIF($CZ56:$DS56,CI$16),CI$16,\"\")","v":""},{"$f":"IF(COUNTIF($CZ56:$DS56,CJ$16),CJ$16,\"\")","v":""},{"$f":"IF(COUNTIF($CZ56:$DS56,CK$16),CK$16,\"\")","v":""},{"$f":"IF(COUNTIF($CZ56:$DS56,CL$16),CL$16,\"\")","v":""},{"$f":"IF(COUNTIF($CZ56:$DS56,CM$16),CM$16,\"\")","v":""},{"$f":"IF(COUNTIF($CZ56:$DS56,CN$16),CN$16,\"\")","v":""},{"$f":"IF(COUNTIF($CZ56:$DS56,CO$16),CO$16,\"\")","v":""},{"$f":"IF(COUNTIF($CZ56:$DS56,CP$16),CP$16,\"\")","v":93},{"$f":"IF(COUNTIF($CZ56:$DS56,CQ$16),CQ$16,\"\")","v":""},{"$f":"IF(COUNTIF($CZ56:$DS56,CR$16),CR$16,\"\")","v":""},{"$f":"IF(COUNTIF($CZ56:$DS56,CS$16),CS$16,\"\")","v":""},{"$f":"IF(COUNTIF($CZ56:$DS56,CT$16),CT$16,\"\")","v":""},{"$f":"IF(COUNTIF($CZ56:$DS56,CU$16),CU$16,\"\")","v":""},{"$f":"IF(COUNTIF($CZ56:$DS56,CV$16),CV$16,\"\")","v":""},{"$f":"IF(COUNTIF($CZ56:$DS56,0),0,\"\")","v":""},40,1830,{"$f":"VLOOKUP($CY56,J!$A$2:$AW$4000,3,FALSE)","v":3},{"$f":"VLOOKUP($CY56,J!$A$2:$AW$4000,4,FALSE)","v":5},{"$f":"VLOOKUP($CY56,J!$A$2:$AW$4000,5,FALSE)","v":6},{"$f":"VLOOKUP($CY56,J!$A$2:$AW$4000,6,FALSE)","v":10},{"$f":"VLOOKUP($CY56,J!$A$2:$AW$4000,7,FALSE)","v":12},{"$f":"VLOOKUP($CY56,J!$A$2:$AW$4000,8,FALSE)","v":16},{"$f":"VLOOKUP($CY56,J!$A$2:$AW$4000,9,FALSE)","v":18},{"$f":"VLOOKUP($CY56,J!$A$2:$AW$4000,10,FALSE)","v":21},{"$f":"VLOOKUP($CY56,J!$A$2:$AW$4000,11,FALSE)","v":32},{"$f":"VLOOKUP($CY56,J!$A$2:$AW$4000,12,FALSE)","v":38},{"$f":"VLOOKUP($CY56,J!$A$2:$AW$4000,13,FALSE)","v":40},{"$f":"VLOOKUP($CY56,J!$A$2:$AW$4000,14,FALSE)","v":44},{"$f":"VLOOKUP($CY56,J!$A$2:$AW$4000,15,FALSE)","v":49},{"$f":"VLOOKUP($CY56,J!$A$2:$AW$4000,16,FALSE)","v":50},{"$f":"VLOOKUP($CY56,J!$A$2:$AW$4000,17,FALSE)","v":53},{"$f":"VLOOKUP($CY56,J!$A$2:$AW$4000,18,FALSE)","v":61},{"$f":"VLOOKUP($CY56,J!$A$2:$AW$4000,19,FALSE)","v":72},{"$f":"VLOOKUP($CY56,J!$A$2:$AW$4000,20,FALSE)","v":77},{"$f":"VLOOKUP($CY56,J!$A$2:$AW$4000,21,FALSE)","v":85},{"$f":"VLOOKUP($CY56,J!$A$2:$AW$4000,22,FALSE)","v":93}]
[null,{"$f":"IF(COUNTIF($CZ57:$DS57,B$16),B$16,\"\")","v":""},{"$f":"IF(COUNTIF($CZ57:$DS57,C$16),C$16,\"\")","v":""},{"$f":"IF(COUNTIF($CZ57:$DS57,D$16),D$16,\"\")","v":3},{"$f":"IF(COUNTIF($CZ57:$DS57,E$16),E$16,\"\")","v":""},{"$f":"IF(COUNTIF($CZ57:$DS57,F$16),F$16,\"\")","v":""},{"$f":"IF(COUNTIF($CZ57:$DS57,G$16),G$16,\"\")","v":6},{"$f":"IF(COUNTIF($CZ57:$DS57,H$16),H$16,\"\")","v":""},{"$f":"IF(COUNTIF($CZ57:$DS57,I$16),I$16,\"\")","v":8},{"$f":"IF(COUNTIF($CZ57:$DS57,J$16),J$16,\"\")","v":""},{"$f":"IF(COUNTIF($CZ57:$DS57,K$16),K$16,\"\")","v":""},{"$f":"IF(COUNTIF($CZ57:$DS57,L$16),L$16,\"\")","v":""},{"$f":"IF(COUNTIF($CZ57:$DS57,M$16),M$16,\"\")","v":""},{"$f":"IF(COUNTIF($CZ57:$DS57,N$16),N$16,\"\")","v":13},{"$f":"IF(COUNTIF($CZ57:$DS57,O$16),O$16,\"\")","v":14},{"$f":"IF(COUNTIF($CZ57:$DS57,P$16),P$16,\"\")","v":""},{"$f":"IF(COUNTIF($CZ57:$DS57,Q$16),Q$16,\"\")","v":""},{"$f":"IF(COUNTIF($CZ57:$DS57,R$16),R$16,\"\")","v":""},{"$f":"IF(COUNTIF($CZ57:$DS57,S$16),S$16,\"\")","v":""},{"$f":"IF(COUNTIF($CZ57:$DS57,T$16),T$16,\"\")","v":19},{"$f":"IF(COUNTIF($CZ57:$DS57,U$16),U$16,\"\")","v":""},{"$f":"IF(COUNTIF($CZ57:$DS57,V$16),V$16,\"\")","v":""},{"$f":"IF(COUNTIF($CZ57:$DS57,W$16),W$16,\"\")","v":""},{"$f":"IF(COUNTIF($CZ57:$DS57,X$16),X$16,\"\")","v":""},{"$f":"IF(COUNTIF($CZ57:$DS57,Y$16),Y$16,\"\")","v":24},{"$f":"IF(COUNTIF($CZ57:$DS57,Z$16),Z$16,\"\")","v":""},{"$f":"IF(COUNTIF($CZ57:$DS57,AA$16),AA$16,\"\")","v":""},{"$f":"IF(COUNTIF($CZ57:$DS57,AB$16),AB$16,\"\")","v":""},{"$f":"IF(COUNTIF($CZ57:$DS57,AC$16),AC$16,\"\")","v":28},{"$f":"IF(COUNTIF($CZ57:$DS57,AD$16),AD$16,\"\")","v":""},{"$f":"IF(COUNTIF($CZ57:$DS57,AE$16),AE$16,\"\")","v":""},{"$f":"IF(COUNTIF($CZ57:$DS57,AF$16),AF$16,\"\")","v":31},{"$f":"IF(COUNTIF($CZ57:$DS57,AG$16),AG$16,\"\")","v":""},{"$f":"IF(COUNTIF($CZ57:$DS57,AH$16),AH$16,\"\")","v":""},{"$f":"IF(COUNTIF($CZ57:$DS57,AI$16),AI$16,\"\")","v":""},{"$f":"IF(COUNTIF($CZ57:$DS57,AJ$16),AJ$16,\"\")","v":""},{"$f":"IF(COUNTIF($CZ57:$DS57,AK$16),AK$16,\"\")","v":""},{"$f":"IF(COUNTIF($CZ57:$DS57,AL$16),AL$16,\"\")","v":""},{"$f":"IF(COUNTIF($CZ57:$DS57,AM$16),AM$16,\"\")","v":""},{"$f":"IF(COUNTIF($CZ57:$DS57,AN$16),AN$16,\"\")","v":""},{"$f":"IF(COUNTIF($CZ57:$DS57,AO$16),AO$16,\"\")","v":""},{"$f":"IF(COUNTIF($CZ57:$DS57,AP$16),AP$16,\"\")","v":""},{"$f":"IF(COUNTIF($CZ57:$DS57,AQ$16),AQ$16,\"\")","v":""},{"$f":"IF(COUNTIF($CZ57:$DS57,AR$16),AR$16,\"\")","v":43},{"$f":"IF(COUNTIF($CZ57:$DS57,AS$16),AS$16,\"\")","v":""},{"$f":"IF(COUNTIF($CZ57:$DS57,AT$16),AT$16,\"\")","v":""},{"$f":"IF(COUNTIF($CZ57:$DS57,AU$16),AU$16,\"\")","v":46},{"$f":"IF(COUNTIF($CZ57:$DS57,AV$16),AV$16,\"\")","v":""},{"$f":"IF(COUNTIF($CZ57:$DS57,AW$16),AW$16,\"\")","v":""},{"$f":"IF(COUNTIF($CZ57:$DS57,AX$16),AX$16,\"\")","v":""},{"$f":"IF(COUNTIF($CZ57:$DS57,AY$16),AY$16,\"\")","v":""},{"$f":"IF(COUNTIF($CZ57:$DS57,AZ$16),AZ$16,\"\")","v":""},{"$f":"IF(COUNTIF($CZ57:$DS57,BA$16),BA$16,\"\")","v":52},{"$f":"IF(COUNTIF($CZ57:$DS57,BB$16),BB$16,\"\")","v":""},{"$f":"IF(COUNTIF($CZ57:$DS57,BC$16),BC$16,\"\")","v":""},{"$f":"IF(COUNTIF($CZ57:$DS57,BD$16),BD$16,\"\")","v":""},{"$f":"IF(COUNTIF($CZ57:$DS57,BE$16),BE$16,\"\")","v":""},{"$f":"IF(COUNTIF($CZ57:$DS57,BF$16),BF$16,\"\")","v":""},{"$f":"IF(COUNTIF($CZ57:$DS57,BG$16),BG$16,\"\")","v":""},{"$f":"IF(COUNTIF($CZ57:$DS57,BH$16),BH$16,\"\")","v":59},{"$f":"IF(COUNTIF($CZ57:$DS57,BI$16),BI$16,\"\")","v":60},{"$f":"IF(COUNTIF($CZ57:$DS57,BJ$16),BJ$16,\"\")","v":""},{"$f":"IF(COUNTIF($CZ57:$DS57,BK$16),BK$16,\"\")","v":""},{"$f":"IF(COUNTIF($CZ57:$DS57,BL$16),BL$16,\"\")","v":""},{"$f":"IF(COUNTIF($CZ57:$DS57,BM$16),BM$16,\"\")","v":""},{"$f":"IF(COUNTIF($CZ57:$DS57,BN$16),BN$16,\"\")","v":""},{"$f":"IF(COUNTIF($CZ57:$DS57,BO$16),BO$16,\"\")","v":""},{"$f":"IF(COUNTIF($CZ57:$DS57,BP$16),BP$16,\"\")","v":""},{"$f":"IF(COUNTIF($CZ57:$DS57,BQ$16),BQ$16,\"\")","v":""},{"$f":"IF(COUNTIF($CZ57:$DS57,BR$16),BR$16,\"\")","v":""},{"$f":"IF(COUNTIF($CZ57:$DS57,BS$16),BS$16,\"\")","v":""},{"$f":"IF(COUNTIF($CZ57:$DS57,BT$16),BT$16,\"\")","v":""},{"$f":"IF(COUNTIF($CZ57:$DS57,BU$16),BU$16,\"\")","v":""},{"$f":"IF(COUNTIF($CZ57:$DS57,BV$16),BV$16,\"\")","v":""},{"$f":"IF(COUNTIF($CZ57:$DS57,BW$16),BW$16,\"\")","v":74},{"$f":"IF(COUNTIF($CZ57:$DS57,BX$16),BX$16,\"\")","v":""},{"$f":"IF(COUNTIF($CZ57:$DS57,BY$16),BY$16,\"\")","v":""},{"$f":"IF(COUNTIF($CZ57:$DS57,BZ$16),BZ$16,\"\")","v":77},{"$f":"IF(COUNTIF($CZ57:$DS57,CA$16),CA$16,\"\")","v":""},{"$f":"IF(COUNTIF($CZ57:$DS57,CB$16),CB$16,\"\")","v":""},{"$f":"IF(COUNTIF($CZ57:$DS57,CC$16),CC$16,\"\")","v":""},{"$f":"IF(COUNTIF($CZ57:$DS57,CD$16),CD$16,\"\")","v":""},{"$f":"IF(COUNTIF($CZ57:$DS57,CE$16),CE$16,\"\")","v":82},{"$f":"IF(COUNTIF($CZ57:$DS57,CF$16),CF$16,\"\")","v":""},{"$f":"IF(COUNTIF($CZ57:$DS57,CG$16),CG$16,\"\")","v":""},{"$f":"IF(COUNTIF($CZ57:$DS57,CH$16),CH$16,\"\")","v":""},{"$f":"IF(COUNTIF($CZ57:$DS57,CI$16),CI$16,\"\")","v":""},{"$f":"IF(COUNTIF($CZ57:$DS57,CJ$16),CJ$16,\"\")","v":""},{"$f":"IF(COUNTIF($CZ57:$DS57,CK$16),CK$16,\"\")","v":88},{"$f":"IF(COUNTIF($CZ57:$DS57,CL$16),CL$16,\"\")","v":89},{"$f":"IF(COUNTIF($CZ57:$DS57,CM$16),CM$16,\"\")","v":""},{"$f":"IF(COUNTIF($CZ57:$DS57,CN$16),CN$16,\"\")","v":""},{"$f":"IF(COUNTIF($CZ57:$DS57,CO$16),CO$16,\"\")","v":""},{"$f":"IF(COUNTIF($CZ57:$DS57,CP$16),CP$16,\"\")","v":""},{"$f":"IF(COUNTIF($CZ57:$DS57,CQ$16),CQ$16,\"\")","v":94},{"$f":"IF(COUNTIF($CZ57:$DS57,CR$16),CR$16,\"\")","v":""},{"$f":"IF(COUNTIF($CZ57:$DS57,CS$16),CS$16,\"\")","v":""},{"$f":"IF(COUNTIF($CZ57:$DS57,CT$16),CT$16,\"\")","v":""},{"$f":"IF(COUNTIF($CZ57:$DS57,CU$16),CU$16,\"\")","v":""},{"$f":"IF(COUNTIF($CZ57:$DS57,CV$16),CV$16,\"\")","v":""},{"$f":"IF(COUNTIF($CZ57:$DS57,0),0,\"\")","v":""},41,1829,{"$f":"VLOOKUP($CY57,J!$A$2:$AW$4000,3,FALSE)","v":3},{"$f":"VLOOKUP($CY57,J!$A$2:$AW$4000,4,FALSE)","v":6},{"$f":"VLOOKUP($CY57,J!$A$2:$AW$4000,5,FALSE)","v":8},{"$f":"VLOOKUP($CY57,J!$A$2:$AW$4000,6,FALSE)","v":13},{"$f":"VLOOKUP($CY57,J!$A$2:$AW$4000,7,FALSE)","v":14},{"$f":"VLOOKUP($CY57,J!$A$2:$AW$4000,8,FALSE)","v":19},{"$f":"VLOOKUP($CY57,J!$A$2:$AW$4000,9,FALSE)","v":24},{"$f":"VLOOKUP($CY57,J!$A$2:$AW$4000,10,FALSE)","v":28},{"$f":"VLOOKUP($CY57,J!$A$2:$AW$4000,11,FALSE)","v":31},{"$f":"VLOOKUP($CY57,J!$A$2:$AW$4000,12,FALSE)","v":43},{"$f":"VLOOKUP($CY57,J!$A$2:$AW$4000,13,FALSE)","v":46},{"$f":"VLOOKUP($CY57,J!$A$2:$AW$4000,14,FALSE)","v":52},{"$f":"VLOOKUP($CY57,J!$A$2:$AW$4000,15,FALSE)","v":59},{"$f":"VLOOKUP($CY57,J!$A$2:$AW$4000,16,FALSE)","v":60},{"$f":"VLOOKUP($CY57,J!$A$2:$AW$4000,17,FALSE)","v":74},{"$f":"VLOOKUP($CY57,J!$A$2:$AW$4000,18,FALSE)","v":77},{"$f":"VLOOKUP($CY57,J!$A$2:$AW$4000,19,FALSE)","v":82},{"$f":"VLOOKUP($CY57,J!$A$2:$AW$4000,20,FALSE)","v":88},{"$f":"VLOOKUP($CY57,J!$A$2:$AW$4000,21,FALSE)","v":89},{"$f":"VLOOKUP($CY57,J!$A$2:$AW$4000,22,FALSE)","v":94}]
[null,{"$f":"IF(COUNTIF($CZ58:$DS58,B$16),B$16,\"\")","v":""},{"$f":"IF(COUNTIF($CZ58:$DS58,C$16),C$16,\"\")","v":""},{"$f":"IF(COUNTIF($CZ58:$DS58,D$16),D$16,\"\")","v":3},{"$f":"IF(COUNTIF($CZ58:$DS58,E$16),E$16,\"\")","v":""},{"$f":"IF(COUNTIF($CZ58:$DS58,F$16),F$16,\"\")","v":""},{"$f":"IF(COUNTIF($CZ58:$DS58,G$16),G$16,\"\")","v":""},{"$f":"IF(COUNTIF($CZ58:$DS58,H$16),H$16,\"\")","v":""},{"$f":"IF(COUNTIF($CZ58:$DS58,I$16),I$16,\"\")","v":""},{"$f":"IF(COUNTIF($CZ58:$DS58,J$16),J$16,\"\")","v":""},{"$f":"IF(COUNTIF($CZ58:$DS58,K$16),K$16,\"\")","v":""},{"$f":"IF(COUNTIF($CZ58:$DS58,L$16),L$16,\"\")","v":""},{"$f":"IF(COUNTIF($CZ58:$DS58,M$16),M$16,\"\")","v":""},{"$f":"IF(COUNTIF($CZ58:$DS58,N$16),N$16,\"\")","v":""},{"$f":"IF(COUNTIF($CZ58:$DS58,O$16),O$16,\"\")","v":14},{"$f":"IF(COUNTIF($CZ58:$DS58,P$16),P$16,\"\")","v":""},{"$f":"IF(COUNTIF($CZ58:$DS58,Q$16),Q$16,\"\")","v":""},{"$f":"IF(COUNTIF($CZ58:$DS58,R$16),R$16,\"\")","v":""},{"$f":"IF(COUNTIF($CZ58:$DS58,S$16),S$16,\"\")","v":""},{"$f":"IF(COUNTIF($CZ58:$DS58,T$16),T$16,\"\")","v":""},{"$f":"IF(COUNTIF($CZ58:$DS58,U$16),U$16,\"\")","v":""},{"$f":"IF(COUNTIF($CZ58:$DS58,V$16),V$16,\"\")","v":""},{"$f":"IF(COUNTIF($CZ58:$DS58,W$16),W$16,\"\")","v":""},{"$f":"IF(COUNTIF($CZ58:$DS58,X$16),X$16,\"\")","v":""},{"$f":"IF(COUNTIF($CZ58:$DS58,Y$16),Y$16,\"\")","v":""},{"$f":"IF(COUNTIF($CZ58:$DS58,Z$16),Z$16,\"\")","v":""},{"$f":"IF(COUNTIF($CZ58:$DS58,AA$16),AA$16,\"\")","v":""},{"$f":"IF(COUNTIF($CZ58:$DS58,AB$16),AB$16,\"\")","v":""},{"$f":"IF(COUNTIF($CZ58:$DS58,AC$16),AC$16,\"\")","v":28},{"$f":"IF(COUNTIF($CZ58:$DS58,AD$16),AD$16,\"\")","v":29},{"$f":"IF(COUNTIF($CZ58:$DS58,AE$16),AE$16,\"\")","v":""},{"$f":"IF(COUNTIF($CZ58:$DS58,AF$16),AF$16,\"\")","v":""},{"$f":"IF(COUNTIF($CZ58:$DS58,AG$16),AG$16,\"\")","v":""},{"$f":"IF(COUNTIF($CZ58:$DS58,AH$16),AH$16,\"\")","v":""},{"$f":"IF(COUNTIF($CZ58:$DS58,AI$16),AI$16,\"\")","v":""},{"$f":"IF(COUNTIF($CZ58:$DS58,AJ$16),AJ$16,\"\")","v":""},{"$f":"IF(COUNTIF($CZ58:$DS58,AK$16),AK$16,\"\")","v":""},{"$f":"IF(COUNTIF($CZ58:$DS58,AL$16),AL$16,\"\")","v":""},{"$f":"IF(COUNTIF($CZ58:$DS58,AM$16),AM$16,\"\")","v":""},{"$f":"IF(COUNTIF($CZ58:$DS58,AN$16),AN$16,\"\")","v":""},{"$f":"IF(COUNTIF($CZ58:$DS58,AO$16),AO$16,\"\")","v":""},{"$f":"IF(COUNTIF($CZ58:$DS58,AP$16),AP$16,\"\")","v":41},{"$f":"IF(COUNTIF($CZ58:$DS58,AQ$16),AQ$16,\"\")","v":""},{"$f":"IF(COUNTIF($CZ58:$DS58,AR$16),AR$16,\"\")","v":43},{"$f":"IF(COUNTIF($CZ58:$DS58,AS$16),AS$16,\"\")","v":""},{"$f":"IF(COUNTIF($CZ58:$DS58,AT$16),AT$16,\"\")","v":""},{"$f":"IF(COUNTIF($CZ58:$DS58,AU$16),AU$16,\"\")","v":""},{"$f":"IF(COUNTIF($CZ58:$DS58,AV$16),AV$16,\"\")","v":""},{"$f":"IF(COUNTIF($CZ58:$DS58,AW$16),AW$16,\"\")","v":48},{"$f":"IF(COUNTIF($CZ58:$DS58,AX$16),AX$16,\"\")","v":""},{"$f":"IF(COUNTIF($CZ58:$DS58,AY$16),AY$16,\"\")","v":""},{"$f":"IF(COUNTIF($CZ58:$DS58,AZ$16),AZ$16,\"\")","v":51},{"$f":"IF(COUNTIF($CZ58:$DS58,BA$16),BA$16,\"\")","v":""},{"$f":"IF(COUNTIF($CZ58:$DS58,BB$16),BB$16,\"\")","v":""},{"$f":"IF(COUNTIF($CZ58:$DS58,BC$16),BC$16,\"\")","v":""},{"$f":"IF(COUNTIF($CZ58:$DS58,BD$16),BD$16,\"\")","v":""},{"$f":"IF(COUNTIF($CZ58:$DS58,BE$16),BE$16,\"\")","v":56},{"$f":"IF(COUNTIF($CZ58:$DS58,BF$16),BF$16,\"\")","v":57},{"$f":"IF(COUNTIF($CZ58:$DS58,BG$16),BG$16,\"\")","v":58},{"$f":"IF(COUNTIF($CZ58:$DS58,BH$16),BH$16,\"\")","v":""},{"$f":"IF(COUNTIF($CZ58:$DS58,BI$16),BI$16,\"\")","v":""},{"$f":"IF(COUNTIF($CZ58:$DS58,BJ$16),BJ$16,\"\")","v":""},{"$f":"IF(COUNTIF($CZ58:$DS58,BK$16),BK$16,\"\")","v":""},{"$f":"IF(COUNTIF($CZ58:$DS58,BL$16),BL$16,\"\")","v":63},{"$f":"IF(COUNTIF($CZ58:$DS58,BM$16),BM$16,\"\")","v":64},{"$f":"IF(COUNTIF($CZ58:$DS58,BN$16),BN$16,\"\")","v":""},{"$f":"IF(COUNTIF($CZ58:$DS58,BO$16),BO$16,\"\")","v":""},{"$f":"IF(COUNTIF($CZ58:$DS58,BP$16),BP$16,\"\")","v":""},{"$f":"IF(COUNTIF($CZ58:$DS58,BQ$16),BQ$16,\"\")","v":68},{"$f":"IF(COUNTIF($CZ58:$DS58,BR$16),BR$16,\"\")","v":""},{"$f":"IF(COUNTIF($CZ58:$DS58,BS$16),BS$16,\"\")","v":""},{"$f":"IF(COUNTIF($CZ58:$DS58,BT$16),BT$16,\"\")","v":""},{"$f":"IF(COUNTIF($CZ58:$DS58,BU$16),BU$16,\"\")","v":""},{"$f":"IF(COUNTIF($CZ58:$DS58,BV$16),BV$16,\"\")","v":""},{"$f":"IF(COUNTIF($CZ58:$DS58,BW$16),BW$16,\"\")","v":""},{"$f":"IF(COUNTIF($CZ58:$DS58,BX$16),BX$16,\"\")","v":75},{"$f":"IF(COUNTIF($CZ58:$DS58,BY$16),BY$16,\"\")","v":""},{"$f":"IF(COUNTIF($CZ58:$DS58,BZ$16),BZ$16,\"\")","v":""},{"$f":"IF(COUNTIF($CZ58:$DS58,CA$16),CA$16,\"\")","v":""},{"$f":"IF(COUNTIF($CZ58:$DS58,CB$16),CB$16,\"\")","v":""},{"$f":"IF(COUNTIF($CZ58:$DS58,CC$16),CC$16,\"\")","v":""},{"$f":"IF(COUNTIF($CZ58:$DS58,CD$16),CD$16,\"\")","v":""},{"$f":"IF(COUNTIF($CZ58:$DS58,CE$16),CE$16,\"\")","v":82},{"$f":"IF(COUNTIF($CZ58:$DS58,CF$16),CF$16,\"\")","v":""},{"$f":"IF(COUNTIF($CZ58:$DS58,CG$16),CG$16,\"\")","v":""},{"$f":"IF(COUNTIF($CZ58:$DS58,CH$16),CH$16,\"\")","v":""},{"$f":"IF(COUNTIF($CZ58:$DS58,CI$16),CI$16,\"\")","v":86},{"$f":"IF(COUNTIF($CZ58:$DS58,CJ$16),CJ$16,\"\")","v":""},{"$f":"IF(COUNTIF($CZ58:$DS58,CK$16),CK$16,\"\")","v":88},{"$f":"IF(COUNTIF($CZ58:$DS58,CL$16),CL$16,\"\")","v":""},{"$f":"IF(COUNTIF($CZ58:$DS58,CM$16),CM$16,\"\")","v":""},{"$f":"IF(COUNTIF($CZ58:$DS58,CN$16),CN$16,\"\")","v":""},{"$f":"IF(COUNTIF($CZ58:$DS58,CO$16),CO$16,\"\")","v":92},{"$f":"IF(COUNTIF($CZ58:$DS58,CP$16),CP$16,\"\")","v":""},{"$f":"IF(COUNTIF($CZ58:$DS58,CQ$16),CQ$16,\"\")","v":""},{"$f":"IF(COUNTIF($CZ58:$DS58,CR$16),CR$16,\"\")","v":""},{"$f":"IF(COUNTIF($CZ58:$DS58,CS$16),CS$16,\"\")","v":""},{"$f":"IF(COUNTIF($CZ58:$DS58,CT$16),CT$16,\"\")","v":""},{"$f":"IF(COUNTIF($CZ58:$DS58,CU$16),CU$16,\"\")","v":98},{"$f":"IF(COUNTIF($CZ58:$DS58,CV$16),CV$16,\"\")","v":""},{"$f":"IF(COUNTIF($CZ58:$DS58,0),0,\"\")","v":""},42,1828,{"$f":"VLOOKUP($CY58,J!$A$2:$AW$4000,3,FALSE)","v":3},{"$f":"VLOOKUP($CY58,J!$A$2:$AW$4000,4,FALSE)","v":14},{"$f":"VLOOKUP($CY58,J!$A$2:$AW$4000,5,FALSE)","v":28},{"$f":"VLOOKUP($CY58,J!$A$2:$AW$4000,6,FALSE)","v":29},{"$f":"VLOOKUP($CY58,J!$A$2:$AW$4000,7,FALSE)","v":41},{"$f":"VLOOKUP($CY58,J!$A$2:$AW$4000,8,FALSE)","v":43},{"$f":"VLOOKUP($CY58,J!$A$2:$AW$4000,9,FALSE)","v":48},{"$f":"VLOOKUP($CY58,J!$A$2:$AW$4000,10,FALSE)","v":51},{"$f":"VLOOKUP($CY58,J!$A$2:$AW$4000,11,FALSE)","v":56},{"$f":"VLOOKUP($CY58,J!$A$2:$AW$4000,12,FALSE)","v":57},{"$f":"VLOOKUP($CY58,J!$A$2:$AW$4000,13,FALSE)","v":58},{"$f":"VLOOKUP($CY58,J!$A$2:$AW$4000,14,FALSE)","v":63},{"$f":"VLOOKUP($CY58,J!$A$2:$AW$4000,15,FALSE)","v":64},{"$f":"VLOOKUP($CY58,J!$A$2:$AW$4000,16,FALSE)","v":68},{"$f":"VLOOKUP($CY58,J!$A$2:$AW$4000,17,FALSE)","v":75},{"$f":"VLOOKUP($CY58,J!$A$2:$AW$4000,18,FALSE)","v":82},{"$f":"VLOOKUP($CY58,J!$A$2:$AW$4000,19,FALSE)","v":86},{"$f":"VLOOKUP($CY58,J!$A$2:$AW$4000,20,FALSE)","v":88},{"$f":"VLOOKUP($CY58,J!$A$2:$AW$4000,21,FALSE)","v":92},{"$f":"VLOOKUP($CY58,J!$A$2:$AW$4000,22,FALSE)","v":98}]
[null,{"$f":"IF(COUNTIF($CZ59:$DS59,B$16),B$16,\"\")","v":""},{"$f":"IF(COUNTIF($CZ59:$DS59,C$16),C$16,\"\")","v":""},{"$f":"IF(COUNTIF($CZ59:$DS59,D$16),D$16,\"\")","v":""},{"$f":"IF(COUNTIF($CZ59:$DS59,E$16),E$16,\"\")","v":4},{"$f":"IF(COUNTIF($CZ59:$DS59,F$16),F$16,\"\")","v":5},{"$f":"IF(COUNTIF($CZ59:$DS59,G$16),G$16,\"\")","v":6},{"$f":"IF(COUNTIF($CZ59:$DS59,H$16),H$16,\"\")","v":""},{"$f":"IF(COUNTIF($CZ59:$DS59,I$16),I$16,\"\")","v":""},{"$f":"IF(COUNTIF($CZ59:$DS59,J$16),J$16,\"\")","v":""},{"$f":"IF(COUNTIF($CZ59:$DS59,K$16),K$16,\"\")","v":""},{"$f":"IF(COUNTIF($CZ59:$DS59,L$16),L$16,\"\")","v":""},{"$f":"IF(COUNTIF($CZ59:$DS59,M$16),M$16,\"\")","v":12},{"$f":"IF(COUNTIF($CZ59:$DS59,N$16),N$16,\"\")","v":13},{"$f":"IF(COUNTIF($CZ59:$DS59,O$16),O$16,\"\")","v":""},{"$f":"IF(COUNTIF($CZ59:$DS59,P$16),P$16,\"\")","v":""},{"$f":"IF(COUNTIF($CZ59:$DS59,Q$16),Q$16,\"\")","v":""},{"$f":"IF(COUNTIF($CZ59:$DS59,R$16),R$16,\"\")","v":""},{"$f":"IF(COUNTIF($CZ59:$DS59,S$16),S$16,\"\")","v":18},{"$f":"IF(COUNTIF($CZ59:$DS59,T$16),T$16,\"\")","v":19},{"$f":"IF(COUNTIF($CZ59:$DS59,U$16),U$16,\"\")","v":20},{"$f":"IF(COUNTIF($CZ59:$DS59,V$16),V$16,\"\")","v":""},{"$f":"IF(COUNTIF($CZ59:$DS59,W$16),W$16,\"\")","v":22},{"$f":"IF(COUNTIF($CZ59:$DS59,X$16),X$16,\"\")","v":""},{"$f":"IF(COUNTIF($CZ59:$DS59,Y$16),Y$16,\"\")","v":""},{"$f":"IF(COUNTIF($CZ59:$DS59,Z$16),Z$16,\"\")","v":""},{"$f":"IF(COUNTIF($CZ59:$DS59,AA$16),AA$16,\"\")","v":""},{"$f":"IF(COUNTIF($CZ59:$DS59,AB$16),AB$16,\"\")","v":27},{"$f":"IF(COUNTIF($CZ59:$DS59,AC$16),AC$16,\"\")","v":""},{"$f":"IF(COUNTIF($CZ59:$DS59,AD$16),AD$16,\"\")","v":29},{"$f":"IF(COUNTIF($CZ59:$DS59,AE$16),AE$16,\"\")","v":""},{"$f":"IF(COUNTIF($CZ59:$DS59,AF$16),AF$16,\"\")","v":""},{"$f":"IF(COUNTIF($CZ59:$DS59,AG$16),AG$16,\"\")","v":32},{"$f":"IF(COUNTIF($CZ59:$DS59,AH$16),AH$16,\"\")","v":""},{"$f":"IF(COUNTIF($CZ59:$DS59,AI$16),AI$16,\"\")","v":""},{"$f":"IF(COUNTIF($CZ59:$DS59,AJ$16),AJ$16,\"\")","v":""},{"$f":"IF(COUNTIF($CZ59:$DS59,AK$16),AK$16,\"\")","v":""},{"$f":"IF(COUNTIF($CZ59:$DS59,AL$16),AL$16,\"\")","v":""},{"$f":"IF(COUNTIF($CZ59:$DS59,AM$16),AM$16,\"\")","v":""},{"$f":"IF(COUNTIF($CZ59:$DS59,AN$16),AN$16,\"\")","v":""},{"$f":"IF(COUNTIF($CZ59:$DS59,AO$16),AO$16,\"\")","v":""},{"$f":"IF(COUNTIF($CZ59:$DS59,AP$16),AP$16,\"\")","v":41},{"$f":"IF(COUNTIF($CZ59:$DS59,AQ$16),AQ$16,\"\")","v":""},{"$f":"IF(COUNTIF($CZ59:$DS59,AR$16),AR$16,\"\")","v":""},{"$f":"IF(COUNTIF($CZ59:$DS59,AS$16),AS$16,\"\")","v":""},{"$f":"IF(COUNTIF($CZ59:$DS59,AT$16),AT$16,\"\")","v":""},{"$f":"IF(COUNTIF($CZ59:$DS59,AU$16),AU$16,\"\")","v":""},{"$f":"IF(COUNTIF($CZ59:$DS59,AV$16),AV$16,\"\")","v":""},{"$f":"IF(COUNTIF($CZ59:$DS59,AW$16),AW$16,\"\")","v":""},{"$f":"IF(COUNTIF($CZ59:$DS59,AX$16),AX$16,\"\")","v":""},{"$f":"IF(COUNTIF($CZ59:$DS59,AY$16),AY$16,\"\")","v":""},{"$f":"IF(COUNTIF($CZ59:$DS59,AZ$16),AZ$16,\"\")","v":""},{"$f":"IF(COUNTIF($CZ59:$DS59,BA$16),BA$16,\"\")","v":""},{"$f":"IF(COUNTIF($CZ59:$DS59,BB$16),BB$16,\"\")","v":""},{"$f":"IF(COUNTIF($CZ59:$DS59,BC$16),BC$16,\"\")","v":""},{"$f":"IF(COUNTIF($CZ59:$DS59,BD$16),BD$16,\"\")","v":55},{"$f":"IF(COUNTIF($CZ59:$DS59,BE$16),BE$16,\"\")","v":""},{"$f":"IF(COUNTIF($CZ59:$DS59,BF$16),BF$16,\"\")","v":""},{"$f":"IF(COUNTIF($CZ59:$DS59,BG$16),BG$16,\"\")","v":""},{"$f":"IF(COUNTIF($CZ59:$DS59,BH$16),BH$16,\"\")","v":""},{"$f":"IF(COUNTIF($CZ59:$DS59,BI$16),BI$16,\"\")","v":""},{"$f":"IF(COUNTIF($CZ59:$DS59,BJ$16),BJ$16,\"\")","v":""},{"$f":"IF(COUNTIF($CZ59:$DS59,BK$16),BK$16,\"\")","v":62},{"$f":"IF(COUNTIF($CZ59:$DS59,BL$16),BL$16,\"\")","v":""},{"$f":"IF(COUNTIF($CZ59:$DS59,BM$16),BM$16,\"\")","v":""},{"$f":"IF(COUNTIF($CZ59:$DS59,BN$16),BN$16,\"\")","v":""},{"$f":"IF(COUNTIF($CZ59:$DS59,BO$16),BO$16,\"\")","v":""},{"$f":"IF(COUNTIF($CZ59:$DS59,BP$16),BP$16,\"\")","v":67},{"$f":"IF(COUNTIF($CZ59:$DS59,BQ$16),BQ$16,\"\")","v":68},{"$f":"IF(COUNTIF($CZ59:$DS59,BR$16),BR$16,\"\")","v":""},{"$f":"IF(COUNTIF($CZ59:$DS59,BS$16),BS$16,\"\")","v":""},{"$f":"IF(COUNTIF($CZ59:$DS59,BT$16),BT$16,\"\")","v":71},{"$f":"IF(COUNTIF($CZ59:$DS59,BU$16),BU$16,\"\")","v":""},{"$f":"IF(COUNTIF($CZ59:$DS59,BV$16),BV$16,\"\")","v":""},{"$f":"IF(COUNTIF($CZ59:$DS59,BW$16),BW$16,\"\")","v":""},{"$f":"IF(COUNTIF($CZ59:$DS59,BX$16),BX$16,\"\")","v":""},{"$f":"IF(COUNTIF($CZ59:$DS59,BY$16),BY$16,\"\")","v":""},{"$f":"IF(COUNTIF($CZ59:$DS59,BZ$16),BZ$16,\"\")","v":""},{"$f":"IF(COUNTIF($CZ59:$DS59,CA$16),CA$16,\"\")","v":""},{"$f":"IF(COUNTIF($CZ59:$DS59,CB$16),CB$16,\"\")","v":""},{"$f":"IF(COUNTIF($CZ59:$DS59,CC$16),CC$16,\"\")","v":""},{"$f":"IF(COUNTIF($CZ59:$DS59,CD$16),CD$16,\"\")","v":""},{"$f":"IF(COUNTIF($CZ59:$DS59,CE$16),CE$16,\"\")","v":""},{"$f":"IF(COUNTIF($CZ59:$DS59,CF$16),CF$16,\"\")","v":83},{"$f":"IF(COUNTIF($CZ59:$DS59,CG$16),CG$16,\"\")","v":""},{"$f":"IF(COUNTIF($CZ59:$DS59,CH$16),CH$16,\"\")","v":""},{"$f":"IF(COUNTIF($CZ59:$DS59,CI$16),CI$16,\"\")","v":""},{"$f":"IF(COUNTIF($CZ59:$DS59,CJ$16),CJ$16,\"\")","v":87},{"$f":"IF(COUNTIF($CZ59:$DS59,CK$16),CK$16,\"\")","v":""},{"$f":"IF(COUNTIF($CZ59:$DS59,CL$16),CL$16,\"\")","v":""},{"$f":"IF(COUNTIF($CZ59:$DS59,CM$16),CM$16,\"\")","v":""},{"$f":"IF(COUNTIF($CZ59:$DS59,CN$16),CN$16,\"\")","v":""},{"$f":"IF(COUNTIF($CZ59:$DS59,CO$16),CO$16,\"\")","v":""},{"$f":"IF(COUNTIF($CZ59:$DS59,CP$16),CP$16,\"\")","v":""},{"$f":"IF(COUNTIF($CZ59:$DS59,CQ$16),CQ$16,\"\")","v":""},{"$f":"IF(COUNTIF($CZ59:$DS59,CR$16),CR$16,\"\")","v":""},{"$f":"IF(COUNTIF($CZ59:$DS59,CS$16),CS$16,\"\")","v":""},{"$f":"IF(COUNTIF($CZ59:$DS59,CT$16),CT$16,\"\")","v":""},{"$f":"IF(COUNTIF($CZ59:$DS59,CU$16),CU$16,\"\")","v":""},{"$f":"IF(COUNTIF($CZ59:$DS59,CV$16),CV$16,\"\")","v":""},{"$f":"IF(COUNTIF($CZ59:$DS59,0),0,\"\")","v":""},43,1827,{"$f":"VLOOKUP($CY59,J!$A$2:$AW$4000,3,FALSE)","v":4},{"$f":"VLOOKUP($CY59,J!$A$2:$AW$4000,4,FALSE)","v":5},{"$f":"VLOOKUP($CY59,J!$A$2:$AW$4000,5,FALSE)","v":6},{"$f":"VLOOKUP($CY59,J!$A$2:$AW$4000,6,FALSE)","v":12},{"$f":"VLOOKUP($CY59,J!$A$2:$AW$4000,7,FALSE)","v":13},{"$f":"VLOOKUP($CY59,J!$A$2:$AW$4000,8,FALSE)","v":18},{"$f":"VLOOKUP($CY59,J!$A$2:$AW$4000,9,FALSE)","v":19},{"$f":"VLOOKUP($CY59,J!$A$2:$AW$4000,10,FALSE)","v":20},{"$f":"VLOOKUP($CY59,J!$A$2:$AW$4000,11,FALSE)","v":22},{"$f":"VLOOKUP($CY59,J!$A$2:$AW$4000,12,FALSE)","v":27},{"$f":"VLOOKUP($CY59,J!$A$2:$AW$4000,13,FALSE)","v":29},{"$f":"VLOOKUP($CY59,J!$A$2:$AW$4000,14,FALSE)","v":32},{"$f":"VLOOKUP($CY59,J!$A$2:$AW$4000,15,FALSE)","v":41},{"$f":"VLOOKUP($CY59,J!$A$2:$AW$4000,16,FALSE)","v":55},{"$f":"VLOOKUP($CY59,J!$A$2:$AW$4000,17,FALSE)","v":62},{"$f":"VLOOKUP($CY59,J!$A$2:$AW$4000,18,FALSE)","v":67},{"$f":"VLOOKUP($CY59,J!$A$2:$AW$4000,19,FALSE)","v":68},{"$f":"VLOOKUP($CY59,J!$A$2:$AW$4000,20,FALSE)","v":71},{"$f":"VLOOKUP($CY59,J!$A$2:$AW$4000,21,FALSE)","v":83},{"$f":"VLOOKUP($CY59,J!$A$2:$AW$4000,22,FALSE)","v":87}]
[null,{"$f":"IF(COUNTIF($CZ60:$DS60,B$16),B$16,\"\")","v":""},{"$f":"IF(COUNTIF($CZ60:$DS60,C$16),C$16,\"\")","v":""},{"$f":"IF(COUNTIF($CZ60:$DS60,D$16),D$16,\"\")","v":""},{"$f":"IF(COUNTIF($CZ60:$DS60,E$16),E$16,\"\")","v":""},{"$f":"IF(COUNTIF($CZ60:$DS60,F$16),F$16,\"\")","v":""},{"$f":"IF(COUNTIF($CZ60:$DS60,G$16),G$16,\"\")","v":""},{"$f":"IF(COUNTIF($CZ60:$DS60,H$16),H$16,\"\")","v":""},{"$f":"IF(COUNTIF($CZ60:$DS60,I$16),I$16,\"\")","v":""},{"$f":"IF(COUNTIF($CZ60:$DS60,J$16),J$16,\"\")","v":""},{"$f":"IF(COUNTIF($CZ60:$DS60,K$16),K$16,\"\")","v":""},{"$f":"IF(COUNTIF($CZ60:$DS60,L$16),L$16,\"\")","v":""},{"$f":"IF(COUNTIF($CZ60:$DS60,M$16),M$16,\"\")","v":""},{"$f":"IF(COUNTIF($CZ60:$DS60,N$16),N$16,\"\")","v":""},{"$f":"IF(COUNTIF($CZ60:$DS60,O$16),O$16,\"\")","v":""},{"$f":"IF(COUNTIF($CZ60:$DS60,P$16),P$16,\"\")","v":""},{"$f":"IF(COUNTIF($CZ60:$DS60,Q$16),Q$16,\"\")","v":""},{"$f":"IF(COUNTIF($CZ60:$DS60,R$16),R$16,\"\")","v":""},{"$f":"IF(COUNTIF($CZ60:$DS60,S$16),S$16,\"\")","v":18},{"$f":"IF(COUNTIF($CZ60:$DS60,T$16),T$16,\"\")","v":""},{"$f":"IF(COUNTIF($CZ60:$DS60,U$16),U$16,\"\")","v":""},{"$f":"IF(COUNTIF($CZ60:$DS60,V$16),V$16,\"\")","v":""},{"$f":"IF(COUNTIF($CZ60:$DS60,W$16),W$16,\"\")","v":""},{"$f":"IF(COUNTIF($CZ60:$DS60,X$16),X$16,\"\")","v":""},{"$f":"IF(COUNTIF($CZ60:$DS60,Y$16),Y$16,\"\")","v":""},{"$f":"IF(COUNTIF($CZ60:$DS60,Z$16),Z$16,\"\")","v":""},{"$f":"IF(COUNTIF($CZ60:$DS60,AA$16),AA$16,\"\")","v":26},{"$f":"IF(COUNTIF($CZ60:$DS60,AB$16),AB$16,\"\")","v":""},{"$f":"IF(COUNTIF($CZ60:$DS60,AC$16),AC$16,\"\")","v":""},{"$f":"IF(COUNTIF($CZ60:$DS60,AD$16),AD$16,\"\")","v":""},{"$f":"IF(COUNTIF($CZ60:$DS60,AE$16),AE$16,\"\")","v":30},{"$f":"IF(COUNTIF($CZ60:$DS60,AF$16),AF$16,\"\")","v":31},{"$f":"IF(COUNTIF($CZ60:$DS60,AG$16),AG$16,\"\")","v":""},{"$f":"IF(COUNTIF($CZ60:$DS60,AH$16),AH$16,\"\")","v":""},{"$f":"IF(COUNTIF($CZ60:$DS60,AI$16),AI$16,\"\")","v":""},{"$f":"IF(COUNTIF($CZ60:$DS60,AJ$16),AJ$16,\"\")","v":""},{"$f":"IF(COUNTIF($CZ60:$DS60,AK$16),AK$16,\"\")","v":""},{"$f":"IF(COUNTIF($CZ60:$DS60,AL$16),AL$16,\"\")","v":""},{"$f":"IF(COUNTIF($CZ60:$DS60,AM$16),AM$16,\"\")","v":""},{"$f":"IF(COUNTIF($CZ60:$DS60,AN$16),AN$16,\"\")","v":""},{"$f":"IF(COUNTIF($CZ60:$DS60,AO$16),AO$16,\"\")","v":""},{"$f":"IF(COUNTIF($CZ60:$DS60,AP$16),AP$16,\"\")","v":""},{"$f":"IF(COUNTIF($CZ60:$DS60,AQ$16),AQ$16,\"\")","v":42},{"$f":"IF(COUNTIF($CZ60:$DS60,AR$16),AR$16,\"\")","v":43},{"$f":"IF(COUNTIF($CZ60:$DS60,AS$16),AS$16,\"\")","v":""},{"$f":"IF(COUNTIF($CZ60:$DS60,AT$16),AT$16,\"\")","v":""},{"$f":"IF(COUNTIF($CZ60:$DS60,AU$16),AU$16,\"\")","v":46},{"$f":"IF(COUNTIF($CZ60:$DS60,AV$16),AV$16,\"\")","v":""},{"$f":"IF(COUNTIF($CZ60:$DS60,AW$16),AW$16,\"\")","v":48},{"$f":"IF(COUNTIF($CZ60:$DS60,AX$16),AX$16,\"\")","v":49},{"$f":"IF(COUNTIF($CZ60:$DS60,AY$16),AY$16,\"\")","v":""},{"$f":"IF(COUNTIF($CZ60:$DS60,AZ$16),AZ$16,\"\")","v":""},{"$f":"IF(COUNTIF($CZ60:$DS60,BA$16),BA$16,\"\")","v":""},{"$f":"IF(COUNTIF($CZ60:$DS60,BB$16),BB$16,\"\")","v":""},{"$f":"IF(COUNTIF($CZ60:$DS60,BC$16),BC$16,\"\")","v":""},{"$f":"IF(COUNTIF($CZ60:$DS60,BD$16),BD$16,\"\")","v":55},{"$f":"IF(COUNTIF($CZ60:$DS60,BE$16),BE$16,\"\")","v":""},{"$f":"IF(COUNTIF($CZ60:$DS60,BF$16),BF$16,\"\")","v":""},{"$f":"IF(COUNTIF($CZ60:$DS60,BG$16),BG$16,\"\")","v":""},{"$f":"IF(COUNTIF($CZ60:$DS60,BH$16),BH$16,\"\")","v":""},{"$f":"IF(COUNTIF($CZ60:$DS60,BI$16),BI$16,\"\")","v":""},{"$f":"IF(COUNTIF($CZ60:$DS60,BJ$16),BJ$16,\"\")","v":""},{"$f":"IF(COUNTIF($CZ60:$DS60,BK$16),BK$16,\"\")","v":""},{"$f":"IF(COUNTIF($CZ60:$DS60,BL$16),BL$16,\"\")","v":""},{"$f":"IF(COUNTIF($CZ60:$DS60,BM$16),BM$16,\"\")","v":""},{"$f":"IF(COUNTIF($CZ60:$DS60,BN$16),BN$16,\"\")","v":""},{"$f":"IF(COUNTIF($CZ60:$DS60,BO$16),BO$16,\"\")","v":66},{"$f":"IF(COUNTIF($CZ60:$DS60,BP$16),BP$16,\"\")","v":""},{"$f":"IF(COUNTIF($CZ60:$DS60,BQ$16),BQ$16,\"\")","v":""},{"$f":"IF(COUNTIF($CZ60:$DS60,BR$16),BR$16,\"\")","v":""},{"$f":"IF(COUNTIF($CZ60:$DS60,BS$16),BS$16,\"\")","v":""},{"$f":"IF(COUNTIF($CZ60:$DS60,BT$16),BT$16,\"\")","v":71},{"$f":"IF(COUNTIF($CZ60:$DS60,BU$16),BU$16,\"\")","v":""},{"$f":"IF(COUNTIF($CZ60:$DS60,BV$16),BV$16,\"\")","v":""},{"$f":"IF(COUNTIF($CZ60:$DS60,BW$16),BW$16,\"\")","v":74},{"$f":"IF(COUNTIF($CZ60:$DS60,BX$16),BX$16,\"\")","v":75},{"$f":"IF(COUNTIF($CZ60:$DS60,BY$16),BY$16,\"\")","v":""},{"$f":"IF(COUNTIF($CZ60:$DS60,BZ$16),BZ$16,\"\")","v":77},{"$f":"IF(COUNTIF($CZ60:$DS60,CA$16),CA$16,\"\")","v":""},{"$f":"IF(COUNTIF($CZ60:$DS60,CB$16),CB$16,\"\")","v":""},{"$f":"IF(COUNTIF($CZ60:$DS60,CC$16),CC$16,\"\")","v":""},{"$f":"IF(COUNTIF($CZ60:$DS60,CD$16),CD$16,\"\")","v":""},{"$f":"IF(COUNTIF($CZ60:$DS60,CE$16),CE$16,\"\")","v":""},{"$f":"IF(COUNTIF($CZ60:$DS60,CF$16),CF$16,\"\")","v":""},{"$f":"IF(COUNTIF($CZ60:$DS60,CG$16),CG$16,\"\")","v":84},{"$f":"IF(COUNTIF($CZ60:$DS60,CH$16),CH$16,\"\")","v":85},{"$f":"IF(COUNTIF($CZ60:$DS60,CI$16),CI$16,\"\")","v":86},{"$f":"IF(COUNTIF($CZ60:$DS60,CJ$16),CJ$16,\"\")","v":""},{"$f":"IF(COUNTIF($CZ60:$DS60,CK$16),CK$16,\"\")","v":""},{"$f":"IF(COUNTIF($CZ60:$DS60,CL$16),CL$16,\"\")","v":""},{"$f":"IF(COUNTIF($CZ60:$DS60,CM$16),CM$16,\"\")","v":""},{"$f":"IF(COUNTIF($CZ60:$DS60,CN$16),CN$16,\"\")","v":""},{"$f":"IF(COUNTIF($CZ60:$DS60,CO$16),CO$16,\"\")","v":""},{"$f":"IF(COUNTIF($CZ60:$DS60,CP$16),CP$16,\"\")","v":""},{"$f":"IF(COUNTIF($CZ60:$DS60,CQ$16),CQ$16,\"\")","v":""},{"$f":"IF(COUNTIF($CZ60:$DS60,CR$16),CR$16,\"\")","v":95},{"$f":"IF(COUNTIF($CZ60:$DS60,CS$16),CS$16,\"\")","v":""},{"$f":"IF(COUNTIF($CZ60:$DS60,CT$16),CT$16,\"\")","v":97},{"$f":"IF(COUNTIF($CZ60:$DS60,CU$16),CU$16,\"\")","v":""},{"$f":"IF(COUNTIF($CZ60:$DS60,CV$16),CV$16,\"\")","v":""},{"$f":"IF(COUNTIF($CZ60:$DS60,0),0,\"\")","v":""},44,1826,{"$f":"VLOOKUP($CY60,J!$A$2:$AW$4000,3,FALSE)","v":18},{"$f":"VLOOKUP($CY60,J!$A$2:$AW$4000,4,FALSE)","v":26},{"$f":"VLOOKUP($CY60,J!$A$2:$AW$4000,5,FALSE)","v":30},{"$f":"VLOOKUP($CY60,J!$A$2:$AW$4000,6,FALSE)","v":31},{"$f":"VLOOKUP($CY60,J!$A$2:$AW$4000,7,FALSE)","v":42},{"$f":"VLOOKUP($CY60,J!$A$2:$AW$4000,8,FALSE)","v":43},{"$f":"VLOOKUP($CY60,J!$A$2:$AW$4000,9,FALSE)","v":46},{"$f":"VLOOKUP($CY60,J!$A$2:$AW$4000,10,FALSE)","v":48},{"$f":"VLOOKUP($CY60,J!$A$2:$AW$4000,11,FALSE)","v":49},{"$f":"VLOOKUP($CY60,J!$A$2:$AW$4000,12,FALSE)","v":55},{"$f":"VLOOKUP($CY60,J!$A$2:$AW$4000,13,FALSE)","v":66},{"$f":"VLOOKUP($CY60,J!$A$2:$AW$4000,14,FALSE)","v":71},{"$f":"VLOOKUP($CY60,J!$A$2:$AW$4000,15,FALSE)","v":74},{"$f":"VLOOKUP($CY60,J!$A$2:$AW$4000,16,FALSE)","v":75},{"$f":"VLOOKUP($CY60,J!$A$2:$AW$4000,17,FALSE)","v":77},{"$f":"VLOOKUP($CY60,J!$A$2:$AW$4000,18,FALSE)","v":84},{"$f":"VLOOKUP($CY60,J!$A$2:$AW$4000,19,FALSE)","v":85},{"$f":"VLOOKUP($CY60,J!$A$2:$AW$4000,20,FALSE)","v":86},{"$f":"VLOOKUP($CY60,J!$A$2:$AW$4000,21,FALSE)","v":95},{"$f":"VLOOKUP($CY60,J!$A$2:$AW$4000,22,FALSE)","v":97}]
[null,{"$f":"IF(COUNTIF($CZ61:$DS61,B$16),B$16,\"\")","v":""},{"$f":"IF(COUNTIF($CZ61:$DS61,C$16),C$16,\"\")","v":""},{"$f":"IF(COUNTIF($CZ61:$DS61,D$16),D$16,\"\")","v":""},{"$f":"IF(COUNTIF($CZ61:$DS61,E$16),E$16,\"\")","v":""},{"$f":"IF(COUNTIF($CZ61:$DS61,F$16),F$16,\"\")","v":""},{"$f":"IF(COUNTIF($CZ61:$DS61,G$16),G$16,\"\")","v":""},{"$f":"IF(COUNTIF($CZ61:$DS61,H$16),H$16,\"\")","v":""},{"$f":"IF(COUNTIF($CZ61:$DS61,I$16),I$16,\"\")","v":""},{"$f":"IF(COUNTIF($CZ61:$DS61,J$16),J$16,\"\")","v":""},{"$f":"IF(COUNTIF($CZ61:$DS61,K$16),K$16,\"\")","v":""},{"$f":"IF(COUNTIF($CZ61:$DS61,L$16),L$16,\"\")","v":""},{"$f":"IF(COUNTIF($CZ61:$DS61,M$16),M$16,\"\")","v":""},{"$f":"IF(COUNTIF($CZ61:$DS61,N$16),N$16,\"\")","v":""},{"$f":"IF(COUNTIF($CZ61:$DS61,O$16),O$16,\"\")","v":""},{"$f":"IF(COUNTIF($CZ61:$DS61,P$16),P$16,\"\")","v":""},{"$f":"IF(COUNTIF($CZ61:$DS61,Q$16),Q$16,\"\")","v":""},{"$f":"IF(COUNTIF($CZ61:$DS61,R$16),R$16,\"\")","v":""},{"$f":"IF(COUNTIF($CZ61:$DS61,S$16),S$16,\"\")","v":""},{"$f":"IF(COUNTIF($CZ61:$DS61,T$16),T$16,\"\")","v":""},{"$f":"IF(COUNTIF($CZ61:$DS61,U$16),U$16,\"\")","v":""},{"$f":"IF(COUNTIF($CZ61:$DS61,V$16),V$16,\"\")","v":""},{"$f":"IF(COUNTIF($CZ61:$DS61,W$16),W$16,\"\")","v":""},{"$f":"IF(COUNTIF($CZ61:$DS61,X$16),X$16,\"\")","v":""},{"$f":"IF(COUNTIF($CZ61:$DS61,Y$16),Y$16,\"\")","v":""},{"$f":"IF(COUNTIF($CZ61:$DS61,Z$16),Z$16,\"\")","v":""},{"$f":"IF(COUNTIF($CZ61:$DS61,AA$16),AA$16,\"\")","v":""},{"$f":"IF(COUNTIF($CZ61:$DS61,AB$16),AB$16,\"\")","v":""},{"$f":"IF(COUNTIF($CZ61:$DS61,AC$16),AC$16,\"\")","v":""},{"$f":"IF(COUNTIF($CZ61:$DS61,AD$16),AD$16,\"\")","v":""},{"$f":"IF(COUNTIF($CZ61:$DS61,AE$16),AE$16,\"\")","v":""},{"$f":"IF(COUNTIF($CZ61:$DS61,AF$16),AF$16,\"\")","v":""},{"$f":"IF(COUNTIF($CZ61:$DS61,AG$16),AG$16,\"\")","v":32},{"$f":"IF(COUNTIF($CZ61:$DS61,AH$16),AH$16,\"\")","v":""},{"$f":"IF(COUNTIF($CZ61:$DS61,AI$16),AI$16,\"\")","v":""},{"$f":"IF(COUNTIF($CZ61:$DS61,AJ$16),AJ$16,\"\")","v":""},{"$f":"IF(COUNTIF($CZ61:$DS61,AK$16),AK$16,\"\")","v":""},{"$f":"IF(COUNTIF($CZ61:$DS61,AL$16),AL$16,\"\")","v":""},{"$f":"IF(COUNTIF($CZ61:$DS61,AM$16),AM$16,\"\")","v":""},{"$f":"IF(COUNTIF($CZ61:$DS61,AN$16),AN$16,\"\")","v":""},{"$f":"IF(COUNTIF($CZ61:$DS61,AO$16),AO$16,\"\")","v":""},{"$f":"IF(COUNTIF($CZ61:$DS61,AP$16),AP$16,\"\")","v":""},{"$f":"IF(COUNTIF($CZ61:$DS61,AQ$16),AQ$16,\"\")","v":""},{"$f":"IF(COUNTIF($CZ61:$DS61,AR$16),AR$16,\"\")","v":""},{"$f":"IF(COUNTIF($CZ61:$DS61,AS$16),AS$16,\"\")","v":""},{"$f":"IF(COUNTIF($CZ61:$DS61,AT$16),AT$16,\"\")","v":45},{"$f":"IF(COUNTIF($CZ61:$DS61,AU$16),AU$16,\"\")","v":""},{"$f":"IF(COUNTIF($CZ61:$DS61,AV$16),AV$16,\"\")","v":""},{"$f":"IF(COUNTIF($CZ61:$DS61,AW$16),AW$16,\"\")","v":""},{"$f":"IF(COUNTIF($CZ61:$DS61,AX$16),AX$16,\"\")","v":""},{"$f":"IF(COUNTIF($CZ61:$DS61,AY$16),AY$16,\"\")","v":""},{"$f":"IF(COUNTIF($CZ61:$DS61,AZ$16),AZ$16,\"\")","v":""},{"$f":"IF(COUNTIF($CZ61:$DS61,BA$16),BA$16,\"\")","v":52},{"$f":"IF(COUNTIF($CZ61:$DS61,BB$16),BB$16,\"\")","v":""},{"$f":"IF(COUNTIF($CZ61:$DS61,BC$16),BC$16,\"\")","v":""},{"$f":"IF(COUNTIF($CZ61:$DS61,BD$16),BD$16,\"\")","v":55},{"$f":"IF(COUNTIF($CZ61:$DS61,BE$16),BE$16,\"\")","v":56},{"$f":"IF(COUNTIF($CZ61:$DS61,BF$16),BF$16,\"\")","v":57},{"$f":"IF(COUNTIF($CZ61:$DS61,BG$16),BG$16,\"\")","v":""},{"$f":"IF(COUNTIF($CZ61:$DS61,BH$16),BH$16,\"\")","v":""},{"$f":"IF(COUNTIF($CZ61:$DS61,BI$16),BI$16,\"\")","v":60},{"$f":"IF(COUNTIF($CZ61:$DS61,BJ$16),BJ$16,\"\")","v":""},{"$f":"IF(COUNTIF($CZ61:$DS61,BK$16),BK$16,\"\")","v":""},{"$f":"IF(COUNTIF($CZ61:$DS61,BL$16),BL$16,\"\")","v":63},{"$f":"IF(COUNTIF($CZ61:$DS61,BM$16),BM$16,\"\")","v":""},{"$f":"IF(COUNTIF($CZ61:$DS61,BN$16),BN$16,\"\")","v":""},{"$f":"IF(COUNTIF($CZ61:$DS61,BO$16),BO$16,\"\")","v":""},{"$f":"IF(COUNTIF($CZ61:$DS61,BP$16),BP$16,\"\")","v":""},{"$f":"IF(COUNTIF($CZ61:$DS61,BQ$16),BQ$16,\"\")","v":68},{"$f":"IF(COUNTIF($CZ61:$DS61,BR$16),BR$16,\"\")","v":""},{"$f":"IF(COUNTIF($CZ61:$DS61,BS$16),BS$16,\"\")","v":""},{"$f":"IF(COUNTIF($CZ61:$DS61,BT$16),BT$16,\"\")","v":""},{"$f":"IF(COUNTIF($CZ61:$DS61,BU$16),BU$16,\"\")","v":""},{"$f":"IF(COUNTIF($CZ61:$DS61,BV$16),BV$16,\"\")","v":""},{"$f":"IF(COUNTIF($CZ61:$DS61,BW$16),BW$16,\"\")","v":""},{"$f":"IF(COUNTIF($CZ61:$DS61,BX$16),BX$16,\"\")","v":""},{"$f":"IF(COUNTIF($CZ61:$DS61,BY$16),BY$16,\"\")","v":""},{"$f":"IF(COUNTIF($CZ61:$DS61,BZ$16),BZ$16,\"\")","v":""},{"$f":"IF(COUNTIF($CZ61:$DS61,CA$16),CA$16,\"\")","v":""},{"$f":"IF(COUNTIF($CZ61:$DS61,CB$16),CB$16,\"\")","v":79},{"$f":"IF(COUNTIF($CZ61:$DS61,CC$16),CC$16,\"\")","v":""},{"$f":"IF(COUNTIF($CZ61:$DS61,CD$16),CD$16,\"\")","v":81},{"$f":"IF(COUNTIF($CZ61:$DS61,CE$16),CE$16,\"\")","v":82},{"$f":"IF(COUNTIF($CZ61:$DS61,CF$16),CF$16,\"\")","v":""},{"$f":"IF(COUNTIF($CZ61:$DS61,CG$16),CG$16,\"\")","v":""},{"$f":"IF(COUNTIF($CZ61:$DS61,CH$16),CH$16,\"\")","v":85},{"$f":"IF(COUNTIF($CZ61:$DS61,CI$16),CI$16,\"\")","v":""},{"$f":"IF(COUNTIF($CZ61:$DS61,CJ$16),CJ$16,\"\")","v":87},{"$f":"IF(COUNTIF($CZ61:$DS61,CK$16),CK$16,\"\")","v":88},{"$f":"IF(COUNTIF($CZ61:$DS61,CL$16),CL$16,\"\")","v":89},{"$f":"IF(COUNTIF($CZ61:$DS61,CM$16),CM$16,\"\")","v":""},{"$f":"IF(COUNTIF($CZ61:$DS61,CN$16),CN$16,\"\")","v":""},{"$f":"IF(COUNTIF($CZ61:$DS61,CO$16),CO$16,\"\")","v":""},{"$f":"IF(COUNTIF($CZ61:$DS61,CP$16),CP$16,\"\")","v":93},{"$f":"IF(COUNTIF($CZ61:$DS61,CQ$16),CQ$16,\"\")","v":""},{"$f":"IF(COUNTIF($CZ61:$DS61,CR$16),CR$16,\"\")","v":""},{"$f":"IF(COUNTIF($CZ61:$DS61,CS$16),CS$16,\"\")","v":""},{"$f":"IF(COUNTIF($CZ61:$DS61,CT$16),CT$16,\"\")","v":97},{"$f":"IF(COUNTIF($CZ61:$DS61,CU$16),CU$16,\"\")","v":98},{"$f":"IF(COUNTIF($CZ61:$DS61,CV$16),CV$16,\"\")","v":99},{"$f":"IF(COUNTIF($CZ61:$DS61,0),0,\"\")","v":""},45,1825,{"$f":"VLOOKUP($CY61,J!$A$2:$AW$4000,3,FALSE)","v":32},{"$f":"VLOOKUP($CY61,J!$A$2:$AW$4000,4,FALSE)","v":45},{"$f":"VLOOKUP($CY61,J!$A$2:$AW$4000,5,FALSE)","v":52},{"$f":"VLOOKUP($CY61,J!$A$2:$AW$4000,6,FALSE)","v":55},{"$f":"VLOOKUP($CY61,J!$A$2:$AW$4000,7,FALSE)","v":56},{"$f":"VLOOKUP($CY61,J!$A$2:$AW$4000,8,FALSE)","v":57},{"$f":"VLOOKUP($CY61,J!$A$2:$AW$4000,9,FALSE)","v":60},{"$f":"VLOOKUP($CY61,J!$A$2:$AW$4000,10,FALSE)","v":63},{"$f":"VLOOKUP($CY61,J!$A$2:$AW$4000,11,FALSE)","v":68},{"$f":"VLOOKUP($CY61,J!$A$2:$AW$4000,12,FALSE)","v":79},{"$f":"VLOOKUP($CY61,J!$A$2:$AW$4000,13,FALSE)","v":81},{"$f":"VLOOKUP($CY61,J!$A$2:$AW$4000,14,FALSE)","v":82},{"$f":"VLOOKUP($CY61,J!$A$2:$AW$4000,15,FALSE)","v":85},{"$f":"VLOOKUP($CY61,J!$A$2:$AW$4000,16,FALSE)","v":87},{"$f":"VLOOKUP($CY61,J!$A$2:$AW$4000,17,FALSE)","v":88},{"$f":"VLOOKUP($CY61,J!$A$2:$AW$4000,18,FALSE)","v":89},{"$f":"VLOOKUP($CY61,J!$A$2:$AW$4000,19,FALSE)","v":93},{"$f":"VLOOKUP($CY61,J!$A$2:$AW$4000,20,FALSE)","v":97},{"$f":"VLOOKUP($CY61,J!$A$2:$AW$4000,21,FALSE)","v":98},{"$f":"VLOOKUP($CY61,J!$A$2:$AW$4000,22,FALSE)","v":99}]
[null,{"$f":"IF(COUNTIF($CZ62:$DS62,B$16),B$16,\"\")","v":""},{"$f":"IF(COUNTIF($CZ62:$DS62,C$16),C$16,\"\")","v":2},{"$f":"IF(COUNTIF($CZ62:$DS62,D$16),D$16,\"\")","v":""},{"$f":"IF(COUNTIF($CZ62:$DS62,E$16),E$16,\"\")","v":""},{"$f":"IF(COUNTIF($CZ62:$DS62,F$16),F$16,\"\")","v":""},{"$f":"IF(COUNTIF($CZ62:$DS62,G$16),G$16,\"\")","v":6},{"$f":"IF(COUNTIF($CZ62:$DS62,H$16),H$16,\"\")","v":""},{"$f":"IF(COUNTIF($CZ62:$DS62,I$16),I$16,\"\")","v":""},{"$f":"IF(COUNTIF($CZ62:$DS62,J$16),J$16,\"\")","v":""},{"$f":"IF(COUNTIF($CZ62:$DS62,K$16),K$16,\"\")","v":""},{"$f":"IF(COUNTIF($CZ62:$DS62,L$16),L$16,\"\")","v":""},{"$f":"IF(COUNTIF($CZ62:$DS62,M$16),M$16,\"\")","v":""},{"$f":"IF(COUNTIF($CZ62:$DS62,N$16),N$16,\"\")","v":13},{"$f":"IF(COUNTIF($CZ62:$DS62,O$16),O$16,\"\")","v":""},{"$f":"IF(COUNTIF($CZ62:$DS62,P$16),P$16,\"\")","v":15},{"$f":"IF(COUNTIF($CZ62:$DS62,Q$16),Q$16,\"\")","v":16},{"$f":"IF(COUNTIF($CZ62:$DS62,R$16),R$16,\"\")","v":17},{"$f":"IF(COUNTIF($CZ62:$DS62,S$16),S$16,\"\")","v":18},{"$f":"IF(COUNTIF($CZ62:$DS62,T$16),T$16,\"\")","v":""},{"$f":"IF(COUNTIF($CZ62:$DS62,U$16),U$16,\"\")","v":""},{"$f":"IF(COUNTIF($CZ62:$DS62,V$16),V$16,\"\")","v":""},{"$f":"IF(COUNTIF($CZ62:$DS62,W$16),W$16,\"\")","v":""},{"$f":"IF(COUNTIF($CZ62:$DS62,X$16),X$16,\"\")","v":""},{"$f":"IF(COUNTIF($CZ62:$DS62,Y$16),Y$16,\"\")","v":""},{"$f":"IF(COUNTIF($CZ62:$DS62,Z$16),Z$16,\"\")","v":""},{"$f":"IF(COUNTIF($CZ62:$DS62,AA$16),AA$16,\"\")","v":""},{"$f":"IF(COUNTIF($CZ62:$DS62,AB$16),AB$16,\"\")","v":""},{"$f":"IF(COUNTIF($CZ62:$DS62,AC$16),AC$16,\"\")","v":""},{"$f":"IF(COUNTIF($CZ62:$DS62,AD$16),AD$16,\"\")","v":""},{"$f":"IF(COUNTIF($CZ62:$DS62,AE$16),AE$16,\"\")","v":""},{"$f":"IF(COUNTIF($CZ62:$DS62,AF$16),AF$16,\"\")","v":31},{"$f":"IF(COUNTIF($CZ62:$DS62,AG$16),AG$16,\"\")","v":""},{"$f":"IF(COUNTIF($CZ62:$DS62,AH$16),AH$16,\"\")","v":""},{"$f":"IF(COUNTIF($CZ62:$DS62,AI$16),AI$16,\"\")","v":34},{"$f":"IF(COUNTIF($CZ62:$DS62,AJ$16),AJ$16,\"\")","v":35},{"$f":"IF(COUNTIF($CZ62:$DS62,AK$16),AK$16,\"\")","v":""},{"$f":"IF(COUNTIF($CZ62:$DS62,AL$16),AL$16,\"\")","v":""},{"$f":"IF(COUNTIF($CZ62:$DS62,AM$16),AM$16,\"\")","v":""},{"$f":"IF(COUNTIF($CZ62:$DS62,AN$16),AN$16,\"\")","v":""},{"$f":"IF(COUNTIF($CZ62:$DS62,AO$16),AO$16,\"\")","v":""},{"$f":"IF(COUNTIF($CZ62:$DS62,AP$16),AP$16,\"\")","v":""},{"$f":"IF(COUNTIF($CZ62:$DS62,AQ$16),AQ$16,\"\")","v":""},{"$f":"IF(COUNTIF($CZ62:$DS62,AR$16),AR$16,\"\")","v":""},{"$f":"IF(COUNTIF($CZ62:$DS62,AS$16),AS$16,\"\")","v":""},{"$f":"IF(COUNTIF($CZ62:$DS62,AT$16),AT$16,\"\")","v":""},{"$f":"IF(COUNTIF($CZ62:$DS62,AU$16),AU$16,\"\")","v":""},{"$f":"IF(COUNTIF($CZ62:$DS62,AV$16),AV$16,\"\")","v":""},{"$f":"IF(COUNTIF($CZ62:$DS62,AW$16),AW$16,\"\")","v":""},{"$f":"IF(COUNTIF($CZ62:$DS62,AX$16),AX$16,\"\")","v":""},{"$f":"IF(COUNTIF($CZ62:$DS62,AY$16),AY$16,\"\")","v":""},{"$f":"IF(COUNTIF($CZ62:$DS62,AZ$16),AZ$16,\"\")","v":""},{"$f":"IF(COUNTIF($CZ62:$DS62,BA$16),BA$16,\"\")","v":""},{"$f":"IF(COUNTIF($CZ62:$DS62,BB$16),BB$16,\"\")","v":""},{"$f":"IF(COUNTIF($CZ62:$DS62,BC$16),BC$16,\"\")","v":54},{"$f":"IF(COUNTIF($CZ62:$DS62,BD$16),BD$16,\"\")","v":""},{"$f":"IF(COUNTIF($CZ62:$DS62,BE$16),BE$16,\"\")","v":""},{"$f":"IF(COUNTIF($CZ62:$DS62,BF$16),BF$16,\"\")","v":""},{"$f":"IF(COUNTIF($CZ62:$DS62,BG$16),BG$16,\"\")","v":""},{"$f":"IF(COUNTIF($CZ62:$DS62,BH$16),BH$16,\"\")","v":""},{"$f":"IF(COUNTIF($CZ62:$DS62,BI$16),BI$16,\"\")","v":""},{"$f":"IF(COUNTIF($CZ62:$DS62,BJ$16),BJ$16,\"\")","v":""},{"$f":"IF(COUNTIF($CZ62:$DS62,BK$16),BK$16,\"\")","v":""},{"$f":"IF(COUNTIF($CZ62:$DS62,BL$16),BL$16,\"\")","v":63},{"$f":"IF(COUNTIF($CZ62:$DS62,BM$16),BM$16,\"\")","v":64},{"$f":"IF(COUNTIF($CZ62:$DS62,BN$16),BN$16,\"\")","v":""},{"$f":"IF(COUNTIF($CZ62:$DS62,BO$16),BO$16,\"\")","v":66},{"$f":"IF(COUNTIF($CZ62:$DS62,BP$16),BP$16,\"\")","v":67},{"$f":"IF(COUNTIF($CZ62:$DS62,BQ$16),BQ$16,\"\")","v":""},{"$f":"IF(COUNTIF($CZ62:$DS62,BR$16),BR$16,\"\")","v":69},{"$f":"IF(COUNTIF($CZ62:$DS62,BS$16),BS$16,\"\")","v":""},{"$f":"IF(COUNTIF($CZ62:$DS62,BT$16),BT$16,\"\")","v":""},{"$f":"IF(COUNTIF($CZ62:$DS62,BU$16),BU$16,\"\")","v":""},{"$f":"IF(COUNTIF($CZ62:$DS62,BV$16),BV$16,\"\")","v":""},{"$f":"IF(COUNTIF($CZ62:$DS62,BW$16),BW$16,\"\")","v":""},{"$f":"IF(COUNTIF($CZ62:$DS62,BX$16),BX$16,\"\")","v":75},{"$f":"IF(COUNTIF($CZ62:$DS62,BY$16),BY$16,\"\")","v":""},{"$f":"IF(COUNTIF($CZ62:$DS62,BZ$16),BZ$16,\"\")","v":""},{"$f":"IF(COUNTIF($CZ62:$DS62,CA$16),CA$16,\"\")","v":""},{"$f":"IF(COUNTIF($CZ62:$DS62,CB$16),CB$16,\"\")","v":""},{"$f":"IF(COUNTIF($CZ62:$DS62,CC$16),CC$16,\"\")","v":""},{"$f":"IF(COUNTIF($CZ62:$DS62,CD$16),CD$16,\"\")","v":""},{"$f":"IF(COUNTIF($CZ62:$DS62,CE$16),CE$16,\"\")","v":""},{"$f":"IF(COUNTIF($CZ62:$DS62,CF$16),CF$16,\"\")","v":""},{"$f":"IF(COUNTIF($CZ62:$DS62,CG$16),CG$16,\"\")","v":""},{"$f":"IF(COUNTIF($CZ62:$DS62,CH$16),CH$16,\"\")","v":""},{"$f":"IF(COUNTIF($CZ62:$DS62,CI$16),CI$16,\"\")","v":""},{"$f":"IF(COUNTIF($CZ62:$DS62,CJ$16),CJ$16,\"\")","v":87},{"$f":"IF(COUNTIF($CZ62:$DS62,CK$16),CK$16,\"\")","v":""},{"$f":"IF(COUNTIF($CZ62:$DS62,CL$16),CL$16,\"\")","v":""},{"$f":"IF(COUNTIF($CZ62:$DS62,CM$16),CM$16,\"\")","v":""},{"$f":"IF(COUNTIF($CZ62:$DS62,CN$16),CN$16,\"\")","v":91},{"$f":"IF(COUNTIF($CZ62:$DS62,CO$16),CO$16,\"\")","v":""},{"$f":"IF(COUNTIF($CZ62:$DS62,CP$16),CP$16,\"\")","v":""},{"$f":"IF(COUNTIF($CZ62:$DS62,CQ$16),CQ$16,\"\")","v":""},{"$f":"IF(COUNTIF($CZ62:$DS62,CR$16),CR$16,\"\")","v":""},{"$f":"IF(COUNTIF($CZ62:$DS62,CS$16),CS$16,\"\")","v":""},{"$f":"IF(COUNTIF($CZ62:$DS62,CT$16),CT$16,\"\")","v":""},{"$f":"IF(COUNTIF($CZ62:$DS62,CU$16),CU$16,\"\")","v":""},{"$f":"IF(COUNTIF($CZ62:$DS62,CV$16),CV$16,\"\")","v":""},{"$f":"IF(COUNTIF($CZ62:$DS62,0),0,\"\")","v":0},46,1824,{"$f":"VLOOKUP($CY62,J!$A$2:$AW$4000,3,FALSE)","v":0},{"$f":"VLOOKUP($CY62,J!$A$2:$AW$4000,4,FALSE)","v":2},{"$f":"VLOOKUP($CY62,J!$A$2:$AW$4000,5,FALSE)","v":6},{"$f":"VLOOKUP($CY62,J!$A$2:$AW$4000,6,FALSE)","v":13},{"$f":"VLOOKUP($CY62,J!$A$2:$AW$4000,7,FALSE)","v":15},{"$f":"VLOOKUP($CY62,J!$A$2:$AW$4000,8,FALSE)","v":16},{"$f":"VLOOKUP($CY62,J!$A$2:$AW$4000,9,FALSE)","v":17},{"$f":"VLOOKUP($CY62,J!$A$2:$AW$4000,10,FALSE)","v":18},{"$f":"VLOOKUP($CY62,J!$A$2:$AW$4000,11,FALSE)","v":31},{"$f":"VLOOKUP($CY62,J!$A$2:$AW$4000,12,FALSE)","v":34},{"$f":"VLOOKUP($CY62,J!$A$2:$AW$4000,13,FALSE)","v":35},{"$f":"VLOOKUP($CY62,J!$A$2:$AW$4000,14,FALSE)","v":54},{"$f":"VLOOKUP($CY62,J!$A$2:$AW$4000,15,FALSE)","v":63},{"$f":"VLOOKUP($CY62,J!$A$2:$AW$4000,16,FALSE)","v":64},{"$f":"VLOOKUP($CY62,J!$A$2:$AW$4000,17,FALSE)","v":66},{"$f":"VLOOKUP($CY62,J!$A$2:$AW$4000,18,FALSE)","v":67},{"$f":"VLOOKUP($CY62,J!$A$2:$AW$4000,19,FALSE)","v":69},{"$f":"VLOOKUP($CY62,J!$A$2:$AW$4000,20,FALSE)","v":75},{"$f":"VLOOKUP($CY62,J!$A$2:$AW$4000,21,FALSE)","v":87},{"$f":"VLOOKUP($CY62,J!$A$2:$AW$4000,22,FALSE)","v":91}]
[null,{"$f":"IF(COUNTIF($CZ63:$DS63,B$16),B$16,\"\")","v":""},{"$f":"IF(COUNTIF($CZ63:$DS63,C$16),C$16,\"\")","v":""},{"$f":"IF(COUNTIF($CZ63:$DS63,D$16),D$16,\"\")","v":3},{"$f":"IF(COUNTIF($CZ63:$DS63,E$16),E$16,\"\")","v":""},{"$f":"IF(COUNTIF($CZ63:$DS63,F$16),F$16,\"\")","v":""},{"$f":"IF(COUNTIF($CZ63:$DS63,G$16),G$16,\"\")","v":""},{"$f":"IF(COUNTIF($CZ63:$DS63,H$16),H$16,\"\")","v":""},{"$f":"IF(COUNTIF($CZ63:$DS63,I$16),I$16,\"\")","v":8},{"$f":"IF(COUNTIF($CZ63:$DS63,J$16),J$16,\"\")","v":""},{"$f":"IF(COUNTIF($CZ63:$DS63,K$16),K$16,\"\")","v":""},{"$f":"IF(COUNTIF($CZ63:$DS63,L$16),L$16,\"\")","v":""},{"$f":"IF(COUNTIF($CZ63:$DS63,M$16),M$16,\"\")","v":""},{"$f":"IF(COUNTIF($CZ63:$DS63,N$16),N$16,\"\")","v":""},{"$f":"IF(COUNTIF($CZ63:$DS63,O$16),O$16,\"\")","v":""},{"$f":"IF(COUNTIF($CZ63:$DS63,P$16),P$16,\"\")","v":""},{"$f":"IF(COUNTIF($CZ63:$DS63,Q$16),Q$16,\"\")","v":""},{"$f":"IF(COUNTIF($CZ63:$DS63,R$16),R$16,\"\")","v":""},{"$f":"IF(COUNTIF($CZ63:$DS63,S$16),S$16,\"\")","v":""},{"$f":"IF(COUNTIF($CZ63:$DS63,T$16),T$16,\"\")","v":""},{"$f":"IF(COUNTIF($CZ63:$DS63,U$16),U$16,\"\")","v":20},{"$f":"IF(COUNTIF($CZ63:$DS63,V$16),V$16,\"\")","v":21},{"$f":"IF(COUNTIF($CZ63:$DS63,W$16),W$16,\"\")","v":""},{"$f":"IF(COUNTIF($CZ63:$DS63,X$16),X$16,\"\")","v":""},{"$f":"IF(COUNTIF($CZ63:$DS63,Y$16),Y$16,\"\")","v":""},{"$f":"IF(COUNTIF($CZ63:$DS63,Z$16),Z$16,\"\")","v":25},{"$f":"IF(COUNTIF($CZ63:$DS63,AA$16),AA$16,\"\")","v":""},{"$f":"IF(COUNTIF($CZ63:$DS63,AB$16),AB$16,\"\")","v":""},{"$f":"IF(COUNTIF($CZ63:$DS63,AC$16),AC$16,\"\")","v":28},{"$f":"IF(COUNTIF($CZ63:$DS63,AD$16),AD$16,\"\")","v":29},{"$f":"IF(COUNTIF($CZ63:$DS63,AE$16),AE$16,\"\")","v":""},{"$f":"IF(COUNTIF($CZ63:$DS63,AF$16),AF$16,\"\")","v":31},{"$f":"IF(COUNTIF($CZ63:$DS63,AG$16),AG$16,\"\")","v":""},{"$f":"IF(COUNTIF($CZ63:$DS63,AH$16),AH$16,\"\")","v":""},{"$f":"IF(COUNTIF($CZ63:$DS63,AI$16),AI$16,\"\")","v":""},{"$f":"IF(COUNTIF($CZ63:$DS63,AJ$16),AJ$16,\"\")","v":""},{"$f":"IF(COUNTIF($CZ63:$DS63,AK$16),AK$16,\"\")","v":""},{"$f":"IF(COUNTIF($CZ63:$DS63,AL$16),AL$16,\"\")","v":""},{"$f":"IF(COUNTIF($CZ63:$DS63,AM$16),AM$16,\"\")","v":""},{"$f":"IF(COUNTIF($CZ63:$DS63,AN$16),AN$16,\"\")","v":""},{"$f":"IF(COUNTIF($CZ63:$DS63,AO$16),AO$16,\"\")","v":""},{"$f":"IF(COUNTIF($CZ63:$DS63,AP$16),AP$16,\"\")","v":""},{"$f":"IF(COUNTIF($CZ63:$DS63,AQ$16),AQ$16,\"\")","v":42},{"$f":"IF(COUNTIF($CZ63:$DS63,AR$16),AR$16,\"\")","v":""},{"$f":"IF(COUNTIF($CZ63:$DS63,AS$16),AS$16,\"\")","v":""},{"$f":"IF(COUNTIF($CZ63:$DS63,AT$16),AT$16,\"\")","v":""},{"$f":"IF(COUNTIF($CZ63:$DS63,AU$16),AU$16,\"\")","v":""},{"$f":"IF(COUNTIF($CZ63:$DS63,AV$16),AV$16,\"\")","v":""},{"$f":"IF(COUNTIF($CZ63:$DS63,AW$16),AW$16,\"\")","v":""},{"$f":"IF(COUNTIF($CZ63:$DS63,AX$16),AX$16,\"\")","v":""},{"$f":"IF(COUNTIF($CZ63:$DS63,AY$16),AY$16,\"\")","v":""},{"$f":"IF(COUNTIF($CZ63:$DS63,AZ$16),AZ$16,\"\")","v":""},{"$f":"IF(COUNTIF($CZ63:$DS63,BA$16),BA$16,\"\")","v":""},{"$f":"IF(COUNTIF($CZ63:$DS63,BB$16),BB$16,\"\")","v":""},{"$f":"IF(COUNTIF($CZ63:$DS63,BC$16),BC$16,\"\")","v":54},{"$f":"IF(COUNTIF($CZ63:$DS63,BD$16),BD$16,\"\")","v":""},{"$f":"IF(COUNTIF($CZ63:$DS63,BE$16),BE$16,\"\")","v":""},{"$f":"IF(COUNTIF($CZ63:$DS63,BF$16),BF$16,\"\")","v":""},{"$f":"IF(COUNTIF($CZ63:$DS63,BG$16),BG$16,\"\")","v":""},{"$f":"IF(COUNTIF($CZ63:$DS63,BH$16),BH$16,\"\")","v":""},{"$f":"IF(COUNTIF($CZ63:$DS63,BI$16),BI$16,\"\")","v":""},{"$f":"IF(COUNTIF($CZ63:$DS63,BJ$16),BJ$16,\"\")","v":""},{"$f":"IF(COUNTIF($CZ63:$DS63,BK$16),BK$16,\"\")","v":""},{"$f":"IF(COUNTIF($CZ63:$DS63,BL$16),BL$16,\"\")","v":""},{"$f":"IF(COUNTIF($CZ63:$DS63,BM$16),BM$16,\"\")","v":""},{"$f":"IF(COUNTIF($CZ63:$DS63,BN$16),BN$16,\"\")","v":""},{"$f":"IF(COUNTIF($CZ63:$DS63,BO$16),BO$16,\"\")","v":""},{"$f":"IF(COUNTIF($CZ63:$DS63,BP$16),BP$16,\"\")","v":""},{"$f":"IF(COUNTIF($CZ63:$DS63,BQ$16),BQ$16,\"\")","v":""},{"$f":"IF(COUNTIF($CZ63:$DS63,BR$16),BR$16,\"\")","v":69},{"$f":"IF(COUNTIF($CZ63:$DS63,BS$16),BS$16,\"\")","v":""},{"$f":"IF(COUNTIF($CZ63:$DS63,BT$16),BT$16,\"\")","v":71},{"$f":"IF(COUNTIF($CZ63:$DS63,BU$16),BU$16,\"\")","v":""},{"$f":"IF(COUNTIF($CZ63:$DS63,BV$16),BV$16,\"\")","v":""},{"$f":"IF(COUNTIF($CZ63:$DS63,BW$16),BW$16,\"\")","v":""},{"$f":"IF(COUNTIF($CZ63:$DS63,BX$16),BX$16,\"\")","v":""},{"$f":"IF(COUNTIF($CZ63:$DS63,BY$16),BY$16,\"\")","v":76},{"$f":"IF(COUNTIF($CZ63:$DS63,BZ$16),BZ$16,\"\")","v":""},{"$f":"IF(COUNTIF($CZ63:$DS63,CA$16),CA$16,\"\")","v":78},{"$f":"IF(COUNTIF($CZ63:$DS63,CB$16),CB$16,\"\")","v":""},{"$f":"IF(COUNTIF($CZ63:$DS63,CC$16),CC$16,\"\")","v":""},{"$f":"IF(COUNTIF($CZ63:$DS63,CD$16),CD$16,\"\")","v":""},{"$f":"IF(COUNTIF($CZ63:$DS63,CE$16),CE$16,\"\")","v":82},{"$f":"IF(COUNTIF($CZ63:$DS63,CF$16),CF$16,\"\")","v":""},{"$f":"IF(COUNTIF($CZ63:$DS63,CG$16),CG$16,\"\")","v":84},{"$f":"IF(COUNTIF($CZ63:$DS63,CH$16),CH$16,\"\")","v":""},{"$f":"IF(COUNTIF($CZ63:$DS63,CI$16),CI$16,\"\")","v":""},{"$f":"IF(COUNTIF($CZ63:$DS63,CJ$16),CJ$16,\"\")","v":""},{"$f":"IF(COUNTIF($CZ63:$DS63,CK$16),CK$16,\"\")","v":88},{"$f":"IF(COUNTIF($CZ63:$DS63,CL$16),CL$16,\"\")","v":89},{"$f":"IF(COUNTIF($CZ63:$DS63,CM$16),CM$16,\"\")","v":""},{"$f":"IF(COUNTIF($CZ63:$DS63,CN$16),CN$16,\"\")","v":""},{"$f":"IF(COUNTIF($CZ63:$DS63,CO$16),CO$16,\"\")","v":""},{"$f":"IF(COUNTIF($CZ63:$DS63,CP$16),CP$16,\"\")","v":""},{"$f":"IF(COUNTIF($CZ63:$DS63,CQ$16),CQ$16,\"\")","v":94},{"$f":"IF(COUNTIF($CZ63:$DS63,CR$16),CR$16,\"\")","v":""},{"$f":"IF(COUNTIF($CZ63:$DS63,CS$16),CS$16,\"\")","v":""},{"$f":"IF(COUNTIF($CZ63:$DS63,CT$16),CT$16,\"\")","v":""},{"$f":"IF(COUNTIF($CZ63:$DS63,CU$16),CU$16,\"\")","v":98},{"$f":"IF(COUNTIF($CZ63:$DS63,CV$16),CV$16,\"\")","v":""},{"$f":"IF(COUNTIF($CZ63:$DS63,0),0,\"\")","v":""},47,1823,{"$f":"VLOOKUP($CY63,J!$A$2:$AW$4000,3,FALSE)","v":3},{"$f":"VLOOKUP($CY63,J!$A$2:$AW$4000,4,FALSE)","v":8},{"$f":"VLOOKUP($CY63,J!$A$2:$AW$4000,5,FALSE)","v":20},{"$f":"VLOOKUP($CY63,J!$A$2:$AW$4000,6,FALSE)","v":21},{"$f":"VLOOKUP($CY63,J!$A$2:$AW$4000,7,FALSE)","v":25},{"$f":"VLOOKUP($CY63,J!$A$2:$AW$4000,8,FALSE)","v":28},{"$f":"VLOOKUP($CY63,J!$A$2:$AW$4000,9,FALSE)","v":29},{"$f":"VLOOKUP($CY63,J!$A$2:$AW$4000,10,FALSE)","v":31},{"$f":"VLOOKUP($CY63,J!$A$2:$AW$4000,11,FALSE)","v":42},{"$f":"VLOOKUP($CY63,J!$A$2:$AW$4000,12,FALSE)","v":54},{"$f":"VLOOKUP($CY63,J!$A$2:$AW$4000,13,FALSE)","v":69},{"$f":"VLOOKUP($CY63,J!$A$2:$AW$4000,14,FALSE)","v":71},{"$f":"VLOOKUP($CY63,J!$A$2:$AW$4000,15,FALSE)","v":76},{"$f":"VLOOKUP($CY63,J!$A$2:$AW$4000,16,FALSE)","v":78},{"$f":"VLOOKUP($CY63,J!$A$2:$AW$4000,17,FALSE)","v":82},{"$f":"VLOOKUP($CY63,J!$A$2:$AW$4000,18,FALSE)","v":84},{"$f":"VLOOKUP($CY63,J!$A$2:$AW$4000,19,FALSE)","v":88},{"$f":"VLOOKUP($CY63,J!$A$2:$AW$4000,20,FALSE)","v":89},{"$f":"VLOOKUP($CY63,J!$A$2:$AW$4000,21,FALSE)","v":94},{"$f":"VLOOKUP($CY63,J!$A$2:$AW$4000,22,FALSE)","v":98}]
[null,{"$f":"IF(COUNTIF($CZ64:$DS64,B$16),B$16,\"\")","v":""},{"$f":"IF(COUNTIF($CZ64:$DS64,C$16),C$16,\"\")","v":""},{"$f":"IF(COUNTIF($CZ64:$DS64,D$16),D$16,\"\")","v":""},{"$f":"IF(COUNTIF($CZ64:$DS64,E$16),E$16,\"\")","v":""},{"$f":"IF(COUNTIF($CZ64:$DS64,F$16),F$16,\"\")","v":""},{"$f":"IF(COUNTIF($CZ64:$DS64,G$16),G$16,\"\")","v":""},{"$f":"IF(COUNTIF($CZ64:$DS64,H$16),H$16,\"\")","v":""},{"$f":"IF(COUNTIF($CZ64:$DS64,I$16),I$16,\"\")","v":""},{"$f":"IF(COUNTIF($CZ64:$DS64,J$16),J$16,\"\")","v":""},{"$f":"IF(COUNTIF($CZ64:$DS64,K$16),K$16,\"\")","v":""},{"$f":"IF(COUNTIF($CZ64:$DS64,L$16),L$16,\"\")","v":""},{"$f":"IF(COUNTIF($CZ64:$DS64,M$16),M$16,\"\")","v":12},{"$f":"IF(COUNTIF($CZ64:$DS64,N$16),N$16,\"\")","v":""},{"$f":"IF(COUNTIF($CZ64:$DS64,O$16),O$16,\"\")","v":14},{"$f":"IF(COUNTIF($CZ64:$DS64,P$16),P$16,\"\")","v":""},{"$f":"IF(COUNTIF($CZ64:$DS64,Q$16),Q$16,\"\")","v":""},{"$f":"IF(COUNTIF($CZ64:$DS64,R$16),R$16,\"\")","v":""},{"$f":"IF(COUNTIF($CZ64:$DS64,S$16),S$16,\"\")","v":""},{"$f":"IF(COUNTIF($CZ64:$DS64,T$16),T$16,\"\")","v":""},{"$f":"IF(COUNTIF($CZ64:$DS64,U$16),U$16,\"\")","v":""},{"$f":"IF(COUNTIF($CZ64:$DS64,V$16),V$16,\"\")","v":""},{"$f":"IF(COUNTIF($CZ64:$DS64,W$16),W$16,\"\")","v":""},{"$f":"IF(COUNTIF($CZ64:$DS64,X$16),X$16,\"\")","v":""},{"$f":"IF(COUNTIF($CZ64:$DS64,Y$16),Y$16,\"\")","v":""},{"$f":"IF(COUNTIF($CZ64:$DS64,Z$16),Z$16,\"\")","v":25},{"$f":"IF(COUNTIF($CZ64:$DS64,AA$16),AA$16,\"\")","v":""},{"$f":"IF(COUNTIF($CZ64:$DS64,AB$16),AB$16,\"\")","v":""},{"$f":"IF(COUNTIF($CZ64:$DS64,AC$16),AC$16,\"\")","v":""},{"$f":"IF(COUNTIF($CZ64:$DS64,AD$16),AD$16,\"\")","v":29},{"$f":"IF(COUNTIF($CZ64:$DS64,AE$16),AE$16,\"\")","v":""},{"$f":"IF(COUNTIF($CZ64:$DS64,AF$16),AF$16,\"\")","v":""},{"$f":"IF(COUNTIF($CZ64:$DS64,AG$16),AG$16,\"\")","v":32},{"$f":"IF(COUNTIF($CZ64:$DS64,AH$16),AH$16,\"\")","v":""},{"$f":"IF(COUNTIF($CZ64:$DS64,AI$16),AI$16,\"\")","v":""},{"$f":"IF(COUNTIF($CZ64:$DS64,AJ$16),AJ$16,\"\")","v":""},{"$f":"IF(COUNTIF($CZ64:$DS64,AK$16),AK$16,\"\")","v":""},{"$f":"IF(COUNTIF($CZ64:$DS64,AL$16),AL$16,\"\")","v":37},{"$f":"IF(COUNTIF($CZ64:$DS64,AM$16),AM$16,\"\")","v":""},{"$f":"IF(COUNTIF($CZ64:$DS64,AN$16),AN$16,\"\")","v":""},{"$f":"IF(COUNTIF($CZ64:$DS64,AO$16),AO$16,\"\")","v":""},{"$f":"IF(COUNTIF($CZ64:$DS64,AP$16),AP$16,\"\")","v":""},{"$f":"IF(COUNTIF($CZ64:$DS64,AQ$16),AQ$16,\"\")","v":""},{"$f":"IF(COUNTIF($CZ64:$DS64,AR$16),AR$16,\"\")","v":""},{"$f":"IF(COUNTIF($CZ64:$DS64,AS$16),AS$16,\"\")","v":""},{"$f":"IF(COUNTIF($CZ64:$DS64,AT$16),AT$16,\"\")","v":45},{"$f":"IF(COUNTIF($CZ64:$DS64,AU$16),AU$16,\"\")","v":""},{"$f":"IF(COUNTIF($CZ64:$DS64,AV$16),AV$16,\"\")","v":""},{"$f":"IF(COUNTIF($CZ64:$DS64,AW$16),AW$16,\"\")","v":""},{"$f":"IF(COUNTIF($CZ64:$DS64,AX$16),AX$16,\"\")","v":""},{"$f":"IF(COUNTIF($CZ64:$DS64,AY$16),AY$16,\"\")","v":50},{"$f":"IF(COUNTIF($CZ64:$DS64,AZ$16),AZ$16,\"\")","v":""},{"$f":"IF(COUNTIF($CZ64:$DS64,BA$16),BA$16,\"\")","v":52},{"$f":"IF(COUNTIF($CZ64:$DS64,BB$16),BB$16,\"\")","v":""},{"$f":"IF(COUNTIF($CZ64:$DS64,BC$16),BC$16,\"\")","v":54},{"$f":"IF(COUNTIF($CZ64:$DS64,BD$16),BD$16,\"\")","v":""},{"$f":"IF(COUNTIF($CZ64:$DS64,BE$16),BE$16,\"\")","v":""},{"$f":"IF(COUNTIF($CZ64:$DS64,BF$16),BF$16,\"\")","v":""},{"$f":"IF(COUNTIF($CZ64:$DS64,BG$16),BG$16,\"\")","v":""},{"$f":"IF(COUNTIF($CZ64:$DS64,BH$16),BH$16,\"\")","v":""},{"$f":"IF(COUNTIF($CZ64:$DS64,BI$16),BI$16,\"\")","v":60},{"$f":"IF(COUNTIF($CZ64:$DS64,BJ$16),BJ$16,\"\")","v":61},{"$f":"IF(COUNTIF($CZ64:$DS64,BK$16),BK$16,\"\")","v":""},{"$f":"IF(COUNTIF($CZ64:$DS64,BL$16),BL$16,\"\")","v":63},{"$f":"IF(COUNTIF($CZ64:$DS64,BM$16),BM$16,\"\")","v":""},{"$f":"IF(COUNTIF($CZ64:$DS64,BN$16),BN$16,\"\")","v":""},{"$f":"IF(COUNTIF($CZ64:$DS64,BO$16),BO$16,\"\")","v":""},{"$f":"IF(COUNTIF($CZ64:$DS64,BP$16),BP$16,\"\")","v":""},{"$f":"IF(COUNTIF($CZ64:$DS64,BQ$16),BQ$16,\"\")","v":""},{"$f":"IF(COUNTIF($CZ64:$DS64,BR$16),BR$16,\"\")","v":""},{"$f":"IF(COUNTIF($CZ64:$DS64,BS$16),BS$16,\"\")","v":""},{"$f":"IF(COUNTIF($CZ64:$DS64,BT$16),BT$16,\"\")","v":""},{"$f":"IF(COUNTIF($CZ64:$DS64,BU$16),BU$16,\"\")","v":""},{"$f":"IF(COUNTIF($CZ64:$DS64,BV$16),BV$16,\"\")","v":73},{"$f":"IF(COUNTIF($CZ64:$DS64,BW$16),BW$16,\"\")","v":""},{"$f":"IF(COUNTIF($CZ64:$DS64,BX$16),BX$16,\"\")","v":""},{"$f":"IF(COUNTIF($CZ64:$DS64,BY$16),BY$16,\"\")","v":""},{"$f":"IF(COUNTIF($CZ64:$DS64,BZ$16),BZ$16,\"\")","v":77},{"$f":"IF(COUNTIF($CZ64:$DS64,CA$16),CA$16,\"\")","v":78},{"$f":"IF(COUNTIF($CZ64:$DS64,CB$16),CB$16,\"\")","v":79},{"$f":"IF(COUNTIF($CZ64:$DS64,CC$16),CC$16,\"\")","v":""},{"$f":"IF(COUNTIF($CZ64:$DS64,CD$16),CD$16,\"\")","v":""},{"$f":"IF(COUNTIF($CZ64:$DS64,CE$16),CE$16,\"\")","v":82},{"$f":"IF(COUNTIF($CZ64:$DS64,CF$16),CF$16,\"\")","v":""},{"$f":"IF(COUNTIF($CZ64:$DS64,CG$16),CG$16,\"\")","v":""},{"$f":"IF(COUNTIF($CZ64:$DS64,CH$16),CH$16,\"\")","v":""},{"$f":"IF(COUNTIF($CZ64:$DS64,CI$16),CI$16,\"\")","v":""},{"$f":"IF(COUNTIF($CZ64:$DS64,CJ$16),CJ$16,\"\")","v":""},{"$f":"IF(COUNTIF($CZ64:$DS64,CK$16),CK$16,\"\")","v":""},{"$f":"IF(COUNTIF($CZ64:$DS64,CL$16),CL$16,\"\")","v":""},{"$f":"IF(COUNTIF($CZ64:$DS64,CM$16),CM$16,\"\")","v":""},{"$f":"IF(COUNTIF($CZ64:$DS64,CN$16),CN$16,\"\")","v":""},{"$f":"IF(COUNTIF($CZ64:$DS64,CO$16),CO$16,\"\")","v":""},{"$f":"IF(COUNTIF($CZ64:$DS64,CP$16),CP$16,\"\")","v":""},{"$f":"IF(COUNTIF($CZ64:$DS64,CQ$16),CQ$16,\"\")","v":""},{"$f":"IF(COUNTIF($CZ64:$DS64,CR$16),CR$16,\"\")","v":""},{"$f":"IF(COUNTIF($CZ64:$DS64,CS$16),CS$16,\"\")","v":""},{"$f":"IF(COUNTIF($CZ64:$DS64,CT$16),CT$16,\"\")","v":97},{"$f":"IF(COUNTIF($CZ64:$DS64,CU$16),CU$16,\"\")","v":98},{"$f":"IF(COUNTIF($CZ64:$DS64,CV$16),CV$16,\"\")","v":""},{"$f":"IF(COUNTIF($CZ64:$DS64,0),0,\"\")","v":""},48,1822,{"$f":"VLOOKUP($CY64,J!$A$2:$AW$4000,3,FALSE)","v":12},{"$f":"VLOOKUP($CY64,J!$A$2:$AW$4000,4,FALSE)","v":14},{"$f":"VLOOKUP($CY64,J!$A$2:$AW$4000,5,FALSE)","v":25},{"$f":"VLOOKUP($CY64,J!$A$2:$AW$4000,6,FALSE)","v":29},{"$f":"VLOOKUP($CY64,J!$A$2:$AW$4000,7,FALSE)","v":32},{"$f":"VLOOKUP($CY64,J!$A$2:$AW$4000,8,FALSE)","v":37},{"$f":"VLOOKUP($CY64,J!$A$2:$AW$4000,9,FALSE)","v":45},{"$f":"VLOOKUP($CY64,J!$A$2:$AW$4000,10,FALSE)","v":50},{"$f":"VLOOKUP($CY64,J!$A$2:$AW$4000,11,FALSE)","v":52},{"$f":"VLOOKUP($CY64,J!$A$2:$AW$4000,12,FALSE)","v":54},{"$f":"VLOOKUP($CY64,J!$A$2:$AW$4000,13,FALSE)","v":60},{"$f":"VLOOKUP($CY64,J!$A$2:$AW$4000,14,FALSE)","v":61},{"$f":"VLOOKUP($CY64,J!$A$2:$AW$4000,15,FALSE)","v":63},{"$f":"VLOOKUP($CY64,J!$A$2:$AW$4000,16,FALSE)","v":73},{"$f":"VLOOKUP($CY64,J!$A$2:$AW$4000,17,FALSE)","v":77},{"$f":"VLOOKUP($CY64,J!$A$2:$AW$4000,18,FALSE)","v":78},{"$f":"VLOOKUP($CY64,J!$A$2:$AW$4000,19,FALSE)","v":79},{"$f":"VLOOKUP($CY64,J!$A$2:$AW$4000,20,FALSE)","v":82},{"$f":"VLOOKUP($CY64,J!$A$2:$AW$4000,21,FALSE)","v":97},{"$f":"VLOOKUP($CY64,J!$A$2:$AW$4000,22,FALSE)","v":98}]
[null,{"$f":"IF(COUNTIF($CZ65:$DS65,B$16),B$16,\"\")","v":""},{"$f":"IF(COUNTIF($CZ65:$DS65,C$16),C$16,\"\")","v":""},{"$f":"IF(COUNTIF($CZ65:$DS65,D$16),D$16,\"\")","v":3},{"$f":"IF(COUNTIF($CZ65:$DS65,E$16),E$16,\"\")","v":""},{"$f":"IF(COUNTIF($CZ65:$DS65,F$16),F$16,\"\")","v":""},{"$f":"IF(COUNTIF($CZ65:$DS65,G$16),G$16,\"\")","v":""},{"$f":"IF(COUNTIF($CZ65:$DS65,H$16),H$16,\"\")","v":""},{"$f":"IF(COUNTIF($CZ65:$DS65,I$16),I$16,\"\")","v":""},{"$f":"IF(COUNTIF($CZ65:$DS65,J$16),J$16,\"\")","v":""},{"$f":"IF(COUNTIF($CZ65:$DS65,K$16),K$16,\"\")","v":""},{"$f":"IF(COUNTIF($CZ65:$DS65,L$16),L$16,\"\")","v":11},{"$f":"IF(COUNTIF($CZ65:$DS65,M$16),M$16,\"\")","v":""},{"$f":"IF(COUNTIF($CZ65:$DS65,N$16),N$16,\"\")","v":13},{"$f":"IF(COUNTIF($CZ65:$DS65,O$16),O$16,\"\")","v":""},{"$f":"IF(COUNTIF($CZ65:$DS65,P$16),P$16,\"\")","v":""},{"$f":"IF(COUNTIF($CZ65:$DS65,Q$16),Q$16,\"\")","v":16},{"$f":"IF(COUNTIF($CZ65:$DS65,R$16),R$16,\"\")","v":""},{"$f":"IF(COUNTIF($CZ65:$DS65,S$16),S$16,\"\")","v":""},{"$f":"IF(COUNTIF($CZ65:$DS65,T$16),T$16,\"\")","v":""},{"$f":"IF(COUNTIF($CZ65:$DS65,U$16),U$16,\"\")","v":""},{"$f":"IF(COUNTIF($CZ65:$DS65,V$16),V$16,\"\")","v":""},{"$f":"IF(COUNTIF($CZ65:$DS65,W$16),W$16,\"\")","v":""},{"$f":"IF(COUNTIF($CZ65:$DS65,X$16),X$16,\"\")","v":""},{"$f":"IF(COUNTIF($CZ65:$DS65,Y$16),Y$16,\"\")","v":""},{"$f":"IF(COUNTIF($CZ65:$DS65,Z$16),Z$16,\"\")","v":""},{"$f":"IF(COUNTIF($CZ65:$DS65,AA$16),AA$16,\"\")","v":26},{"$f":"IF(COUNTIF($CZ65:$DS65,AB$16),AB$16,\"\")","v":""},{"$f":"IF(COUNTIF($CZ65:$DS65,AC$16),AC$16,\"\")","v":""},{"$f":"IF(COUNTIF($CZ65:$DS65,AD$16),AD$16,\"\")","v":""},{"$f":"IF(COUNTIF($CZ65:$DS65,AE$16),AE$16,\"\")","v":""},{"$f":"IF(COUNTIF($CZ65:$DS65,AF$16),AF$16,\"\")","v":""},{"$f":"IF(COUNTIF($CZ65:$DS65,AG$16),AG$16,\"\")","v":""},{"$f":"IF(COUNTIF($CZ65:$DS65,AH$16),AH$16,\"\")","v":""},{"$f":"IF(COUNTIF($CZ65:$DS65,AI$16),AI$16,\"\")","v":""},{"$f":"IF(COUNTIF($CZ65:$DS65,AJ$16),AJ$16,\"\")","v":""},{"$f":"IF(COUNTIF($CZ65:$DS65,AK$16),AK$16,\"\")","v":36},{"$f":"IF(COUNTIF($CZ65:$DS65,AL$16),AL$16,\"\")","v":""},{"$f":"IF(COUNTIF($CZ65:$DS65,AM$16),AM$16,\"\")","v":38},{"$f":"IF(COUNTIF($CZ65:$DS65,AN$16),AN$16,\"\")","v":""},{"$f":"IF(COUNTIF($CZ65:$DS65,AO$16),AO$16,\"\")","v":40},{"$f":"IF(COUNTIF($CZ65:$DS65,AP$16),AP$16,\"\")","v":""},{"$f":"IF(COUNTIF($CZ65:$DS65,AQ$16),AQ$16,\"\")","v":""},{"$f":"IF(COUNTIF($CZ65:$DS65,AR$16),AR$16,\"\")","v":""},{"$f":"IF(COUNTIF($CZ65:$DS65,AS$16),AS$16,\"\")","v":""},{"$f":"IF(COUNTIF($CZ65:$DS65,AT$16),AT$16,\"\")","v":""},{"$f":"IF(COUNTIF($CZ65:$DS65,AU$16),AU$16,\"\")","v":""},{"$f":"IF(COUNTIF($CZ65:$DS65,AV$16),AV$16,\"\")","v":""},{"$f":"IF(COUNTIF($CZ65:$DS65,AW$16),AW$16,\"\")","v":""},{"$f":"IF(COUNTIF($CZ65:$DS65,AX$16),AX$16,\"\")","v":""},{"$f":"IF(COUNTIF($CZ65:$DS65,AY$16),AY$16,\"\")","v":""},{"$f":"IF(COUNTIF($CZ65:$DS65,AZ$16),AZ$16,\"\")","v":""},{"$f":"IF(COUNTIF($CZ65:$DS65,BA$16),BA$16,\"\")","v":""},{"$f":"IF(COUNTIF($CZ65:$DS65,BB$16),BB$16,\"\")","v":""},{"$f":"IF(COUNTIF($CZ65:$DS65,BC$16),BC$16,\"\")","v":54},{"$f":"IF(COUNTIF($CZ65:$DS65,BD$16),BD$16,\"\")","v":""},{"$f":"IF(COUNTIF($CZ65:$DS65,BE$16),BE$16,\"\")","v":""},{"$f":"IF(COUNTIF($CZ65:$DS65,BF$16),BF$16,\"\")","v":""},{"$f":"IF(COUNTIF($CZ65:$DS65,BG$16),BG$16,\"\")","v":""},{"$f":"IF(COUNTIF($CZ65:$DS65,BH$16),BH$16,\"\")","v":59},{"$f":"IF(COUNTIF($CZ65:$DS65,BI$16),BI$16,\"\")","v":""},{"$f":"IF(COUNTIF($CZ65:$DS65,BJ$16),BJ$16,\"\")","v":61},{"$f":"IF(COUNTIF($CZ65:$DS65,BK$16),BK$16,\"\")","v":""},{"$f":"IF(COUNTIF($CZ65:$DS65,BL$16),BL$16,\"\")","v":""},{"$f":"IF(COUNTIF($CZ65:$DS65,BM$16),BM$16,\"\")","v":""},{"$f":"IF(COUNTIF($CZ65:$DS65,BN$16),BN$16,\"\")","v":""},{"$f":"IF(COUNTIF($CZ65:$DS65,BO$16),BO$16,\"\")","v":""},{"$f":"IF(COUNTIF($CZ65:$DS65,BP$16),BP$16,\"\")","v":67},{"$f":"IF(COUNTIF($CZ65:$DS65,BQ$16),BQ$16,\"\")","v":""},{"$f":"IF(COUNTIF($CZ65:$DS65,BR$16),BR$16,\"\")","v":69},{"$f":"IF(COUNTIF($CZ65:$DS65,BS$16),BS$16,\"\")","v":""},{"$f":"IF(COUNTIF($CZ65:$DS65,BT$16),BT$16,\"\")","v":""},{"$f":"IF(COUNTIF($CZ65:$DS65,BU$16),BU$16,\"\")","v":""},{"$f":"IF(COUNTIF($CZ65:$DS65,BV$16),BV$16,\"\")","v":""},{"$f":"IF(COUNTIF($CZ65:$DS65,BW$16),BW$16,\"\")","v":""},{"$f":"IF(COUNTIF($CZ65:$DS65,BX$16),BX$16,\"\")","v":75},{"$f":"IF(COUNTIF($CZ65:$DS65,BY$16),BY$16,\"\")","v":""},{"$f":"IF(COUNTIF($CZ65:$DS65,BZ$16),BZ$16,\"\")","v":""},{"$f":"IF(COUNTIF($CZ65:$DS65,CA$16),CA$16,\"\")","v":""},{"$f":"IF(COUNTIF($CZ65:$DS65,CB$16),CB$16,\"\")","v":""},{"$f":"IF(COUNTIF($CZ65:$DS65,CC$16),CC$16,\"\")","v":80},{"$f":"IF(COUNTIF($CZ65:$DS65,CD$16),CD$16,\"\")","v":""},{"$f":"IF(COUNTIF($CZ65:$DS65,CE$16),CE$16,\"\")","v":""},{"$f":"IF(COUNTIF($CZ65:$DS65,CF$16),CF$16,\"\")","v":83},{"$f":"IF(COUNTIF($CZ65:$DS65,CG$16),CG$16,\"\")","v":""},{"$f":"IF(COUNTIF($CZ65:$DS65,CH$16),CH$16,\"\")","v":""},{"$f":"IF(COUNTIF($CZ65:$DS65,CI$16),CI$16,\"\")","v":""},{"$f":"IF(COUNTIF($CZ65:$DS65,CJ$16),CJ$16,\"\")","v":""},{"$f":"IF(COUNTIF($CZ65:$DS65,CK$16),CK$16,\"\")","v":""},{"$f":"IF(COUNTIF($CZ65:$DS65,CL$16),CL$16,\"\")","v":""},{"$f":"IF(COUNTIF($CZ65:$DS65,CM$16),CM$16,\"\")","v":90},{"$f":"IF(COUNTIF($CZ65:$DS65,CN$16),CN$16,\"\")","v":""},{"$f":"IF(COUNTIF($CZ65:$DS65,CO$16),CO$16,\"\")","v":""},{"$f":"IF(COUNTIF($CZ65:$DS65,CP$16),CP$16,\"\")","v":""},{"$f":"IF(COUNTIF($CZ65:$DS65,CQ$16),CQ$16,\"\")","v":94},{"$f":"IF(COUNTIF($CZ65:$DS65,CR$16),CR$16,\"\")","v":""},{"$f":"IF(COUNTIF($CZ65:$DS65,CS$16),CS$16,\"\")","v":""},{"$f":"IF(COUNTIF($CZ65:$DS65,CT$16),CT$16,\"\")","v":""},{"$f":"IF(COUNTIF($CZ65:$DS65,CU$16),CU$16,\"\")","v":""},{"$f":"IF(COUNTIF($CZ65:$DS65,CV$16),CV$16,\"\")","v":99},{"$f":"IF(COUNTIF($CZ65:$DS65,0),0,\"\")","v":0},49,1821,{"$f":"VLOOKUP($CY65,J!$A$2:$AW$4000,3,FALSE)","v":0},{"$f":"VLOOKUP($CY65,J!$A$2:$AW$4000,4,FALSE)","v":3},{"$f":"VLOOKUP($CY65,J!$A$2:$AW$4000,5,FALSE)","v":11},{"$f":"VLOOKUP($CY65,J!$A$2:$AW$4000,6,FALSE)","v":13},{"$f":"VLOOKUP($CY65,J!$A$2:$AW$4000,7,FALSE)","v":16},{"$f":"VLOOKUP($CY65,J!$A$2:$AW$4000,8,FALSE)","v":26},{"$f":"VLOOKUP($CY65,J!$A$2:$AW$4000,9,FALSE)","v":36},{"$f":"VLOOKUP($CY65,J!$A$2:$AW$4000,10,FALSE)","v":38},{"$f":"VLOOKUP($CY65,J!$A$2:$AW$4000,11,FALSE)","v":40},{"$f":"VLOOKUP($CY65,J!$A$2:$AW$4000,12,FALSE)","v":54},{"$f":"VLOOKUP($CY65,J!$A$2:$AW$4000,13,FALSE)","v":59},{"$f":"VLOOKUP($CY65,J!$A$2:$AW$4000,14,FALSE)","v":61},{"$f":"VLOOKUP($CY65,J!$A$2:$AW$4000,15,FALSE)","v":67},{"$f":"VLOOKUP($CY65,J!$A$2:$AW$4000,16,FALSE)","v":69},{"$f":"VLOOKUP($CY65,J!$A$2:$AW$4000,17,FALSE)","v":75},{"$f":"VLOOKUP($CY65,J!$A$2:$AW$4000,18,FALSE)","v":80},{"$f":"VLOOKUP($CY65,J!$A$2:$AW$4000,19,FALSE)","v":83},{"$f":"VLOOKUP($CY65,J!$A$2:$AW$4000,20,FALSE)","v":90},{"$f":"VLOOKUP($CY65,J!$A$2:$AW$4000,21,FALSE)","v":94},{"$f":"VLOOKUP($CY65,J!$A$2:$AW$4000,22,FALSE)","v":99}]
[null,{"$f":"IF(COUNTIF($CZ66:$DS66,B$16),B$16,\"\")","v":1},{"$f":"IF(COUNTIF($CZ66:$DS66,C$16),C$16,\"\")","v":""},{"$f":"IF(COUNTIF($CZ66:$DS66,D$16),D$16,\"\")","v":""},{"$f":"IF(COUNTIF($CZ66:$DS66,E$16),E$16,\"\")","v":""},{"$f":"IF(COUNTIF($CZ66:$DS66,F$16),F$16,\"\")","v":""},{"$f":"IF(COUNTIF($CZ66:$DS66,G$16),G$16,\"\")","v":""},{"$f":"IF(COUNTIF($CZ66:$DS66,H$16),H$16,\"\")","v":""},{"$f":"IF(COUNTIF($CZ66:$DS66,I$16),I$16,\"\")","v":8},{"$f":"IF(COUNTIF($CZ66:$DS66,J$16),J$16,\"\")","v":""},{"$f":"IF(COUNTIF($CZ66:$DS66,K$16),K$16,\"\")","v":""},{"$f":"IF(COUNTIF($CZ66:$DS66,L$16),L$16,\"\")","v":""},{"$f":"IF(COUNTIF($CZ66:$DS66,M$16),M$16,\"\")","v":""},{"$f":"IF(COUNTIF($CZ66:$DS66,N$16),N$16,\"\")","v":""},{"$f":"IF(COUNTIF($CZ66:$DS66,O$16),O$16,\"\")","v":""},{"$f":"IF(COUNTIF($CZ66:$DS66,P$16),P$16,\"\")","v":""},{"$f":"IF(COUNTIF($CZ66:$DS66,Q$16),Q$16,\"\")","v":""},{"$f":"IF(COUNTIF($CZ66:$DS66,R$16),R$16,\"\")","v":""},{"$f":"IF(COUNTIF($CZ66:$DS66,S$16),S$16,\"\")","v":18},{"$f":"IF(COUNTIF($CZ66:$DS66,T$16),T$16,\"\")","v":""},{"$f":"IF(COUNTIF($CZ66:$DS66,U$16),U$16,\"\")","v":""},{"$f":"IF(COUNTIF($CZ66:$DS66,V$16),V$16,\"\")","v":""},{"$f":"IF(COUNTIF($CZ66:$DS66,W$16),W$16,\"\")","v":22},{"$f":"IF(COUNTIF($CZ66:$DS66,X$16),X$16,\"\")","v":""},{"$f":"IF(COUNTIF($CZ66:$DS66,Y$16),Y$16,\"\")","v":""},{"$f":"IF(COUNTIF($CZ66:$DS66,Z$16),Z$16,\"\")","v":""},{"$f":"IF(COUNTIF($CZ66:$DS66,AA$16),AA$16,\"\")","v":""},{"$f":"IF(COUNTIF($CZ66:$DS66,AB$16),AB$16,\"\")","v":27},{"$f":"IF(COUNTIF($CZ66:$DS66,AC$16),AC$16,\"\")","v":""},{"$f":"IF(COUNTIF($CZ66:$DS66,AD$16),AD$16,\"\")","v":29},{"$f":"IF(COUNTIF($CZ66:$DS66,AE$16),AE$16,\"\")","v":30},{"$f":"IF(COUNTIF($CZ66:$DS66,AF$16),AF$16,\"\")","v":31},{"$f":"IF(COUNTIF($CZ66:$DS66,AG$16),AG$16,\"\")","v":32},{"$f":"IF(COUNTIF($CZ66:$DS66,AH$16),AH$16,\"\")","v":""},{"$f":"IF(COUNTIF($CZ66:$DS66,AI$16),AI$16,\"\")","v":""},{"$f":"IF(COUNTIF($CZ66:$DS66,AJ$16),AJ$16,\"\")","v":""},{"$f":"IF(COUNTIF($CZ66:$DS66,AK$16),AK$16,\"\")","v":""},{"$f":"IF(COUNTIF($CZ66:$DS66,AL$16),AL$16,\"\")","v":""},{"$f":"IF(COUNTIF($CZ66:$DS66,AM$16),AM$16,\"\")","v":""},{"$f":"IF(COUNTIF($CZ66:$DS66,AN$16),AN$16,\"\")","v":""},{"$f":"IF(COUNTIF($CZ66:$DS66,AO$16),AO$16,\"\")","v":""},{"$f":"IF(COUNTIF($CZ66:$DS66,AP$16),AP$16,\"\")","v":""},{"$f":"IF(COUNTIF($CZ66:$DS66,AQ$16),AQ$16,\"\")","v":""},{"$f":"IF(COUNTIF($CZ66:$DS66,AR$16),AR$16,\"\")","v":""},{"$f":"IF(COUNTIF($CZ66:$DS66,AS$16),AS$16,\"\")","v":""},{"$f":"IF(COUNTIF($CZ66:$DS66,AT$16),AT$16,\"\")","v":""},{"$f":"IF(COUNTIF($CZ66:$DS66,AU$16),AU$16,\"\")","v":""},{"$f":"IF(COUNTIF($CZ66:$DS66,AV$16),AV$16,\"\")","v":""},{"$f":"IF(COUNTIF($CZ66:$DS66,AW$16),AW$16,\"\")","v":""},{"$f":"IF(COUNTIF($CZ66:$DS66,AX$16),AX$16,\"\")","v":""},{"$f":"IF(COUNTIF($CZ66:$DS66,AY$16),AY$16,\"\")","v":""},{"$f":"IF(COUNTIF($CZ66:$DS66,AZ$16),AZ$16,\"\")","v":""},{"$f":"IF(COUNTIF($CZ66:$DS66,BA$16),BA$16,\"\")","v":52},{"$f":"IF(COUNTIF($CZ66:$DS66,BB$16),BB$16,\"\")","v":""},{"$f":"IF(COUNTIF($CZ66:$DS66,BC$16),BC$16,\"\")","v":""},{"$f":"IF(COUNTIF($CZ66:$DS66,BD$16),BD$16,\"\")","v":""},{"$f":"IF(COUNTIF($CZ66:$DS66,BE$16),BE$16,\"\")","v":""},{"$f":"IF(COUNTIF($CZ66:$DS66,BF$16),BF$16,\"\")","v":""},{"$f":"IF(COUNTIF($CZ66:$DS66,BG$16),BG$16,\"\")","v":58},{"$f":"IF(COUNTIF($CZ66:$DS66,BH$16),BH$16,\"\")","v":""},{"$f":"IF(COUNTIF($CZ66:$DS66,BI$16),BI$16,\"\")","v":""},{"$f":"IF(COUNTIF($CZ66:$DS66,BJ$16),BJ$16,\"\")","v":""},{"$f":"IF(COUNTIF($CZ66:$DS66,BK$16),BK$16,\"\")","v":""},{"$f":"IF(COUNTIF($CZ66:$DS66,BL$16),BL$16,\"\")","v":""},{"$f":"IF(COUNTIF($CZ66:$DS66,BM$16),BM$16,\"\")","v":""},{"$f":"IF(COUNTIF($CZ66:$DS66,BN$16),BN$16,\"\")","v":""},{"$f":"IF(COUNTIF($CZ66:$DS66,BO$16),BO$16,\"\")","v":66},{"$f":"IF(COUNTIF($CZ66:$DS66,BP$16),BP$16,\"\")","v":""},{"$f":"IF(COUNTIF($CZ66:$DS66,BQ$16),BQ$16,\"\")","v":""},{"$f":"IF(COUNTIF($CZ66:$DS66,BR$16),BR$16,\"\")","v":""},{"$f":"IF(COUNTIF($CZ66:$DS66,BS$16),BS$16,\"\")","v":""},{"$f":"IF(COUNTIF($CZ66:$DS66,BT$16),BT$16,\"\")","v":71},{"$f":"IF(COUNTIF($CZ66:$DS66,BU$16),BU$16,\"\")","v":""},{"$f":"IF(COUNTIF($CZ66:$DS66,BV$16),BV$16,\"\")","v":""},{"$f":"IF(COUNTIF($CZ66:$DS66,BW$16),BW$16,\"\")","v":""},{"$f":"IF(COUNTIF($CZ66:$DS66,BX$16),BX$16,\"\")","v":""},{"$f":"IF(COUNTIF($CZ66:$DS66,BY$16),BY$16,\"\")","v":76},{"$f":"IF(COUNTIF($CZ66:$DS66,BZ$16),BZ$16,\"\")","v":""},{"$f":"IF(COUNTIF($CZ66:$DS66,CA$16),CA$16,\"\")","v":""},{"$f":"IF(COUNTIF($CZ66:$DS66,CB$16),CB$16,\"\")","v":""},{"$f":"IF(COUNTIF($CZ66:$DS66,CC$16),CC$16,\"\")","v":""},{"$f":"IF(COUNTIF($CZ66:$DS66,CD$16),CD$16,\"\")","v":""},{"$f":"IF(COUNTIF($CZ66:$DS66,CE$16),CE$16,\"\")","v":82},{"$f":"IF(COUNTIF($CZ66:$DS66,CF$16),CF$16,\"\")","v":83},{"$f":"IF(COUNTIF($CZ66:$DS66,CG$16),CG$16,\"\")","v":84},{"$f":"IF(COUNTIF($CZ66:$DS66,CH$16),CH$16,\"\")","v":85},{"$f":"IF(COUNTIF($CZ66:$DS66,CI$16),CI$16,\"\")","v":""},{"$f":"IF(COUNTIF($CZ66:$DS66,CJ$16),CJ$16,\"\")","v":""},{"$f":"IF(COUNTIF($CZ66:$DS66,CK$16),CK$16,\"\")","v":""},{"$f":"IF(COUNTIF($CZ66:$DS66,CL$16),CL$16,\"\")","v":""},{"$f":"IF(COUNTIF($CZ66:$DS66,CM$16),CM$16,\"\")","v":""},{"$f":"IF(COUNTIF($CZ66:$DS66,CN$16),CN$16,\"\")","v":91},{"$f":"IF(COUNTIF($CZ66:$DS66,CO$16),CO$16,\"\")","v":""},{"$f":"IF(COUNTIF($CZ66:$DS66,CP$16),CP$16,\"\")","v":""},{"$f":"IF(COUNTIF($CZ66:$DS66,CQ$16),CQ$16,\"\")","v":""},{"$f":"IF(COUNTIF($CZ66:$DS66,CR$16),CR$16,\"\")","v":95},{"$f":"IF(COUNTIF($CZ66:$DS66,CS$16),CS$16,\"\")","v":""},{"$f":"IF(COUNTIF($CZ66:$DS66,CT$16),CT$16,\"\")","v":""},{"$f":"IF(COUNTIF($CZ66:$DS66,CU$16),CU$16,\"\")","v":""},{"$f":"IF(COUNTIF($CZ66:$DS66,CV$16),CV$16,\"\")","v":""},{"$f":"IF(COUNTIF($CZ66:$DS66,0),0,\"\")","v":""},50,1820,{"$f":"VLOOKUP($CY66,J!$A$2:$AW$4000,3,FALSE)","v":1},{"$f":"VLOOKUP($CY66,J!$A$2:$AW$4000,4,FALSE)","v":8},{"$f":"VLOOKUP($CY66,J!$A$2:$AW$4000,5,FALSE)","v":18},{"$f":"VLOOKUP($CY66,J!$A$2:$AW$4000,6,FALSE)","v":22},{"$f":"VLOOKUP($CY66,J!$A$2:$AW$4000,7,FALSE)","v":27},{"$f":"VLOOKUP($CY66,J!$A$2:$AW$4000,8,FALSE)","v":29},{"$f":"VLOOKUP($CY66,J!$A$2:$AW$4000,9,FALSE)","v":30},{"$f":"VLOOKUP($CY66,J!$A$2:$AW$4000,10,FALSE)","v":31},{"$f":"VLOOKUP($CY66,J!$A$2:$AW$4000,11,FALSE)","v":32},{"$f":"VLOOKUP($CY66,J!$A$2:$AW$4000,12,FALSE)","v":52},{"$f":"VLOOKUP($CY66,J!$A$2:$AW$4000,13,FALSE)","v":58},{"$f":"VLOOKUP($CY66,J!$A$2:$AW$4000,14,FALSE)","v":66},{"$f":"VLOOKUP($CY66,J!$A$2:$AW$4000,15,FALSE)","v":71},{"$f":"VLOOKUP($CY66,J!$A$2:$AW$4000,16,FALSE)","v":76},{"$f":"VLOOKUP($CY66,J!$A$2:$AW$4000,17,FALSE)","v":82},{"$f":"VLOOKUP($CY66,J!$A$2:$AW$4000,18,FALSE)","v":83},{"$f":"VLOOKUP($CY66,J!$A$2:$AW$4000,19,FALSE)","v":84},{"$f":"VLOOKUP($CY66,J!$A$2:$AW$4000,20,FALSE)","v":85},{"$f":"VLOOKUP($CY66,J!$A$2:$AW$4000,21,FALSE)","v":91},{"$f":"VLOOKUP($CY66,J!$A$2:$AW$4000,22,FALSE)","v":95}]
[null,1,2,3,4,5,6,7,8,9,10,11,12,13,14,15,16,17,18,19,20,21,22,23,24,25,26,27,28,29,30,31,32,33,34,35,36,37,38,39,40,41,42,43,44,45,46,47,48,49,50,51,52,53,54,55,56,57,58,59,60,61,62,63,64,65,66,67,68,69,70,71,72,73,74,75,76,77,78,79,80,81,82,83,84,85,86,87,88,89,90,91,92,93,94,95,96,97,98,99,100]
[null,{"$f":"COUNTIF($B$17:$CW$19,B16)","v":0},{"$f":"COUNTIF($B$17:$CW$19,C16)","v":0},{"$f":"COUNTIF($B$17:$CW$19,D16)","v":1},{"$f":"COUNTIF($B$17:$CW$19,E16)","v":0},{"$f":"COUNTIF($B$17:$CW$19,F16)","v":1},{"$f":"COUNTIF($B$17:$CW$19,G16)","v":0},{"$f":"COUNTIF($B$17:$CW$19,H16)","v":0},{"$f":"COUNTIF($B$17:$CW$19,I16)","v":1},{"$f":"COUNTIF($B$17:$CW$19,J16)","v":0},{"$f":"COUNTIF($B$17:$CW$19,K16)","v":1},{"$f":"COUNTIF($B$17:$CW$19,L16)","v":0},{"$f":"COUNTIF($B$17:$CW$19,M16)","v":2},{"$f":"COUNTIF($B$17:$CW$19,N16)","v":1},{"$f":"COUNTIF($B$17:$CW$19,O16)","v":0},{"$f":"COUNTIF($B$17:$CW$19,P16)","v":1},{"$f":"COUNTIF($B$17:$CW$19,Q16)","v":0},{"$f":"COUNTIF($B$17:$CW$19,R16)","v":0},{"$f":"COUNTIF($B$17:$CW$19,S16)","v":1},{"$f":"COUNTIF($B$17:$CW$19,T16)","v":0},{"$f":"COUNTIF($B$17:$CW$19,U16)","v":2},{"$f":"COUNTIF($B$17:$CW$19,V16)","v":1},{"$f":"COUNTIF($B$17:$CW$19,W16)","v":1},{"$f":"COUNTIF($B$17:$CW$19,X16)","v":0},{"$f":"COUNTIF($B$17:$CW$19,Y16)","v":0},{"$f":"COUNTIF($B$17:$CW$19,Z16)","v":0},{"$f":"COUNTIF($B$17:$CW$19,AA16)","v":1},{"$f":"COUNTIF($B$17:$CW$19,AB16)","v":2},{"$f":"COUNTIF($B$17:$CW$19,AC16)","v":0},{"$f":"COUNTIF($B$17:$CW$19,AD16)","v":1},{"$f":"COUNTIF($B$17:$CW$19,AE16)","v":1},{"$f":"COUNTIF($B$17:$CW$19,AF16)","v":1},{"$f":"COUNTIF($B$17:$CW$19,AG16)","v":1},{"$f":"COUNTIF($B$17:$CW$19,AH16)","v":1},{"$f":"COUNTIF($B$17:$CW$19,AI16)","v":0},{"$f":"COUNTIF($B$17:$CW$19,AJ16)","v":0},{"$f":"COUNTIF($B$17:$CW$19,AK16)","v":1},{"$f":"COUNTIF($B$17:$CW$19,AL16)","v":0},{"$f":"COUNTIF($B$17:$CW$19,AM16)","v":1},{"$f":"COUNTIF($B$17:$CW$19,AN16)","v":2},{"$f":"COUNTIF($B$17:$CW$19,AO16)","v":1},{"$f":"COUNTIF($B$17:$CW$19,AP16)","v":1},{"$f":"COUNTIF($B$17:$CW$19,AQ16)","v":1},{"$f":"COUNTIF($B$17:$CW$19,AR16)","v":1},{"$f":"COUNTIF($B$17:$CW$19,AS16)","v":0},{"$f":"COUNTIF($B$17:$CW$19,AT16)","v":1},{"$f":"COUNTIF($B$17:$CW$19,AU16)","v":0},{"$f":"COUNTIF($B$17:$CW$19,AV16)","v":1},{"$f":"COUNTIF($B$17:$CW$19,AW16)","v":2},{"$f":"COUNTIF($B$17:$CW$19,AX16)","v":1},{"$f":"COUNTIF($B$17:$CW$19,AY16)","v":1},{"$f":"COUNTIF($B$17:$CW$19,AZ16)","v":1},{"$f":"COUNTIF($B$17:$CW$19,BA16)","v":0},{"$f":"COUNTIF($B$17:$CW$19,BB16)","v":1},{"$f":"COUNTIF($B$17:$CW$19,BC16)","v":0},{"$f":"COUNTIF($B$17:$CW$19,BD16)","v":0},{"$f":"COUNTIF($B$17:$CW$19,BE16)","v":0},{"$f":"COUNTIF($B$17:$CW$19,BF16)","v":1},{"$f":"COUNTIF($B$17:$CW$19,BG16)","v":0},{"$f":"COUNTIF($B$17:$CW$19,BH16)","v":0},{"$f":"COUNTIF($B$17:$CW$19,BI16)","v":2},{"$f":"COUNTIF($B$17:$CW$19,BJ16)","v":1},{"$f":"COUNTIF($B$17:$CW$19,BK16)","v":0},{"$f":"COUNTIF($B$17:$CW$19,BL16)","v":0},{"$f":"COUNTIF($B$17:$CW$19,BM16)","v":2},{"$f":"COUNTIF($B$17:$CW$19,BN16)","v":1},{"$f":"COUNTIF($B$17:$CW$19,BO16)","v":0},{"$f":"COUNTIF($B$17:$CW$19,BP16)","v":0},{"$f":"COUNTIF($B$17:$CW$19,BQ16)","v":0},{"$f":"COUNTIF($B$17:$CW$19,BR16)","v":0},{"$f":"COUNTIF($B$17:$CW$19,BS16)","v":0},{"$f":"COUNTIF($B$17:$CW$19,BT16)","v":0},{"$f":"COUNTIF($B$17:$CW$19,BU16)","v":1},{"$f":"COUNTIF($B$17:$CW$19,BV16)","v":0},{"$f":"COUNTIF($B$17:$CW$19,BW16)","v":0},{"$f":"COUNTIF($B$17:$CW$19,BX16)","v":1},{"$f":"COUNTIF($B$17:$CW$19,BY16)","v":0},{"$f":"COUNTIF($B$17:$CW$19,BZ16)","v":1},{"$f":"COUNTIF($B$17:$CW$19,CA16)","v":0},{"$f":"COUNTIF($B$17:$CW$19,CB16)","v":1},{"$f":"COUNTIF($B$17:$CW$19,CC16)","v":0},{"$f":"COUNTIF($B$17:$CW$19,CD16)","v":0},{"$f":"COUNTIF($B$17:$CW$19,CE16)","v":0},{"$f":"COUNTIF($B$17:$CW$19,CF16)","v":1},{"$f":"COUNTIF($B$17:$CW$19,CG16)","v":0},{"$f":"COUNTIF($B$17:$CW$19,CH16)","v":1},{"$f":"COUNTIF($B$17:$CW$19,CI16)","v":1},{"$f":"COUNTIF($B$17:$CW$19,CJ16)","v":1},{"$f":"COUNTIF($B$17:$CW$19,CK16)","v":0},{"$f":"COUNTIF($B$17:$CW$19,CL16)","v":1},{"$f":"COUNTIF($B$17:$CW$19,CM16)","v":0},{"$f":"COUNTIF($B$17:$CW$19,CN16)","v":0},{"$f":"COUNTIF($B$17:$CW$19,CO16)","v":0},{"$f":"COUNTIF($B$17:$CW$19,CP16)","v":0},{"$f":"COUNTIF($B$17:$CW$19,CQ16)","v":0},{"$f":"COUNTIF($B$17:$CW$19,CR16)","v":2},{"$f":"COUNTIF($B$17:$CW$19,CS16)","v":2},{"$f":"COUNTIF($B$17:$CW$19,CT16)","v":0},{"$f":"COUNTIF($B$17:$CW$19,CU16)","v":0},{"$f":"COUNTIF($B$17:$CW$19,CV16)","v":2},{"$f":"COUNTIF($B$17:$CW$19,0)","v":1}]
[null,{"$f":"COUNTIF($B$17:$CW$41,B16)","v":6},{"$f":"COUNTIF($B$17:$CW$41,C16)","v":3},{"$f":"COUNTIF($B$17:$CW$41,D16)","v":5},{"$f":"COUNTIF($B$17:$CW$41,E16)","v":4},{"$f":"COUNTIF($B$17:$CW$41,F16)","v":6},{"$f":"COUNTIF($B$17:$CW$41,G16)","v":6},{"$f":"COUNTIF($B$17:$CW$41,H16)","v":3},{"$f":"COUNTIF($B$17:$CW$41,I16)","v":8},{"$f":"COUNTIF($B$17:$CW$41,J16)","v":5},{"$f":"COUNTIF($B$17:$CW$41,K16)","v":3},{"$f":"COUNTIF($B$17:$CW$41,L16)","v":5},{"$f":"COUNTIF($B$17:$CW$41,M16)","v":7},{"$f":"COUNTIF($B$17:$CW$41,N16)","v":5},{"$f":"COUNTIF($B$17:$CW$41,O16)","v":8},{"$f":"COUNTIF($B$17:$CW$41,P16)","v":4},{"$f":"COUNTIF($B$17:$CW$41,Q16)","v":3},{"$f":"COUNTIF($B$17:$CW$41,R16)","v":5},{"$f":"COUNTIF($B$17:$CW$41,S16)","v":3},{"$f":"COUNTIF($B$17:$CW$41,T16)","v":3},{"$f":"COUNTIF($B$17:$CW$41,U16)","v":7},{"$f":"COUNTIF($B$17:$CW$41,V16)","v":4},{"$f":"COUNTIF($B$17:$CW$41,W16)","v":6},{"$f":"COUNTIF($B$17:$CW$41,X16)","v":1},{"$f":"COUNTIF($B$17:$CW$41,Y16)","v":6},{"$f":"COUNTIF($B$17:$CW$41,Z16)","v":0},{"$f":"COUNTIF($B$17:$CW$41,AA16)","v":7},{"$f":"COUNTIF($B$17:$CW$41,AB16)","v":6},{"$f":"COUNTIF($B$17:$CW$41,AC16)","v":2},{"$f":"COUNTIF($B$17:$CW$41,AD16)","v":2},{"$f":"COUNTIF($B$17:$CW$41,AE16)","v":6},{"$f":"COUNTIF($B$17:$CW$41,AF16)","v":5},{"$f":"COUNTIF($B$17:$CW$41,AG16)","v":7},{"$f":"COUNTIF($B$17:$CW$41,AH16)","v":5},{"$f":"COUNTIF($B$17:$CW$41,AI16)","v":4},{"$f":"COUNTIF($B$17:$CW$41,AJ16)","v":4},{"$f":"COUNTIF($B$17:$CW$41,AK16)","v":3},{"$f":"COUNTIF($B$17:$CW$41,AL16)","v":5},{"$f":"COUNTIF($B$17:$CW$41,AM16)","v":9},{"$f":"COUNTIF($B$17:$CW$41,AN16)","v":7},{"$f":"COUNTIF($B$17:$CW$41,AO16)","v":5},{"$f":"COUNTIF($B$17:$CW$41,AP16)","v":7},{"$f":"COUNTIF($B$17:$CW$41,AQ16)","v":4},{"$f":"COUNTIF($B$17:$CW$41,AR16)","v":5},{"$f":"COUNTIF($B$17:$CW$41,AS16)","v":5},{"$f":"COUNTIF($B$17:$CW$41,AT16)","v":6},{"$f":"COUNTIF($B$17:$CW$41,AU16)","v":4},{"$f":"COUNTIF($B$17:$CW$41,AV16)","v":3},{"$f":"COUNTIF($B$17:$CW$41,AW16)","v":7},{"$f":"COUNTIF($B$17:$CW$41,AX16)","v":6},{"$f":"COUNTIF($B$17:$CW$41,AY16)","v":6},{"$f":"COUNTIF($B$17:$CW$41,AZ16)","v":6},{"$f":"COUNTIF($B$17:$CW$41,BA16)","v":3},{"$f":"COUNTIF($B$17:$CW$41,BB16)","v":6},{"$f":"COUNTIF($B$17:$CW$41,BC16)","v":2},{"$f":"COUNTIF($B$17:$CW$41,BD16)","v":0},{"$f":"COUNTIF($B$17:$CW$41,BE16)","v":5},{"$f":"COUNTIF($B$17:$CW$41,BF16)","v":5},{"$f":"COUNTIF($B$17:$CW$41,BG16)","v":5},{"$f":"COUNTIF($B$17:$CW$41,BH16)","v":4},{"$f":"COUNTIF($B$17:$CW$41,BI16)","v":10},{"$f":"COUNTIF($B$17:$CW$41,BJ16)","v":10},{"$f":"COUNTIF($B$17:$CW$41,BK16)","v":5},{"$f":"COUNTIF($B$17:$CW$41,BL16)","v":5},{"$f":"COUNTIF($B$17:$CW$41,BM16)","v":8},{"$f":"COUNTIF($B$17:$CW$41,BN16)","v":6},{"$f":"COUNTIF($B$17:$CW$41,BO16)","v":2},{"$f":"COUNTIF($B$17:$CW$41,BP16)","v":5},{"$f":"COUNTIF($B$17:$CW$41,BQ16)","v":3},{"$f":"COUNTIF($B$17:$CW$41,BR16)","v":5},{"$f":"COUNTIF($B$17:$CW$41,BS16)","v":7},{"$f":"COUNTIF($B$17:$CW$41,BT16)","v":5},{"$f":"COUNTIF($B$17:$CW$41,BU16)","v":8},{"$f":"COUNTIF($B$17:$CW$41,BV16)","v":5},{"$f":"COUNTIF($B$17:$CW$41,BW16)","v":4},{"$f":"COUNTIF($B$17:$CW$41,BX16)","v":10},{"$f":"COUNTIF($B$17:$CW$41,BY16)","v":6},{"$f":"COUNTIF($B$17:$CW$41,BZ16)","v":5},{"$f":"COUNTIF($B$17:$CW$41,CA16)","v":4},{"$f":"COUNTIF($B$17:$CW$41,CB16)","v":10},{"$f":"COUNTIF($B$17:$CW$41,CC16)","v":6},{"$f":"COUNTIF($B$17:$CW$41,CD16)","v":1},{"$f":"COUNTIF($B$17:$CW$41,CE16)","v":3},{"$f":"COUNTIF($B$17:$CW$41,CF16)","v":6},{"$f":"COUNTIF($B$17:$CW$41,CG16)","v":6},{"$f":"COUNTIF($B$17:$CW$41,CH16)","v":5},{"$f":"COUNTIF($B$17:$CW$41,CI16)","v":3},{"$f":"COUNTIF($B$17:$CW$41,CJ16)","v":4},{"$f":"COUNTIF($B$17:$CW$41,CK16)","v":3},{"$f":"COUNTIF($B$17:$CW$41,CL16)","v":2},{"$f":"COUNTIF($B$17:$CW$41,CM16)","v":2},{"$f":"COUNTIF($B$17:$CW$41,CN16)","v":5},{"$f":"COUNTIF($B$17:$CW$41,CO16)","v":5},{"$f":"COUNTIF($B$17:$CW$41,CP16)","v":4},{"$f":"COUNTIF($B$17:$CW$41,CQ16)","v":5},{"$f":"COUNTIF($B$17:$CW$41,CR16)","v":9},{"$f":"COUNTIF($B$17:$CW$41,CS16)","v":6},{"$f":"COUNTIF($B$17:$CW$41,CT16)","v":5},{"$f":"COUNTIF($B$17:$CW$41,CU16)","v":2},{"$f":"COUNTIF($B$17:$CW$41,CV16)","v":8},{"$f":"COUNTIF($B$17:$CW$41,CW16)","v":0}]
[null,{"$f":"COUNTIF($B$17:$CW$26,B16)","v":2},{"$f":"COUNTIF($B$17:$CW$26,C16)","v":2},{"$f":"COUNTIF($B$17:$CW$26,D16)","v":2},{"$f":"COUNTIF($B$17:$CW$26,E16)","v":0},{"$f":"COUNTIF($B$17:$CW$26,F16)","v":3},{"$f":"COUNTIF($B$17:$CW$26,G16)","v":1},{"$f":"COUNTIF($B$17:$CW$26,H16)","v":1},{"$f":"COUNTIF($B$17:$CW$26,I16)","v":5},{"$f":"COUNTIF($B$17:$CW$26,J16)","v":1},{"$f":"COUNTIF($B$17:$CW$26,K16)","v":1},{"$f":"COUNTIF($B$17:$CW$26,L16)","v":2},{"$f":"COUNTIF($B$17:$CW$26,M16)","v":2},{"$f":"COUNTIF($B$17:$CW$26,N16)","v":3},{"$f":"COUNTIF($B$17:$CW$26,O16)","v":2},{"$f":"COUNTIF($B$17:$CW$26,P16)","v":2},{"$f":"COUNTIF($B$17:$CW$26,Q16)","v":0},{"$f":"COUNTIF($B$17:$CW$26,R16)","v":3},{"$f":"COUNTIF($B$17:$CW$26,S16)","v":2},{"$f":"COUNTIF($B$17:$CW$26,T16)","v":1},{"$f":"COUNTIF($B$17:$CW$26,U16)","v":2},{"$f":"COUNTIF($B$17:$CW$26,V16)","v":1},{"$f":"COUNTIF($B$17:$CW$26,W16)","v":4},{"$f":"COUNTIF($B$17:$CW$26,X16)","v":0},{"$f":"COUNTIF($B$17:$CW$26,Y16)","v":2},{"$f":"COUNTIF($B$17:$CW$26,Z16)","v":0},{"$f":"COUNTIF($B$17:$CW$26,AA16)","v":3},{"$f":"COUNTIF($B$17:$CW$26,AB16)","v":4},{"$f":"COUNTIF($B$17:$CW$26,AC16)","v":0},{"$f":"COUNTIF($B$17:$CW$26,AD16)","v":1},{"$f":"COUNTIF($B$17:$CW$26,AE16)","v":3},{"$f":"COUNTIF($B$17:$CW$26,AF16)","v":2},{"$f":"COUNTIF($B$17:$CW$26,AG16)","v":1},{"$f":"COUNTIF($B$17:$CW$26,AH16)","v":3},{"$f":"COUNTIF($B$17:$CW$26,AI16)","v":2},{"$f":"COUNTIF($B$17:$CW$26,AJ16)","v":0},{"$f":"COUNTIF($B$17:$CW$26,AK16)","v":1},{"$f":"COUNTIF($B$17:$CW$26,AL16)","v":0},{"$f":"COUNTIF($B$17:$CW$26,AM16)","v":4},{"$f":"COUNTIF($B$17:$CW$26,AN16)","v":2},{"$f":"COUNTIF($B$17:$CW$26,AO16)","v":2},{"$f":"COUNTIF($B$17:$CW$26,AP16)","v":3},{"$f":"COUNTIF($B$17:$CW$26,AQ16)","v":2},{"$f":"COUNTIF($B$17:$CW$26,AR16)","v":3},{"$f":"COUNTIF($B$17:$CW$26,AS16)","v":2},{"$f":"COUNTIF($B$17:$CW$26,AT16)","v":3},{"$f":"COUNTIF($B$17:$CW$26,AU16)","v":1},{"$f":"COUNTIF($B$17:$CW$26,AV16)","v":1},{"$f":"COUNTIF($B$17:$CW$26,AW16)","v":3},{"$f":"COUNTIF($B$17:$CW$26,AX16)","v":4},{"$f":"COUNTIF($B$17:$CW$26,AY16)","v":1},{"$f":"COUNTIF($B$17:$CW$26,AZ16)","v":4},{"$f":"COUNTIF($B$17:$CW$26,BA16)","v":3},{"$f":"COUNTIF($B$17:$CW$26,BB16)","v":2},{"$f":"COUNTIF($B$17:$CW$26,BC16)","v":1},{"$f":"COUNTIF($B$17:$CW$26,BD16)","v":0},{"$f":"COUNTIF($B$17:$CW$26,BE16)","v":3},{"$f":"COUNTIF($B$17:$CW$26,BF16)","v":1},{"$f":"COUNTIF($B$17:$CW$26,BG16)","v":2},{"$f":"COUNTIF($B$17:$CW$26,BH16)","v":0},{"$f":"COUNTIF($B$17:$CW$26,BI16)","v":5},{"$f":"COUNTIF($B$17:$CW$26,BJ16)","v":4},{"$f":"COUNTIF($B$17:$CW$26,BK16)","v":3},{"$f":"COUNTIF($B$17:$CW$26,BL16)","v":1},{"$f":"COUNTIF($B$17:$CW$26,BM16)","v":5},{"$f":"COUNTIF($B$17:$CW$26,BN16)","v":3},{"$f":"COUNTIF($B$17:$CW$26,BO16)","v":1},{"$f":"COUNTIF($B$17:$CW$26,BP16)","v":2},{"$f":"COUNTIF($B$17:$CW$26,BQ16)","v":1},{"$f":"COUNTIF($B$17:$CW$26,BR16)","v":2},{"$f":"COUNTIF($B$17:$CW$26,BS16)","v":3},{"$f":"COUNTIF($B$17:$CW$26,BT16)","v":1},{"$f":"COUNTIF($B$17:$CW$26,BU16)","v":4},{"$f":"COUNTIF($B$17:$CW$26,BV16)","v":2},{"$f":"COUNTIF($B$17:$CW$26,BW16)","v":0},{"$f":"COUNTIF($B$17:$CW$26,BX16)","v":6},{"$f":"COUNTIF($B$17:$CW$26,BY16)","v":1},{"$f":"COUNTIF($B$17:$CW$26,BZ16)","v":2},{"$f":"COUNTIF($B$17:$CW$26,CA16)","v":2},{"$f":"COUNTIF($B$17:$CW$26,CB16)","v":5},{"$f":"COUNTIF($B$17:$CW$26,CC16)","v":1},{"$f":"COUNTIF($B$17:$CW$26,CD16)","v":1},{"$f":"COUNTIF($B$17:$CW$26,CE16)","v":0},{"$f":"COUNTIF($B$17:$CW$26,CF16)","v":3},{"$f":"COUNTIF($B$17:$CW$26,CG16)","v":0},{"$f":"COUNTIF($B$17:$CW$26,CH16)","v":2},{"$f":"COUNTIF($B$17:$CW$26,CI16)","v":2},{"$f":"COUNTIF($B$17:$CW$26,CJ16)","v":2},{"$f":"COUNTIF($B$17:$CW$26,CK16)","v":0},{"$f":"COUNTIF($B$17:$CW$26,CL16)","v":2},{"$f":"COUNTIF($B$17:$CW$26,CM16)","v":0},{"$f":"COUNTIF($B$17:$CW$26,CN16)","v":2},{"$f":"COUNTIF($B$17:$CW$26,CO16)","v":2},{"$f":"COUNTIF($B$17:$CW$26,CP16)","v":1},{"$f":"COUNTIF($B$17:$CW$26,CQ16)","v":1},{"$f":"COUNTIF($B$17:$CW$26,CR16)","v":4},{"$f":"COUNTIF($B$17:$CW$26,CS16)","v":4},{"$f":"COUNTIF($B$17:$CW$26,CT16)","v":2},{"$f":"COUNTIF($B$17:$CW$26,CU16)","v":0},{"$f":"COUNTIF($B$17:$CW$26,CV16)","v":5},{"$f":"COUNTIF($B$17:$CW$26,CW16)","v":0}]
[]
[null,60,"X","X","X",33,95,8,"X",64,72,99,"F",20,"X",32,39,"X",48,70,"X","F",6,22,24,27,"F","F","F","F","X",53,65,"X","X","F",84,"F",3,"X","X","F",17,"F","F","X",40,"F","X","X",57,58,"X",63,67,69,71,73,"F",85,91,92,94,97,"F","F",21,"F",35,"F","F",59,74,78,87,93,"X","X","F","F","F","F","F","F","X",68,"X",86,88,28,"F","F",66,"F",90,98,"F","F",25,55,"F"]

{"sheet":"20Fx30Fr=40","index":2,"n_rows":57,"n_cols":112,"rows_kept":57,"cut":false,"hidden":false,"merged":[[38,1,38,2],[38,3,38,4],[39,1,39,2],[39,3,39,4],[39,5,39,6],[35,1,35,2],[35,3,35,4],[36,1,36,2],[36,3,36,4],[37,1,37,2],[37,3,37,4],[28,1,28,2],[28,3,28,4],[28,5,28,6],[29,1,29,2],[29,3,29,4],[29,5,38,6],[30,1,30,2],[30,3,30,4],[31,1,31,2],[31,3,31,4],[32,1,32,2],[32,3,32,4],[33,1,33,2],[33,3,33,4],[34,1,34,2],[34,3,34,4],[25,1,25,2],[25,3,25,4],[25,5,25,6],[26,1,26,2],[26,3,26,4],[26,5,27,6],[27,1,27,2],[27,3,27,4],[23,1,23,2],[23,3,23,4],[23,5,23,6],[24,1,24,2],[24,3,24,4],[24,5,24,6],[21,1,21,2],[21,3,21,4],[21,5,21,6],[22,1,22,2],[22,3,22,4],[22,5,22,6],[20,1,20,2],[20,3,20,4],[20,5,20,6],[3,72,4,75],[15,1,15,2],[15,3,15,4],[15,7,15,8],[16,1,16,2],[16,3,16,4],[16,5,16,6],[17,1,18,4],[17,5,18,6],[19,1,19,2],[19,3,19,4],[19,5,19,6],[1,21,1,22],[1,1,2,2],[1,3,1,4],[1,5,1,16],[1,17,1,18],[1,19,1,20]]}
[]
["ByJ","\n\n\n\n\n\n\nByJNando",null,1870,null,"RESULTADO DO SORTEIO",null,null,null,null,null,null,null,null,null,null,null,{"$f":"SUMPRODUCT(COUNTIF($D$3:$W$3,D4:W4))","v":6},null,{"$f":"SUMPRODUCT(N(MOD((D3:W3),2)=0)*(D3:W3>0))","v":9},null,{"$f":"SUM(D3:W3)","v":754},null,null,null,null,null,null,null,null,null,null,null,null,null,null,null,null,null,null,null,null,null,null,null,null,null,null,{"$f":"Matrix!AH2","v":"X"},{"$f":"Matrix!AI2","v":"X"},{"$f":"Matrix!AJ2","v":3},{"$f":"Matrix!AK2","v":"F"},{"$f":"Matrix!AL2","v":"F"},{"$f":"Matrix!AM2","v":6},{"$f":"Matrix!AN2","v":"X"},{"$f":"Matrix!AO2","v":8},{"$f":"Matrix!AP2","v":"X"},{"$f":"Matrix!AQ2","v":"F"},null,"A","Veio no atual",null,null,null,null,{"$f":"$D$2","v":1870}]
["Nando",null,null,{"$f":"VLOOKUP($D$2,J!$A$3:$V$4000,3,FALSE)","v":0},{"$f":"VLOOKUP($D$2,J!$A$3:$V$4000,4,FALSE)","v":1},{"$f":"VLOOKUP($D$2,J!$A$3:$V$4000,5,FALSE)","v":3},{"$f":"VLOOKUP($D$2,J!$A$3:$V$4000,6,FALSE)","v":11},{"$f":"VLOOKUP($D$2,J!$A$3:$V$4000,7,FALSE)","v":12},{"$f":"VLOOKUP($D$2,J!$A$3:$V$4000,8,FALSE)","v":18},{"$f":"VLOOKUP($D$2,J!$A$3:$V$4000,9,FALSE)","v":21},{"$f":"VLOOKUP($D$2,J!$A$3:$V$4000,10,FALSE)","v":23},{"$f":"VLOOKUP($D$2,J!$A$3:$V$4000,11,FALSE)","v":25},{"$f":"VLOOKUP($D$2,J!$A$3:$V$4000,12,FALSE)","v":36},{"$f":"VLOOKUP($D$2,J!$A$3:$V$4000,13,FALSE)","v":38},{"$f":"VLOOKUP($D$2,J!$A$3:$V$4000,14,FALSE)","v":39},{"$f":"VLOOKUP($D$2,J!$A$3:$V$4000,15,FALSE)","v":40},{"$f":"VLOOKUP($D$2,J!$A$3:$V$4000,16,FALSE)","v":42},{"$f":"VLOOKUP($D$2,J!$A$3:$V$4000,17,FALSE)","v":44},{"$f":"VLOOKUP($D$2,J!$A$3:$V$4000,18,FALSE)","v":49},{"$f":"VLOOKUP($D$2,J!$A$3:$V$4000,19,FALSE)","v":79},{"$f":"VLOOKUP($D$2,J!$A$3:$V$4000,20,FALSE)","v":80},{"$f":"VLOOKUP($D$2,J!$A$3:$V$4000,21,FALSE)","v":95},{"$f":"VLOOKUP($D$2,J!$A$3:$V$4000,22,FALSE)","v":98},null,null,"ATENÇÃO!!! NÃO DIGITE  em lugar algum.",null,null,null,null,null,null,null,null,null,null,null,null,null,null,null,null,null,null,null,null,null,null,{"$f":"Matrix!AH3","v":"X"},{"$f":"Matrix!AI3","v":"F"},{"$f":"Matrix!AJ3","v":"F"},{"$f":"Matrix!AK3","v":"X"},{"$f":"Matrix!AL3","v":"F"},{"$f":"Matrix!AM3","v":"F"},{"$f":"Matrix!AN3","v":17},{"$f":"Matrix!AO3","v":"F"},{"$f":"Matrix!AP3","v":"F"},{"$f":"Matrix!AQ3","v":20},null,"A","Veio no anterior",null,null,null,null,null,null,null,null,null,null,null,null,null,null,null,null,null,null,null,null,null,null,null,null,null,null,null,null,null,null,null,null,null,{"$f":"$R$5","v":58},{"$f":"$S$5","v":59},{"$f":"$T$5","v":60},{"$f":"$U$5","v":63},{"$f":"$V$5","v":64},null,"T",1,"D"]
[null,"\n\n\n\nByNando",null,{"$f":"VLOOKUP($D$2-1,J!$A$3:$V$4000,3,FALSE)","v":12},{"$f":"VLOOKUP($D$2-1,J!$A$3:$V$4000,4,FALSE)","v":13},{"$f":"VLOOKUP($D$2-1,J!$A$3:$V$4000,5,FALSE)","v":18},{"$f":"VLOOKUP($D$2-1,J!$A$3:$V$4000,6,FALSE)","v":20},{"$f":"VLOOKUP($D$2-1,J!$A$3:$V$4000,7,FALSE)","v":21},{"$f":"VLOOKUP($D$2-1,J!$A$3:$V$4000,8,FALSE)","v":26},{"$f":"VLOOKUP($D$2-1,J!$A$3:$V$4000,9,FALSE)","v":27},{"$f":"VLOOKUP($D$2-1,J!$A$3:$V$4000,10,FALSE)","v":30},{"$f":"VLOOKUP($D$2-1,J!$A$3:$V$4000,11,FALSE)","v":32},{"$f":"VLOOKUP($D$2-1,J!$A$3:$V$4000,12,FALSE)","v":33},{"$f":"VLOOKUP($D$2-1,J!$A$3:$V$4000,13,FALSE)","v":36},{"$f":"VLOOKUP($D$2-1,J!$A$3:$V$4000,14,FALSE)","v":41},{"$f":"VLOOKUP($D$2-1,J!$A$3:$V$4000,15,FALSE)","v":43},{"$f":"VLOOKUP($D$2-1,J!$A$3:$V$4000,16,FALSE)","v":48},{"$f":"VLOOKUP($D$2-1,J!$A$3:$V$4000,17,FALSE)","v":49},{"$f":"VLOOKUP($D$2-1,J!$A$3:$V$4000,18,FALSE)","v":65},{"$f":"VLOOKUP($D$2-1,J!$A$3:$V$4000,19,FALSE)","v":75},{"$f":"VLOOKUP($D$2-1,J!$A$3:$V$4000,20,FALSE)","v":83},{"$f":"VLOOKUP($D$2-1,J!$A$3:$V$4000,21,FALSE)","v":95},{"$f":"VLOOKUP($D$2-1,J!$A$3:$V$4000,22,FALSE)","v":96},null,null,null,null,null,null,null,null,null,null,null,null,null,null,null,null,null,null,null,null,null,null,null,null,null,{"$f":"Matrix!AH4","v":21},{"$f":"Matrix!AI4","v":22},{"$f":"Matrix!AJ4","v":"F"},{"$f":"Matrix!AK4","v":24},{"$f":"Matrix!AL4","v":25},{"$f":"Matrix!AM4","v":"X"},{"$f":"Matrix!AN4","v":27},{"$f":"Matrix!AO4","v":28},{"$f":"Matrix!AP4","v":"F"},{"$f":"Matrix!AQ4","v":"F"},null,"A","Veio no antipenultimo",null,null,null,null,null,null,"ByJ",null,"ByJ",null,"ByJ"," ͡͡ ° ͜ ʖ ͡ °   ♣",null,null,null,null,null,null,null,null,null,null,null,null,null,null,null,null,null,null,null,null,null,{"$f":"$R$6","v":3},{"$f":"$S$6","v":6},{"$f":"$T$6","v":8},{"$f":"$U$6","v":17},{"$f":"$V$6","v":20},null,"Z",2,"J"]
[null,"Quadro das VINDAS.",null,null,null,null,null,null,null,null,null,"&",null,null,null,"10a6",null,{"$f":"Matrix!AV2","v":58},{"$f":"Matrix!AW2","v":59},{"$f":"Matrix!AX2","v":60},{"$f":"Matrix!AY2","v":63},{"$f":"Matrix!AZ2","v":64},{"$f":"Matrix!BA2","v":32},"D",null,{"$f":"IF(AW2=\"F\",B6,\"\")","v":""},"","",4,5,"","","","",10,{"$f":"COUNTIF($AW$2:$BF$11,\"X\")","v":20},"X",{"$f":"IF(AW2=\"X\",B6,\"\")","v":1},{"$f":"IF(AX2=\"X\",C6,\"\")","v":2},"","","","",7,"",9,"",null,{"$f":"Matrix!AH5","v":"F"},{"$f":"Matrix!AI5","v":32},{"$f":"Matrix!AJ5","v":"F"},{"$f":"Matrix!AK5","v":"F"},{"$f":"Matrix!AL5","v":35},{"$f":"Matrix!AM5","v":"F"},{"$f":"Matrix!AN5","v":"X"},{"$f":"Matrix!AO5","v":38},{"$f":"Matrix!AP5","v":39},{"$f":"Matrix!AQ5","v":40},null,"A","Veio nos 3 últimos  sorteios",null,null,null,null,null,null,"Nando",null,"Nando",null,"Nando",null,null,null,null,null,null,null,null,null,null,null,null,null,null,null,null,null,null,null,null,null,null,{"$f":"$R$7","v":70},{"$f":"$S$7","v":71},{"$f":"$T$7","v":72},{"$f":"$U$7","v":73},{"$f":"$V$7","v":74},null,"Y",3,"I"]
[null,1,2,3,4,5,6,7,8,9,10,null,"A",null,null,"Vieram em",null,{"$f":"Matrix!AV3","v":3},{"$f":"Matrix!AW3","v":6},{"$f":"Matrix!AX3","v":8},{"$f":"Matrix!AY3","v":17},{"$f":"Matrix!AZ3","v":20},{"$f":"Matrix!BA3","v":31},"J",null,"",12,13,"",15,16,"",18,19,""," = Fixos",null,11,"","",14,"","","","","","",null,{"$f":"Matrix!AH6","v":"X"},{"$f":"Matrix!AI6","v":"F"},{"$f":"Matrix!AJ6","v":"F"},{"$f":"Matrix!AK6","v":"X"},{"$f":"Matrix!AL6","v":"F"},{"$f":"Matrix!AM6","v":"F"},{"$f":"Matrix!AN6","v":"F"},{"$f":"Matrix!AO6","v":48},{"$f":"Matrix!AP6","v":"F"},{"$f":"Matrix!AQ6","v":"F"},null,"A","Veio nos 4 últimos  sorteios",null,null,null,null,null,null,null,null,null,null,null,null,null,null,null,null,null,null,null,null,null,null,null,null,null,null,null,null,null,null,null,null,null,{"$f":"$R$8","v":94},{"$f":"$S$8","v":95},{"$f":"$T$8","v":97},{"$f":"$U$8","v":98},{"$f":"$V$8","v":99},null,"Q",4,"A"]
[null,11,12,13,14,15,16,17,18,19,20,null,"A",null,null,{"$f":"SUM(\nIF(SUMPRODUCT(COUNTIF($D$3:$W$3,$R$5:$V$5)),1,0)+IF(SUMPRODUCT(COUNTIF($D$3:$W$3,$R$6:$V$6)),1,0)+IF(SUMPRODUCT(COUNTIF($D$3:$W$3,$R$7:$V$7)),1,0)+IF(SUMPRODUCT(COUNTIF($D$3:$W$3,$R$8:$V$8)),1,0)+IF(SUMPRODUCT(COUNTIF($D$3:$W$3,$R$9:$V$9)),1,0)+IF(SUMPRODUCT(COUNTIF($D$3:$W$3,$R$10:$V$10)),1,0)+IF(SUMPRODUCT(COUNTIF($D$3:$W$3,$R$11:$V$11)),1,0)+IF(SUMPRODUCT(COUNTIF($D$3:$W$3,$R$12:$V$12)),1,0)+IF(SUMPRODUCT(COUNTIF($D$3:$W$3,$R$13:$V$13)),1,0)+IF(SUMPRODUCT(COUNTIF($D$3:$W$3,$R$14:$V$14)),1,0)\n)&\"  Linhas\"","v":"5  Linhas"},null,{"$f":"Matrix!AV4","v":70},{"$f":"Matrix!AW4","v":71},{"$f":"Matrix!AX4","v":72},{"$f":"Matrix!AY4","v":73},{"$f":"Matrix!AZ4","v":74},{"$f":"Matrix!BA4","v":29},"I",null,"","",23,"","","","","",29,30,null,null,"","","","","",26,"","","","",null,{"$f":"Matrix!AH7","v":"X"},{"$f":"Matrix!AI7","v":"X"},{"$f":"Matrix!AJ7","v":53},{"$f":"Matrix!AK7","v":"F"},{"$f":"Matrix!AL7","v":55},{"$f":"Matrix!AM7","v":"X"},{"$f":"Matrix!AN7","v":57},{"$f":"Matrix!AO7","v":58},{"$f":"Matrix!AP7","v":59},{"$f":"Matrix!AQ7","v":60},null,"A","Não veio está em atraso a + de 4 Sorteios",null,null,null,null,null,null,null,null,null,null,null,null,null,null,null,null,null,null,null,null,null,null,null,null,null,null,null,null,null,null,null,null,null,{"$f":"$R$9","v":28},{"$f":"$S$9","v":32},{"$f":"$T$9","v":35},{"$f":"$U$9","v":38},{"$f":"$V$9","v":39},null,"R",5,"B"]
[null,21,22,23,24,25,26,27,28,29,30,null,"A",null,null,"Ideal é <= 6",null,{"$f":"Matrix!AV5","v":94},{"$f":"Matrix!AW5","v":95},{"$f":"Matrix!AX5","v":97},{"$f":"Matrix!AY5","v":98},{"$f":"Matrix!AZ5","v":99},{"$f":"Matrix!BA5","v":29},"A",null,31,"",33,34,"",36,"","","","",{"$f":"COUNTIF($AW$2:$BF$11,\"F\")","v":30},"F","","","","","","",37,"","","",null,{"$f":"Matrix!AH8","v":"X"},{"$f":"Matrix!AI8","v":"X"},{"$f":"Matrix!AJ8","v":63},{"$f":"Matrix!AK8","v":64},{"$f":"Matrix!AL8","v":65},{"$f":"Matrix!AM8","v":66},{"$f":"Matrix!AN8","v":67},{"$f":"Matrix!AO8","v":68},{"$f":"Matrix!AP8","v":69},{"$f":"Matrix!AQ8","v":70},null,{"$f":"COUNTIF($R$12:$T$14,\">0\")","v":9},"Quantidade de acertos setorial (MIOLO)",null,null,null,null,null,null,null,null,null,{"$f":"$D$2","v":1870},{"$f":"VLOOKUP($D$2,J!$A$3:$V$4000,3,FALSE)","v":0},{"$f":"VLOOKUP($D$2,J!$A$3:$V$4000,4,FALSE)","v":1},{"$f":"VLOOKUP($D$2,J!$A$3:$V$4000,5,FALSE)","v":3},{"$f":"VLOOKUP($D$2,J!$A$3:$V$4000,6,FALSE)","v":11},{"$f":"VLOOKUP($D$2,J!$A$3:$V$4000,7,FALSE)","v":12},{"$f":"VLOOKUP($D$2,J!$A$3:$V$4000,8,FALSE)","v":18},{"$f":"VLOOKUP($D$2,J!$A$3:$V$4000,9,FALSE)","v":21},{"$f":"VLOOKUP($D$2,J!$A$3:$V$4000,10,FALSE)","v":23},{"$f":"VLOOKUP($D$2,J!$A$3:$V$4000,11,FALSE)","v":25},{"$f":"VLOOKUP($D$2,J!$A$3:$V$4000,12,FALSE)","v":36},{"$f":"VLOOKUP($D$2,J!$A$3:$V$4000,13,FALSE)","v":38},{"$f":"VLOOKUP($D$2,J!$A$3:$V$4000,14,FALSE)","v":39},{"$f":"VLOOKUP($D$2,J!$A$3:$V$4000,15,FALSE)","v":40},{"$f":"VLOOKUP($D$2,J!$A$3:$V$4000,16,FALSE)","v":42},{"$f":"VLOOKUP($D$2,J!$A$3:$V$4000,17,FALSE)","v":44},{"$f":"VLOOKUP($D$2,J!$A$3:$V$4000,18,FALSE)","v":49},{"$f":"VLOOKUP($D$2,J!$A$3:$V$4000,19,FALSE)","v":79},{"$f":"VLOOKUP($D$2,J!$A$3:$V$4000,20,FALSE)","v":80},{"$f":"VLOOKUP($D$2,J!$A$3:$V$4000,21,FALSE)","v":95},{"$f":"VLOOKUP($D$2,J!$A$3:$V$4000,22,FALSE)","v":98},null,null,null,{"$f":"$R$10","v":40},{"$f":"$S$10","v":48},{"$f":"$T$10","v":53},{"$f":"$U$10","v":55},{"$f":"$V$10","v":57},null,"S",6,"C"]
[null,31,32,33,34,35,36,37,38,39,40,null,"A",null,null,null,null,{"$f":"Matrix!AV6","v":28},{"$f":"Matrix!AW6","v":32},{"$f":"Matrix!AX6","v":35},{"$f":"Matrix!AY6","v":38},{"$f":"Matrix!AZ6","v":39},{"$f":"Matrix!BA6","v":29},"B",null,"",42,43,"",45,46,47,"",49,50," = Foras",null,41,"","",44,"","","","","","",null,{"$f":"Matrix!AH9","v":71},{"$f":"Matrix!AI9","v":72},{"$f":"Matrix!AJ9","v":73},{"$f":"Matrix!AK9","v":74},{"$f":"Matrix!AL9","v":"X"},{"$f":"Matrix!AM9","v":"X"},{"$f":"Matrix!AN9","v":"F"},{"$f":"Matrix!AO9","v":78},{"$f":"Matrix!AP9","v":"X"},{"$f":"Matrix!AQ9","v":"X"},null,null,null,null,null,null,null,null,null,null,null,null,{"$f":"BS8-1","v":1869},{"$f":"VLOOKUP($BS9,J!$A$3:$V$4000,3,FALSE)","v":12},{"$f":"VLOOKUP($BS9,J!$A$3:$V$4000,4,FALSE)","v":13},{"$f":"VLOOKUP($BS9,J!$A$3:$V$4000,5,FALSE)","v":18},{"$f":"VLOOKUP($BS9,J!$A$3:$V$4000,6,FALSE)","v":20},{"$f":"VLOOKUP($BS9,J!$A$3:$V$4000,7,FALSE)","v":21},{"$f":"VLOOKUP($BS9,J!$A$3:$V$4000,8,FALSE)","v":26},{"$f":"VLOOKUP($BS9,J!$A$3:$V$4000,9,FALSE)","v":27},{"$f":"VLOOKUP($BS9,J!$A$3:$V$4000,10,FALSE)","v":30},{"$f":"VLOOKUP($BS9,J!$A$3:$V$4000,11,FALSE)","v":32},{"$f":"VLOOKUP($BS9,J!$A$3:$V$4000,12,FALSE)","v":33},{"$f":"VLOOKUP($BS9,J!$A$3:$V$4000,13,FALSE)","v":36},{"$f":"VLOOKUP($BS9,J!$A$3:$V$4000,14,FALSE)","v":41},{"$f":"VLOOKUP($BS9,J!$A$3:$V$4000,15,FALSE)","v":43},{"$f":"VLOOKUP($BS9,J!$A$3:$V$4000,16,FALSE)","v":48},{"$f":"VLOOKUP($BS9,J!$A$3:$V$4000,17,FALSE)","v":49},{"$f":"VLOOKUP($BS9,J!$A$3:$V$4000,18,FALSE)","v":65},{"$f":"VLOOKUP($BS9,J!$A$3:$V$4000,19,FALSE)","v":75},{"$f":"VLOOKUP($BS9,J!$A$3:$V$4000,20,FALSE)","v":83},{"$f":"VLOOKUP($BS9,J!$A$3:$V$4000,21,FALSE)","v":95},{"$f":"VLOOKUP($BS9,J!$A$3:$V$4000,22,FALSE)","v":96},null,null,null,{"$f":"$R$11","v":78},{"$f":"$S$11","v":84},{"$f":"$T$11","v":85},{"$f":"$U$11","v":86},{"$f":"$V$11","v":87},null,"X",7,"H"]
[null,41,42,43,44,45,46,47,48,49,50,null,"A",null,null,null,null,{"$f":"Matrix!AV7","v":40},{"$f":"Matrix!AW7","v":48},{"$f":"Matrix!AX7","v":53},{"$f":"Matrix!AY7","v":55},{"$f":"Matrix!AZ7","v":57},{"$f":"Matrix!BA7","v":23},"C",null,"","","",54,"","","","","","",null,null,51,52,"","","",56,"","","","",null,{"$f":"Matrix!AH10","v":"F"},{"$f":"Matrix!AI10","v":"X"},{"$f":"Matrix!AJ10","v":"F"},{"$f":"Matrix!AK10","v":84},{"$f":"Matrix!AL10","v":85},{"$f":"Matrix!AM10","v":86},{"$f":"Matrix!AN10","v":87},{"$f":"Matrix!AO10","v":88},{"$f":"Matrix!AP10","v":"F"},{"$f":"Matrix!AQ10","v":90},null,"X","Marcados para ficar FIXADOS (PRESENTES)",null,null,null,null,null,null,null,null,null,{"$f":"BS9-1","v":1868},{"$f":"VLOOKUP($BS10,J!$A$3:$V$4000,3,FALSE)","v":0},{"$f":"VLOOKUP($BS10,J!$A$3:$V$4000,4,FALSE)","v":8},{"$f":"VLOOKUP($BS10,J!$A$3:$V$4000,5,FALSE)","v":12},{"$f":"VLOOKUP($BS10,J!$A$3:$V$4000,6,FALSE)","v":22},{"$f":"VLOOKUP($BS10,J!$A$3:$V$4000,7,FALSE)","v":27},{"$f":"VLOOKUP($BS10,J!$A$3:$V$4000,8,FALSE)","v":29},{"$f":"VLOOKUP($BS10,J!$A$3:$V$4000,9,FALSE)","v":31},{"$f":"VLOOKUP($BS10,J!$A$3:$V$4000,10,FALSE)","v":39},{"$f":"VLOOKUP($BS10,J!$A$3:$V$4000,11,FALSE)","v":40},{"$f":"VLOOKUP($BS10,J!$A$3:$V$4000,12,FALSE)","v":42},{"$f":"VLOOKUP($BS10,J!$A$3:$V$4000,13,FALSE)","v":47},{"$f":"VLOOKUP($BS10,J!$A$3:$V$4000,14,FALSE)","v":48},{"$f":"VLOOKUP($BS10,J!$A$3:$V$4000,15,FALSE)","v":51},{"$f":"VLOOKUP($BS10,J!$A$3:$V$4000,16,FALSE)","v":60},{"$f":"VLOOKUP($BS10,J!$A$3:$V$4000,17,FALSE)","v":61},{"$f":"VLOOKUP($BS10,J!$A$3:$V$4000,18,FALSE)","v":64},{"$f":"VLOOKUP($BS10,J!$A$3:$V$4000,19,FALSE)","v":87},{"$f":"VLOOKUP($BS10,J!$A$3:$V$4000,20,FALSE)","v":89},{"$f":"VLOOKUP($BS10,J!$A$3:$V$4000,21,FALSE)","v":95},{"$f":"VLOOKUP($BS10,J!$A$3:$V$4000,22,FALSE)","v":99},null,null,null,{"$f":"$R$12","v":21},{"$f":"$S$12","v":22},{"$f":"$T$12","v":24},{"$f":"$U$12","v":25},{"$f":"$V$12","v":27},null,"U",8,"E"]
[null,51,52,53,54,55,56,57,58,59,60,null,"A",null,null,null,null,{"$f":"Matrix!AV8","v":78},{"$f":"Matrix!AW8","v":84},{"$f":"Matrix!AX8","v":85},{"$f":"Matrix!AY8","v":86},{"$f":"Matrix!AZ8","v":87},{"$f":"Matrix!BA8","v":22},"H",null,"","","","","","","","","","",null,null,61,62,"","","","","","","","",null,{"$f":"Matrix!AH11","v":91},{"$f":"Matrix!AI11","v":92},{"$f":"Matrix!AJ11","v":93},{"$f":"Matrix!AK11","v":94},{"$f":"Matrix!AL11","v":95},{"$f":"Matrix!AM11","v":"F"},{"$f":"Matrix!AN11","v":97},{"$f":"Matrix!AO11","v":98},{"$f":"Matrix!AP11","v":99},{"$f":"Matrix!AQ11","v":"F"},null,"F","Marcados para ficar de fora (AUSENTES)",null,null,null,null,null,null,null,null,null,{"$f":"BS10-1","v":1867},{"$f":"VLOOKUP($BS11,J!$A$3:$V$4000,3,FALSE)","v":3},{"$f":"VLOOKUP($BS11,J!$A$3:$V$4000,4,FALSE)","v":5},{"$f":"VLOOKUP($BS11,J!$A$3:$V$4000,5,FALSE)","v":10},{"$f":"VLOOKUP($BS11,J!$A$3:$V$4000,6,FALSE)","v":15},{"$f":"VLOOKUP($BS11,J!$A$3:$V$4000,7,FALSE)","v":20},{"$f":"VLOOKUP($BS11,J!$A$3:$V$4000,8,FALSE)","v":38},{"$f":"VLOOKUP($BS11,J!$A$3:$V$4000,9,FALSE)","v":39},{"$f":"VLOOKUP($BS11,J!$A$3:$V$4000,10,FALSE)","v":45},{"$f":"VLOOKUP($BS11,J!$A$3:$V$4000,11,FALSE)","v":50},{"$f":"VLOOKUP($BS11,J!$A$3:$V$4000,12,FALSE)","v":53},{"$f":"VLOOKUP($BS11,J!$A$3:$V$4000,13,FALSE)","v":57},{"$f":"VLOOKUP($BS11,J!$A$3:$V$4000,14,FALSE)","v":60},{"$f":"VLOOKUP($BS11,J!$A$3:$V$4000,15,FALSE)","v":64},{"$f":"VLOOKUP($BS11,J!$A$3:$V$4000,16,FALSE)","v":72},{"$f":"VLOOKUP($BS11,J!$A$3:$V$4000,17,FALSE)","v":77},{"$f":"VLOOKUP($BS11,J!$A$3:$V$4000,18,FALSE)","v":79},{"$f":"VLOOKUP($BS11,J!$A$3:$V$4000,19,FALSE)","v":85},{"$f":"VLOOKUP($BS11,J!$A$3:$V$4000,20,FALSE)","v":86},{"$f":"VLOOKUP($BS11,J!$A$3:$V$4000,21,FALSE)","v":96},{"$f":"VLOOKUP($BS11,J!$A$3:$V$4000,22,FALSE)","v":99},null,null,null,{"$f":"$R$13","v":65},{"$f":"$S$13","v":66},{"$f":"$T$13","v":67},{"$f":"$U$13","v":68},{"$f":"$V$13","v":69},null,"W",9,"G"]
[null,61,62,63,64,65,66,67,68,69,70,null,null,null,null,null,null,{"$f":"Matrix!AV9","v":21},{"$f":"Matrix!AW9","v":22},{"$f":"Matrix!AX9","v":24},{"$f":"Matrix!AY9","v":25},{"$f":"Matrix!AZ9","v":27},{"$f":"Matrix!BA9","v":22},"E",null,"","","","","","",77,"","","",null,null,"","","","",75,76,"","",79,80,null,"Sua escolha feita na pasta MATRIX",null,null,null,null,null,null,null,null,null,null,null,null,null,null,null,null,null,null,null,null,null,null,null,null,null,null,null,null,null,null,null,null,null,null,null,null,null,null,null,null,null,null,null,null,null,{"$f":"$R$14","v":88},{"$f":"$S$14","v":90},{"$f":"$T$14","v":91},{"$f":"$U$14","v":92},{"$f":"$V$14","v":93},null,"V",10,"F"]
[null,71,72,73,74,75,76,77,78,79,80,null,{"$f":"COUNTIF($R$12:$T$14,\">0\")","v":9},null,null,null,null,{"$f":"Matrix!AV10","v":65},{"$f":"Matrix!AW10","v":66},{"$f":"Matrix!AX10","v":67},{"$f":"Matrix!AY10","v":68},{"$f":"Matrix!AZ10","v":69},{"$f":"Matrix!BA10","v":21},"G",null,81,"",83,"","","","","",89,"",null,null,"",82,"","","","","","","",""]
[null,81,82,83,84,85,86,87,88,89,90,null,null,null,null,null,null,{"$f":"Matrix!AV11","v":88},{"$f":"Matrix!AW11","v":90},{"$f":"Matrix!AX11","v":91},{"$f":"Matrix!AY11","v":92},{"$f":"Matrix!AZ11","v":93},{"$f":"Matrix!BA11","v":19},"F",null,"","","","","",96,"","","",0,null,null,"","","","","","","","","",""]
[null,91,92,93,94,95,96,97,98,99,0,null,null,null,null,null,null,"Da SOBRA números não escolhidos",null,null,null,null,null,null,null,"Dos RETIRADOS pela sua escolha",null,null,null,null,null,null,null,null,null,null,null,"Dos Fixos"]
[null,"ByJ",null," ͡͡ ° ͜ ʖ ͡ °",null,null,null,{"$f":"$D$2","v":1870},null,null,null,"Fixos + Desdobramento"]
[null,"Nando",null,"♣  t  ♣",null,null,null,null,null,{"$f":"SUMPRODUCT(COUNTIF($D$3:$W$3,L17:BI17))","v":12},"1º",{"$f":"IFERROR(SMALL($AL$5:$AU$14,1),\"\")","v":1},{"$f":"IFERROR(SMALL($AL$5:$AU$14,2),\"\")","v":2},{"$f":"IFERROR(SMALL($AL$5:$AU$14,3),\"\")","v":7},{"$f":"IFERROR(SMALL($AL$5:$AU$14,4),\"\")","v":9},{"$f":"IFERROR(SMALL($AL$5:$AU$14,5),\"\")","v":11},{"$f":"IFERROR(SMALL($AL$5:$AU$14,6),\"\")","v":14},{"$f":"IFERROR(SMALL($AL$5:$AU$14,7),\"\")","v":26},{"$f":"IFERROR(SMALL($AL$5:$AU$14,8),\"\")","v":37},{"$f":"IFERROR(SMALL($AL$5:$AU$14,9),\"\")","v":41},{"$f":"IFERROR(SMALL($AL$5:$AU$14,10),\"\")","v":44},{"$f":"IFERROR(SMALL($AL$5:$AU$14,11),\"\")","v":51},{"$f":"IFERROR(SMALL($AL$5:$AU$14,12),\"\")","v":52},{"$f":"IFERROR(SMALL($AL$5:$AU$14,13),\"\")","v":56},{"$f":"IFERROR(SMALL($AL$5:$AU$14,14),\"\")","v":61},{"$f":"IFERROR(SMALL($AL$5:$AU$14,15),\"\")","v":62},{"$f":"IFERROR(SMALL($AL$5:$AU$14,16),\"\")","v":75},{"$f":"IFERROR(SMALL($AL$5:$AU$14,17),\"\")","v":76},{"$f":"IFERROR(SMALL($AL$5:$AU$14,18),\"\")","v":79},{"$f":"IFERROR(SMALL($AL$5:$AU$14,19),\"\")","v":80},{"$f":"IFERROR(SMALL($AL$5:$AU$14,20),\"\")","v":82},{"$f":"$R$8","v":94},{"$f":"$S$8","v":95},{"$f":"$T$8","v":97},{"$f":"$U$8","v":98},{"$f":"$V$8","v":99},{"$f":"$R$9","v":28},{"$f":"$S$9","v":32},{"$f":"$T$9","v":35},{"$f":"$U$9","v":38},{"$f":"$V$9","v":39},{"$f":"$R$10","v":40},{"$f":"$S$10","v":48},{"$f":"$T$10","v":53},{"$f":"$U$10","v":55},{"$f":"$V$10","v":57},{"$f":"$R$12","v":21},{"$f":"$S$12","v":22},{"$f":"$T$12","v":24},{"$f":"$U$12","v":25},{"$f":"$V$12","v":27},{"$f":"$R$14","v":88},{"$f":"$S$14","v":90},{"$f":"$T$14","v":91},{"$f":"$U$14","v":92},{"$f":"$V$14","v":93},{"$f":"$R$11","v":78},{"$f":"$S$11","v":84},{"$f":"$T$11","v":85},{"$f":"$U$11","v":86},{"$f":"$V$11","v":87},null,{"$f":"IFERROR(SMALL($L17:$BI17,1),\"\")","v":1},{"$f":"IFERROR(SMALL($L17:$BI17,2),\"\")","v":2},{"$f":"IFERROR(SMALL($L17:$BI17,3),\"\")","v":7},{"$f":"IFERROR(SMALL($L17:$BI17,4),\"\")","v":9},{"$f":"IFERROR(SMALL($L17:$BI17,5),\"\")","v":11},{"$f":"IFERROR(SMALL($L17:$BI17,6),\"\")","v":14},{"$f":"IFERROR(SMALL($L17:$BI17,7),\"\")","v":21},{"$f":"IFERROR(SMALL($L17:$BI17,8),\"\")","v":22},{"$f":"IFERROR(SMALL($L17:$BI17,9),\"\")","v":24},{"$f":"IFERROR(SMALL($L17:$BI17,10),\"\")","v":25},{"$f":"IFERROR(SMALL($L17:$BI17,11),\"\")","v":26},{"$f":"IFERROR(SMALL($L17:$BI17,12),\"\")","v":27},{"$f":"IFERROR(SMALL($L17:$BI17,13),\"\")","v":28},{"$f":"IFERROR(SMALL($L17:$BI17,14),\"\")","v":32},{"$f":"IFERROR(SMALL($L17:$BI17,15),\"\")","v":35},{"$f":"IFERROR(SMALL($L17:$BI17,16),\"\")","v":37},{"$f":"IFERROR(SMALL($L17:$BI17,17),\"\")","v":38},{"$f":"IFERROR(SMALL($L17:$BI17,18),\"\")","v":39},{"$f":"IFERROR(SMALL($L17:$BI17,19),\"\")","v":40},{"$f":"IFERROR(SMALL($L17:$BI17,20),\"\")","v":41},{"$f":"IFERROR(SMALL($L17:$BI17,21),\"\")","v":44},{"$f":"IFERROR(SMALL($L17:$BI17,22),\"\")","v":48},{"$f":"IFERROR(SMALL($L17:$BI17,23),\"\")","v":51},{"$f":"IFERROR(SMALL($L17:$BI17,24),\"\")","v":52},{"$f":"IFERROR(SMALL($L17:$BI17,25),\"\")","v":53},{"$f":"IFERROR(SMALL($L17:$BI17,26),\"\")","v":55},{"$f":"IFERROR(SMALL($L17:$BI17,27),\"\")","v":56},{"$f":"IFERROR(SMALL($L17:$BI17,28),\"\")","v":57},{"$f":"IFERROR(SMALL($L17:$BI17,29),\"\")","v":61},{"$f":"IFERROR(SMALL($L17:$BI17,30),\"\")","v":62},{"$f":"IFERROR(SMALL($L17:$BI17,31),\"\")","v":75},{"$f":"IFERROR(SMALL($L17:$BI17,32),\"\")","v":76},{"$f":"IFERROR(SMALL($L17:$BI17,33),\"\")","v":78},{"$f":"IFERROR(SMALL($L17:$BI17,34),\"\")","v":79},{"$f":"IFERROR(SMALL($L17:$BI17,35),\"\")","v":80},{"$f":"IFERROR(SMALL($L17:$BI17,36),\"\")","v":82},{"$f":"IFERROR(SMALL($L17:$BI17,37),\"\")","v":84},{"$f":"IFERROR(SMALL($L17:$BI17,38),\"\")","v":85},{"$f":"IFERROR(SMALL($L17:$BI17,39),\"\")","v":86},{"$f":"IFERROR(SMALL($L17:$BI17,40),\"\")","v":87},{"$f":"IFERROR(SMALL($L17:$BI17,41),\"\")","v":88},{"$f":"IFERROR(SMALL($L17:$BI17,42),\"\")","v":90},{"$f":"IFERROR(SMALL($L17:$BI17,43),\"\")","v":91},{"$f":"IFERROR(SMALL($L17:$BI17,44),\"\")","v":92},{"$f":"IFERROR(SMALL($L17:$BI17,45),\"\")","v":93},{"$f":"IFERROR(SMALL($L17:$BI17,46),\"\")","v":94},{"$f":"IFERROR(SMALL($L17:$BI17,47),\"\")","v":95},{"$f":"IFERROR(SMALL($L17:$BI17,48),\"\")","v":97},{"$f":"IFERROR(SMALL($L17:$BI17,49),\"\")","v":98},{"$f":"IFERROR(SMALL($L17:$BI17,50),\"\")","v":99}]
[null,"CONFERIDOR",null,null,null,{"$f":"SUM(F20:G25)+F40","v":0},null,null,null,13,"2º",1,2,7,9,11,14,26,37,41,44,51,52,56,61,62,75,76,79,80,82,94,95,97,98,99,28,32,35,38,39,{"$f":"$R$10","v":40},{"$f":"$S$10","v":48},{"$f":"$T$10","v":53},{"$f":"$U$10","v":55},{"$f":"$V$10","v":57},21,22,24,25,27,{"$f":"$R$11","v":78},{"$f":"$S$11","v":84},{"$f":"$T$11","v":85},{"$f":"$U$11","v":86},{"$f":"$V$11","v":87},{"$f":"$R$6","v":3},{"$f":"$S$6","v":6},{"$f":"$T$6","v":8},{"$f":"$U$6","v":17},{"$f":"$V$6","v":20},null,{"$f":"IFERROR(SMALL($L18:$BI18,1),\"\")","v":1},{"$f":"IFERROR(SMALL($L18:$BI18,2),\"\")","v":2},{"$f":"IFERROR(SMALL($L18:$BI18,3),\"\")","v":3},{"$f":"IFERROR(SMALL($L18:$BI18,4),\"\")","v":6},{"$f":"IFERROR(SMALL($L18:$BI18,5),\"\")","v":7},{"$f":"IFERROR(SMALL($L18:$BI18,6),\"\")","v":8},{"$f":"IFERROR(SMALL($L18:$BI18,7),\"\")","v":9},{"$f":"IFERROR(SMALL($L18:$BI18,8),\"\")","v":11},{"$f":"IFERROR(SMALL($L18:$BI18,9),\"\")","v":14},{"$f":"IFERROR(SMALL($L18:$BI18,10),\"\")","v":17},{"$f":"IFERROR(SMALL($L18:$BI18,11),\"\")","v":20},{"$f":"IFERROR(SMALL($L18:$BI18,12),\"\")","v":21},{"$f":"IFERROR(SMALL($L18:$BI18,13),\"\")","v":22},{"$f":"IFERROR(SMALL($L18:$BI18,14),\"\")","v":24},{"$f":"IFERROR(SMALL($L18:$BI18,15),\"\")","v":25},{"$f":"IFERROR(SMALL($L18:$BI18,16),\"\")","v":26},{"$f":"IFERROR(SMALL($L18:$BI18,17),\"\")","v":27},{"$f":"IFERROR(SMALL($L18:$BI18,18),\"\")","v":28},{"$f":"IFERROR(SMALL($L18:$BI18,19),\"\")","v":32},{"$f":"IFERROR(SMALL($L18:$BI18,20),\"\")","v":35},{"$f":"IFERROR(SMALL($L18:$BI18,21),\"\")","v":37},{"$f":"IFERROR(SMALL($L18:$BI18,22),\"\")","v":38},{"$f":"IFERROR(SMALL($L18:$BI18,23),\"\")","v":39},{"$f":"IFERROR(SMALL($L18:$BI18,24),\"\")","v":40},{"$f":"IFERROR(SMALL($L18:$BI18,25),\"\")","v":41},{"$f":"IFERROR(SMALL($L18:$BI18,26),\"\")","v":44},{"$f":"IFERROR(SMALL($L18:$BI18,27),\"\")","v":48},{"$f":"IFERROR(SMALL($L18:$BI18,28),\"\")","v":51},{"$f":"IFERROR(SMALL($L18:$BI18,29),\"\")","v":52},{"$f":"IFERROR(SMALL($L18:$BI18,30),\"\")","v":53},{"$f":"IFERROR(SMALL($L18:$BI18,31),\"\")","v":55},{"$f":"IFERROR(SMALL($L18:$BI18,32),\"\")","v":56},{"$f":"IFERROR(SMALL($L18:$BI18,33),\"\")","v":57},{"$f":"IFERROR(SMALL($L18:$BI18,34),\"\")","v":61},{"$f":"IFERROR(SMALL($L18:$BI18,35),\"\")","v":62},{"$f":"IFERROR(SMALL($L18:$BI18,36),\"\")","v":75},{"$f":"IFERROR(SMALL($L18:$BI18,37),\"\")","v":76},{"$f":"IFERROR(SMALL($L18:$BI18,38),\"\")","v":78},{"$f":"IFERROR(SMALL($L18:$BI18,39),\"\")","v":79},{"$f":"IFERROR(SMALL($L18:$BI18,40),\"\")","v":80},{"$f":"IFERROR(SMALL($L18:$BI18,41),\"\")","v":82},{"$f":"IFERROR(SMALL($L18:$BI18,42),\"\")","v":84},{"$f":"IFERROR(SMALL($L18:$BI18,43),\"\")","v":85},{"$f":"IFERROR(SMALL($L18:$BI18,44),\"\")","v":86},{"$f":"IFERROR(SMALL($L18:$BI18,45),\"\")","v":87},{"$f":"IFERROR(SMALL($L18:$BI18,46),\"\")","v":94},{"$f":"IFERROR(SMALL($L18:$BI18,47),\"\")","v":95},{"$f":"IFERROR(SMALL($L18:$BI18,48),\"\")","v":97},{"$f":"IFERROR(SMALL($L18:$BI18,49),\"\")","v":98},{"$f":"IFERROR(SMALL($L18:$BI18,50),\"\")","v":99}]
[null,null,null,null,null,null,null,null,null,13,"3º",1,2,7,9,11,14,26,37,41,44,51,52,56,61,62,75,76,79,80,82,94,95,97,98,99,28,32,35,38,39,{"$f":"$R$10","v":40},{"$f":"$S$10","v":48},{"$f":"$T$10","v":53},{"$f":"$U$10","v":55},{"$f":"$V$10","v":57},21,22,24,25,27,{"$f":"$R$7","v":70},{"$f":"$S$7","v":71},{"$f":"$T$7","v":72},{"$f":"$U$7","v":73},{"$f":"$V$7","v":74},{"$f":"$R$6","v":3},{"$f":"$S$6","v":6},{"$f":"$T$6","v":8},{"$f":"$U$6","v":17},{"$f":"$V$6","v":20},null,1,2,3,6,7,8,9,11,14,17,20,21,22,24,25,26,27,28,32,35,37,38,39,40,41,44,48,51,52,53,55,56,57,61,62,70,71,72,73,74,75,76,79,80,82,94,95,97,98,99]
[null,"Se 20 = ",null,{"$f":"SUM(COUNTIF($J$17:$J$3762,20))","v":0},null,{"$f":"SUM(D20*750000)","v":0},null,null,null,11,"4º",1,2,7,9,11,14,26,37,41,44,51,52,56,61,62,75,76,79,80,82,94,95,97,98,99,28,32,35,38,39,{"$f":"$R$5","v":58},{"$f":"$S$5","v":59},{"$f":"$T$5","v":60},{"$f":"$U$5","v":63},{"$f":"$V$5","v":64},21,22,24,25,27,{"$f":"$R$13","v":65},{"$f":"$S$13","v":66},{"$f":"$T$13","v":67},{"$f":"$U$13","v":68},{"$f":"$V$13","v":69},{"$f":"$R$7","v":70},{"$f":"$S$7","v":71},{"$f":"$T$7","v":72},{"$f":"$U$7","v":73},{"$f":"$V$7","v":74},null,1,2,7,9,11,14,21,22,24,25,26,27,28,32,35,37,38,39,41,44,51,52,56,58,59,60,61,62,63,64,65,66,67,68,69,70,71,72,73,74,75,76,79,80,82,94,95,97,98,99]
[null,"Se 19 = ",null,{"$f":"SUM(COUNTIF($J$17:$J$3762,19))","v":0},null,{"$f":"SUM(D21*35000)","v":0},null,null,null,12,"5º",1,2,7,9,11,14,26,37,41,44,51,52,56,61,62,75,76,79,80,82,94,95,97,98,99,28,32,35,38,39,58,59,60,63,64,21,22,24,25,27,{"$f":"$R$11","v":78},{"$f":"$S$11","v":84},{"$f":"$T$11","v":85},{"$f":"$U$11","v":86},{"$f":"$V$11","v":87},{"$f":"$R$6","v":3},{"$f":"$S$6","v":6},{"$f":"$T$6","v":8},{"$f":"$U$6","v":17},{"$f":"$V$6","v":20},null,1,2,3,6,7,8,9,11,14,17,20,21,22,24,25,26,27,28,32,35,37,38,39,41,44,51,52,56,58,59,60,61,62,63,64,75,76,78,79,80,82,84,85,86,87,94,95,97,98,99]
[null,"Se 18 = ",null,{"$f":"SUM(COUNTIF($J$17:$J$3762,18))","v":0},null,{"$f":"SUM(D22*1700)","v":0},null,null,null,12,"6º",1,2,7,9,11,14,26,37,41,44,51,52,56,61,62,75,76,79,80,82,94,95,97,98,99,28,32,35,38,39,58,59,60,63,64,21,22,24,25,27,{"$f":"$R$7","v":70},{"$f":"$S$7","v":71},{"$f":"$T$7","v":72},{"$f":"$U$7","v":73},{"$f":"$V$7","v":74},{"$f":"$R$6","v":3},{"$f":"$S$6","v":6},{"$f":"$T$6","v":8},{"$f":"$U$6","v":17},{"$f":"$V$6","v":20},null,1,2,3,6,7,8,9,11,14,17,20,21,22,24,25,26,27,28,32,35,37,38,39,41,44,51,52,56,58,59,60,61,62,63,64,70,71,72,73,74,75,76,79,80,82,94,95,97,98,99]
[null,"Se 17 = ",null,{"$f":"SUM(COUNTIF($J$17:$J$3762,17))","v":0},null,{"$f":"SUM(D23*150)","v":0},null,null,null,9,"7º",1,2,7,9,11,14,26,37,41,44,51,52,56,61,62,75,76,79,80,82,94,95,97,98,99,28,32,35,38,39,58,59,60,63,64,{"$f":"$R$14","v":88},{"$f":"$S$14","v":90},{"$f":"$T$14","v":91},{"$f":"$U$14","v":92},{"$f":"$V$14","v":93},{"$f":"$R$13","v":65},{"$f":"$S$13","v":66},{"$f":"$T$13","v":67},{"$f":"$U$13","v":68},{"$f":"$V$13","v":69},{"$f":"$R$7","v":70},{"$f":"$S$7","v":71},{"$f":"$T$7","v":72},{"$f":"$U$7","v":73},{"$f":"$V$7","v":74},null,1,2,7,9,11,14,26,28,32,35,37,38,39,41,44,51,52,56,58,59,60,61,62,63,64,65,66,67,68,69,70,71,72,73,74,75,76,79,80,82,88,90,91,92,93,94,95,97,98,99]
[null,"Se 16 = ",null,{"$f":"SUM(COUNTIF($J$17:$J$3762,16))","v":0},null,{"$f":"SUM(D24*25)","v":0},null,null,null,10,"8º",1,2,7,9,11,14,26,37,41,44,51,52,56,61,62,75,76,79,80,82,94,95,97,98,99,28,32,35,38,39,58,59,60,63,64,{"$f":"$R$14","v":88},{"$f":"$S$14","v":90},{"$f":"$T$14","v":91},{"$f":"$U$14","v":92},{"$f":"$V$14","v":93},{"$f":"$R$7","v":70},{"$f":"$S$7","v":71},{"$f":"$T$7","v":72},{"$f":"$U$7","v":73},{"$f":"$V$7","v":74},{"$f":"$R$6","v":3},{"$f":"$S$6","v":6},{"$f":"$T$6","v":8},{"$f":"$U$6","v":17},{"$f":"$V$6","v":20},null,1,2,3,6,7,8,9,11,14,17,20,26,28,32,35,37,38,39,41,44,51,52,56,58,59,60,61,62,63,64,70,71,72,73,74,75,76,79,80,82,88,90,91,92,93,94,95,97,98,99]
[null,"Se 15= ",null,{"$f":"SUM(COUNTIF($J$17:$J$3762,15))","v":0},null,{"$f":"SUM(D25*5)","v":0},null,null,null,9,"9º",1,2,7,9,11,14,26,37,41,44,51,52,56,61,62,75,76,79,80,82,94,95,97,98,99,28,32,35,38,39,58,59,60,63,64,{"$f":"$R$13","v":65},{"$f":"$S$13","v":66},{"$f":"$T$13","v":67},{"$f":"$U$13","v":68},{"$f":"$V$13","v":69},{"$f":"$R$11","v":78},{"$f":"$S$11","v":84},{"$f":"$T$11","v":85},{"$f":"$U$11","v":86},{"$f":"$V$11","v":87},{"$f":"$R$7","v":70},{"$f":"$S$7","v":71},{"$f":"$T$7","v":72},{"$f":"$U$7","v":73},{"$f":"$V$7","v":74},null,1,2,7,9,11,14,26,28,32,35,37,38,39,41,44,51,52,56,58,59,60,61,62,63,64,65,66,67,68,69,70,71,72,73,74,75,76,78,79,80,82,84,85,86,87,94,95,97,98,99]
[null,"Se 14= ",null,{"$f":"SUM(COUNTIF($J$17:$J$3762,14))","v":0},null,{"$f":"COUNT($M$13:$M$728)","v":42},null,null,null,10,"10º",1,2,7,9,11,14,26,37,41,44,51,52,56,61,62,75,76,79,80,82,94,95,97,98,99,28,32,35,38,39,58,59,60,63,64,{"$f":"$R$13","v":65},{"$f":"$S$13","v":66},{"$f":"$T$13","v":67},{"$f":"$U$13","v":68},{"$f":"$V$13","v":69},{"$f":"$R$11","v":78},{"$f":"$S$11","v":84},{"$f":"$T$11","v":85},{"$f":"$U$11","v":86},{"$f":"$V$11","v":87},{"$f":"$R$6","v":3},{"$f":"$S$6","v":6},{"$f":"$T$6","v":8},{"$f":"$U$6","v":17},{"$f":"$V$6","v":20},null,1,2,3,6,7,8,9,11,14,17,20,26,28,32,35,37,38,39,41,44,51,52,56,58,59,60,61,62,63,64,65,66,67,68,69,75,76,78,79,80,82,84,85,86,87,94,95,97,98,99]
[null,"Se 13= ",null,{"$f":"SUM(COUNTIF($J$17:$J$3762,13))","v":2},null,{"$f":"SUM(-F26*1.5)","v":-63},null,null,null,10,"11º",1,2,7,9,11,14,26,37,41,44,51,52,56,61,62,75,76,79,80,82,94,95,97,98,99,28,32,35,38,39,58,59,60,63,64,{"$f":"$R$13","v":65},{"$f":"$S$13","v":66},{"$f":"$T$13","v":67},{"$f":"$U$13","v":68},{"$f":"$V$13","v":69},{"$f":"$R$7","v":70},{"$f":"$S$7","v":71},{"$f":"$T$7","v":72},{"$f":"$U$7","v":73},{"$f":"$V$7","v":74},{"$f":"$R$6","v":3},{"$f":"$S$6","v":6},{"$f":"$T$6","v":8},{"$f":"$U$6","v":17},{"$f":"$V$6","v":20},null,1,2,3,6,7,8,9,11,14,17,20,26,28,32,35,37,38,39,41,44,51,52,56,58,59,60,61,62,63,64,65,66,67,68,69,70,71,72,73,74,75,76,79,80,82,94,95,97,98,99]
[null,"Se 12= ",null,{"$f":"SUM(COUNTIF($J$17:$J$3762,12))","v":3},null,null,null,null,null,10,"12º",1,2,7,9,11,14,26,37,41,44,51,52,56,61,62,75,76,79,80,82,94,95,97,98,99,28,32,35,38,39,58,59,60,63,64,{"$f":"$R$11","v":78},{"$f":"$S$11","v":84},{"$f":"$T$11","v":85},{"$f":"$U$11","v":86},{"$f":"$V$11","v":87},{"$f":"$R$7","v":70},{"$f":"$S$7","v":71},{"$f":"$T$7","v":72},{"$f":"$U$7","v":73},{"$f":"$V$7","v":74},{"$f":"$R$6","v":3},{"$f":"$S$6","v":6},{"$f":"$T$6","v":8},{"$f":"$U$6","v":17},{"$f":"$V$6","v":20},null,1,2,3,6,7,8,9,11,14,17,20,26,28,32,35,37,38,39,41,44,51,52,56,58,59,60,61,62,63,64,70,71,72,73,74,75,76,78,79,80,82,84,85,86,87,94,95,97,98,99]
[null,"Se 11= ",null,{"$f":"SUM(COUNTIF($J$17:$J$3762,11))","v":10},null,{"$f":"SUM(F20:G25)+F40","v":0},null,null,null,11,"13º",1,2,7,9,11,14,26,37,41,44,51,52,56,61,62,75,76,79,80,82,94,95,97,98,99,{"$f":"$R$10","v":40},{"$f":"$S$10","v":48},{"$f":"$T$10","v":53},{"$f":"$U$10","v":55},{"$f":"$V$10","v":57},58,59,60,63,64,{"$f":"$R$12","v":21},{"$f":"$S$12","v":22},{"$f":"$T$12","v":24},{"$f":"$U$12","v":25},{"$f":"$V$12","v":27},{"$f":"$R$11","v":78},{"$f":"$S$11","v":84},{"$f":"$T$11","v":85},{"$f":"$U$11","v":86},{"$f":"$V$11","v":87},{"$f":"$R$6","v":3},{"$f":"$S$6","v":6},{"$f":"$T$6","v":8},{"$f":"$U$6","v":17},{"$f":"$V$6","v":20},null,1,2,3,6,7,8,9,11,14,17,20,21,22,24,25,26,27,37,40,41,44,48,51,52,53,55,56,57,58,59,60,61,62,63,64,75,76,78,79,80,82,84,85,86,87,94,95,97,98,99]
[null,"de 10 = ",null,{"$f":"SUM(COUNTIF($J$17:$J$3762,10))","v":9},null,"Conferidor baseado na premiação\npaga concurso 1851",null,null,null,11,"14º",1,2,7,9,11,14,26,37,41,44,51,52,56,61,62,75,76,79,80,82,94,95,97,98,99,40,48,53,55,57,58,59,60,63,64,{"$f":"$R$12","v":21},{"$f":"$S$12","v":22},{"$f":"$T$12","v":24},{"$f":"$U$12","v":25},{"$f":"$V$12","v":27},{"$f":"$R$7","v":70},{"$f":"$S$7","v":71},{"$f":"$T$7","v":72},{"$f":"$U$7","v":73},{"$f":"$V$7","v":74},{"$f":"$R$6","v":3},{"$f":"$S$6","v":6},{"$f":"$T$6","v":8},{"$f":"$U$6","v":17},{"$f":"$V$6","v":20},null,1,2,3,6,7,8,9,11,14,17,20,21,22,24,25,26,27,37,40,41,44,48,51,52,53,55,56,57,58,59,60,61,62,63,64,70,71,72,73,74,75,76,79,80,82,94,95,97,98,99]
[null,"de 09 = ",null,{"$f":"SUM(COUNTIF($J$17:$J$3762,9))","v":10},null,null,null,null,null,8,"15º",1,2,7,9,11,14,26,37,41,44,51,52,56,61,62,75,76,79,80,82,94,95,97,98,99,40,48,53,55,57,58,59,60,63,64,{"$f":"$R$14","v":88},{"$f":"$S$14","v":90},{"$f":"$T$14","v":91},{"$f":"$U$14","v":92},{"$f":"$V$14","v":93},{"$f":"$R$13","v":65},{"$f":"$S$13","v":66},{"$f":"$T$13","v":67},{"$f":"$U$13","v":68},{"$f":"$V$13","v":69},{"$f":"$R$11","v":78},{"$f":"$S$11","v":84},{"$f":"$T$11","v":85},{"$f":"$U$11","v":86},{"$f":"$V$11","v":87},null,1,2,7,9,11,14,26,37,40,41,44,48,51,52,53,55,56,57,58,59,60,61,62,63,64,65,66,67,68,69,75,76,78,79,80,82,84,85,86,87,88,90,91,92,93,94,95,97,98,99]
[null,"de 08 = ",null,{"$f":"SUM(COUNTIF($J$17:$J$3762,8))","v":6},null,null,null,null,null,8,"16º",1,2,7,9,11,14,26,37,41,44,51,52,56,61,62,75,76,79,80,82,94,95,97,98,99,40,48,53,55,57,58,59,60,63,64,{"$f":"$R$14","v":88},{"$f":"$S$14","v":90},{"$f":"$T$14","v":91},{"$f":"$U$14","v":92},{"$f":"$V$14","v":93},{"$f":"$R$13","v":65},{"$f":"$S$13","v":66},{"$f":"$T$13","v":67},{"$f":"$U$13","v":68},{"$f":"$V$13","v":69},{"$f":"$R$7","v":70},{"$f":"$S$7","v":71},{"$f":"$T$7","v":72},{"$f":"$U$7","v":73},{"$f":"$V$7","v":74},null,1,2,7,9,11,14,26,37,40,41,44,48,51,52,53,55,56,57,58,59,60,61,62,63,64,65,66,67,68,69,70,71,72,73,74,75,76,79,80,82,88,90,91,92,93,94,95,97,98,99]
[null,"de 07 = ",null,{"$f":"SUM(COUNTIF($J$17:$J$3762,7))","v":0},null,null,null,null,null,8,"17º",1,2,7,9,11,14,26,37,41,44,51,52,56,61,62,75,76,79,80,82,94,95,97,98,99,40,48,53,55,57,58,59,60,63,64,{"$f":"$R$14","v":88},{"$f":"$S$14","v":90},{"$f":"$T$14","v":91},{"$f":"$U$14","v":92},{"$f":"$V$14","v":93},{"$f":"$R$11","v":78},{"$f":"$S$11","v":84},{"$f":"$T$11","v":85},{"$f":"$U$11","v":86},{"$f":"$V$11","v":87},{"$f":"$R$7","v":70},{"$f":"$S$7","v":71},{"$f":"$T$7","v":72},{"$f":"$U$7","v":73},{"$f":"$V$7","v":74},null,1,2,7,9,11,14,26,37,40,41,44,48,51,52,53,55,56,57,58,59,60,61,62,63,64,70,71,72,73,74,75,76,78,79,80,82,84,85,86,87,88,90,91,92,93,94,95,97,98,99]
[null,"de 06 = ",null,{"$f":"SUM(COUNTIF($J$17:$J$3762,6))","v":0},null,null,null,null,null,9,"18º",1,2,7,9,11,14,26,37,41,44,51,52,56,61,62,75,76,79,80,82,94,95,97,98,99,40,48,53,55,57,58,59,60,63,64,{"$f":"$R$14","v":88},{"$f":"$S$14","v":90},{"$f":"$T$14","v":91},{"$f":"$U$14","v":92},{"$f":"$V$14","v":93},{"$f":"$R$7","v":70},{"$f":"$S$7","v":71},{"$f":"$T$7","v":72},{"$f":"$U$7","v":73},{"$f":"$V$7","v":74},{"$f":"$R$6","v":3},{"$f":"$S$6","v":6},{"$f":"$T$6","v":8},{"$f":"$U$6","v":17},{"$f":"$V$6","v":20},null,1,2,3,6,7,8,9,11,14,17,20,26,37,40,41,44,48,51,52,53,55,56,57,58,59,60,61,62,63,64,70,71,72,73,74,75,76,79,80,82,88,90,91,92,93,94,95,97,98,99]
[null,"de 05 = ",null,{"$f":"SUM(COUNTIF($J$17:$J$3762,5))","v":0},null,null,null,null,null,8,"19º",1,2,7,9,11,14,26,37,41,44,51,52,56,61,62,75,76,79,80,82,94,95,97,98,99,40,48,53,55,57,58,59,60,63,64,{"$f":"$R$13","v":65},{"$f":"$S$13","v":66},{"$f":"$T$13","v":67},{"$f":"$U$13","v":68},{"$f":"$V$13","v":69},{"$f":"$R$11","v":78},{"$f":"$S$11","v":84},{"$f":"$T$11","v":85},{"$f":"$U$11","v":86},{"$f":"$V$11","v":87},{"$f":"$R$7","v":70},{"$f":"$S$7","v":71},{"$f":"$T$7","v":72},{"$f":"$U$7","v":73},{"$f":"$V$7","v":74},null,1,2,7,9,11,14,26,37,40,41,44,48,51,52,53,55,56,57,58,59,60,61,62,63,64,65,66,67,68,69,70,71,72,73,74,75,76,78,79,80,82,84,85,86,87,94,95,97,98,99]
[null,"de 04 = ",null,{"$f":"SUM(COUNTIF($J$17:$J$3762,4))","v":0},null,null,null,null,null,9,"20º",1,2,7,9,11,14,26,37,41,44,51,52,56,61,62,75,76,79,80,82,94,95,97,98,99,40,48,53,55,57,58,59,60,63,64,{"$f":"$R$13","v":65},{"$f":"$S$13","v":66},{"$f":"$T$13","v":67},{"$f":"$U$13","v":68},{"$f":"$V$13","v":69},{"$f":"$R$11","v":78},{"$f":"$S$11","v":84},{"$f":"$T$11","v":85},{"$f":"$U$11","v":86},{"$f":"$V$11","v":87},{"$f":"$R$6","v":3},{"$f":"$S$6","v":6},{"$f":"$T$6","v":8},{"$f":"$U$6","v":17},{"$f":"$V$6","v":20},null,1,2,3,6,7,8,9,11,14,17,20,26,37,40,41,44,48,51,52,53,55,56,57,58,59,60,61,62,63,64,65,66,67,68,69,75,76,78,79,80,82,84,85,86,87,94,95,97,98,99]
[null,"de 03 = ",null,{"$f":"SUM(COUNTIF($J$17:$J$3762,3))","v":0},null,null,null,null,null,9,"21º",1,2,7,9,11,14,26,37,41,44,51,52,56,61,62,75,76,79,80,82,94,95,97,98,99,40,48,53,55,57,58,59,60,63,64,{"$f":"$R$13","v":65},{"$f":"$S$13","v":66},{"$f":"$T$13","v":67},{"$f":"$U$13","v":68},{"$f":"$V$13","v":69},{"$f":"$R$7","v":70},{"$f":"$S$7","v":71},{"$f":"$T$7","v":72},{"$f":"$U$7","v":73},{"$f":"$V$7","v":74},{"$f":"$R$6","v":3},{"$f":"$S$6","v":6},{"$f":"$T$6","v":8},{"$f":"$U$6","v":17},{"$f":"$V$6","v":20},null,1,2,3,6,7,8,9,11,14,17,20,26,37,40,41,44,48,51,52,53,55,56,57,58,59,60,61,62,63,64,65,66,67,68,69,70,71,72,73,74,75,76,79,80,82,94,95,97,98,99]
[null,"de 02 = ",null,{"$f":"SUM(COUNTIF($J$17:$J$3762,2))","v":0},null,null,null,null,null,9,"22º",1,2,7,9,11,14,26,37,41,44,51,52,56,61,62,75,76,79,80,82,94,95,97,98,99,40,48,53,55,57,58,59,60,63,64,{"$f":"$R$11","v":78},{"$f":"$S$11","v":84},{"$f":"$T$11","v":85},{"$f":"$U$11","v":86},{"$f":"$V$11","v":87},{"$f":"$R$7","v":70},{"$f":"$S$7","v":71},{"$f":"$T$7","v":72},{"$f":"$U$7","v":73},{"$f":"$V$7","v":74},{"$f":"$R$6","v":3},{"$f":"$S$6","v":6},{"$f":"$T$6","v":8},{"$f":"$U$6","v":17},{"$f":"$V$6","v":20},null,1,2,3,6,7,8,9,11,14,17,20,26,37,40,41,44,48,51,52,53,55,56,57,58,59,60,61,62,63,64,70,71,72,73,74,75,76,78,79,80,82,84,85,86,87,94,95,97,98,99]
[null,"de 01 = ",null,{"$f":"SUM(COUNTIF($J$17:$J$3762,1))","v":0},null,null,null,null,null,10,"23º",1,2,7,9,11,14,26,37,41,44,51,52,56,61,62,75,76,79,80,82,94,95,97,98,99,40,48,53,55,57,{"$f":"$R$12","v":21},{"$f":"$S$12","v":22},{"$f":"$T$12","v":24},{"$f":"$U$12","v":25},{"$f":"$V$12","v":27},{"$f":"$R$14","v":88},{"$f":"$S$14","v":90},{"$f":"$T$14","v":91},{"$f":"$U$14","v":92},{"$f":"$V$14","v":93},{"$f":"$R$11","v":78},{"$f":"$S$11","v":84},{"$f":"$T$11","v":85},{"$f":"$U$11","v":86},{"$f":"$V$11","v":87},{"$f":"$R$7","v":70},{"$f":"$S$7","v":71},{"$f":"$T$7","v":72},{"$f":"$U$7","v":73},{"$f":"$V$7","v":74},null,1,2,7,9,11,14,21,22,24,25,26,27,37,40,41,44,48,51,52,53,55,56,57,61,62,70,71,72,73,74,75,76,78,79,80,82,84,85,86,87,88,90,91,92,93,94,95,97,98,99]
[null,"de 00 = ",null,{"$f":"SUM(COUNTIF($J$17:$J$3762,0))","v":0},null,{"$f":"IF(D40=1,70000,0)","v":0},null,null,null,11,"24º",1,2,7,9,11,14,26,37,41,44,51,52,56,61,62,75,76,79,80,82,94,95,97,98,99,40,48,53,55,57,{"$f":"$R$12","v":21},{"$f":"$S$12","v":22},{"$f":"$T$12","v":24},{"$f":"$U$12","v":25},{"$f":"$V$12","v":27},{"$f":"$R$14","v":88},{"$f":"$S$14","v":90},{"$f":"$T$14","v":91},{"$f":"$U$14","v":92},{"$f":"$V$14","v":93},{"$f":"$R$11","v":78},{"$f":"$S$11","v":84},{"$f":"$T$11","v":85},{"$f":"$U$11","v":86},{"$f":"$V$11","v":87},{"$f":"$R$6","v":3},{"$f":"$S$6","v":6},{"$f":"$T$6","v":8},{"$f":"$U$6","v":17},{"$f":"$V$6","v":20},null,1,2,3,6,7,8,9,11,14,17,20,21,22,24,25,26,27,37,40,41,44,48,51,52,53,55,56,57,61,62,75,76,78,79,80,82,84,85,86,87,88,90,91,92,93,94,95,97,98,99]
[null,null,null,null,null,null,null,null,null,11,"25º",1,2,7,9,11,14,26,37,41,44,51,52,56,61,62,75,76,79,80,82,94,95,97,98,99,40,48,53,55,57,{"$f":"$R$12","v":21},{"$f":"$S$12","v":22},{"$f":"$T$12","v":24},{"$f":"$U$12","v":25},{"$f":"$V$12","v":27},{"$f":"$R$14","v":88},{"$f":"$S$14","v":90},{"$f":"$T$14","v":91},{"$f":"$U$14","v":92},{"$f":"$V$14","v":93},{"$f":"$R$7","v":70},{"$f":"$S$7","v":71},{"$f":"$T$7","v":72},{"$f":"$U$7","v":73},{"$f":"$V$7","v":74},{"$f":"$R$6","v":3},{"$f":"$S$6","v":6},{"$f":"$T$6","v":8},{"$f":"$U$6","v":17},{"$f":"$V$6","v":20},null,1,2,3,6,7,8,9,11,14,17,20,21,22,24,25,26,27,37,40,41,44,48,51,52,53,55,56,57,61,62,70,71,72,73,74,75,76,79,80,82,88,90,91,92,93,94,95,97,98,99]
[null,null,null,null,null,null,null,null,null,11,"26º",1,2,7,9,11,14,26,37,41,44,51,52,56,61,62,75,76,79,80,82,94,95,97,98,99,40,48,53,55,57,{"$f":"$R$12","v":21},{"$f":"$S$12","v":22},{"$f":"$T$12","v":24},{"$f":"$U$12","v":25},{"$f":"$V$12","v":27},{"$f":"$R$11","v":78},{"$f":"$S$11","v":84},{"$f":"$T$11","v":85},{"$f":"$U$11","v":86},{"$f":"$V$11","v":87},{"$f":"$R$7","v":70},{"$f":"$S$7","v":71},{"$f":"$T$7","v":72},{"$f":"$U$7","v":73},{"$f":"$V$7","v":74},{"$f":"$R$6","v":3},{"$f":"$S$6","v":6},{"$f":"$T$6","v":8},{"$f":"$U$6","v":17},{"$f":"$V$6","v":20},null,1,2,3,6,7,8,9,11,14,17,20,21,22,24,25,26,27,37,40,41,44,48,51,52,53,55,56,57,61,62,70,71,72,73,74,75,76,78,79,80,82,84,85,86,87,94,95,97,98,99]
[null,null,null,null,null,null,null,null,null,8,"27º",1,2,7,9,11,14,26,37,41,44,51,52,56,61,62,75,76,79,80,82,{"$f":"$R$9","v":28},{"$f":"$S$9","v":32},{"$f":"$T$9","v":35},{"$f":"$U$9","v":38},{"$f":"$V$9","v":39},40,48,53,55,57,{"$f":"$R$5","v":58},{"$f":"$S$5","v":59},{"$f":"$T$5","v":60},{"$f":"$U$5","v":63},{"$f":"$V$5","v":64},{"$f":"$R$14","v":88},{"$f":"$S$14","v":90},{"$f":"$T$14","v":91},{"$f":"$U$14","v":92},{"$f":"$V$14","v":93},{"$f":"$R$13","v":65},{"$f":"$S$13","v":66},{"$f":"$T$13","v":67},{"$f":"$U$13","v":68},{"$f":"$V$13","v":69},{"$f":"$R$7","v":70},{"$f":"$S$7","v":71},{"$f":"$T$7","v":72},{"$f":"$U$7","v":73},{"$f":"$V$7","v":74},null,1,2,7,9,11,14,26,28,32,35,37,38,39,40,41,44,48,51,52,53,55,56,57,58,59,60,61,62,63,64,65,66,67,68,69,70,71,72,73,74,75,76,79,80,82,88,90,91,92,93]
[null,null,null,null,null,null,null,null,null,9,"28º",1,2,7,9,11,14,26,37,41,44,51,52,56,61,62,75,76,79,80,82,28,32,35,38,39,40,48,53,55,57,{"$f":"$R$5","v":58},{"$f":"$S$5","v":59},{"$f":"$T$5","v":60},{"$f":"$U$5","v":63},{"$f":"$V$5","v":64},{"$f":"$R$14","v":88},{"$f":"$S$14","v":90},{"$f":"$T$14","v":91},{"$f":"$U$14","v":92},{"$f":"$V$14","v":93},{"$f":"$R$7","v":70},{"$f":"$S$7","v":71},{"$f":"$T$7","v":72},{"$f":"$U$7","v":73},{"$f":"$V$7","v":74},{"$f":"$R$6","v":3},{"$f":"$S$6","v":6},{"$f":"$T$6","v":8},{"$f":"$U$6","v":17},{"$f":"$V$6","v":20},null,1,2,3,6,7,8,9,11,14,17,20,26,28,32,35,37,38,39,40,41,44,48,51,52,53,55,56,57,58,59,60,61,62,63,64,70,71,72,73,74,75,76,79,80,82,88,90,91,92,93]
[null,null,null,null,null,null,null,null,null,9,"29º",1,2,7,9,11,14,26,37,41,44,51,52,56,61,62,75,76,79,80,82,28,32,35,38,39,40,48,53,55,57,{"$f":"$R$5","v":58},{"$f":"$S$5","v":59},{"$f":"$T$5","v":60},{"$f":"$U$5","v":63},{"$f":"$V$5","v":64},{"$f":"$R$13","v":65},{"$f":"$S$13","v":66},{"$f":"$T$13","v":67},{"$f":"$U$13","v":68},{"$f":"$V$13","v":69},{"$f":"$R$11","v":78},{"$f":"$S$11","v":84},{"$f":"$T$11","v":85},{"$f":"$U$11","v":86},{"$f":"$V$11","v":87},3,6,8,17,20,null,1,2,3,6,7,8,9,11,14,17,20,26,28,32,35,37,38,39,40,41,44,48,51,52,53,55,56,57,58,59,60,61,62,63,64,65,66,67,68,69,75,76,78,79,80,82,84,85,86,87]
[null,null,null,null,null,null,null,null,null,9,"30º",1,2,7,9,11,14,26,37,41,44,51,52,56,61,62,75,76,79,80,82,28,32,35,38,39,40,48,53,55,57,{"$f":"$R$5","v":58},{"$f":"$S$5","v":59},{"$f":"$T$5","v":60},{"$f":"$U$5","v":63},{"$f":"$V$5","v":64},{"$f":"$R$13","v":65},{"$f":"$S$13","v":66},{"$f":"$T$13","v":67},{"$f":"$U$13","v":68},{"$f":"$V$13","v":69},{"$f":"$R$7","v":70},{"$f":"$S$7","v":71},{"$f":"$T$7","v":72},{"$f":"$U$7","v":73},{"$f":"$V$7","v":74},3,6,8,17,20,null,1,2,3,6,7,8,9,11,14,17,20,26,28,32,35,37,38,39,40,41,44,48,51,52,53,55,56,57,58,59,60,61,62,63,64,65,66,67,68,69,70,71,72,73,74,75,76,79,80,82]
[null,null,null,null,null,null,null,null,null,11,"31º",1,2,7,9,11,14,26,37,41,44,51,52,56,61,62,75,76,79,80,82,28,32,35,38,39,40,48,53,55,57,{"$f":"$R$12","v":21},{"$f":"$S$12","v":22},{"$f":"$T$12","v":24},{"$f":"$U$12","v":25},{"$f":"$V$12","v":27},{"$f":"$R$14","v":88},{"$f":"$S$14","v":90},{"$f":"$T$14","v":91},{"$f":"$U$14","v":92},{"$f":"$V$14","v":93},{"$f":"$R$11","v":78},{"$f":"$S$11","v":84},{"$f":"$T$11","v":85},{"$f":"$U$11","v":86},{"$f":"$V$11","v":87},3,6,8,17,20,null,1,2,3,6,7,8,9,11,14,17,20,21,22,24,25,26,27,28,32,35,37,38,39,40,41,44,48,51,52,53,55,56,57,61,62,75,76,78,79,80,82,84,85,86,87,88,90,91,92,93]
[null,null,null,null,null,null,null,null,null,11,"32º",1,2,7,9,11,14,26,37,41,44,51,52,56,61,62,75,76,79,80,82,28,32,35,38,39,40,48,53,55,57,21,22,24,25,27,{"$f":"$R$14","v":88},{"$f":"$S$14","v":90},{"$f":"$T$14","v":91},{"$f":"$U$14","v":92},{"$f":"$V$14","v":93},{"$f":"$R$7","v":70},{"$f":"$S$7","v":71},{"$f":"$T$7","v":72},{"$f":"$U$7","v":73},{"$f":"$V$7","v":74},3,6,8,17,20,null,1,2,3,6,7,8,9,11,14,17,20,21,22,24,25,26,27,28,32,35,37,38,39,40,41,44,48,51,52,53,55,56,57,61,62,70,71,72,73,74,75,76,79,80,82,88,90,91,92,93]
[null,null,null,null,null,null,null,null,null,11,"33º",1,2,7,9,11,14,26,37,41,44,51,52,56,61,62,75,76,79,80,82,28,32,35,38,39,40,48,53,55,57,21,22,24,25,27,{"$f":"$R$13","v":65},{"$f":"$S$13","v":66},{"$f":"$T$13","v":67},{"$f":"$U$13","v":68},{"$f":"$V$13","v":69},{"$f":"$R$11","v":78},{"$f":"$S$11","v":84},{"$f":"$T$11","v":85},{"$f":"$U$11","v":86},{"$f":"$V$11","v":87},3,6,8,17,20,null,1,2,3,6,7,8,9,11,14,17,20,21,22,24,25,26,27,28,32,35,37,38,39,40,41,44,48,51,52,53,55,56,57,61,62,65,66,67,68,69,75,76,78,79,80,82,84,85,86,87]
[null,null,null,null,null,null,null,null,null,11,"34º",1,2,7,9,11,14,26,37,41,44,51,52,56,61,62,75,76,79,80,82,28,32,35,38,39,40,48,53,55,57,21,22,24,25,27,{"$f":"$R$11","v":78},{"$f":"$S$11","v":84},{"$f":"$T$11","v":85},{"$f":"$U$11","v":86},{"$f":"$V$11","v":87},{"$f":"$R$7","v":70},{"$f":"$S$7","v":71},{"$f":"$T$7","v":72},{"$f":"$U$7","v":73},{"$f":"$V$7","v":74},3,6,8,17,20,null,1,2,3,6,7,8,9,11,14,17,20,21,22,24,25,26,27,28,32,35,37,38,39,40,41,44,48,51,52,53,55,56,57,61,62,70,71,72,73,74,75,76,78,79,80,82,84,85,86,87]
[null,null,null,null,null,null,null,null,null,10,"35º",1,2,7,9,11,14,26,37,41,44,51,52,56,61,62,75,76,79,80,82,28,32,35,38,39,{"$f":"$R$5","v":58},{"$f":"$S$5","v":59},{"$f":"$T$5","v":60},{"$f":"$U$5","v":63},{"$f":"$V$5","v":64},21,22,24,25,27,{"$f":"$R$14","v":88},{"$f":"$S$14","v":90},{"$f":"$T$14","v":91},{"$f":"$U$14","v":92},{"$f":"$V$14","v":93},{"$f":"$R$7","v":70},{"$f":"$S$7","v":71},{"$f":"$T$7","v":72},{"$f":"$U$7","v":73},{"$f":"$V$7","v":74},3,6,8,17,20,null,1,2,3,6,7,8,9,11,14,17,20,21,22,24,25,26,27,28,32,35,37,38,39,41,44,51,52,56,58,59,60,61,62,63,64,70,71,72,73,74,75,76,79,80,82,88,90,91,92,93]
[null,null,null,null,null,null,null,null,null,9,"36º",1,2,7,9,11,14,26,37,41,44,51,52,56,61,62,75,76,79,80,82,28,32,35,38,39,58,59,60,63,64,21,22,24,25,27,{"$f":"$R$13","v":65},{"$f":"$S$13","v":66},{"$f":"$T$13","v":67},{"$f":"$U$13","v":68},{"$f":"$V$13","v":69},{"$f":"$R$11","v":78},{"$f":"$S$11","v":84},{"$f":"$T$11","v":85},{"$f":"$U$11","v":86},{"$f":"$V$11","v":87},{"$f":"$R$7","v":70},{"$f":"$S$7","v":71},{"$f":"$T$7","v":72},{"$f":"$U$7","v":73},{"$f":"$V$7","v":74},null,1,2,7,9,11,14,21,22,24,25,26,27,28,32,35,37,38,39,41,44,51,52,56,58,59,60,61,62,63,64,65,66,67,68,69,70,71,72,73,74,75,76,78,79,80,82,84,85,86,87]
[null,null,null,null,null,null,null,null,null,10,"37º",1,2,7,9,11,14,26,37,41,44,51,52,56,61,62,75,76,79,80,82,28,32,35,38,39,58,59,60,63,64,21,22,24,25,27,{"$f":"$R$13","v":65},{"$f":"$S$13","v":66},{"$f":"$T$13","v":67},{"$f":"$U$13","v":68},{"$f":"$V$13","v":69},{"$f":"$R$11","v":78},{"$f":"$S$11","v":84},{"$f":"$T$11","v":85},{"$f":"$U$11","v":86},{"$f":"$V$11","v":87},{"$f":"$R$6","v":3},{"$f":"$S$6","v":6},{"$f":"$T$6","v":8},{"$f":"$U$6","v":17},{"$f":"$V$6","v":20},null,1,2,3,6,7,8,9,11,14,17,20,21,22,24,25,26,27,28,32,35,37,38,39,41,44,51,52,56,58,59,60,61,62,63,64,65,66,67,68,69,75,76,78,79,80,82,84,85,86,87]
[null,null,null,null,null,null,null,null,null,10,"38º",1,2,7,9,11,14,26,37,41,44,51,52,56,61,62,75,76,79,80,82,28,32,35,38,39,58,59,60,63,64,21,22,24,25,27,{"$f":"$R$13","v":65},{"$f":"$S$13","v":66},{"$f":"$T$13","v":67},{"$f":"$U$13","v":68},{"$f":"$V$13","v":69},{"$f":"$R$7","v":70},{"$f":"$S$7","v":71},{"$f":"$T$7","v":72},{"$f":"$U$7","v":73},{"$f":"$V$7","v":74},{"$f":"$R$6","v":3},{"$f":"$S$6","v":6},{"$f":"$T$6","v":8},{"$f":"$U$6","v":17},{"$f":"$V$6","v":20},null,1,2,3,6,7,8,9,11,14,17,20,21,22,24,25,26,27,28,32,35,37,38,39,41,44,51,52,56,58,59,60,61,62,63,64,65,66,67,68,69,70,71,72,73,74,75,76,79,80,82]
[null,null,null,null,null,null,null,null,null,10,"39º",1,2,7,9,11,14,26,37,41,44,51,52,56,61,62,75,76,79,80,82,28,32,35,38,39,58,59,60,63,64,21,22,24,25,27,{"$f":"$R$11","v":78},{"$f":"$S$11","v":84},{"$f":"$T$11","v":85},{"$f":"$U$11","v":86},{"$f":"$V$11","v":87},{"$f":"$R$7","v":70},{"$f":"$S$7","v":71},{"$f":"$T$7","v":72},{"$f":"$U$7","v":73},{"$f":"$V$7","v":74},{"$f":"$R$6","v":3},{"$f":"$S$6","v":6},{"$f":"$T$6","v":8},{"$f":"$U$6","v":17},{"$f":"$V$6","v":20},null,1,2,3,6,7,8,9,11,14,17,20,21,22,24,25,26,27,28,32,35,37,38,39,41,44,51,52,56,58,59,60,61,62,63,64,70,71,72,73,74,75,76,78,79,80,82,84,85,86,87]
[null,null,null,null,null,null,null,null,null,8,"40º",1,2,7,9,11,14,26,37,41,44,51,52,56,61,62,75,76,79,80,82,28,32,35,38,39,58,59,60,63,64,{"$f":"$R$14","v":88},{"$f":"$S$14","v":90},{"$f":"$T$14","v":91},{"$f":"$U$14","v":92},{"$f":"$V$14","v":93},{"$f":"$R$13","v":65},{"$f":"$S$13","v":66},{"$f":"$T$13","v":67},{"$f":"$U$13","v":68},{"$f":"$V$13","v":69},{"$f":"$R$7","v":70},{"$f":"$S$7","v":71},{"$f":"$T$7","v":72},{"$f":"$U$7","v":73},{"$f":"$V$7","v":74},{"$f":"$R$6","v":3},{"$f":"$S$6","v":6},{"$f":"$T$6","v":8},{"$f":"$U$6","v":17},{"$f":"$V$6","v":20},null,1,2,3,6,7,8,9,11,14,17,20,26,28,32,35,37,38,39,41,44,51,52,56,58,59,60,61,62,63,64,65,66,67,68,69,70,71,72,73,74,75,76,79,80,82,88,90,91,92,93]
[null,null,null,null,null,null,null,null,null,null,null,1,2,3,4,5,6,7,8,9,10,11,12,13,14,15,16,17,18,19,20,21,22,23,24,25,26,27,28,29,30,31,32,33,34,35,36,37,38,39,40,41,42,43,44,45,46,47,48,49,50]

{"sheet":"20Fx30Fr=12","index":3,"n_rows":40,"n_cols":112,"rows_kept":40,"cut":false,"hidden":false,"merged":[[38,1,38,2],[38,3,38,4],[39,1,39,2],[39,3,39,4],[39,5,39,6],[35,1,35,2],[35,3,35,4],[36,1,36,2],[36,3,36,4],[37,1,37,2],[37,3,37,4],[28,1,28,2],[28,3,28,4],[28,5,28,6],[29,1,29,2],[29,3,29,4],[29,5,38,6],[30,1,30,2],[30,3,30,4],[31,1,31,2],[31,3,31,4],[32,1,32,2],[32,3,32,4],[33,1,33,2],[33,3,33,4],[34,1,34,2],[34,3,34,4],[25,1,25,2],[25,3,25,4],[25,5,25,6],[26,1,26,2],[26,3,26,4],[26,5,27,6],[27,1,27,2],[27,3,27,4],[23,1,23,2],[23,3,23,4],[23,5,23,6],[24,1,24,2],[24,3,24,4],[24,5,24,6],[21,1,21,2],[21,3,21,4],[21,5,21,6],[22,1,22,2],[22,3,22,4],[22,5,22,6],[20,1,20,2],[20,3,20,4],[20,5,20,6],[3,72,4,75],[15,1,15,2],[15,3,15,4],[15,7,15,8],[16,1,16,2],[16,3,16,4],[16,5,16,6],[17,1,18,4],[17,5,18,6],[19,1,19,2],[19,3,19,4],[19,5,19,6],[1,21,1,22],[1,1,2,2],[1,3,1,4],[1,5,1,16],[1,17,1,18],[1,19,1,20]]}
[]
["ByJ","\n\n\n\n\n\n\nByJNando",null,1870,null,"RESULTADO DO SORTEIO",null,null,null,null,null,null,null,null,null,null,null,{"$f":"SUMPRODUCT(COUNTIF($D$3:$W$3,D4:W4))","v":6},null,{"$f":"SUMPRODUCT(N(MOD((D3:W3),2)=0)*(D3:W3>0))","v":9},null,{"$f":"SUM(D3:W3)","v":754},null,null,null,null,null,null,null,null,null,null,null,null,null,null,null,null,null,null,null,null,null,null,null,null,null,null,{"$f":"Matrix!AH2","v":"X"},{"$f":"Matrix!AI2","v":"X"},{"$f":"Matrix!AJ2","v":3},{"$f":"Matrix!AK2","v":"F"},{"$f":"Matrix!AL2","v":"F"},{"$f":"Matrix!AM2","v":6},{"$f":"Matrix!AN2","v":"X"},{"$f":"Matrix!AO2","v":8},{"$f":"Matrix!AP2","v":"X"},{"$f":"Matrix!AQ2","v":"F"},null,"A","Veio no atual",null,null,null,null,{"$f":"$D$2","v":1870}]
["Nando",null,null,{"$f":"VLOOKUP($D$2,J!$A$3:$V$4000,3,FALSE)","v":0},{"$f":"VLOOKUP($D$2,J!$A$3:$V$4000,4,FALSE)","v":1},{"$f":"VLOOKUP($D$2,J!$A$3:$V$4000,5,FALSE)","v":3},{"$f":"VLOOKUP($D$2,J!$A$3:$V$4000,6,FALSE)","v":11},{"$f":"VLOOKUP($D$2,J!$A$3:$V$4000,7,FALSE)","v":12},{"$f":"VLOOKUP($D$2,J!$A$3:$V$4000,8,FALSE)","v":18},{"$f":"VLOOKUP($D$2,J!$A$3:$V$4000,9,FALSE)","v":21},{"$f":"VLOOKUP($D$2,J!$A$3:$V$4000,10,FALSE)","v":23},{"$f":"VLOOKUP($D$2,J!$A$3:$V$4000,11,FALSE)","v":25},{"$f":"VLOOKUP($D$2,J!$A$3:$V$4000,12,FALSE)","v":36},{"$f":"VLOOKUP($D$2,J!$A$3:$V$4000,13,FALSE)","v":38},{"$f":"VLOOKUP($D$2,J!$A$3:$V$4000,14,FALSE)","v":39},{"$f":"VLOOKUP($D$2,J!$A$3:$V$4000,15,FALSE)","v":40},{"$f":"VLOOKUP($D$2,J!$A$3:$V$4000,16,FALSE)","v":42},{"$f":"VLOOKUP($D$2,J!$A$3:$V$4000,17,FALSE)","v":44},{"$f":"VLOOKUP($D$2,J!$A$3:$V$4000,18,FALSE)","v":49},{"$f":"VLOOKUP($D$2,J!$A$3:$V$4000,19,FALSE)","v":79},{"$f":"VLOOKUP($D$2,J!$A$3:$V$4000,20,FALSE)","v":80},{"$f":"VLOOKUP($D$2,J!$A$3:$V$4000,21,FALSE)","v":95},{"$f":"VLOOKUP($D$2,J!$A$3:$V$4000,22,FALSE)","v":98},null,null,"ATENÇÃO!!! NÃO DIGITE  em lugar algum.",null,null,null,null,null,null,null,null,null,null,null,null,null,null,null,null,null,null,null,null,null,null,{"$f":"Matrix!AH3","v":"X"},{"$f":"Matrix!AI3","v":"F"},{"$f":"Matrix!AJ3","v":"F"},{"$f":"Matrix!AK3","v":"X"},{"$f":"Matrix!AL3","v":"F"},{"$f":"Matrix!AM3","v":"F"},{"$f":"Matrix!AN3","v":17},{"$f":"Matrix!AO3","v":"F"},{"$f":"Matrix!AP3","v":"F"},{"$f":"Matrix!AQ3","v":20},null,"A","Veio no anterior"]
[null,"\n\n\n\nByNando",null,{"$f":"VLOOKUP($D$2-1,J!$A$3:$V$4000,3,FALSE)","v":12},{"$f":"VLOOKUP($D$2-1,J!$A$3:$V$4000,4,FALSE)","v":13},{"$f":"VLOOKUP($D$2-1,J!$A$3:$V$4000,5,FALSE)","v":18},{"$f":"VLOOKUP($D$2-1,J!$A$3:$V$4000,6,FALSE)","v":20},{"$f":"VLOOKUP($D$2-1,J!$A$3:$V$4000,7,FALSE)","v":21},{"$f":"VLOOKUP($D$2-1,J!$A$3:$V$4000,8,FALSE)","v":26},{"$f":"VLOOKUP($D$2-1,J!$A$3:$V$4000,9,FALSE)","v":27},{"$f":"VLOOKUP($D$2-1,J!$A$3:$V$4000,10,FALSE)","v":30},{"$f":"VLOOKUP($D$2-1,J!$A$3:$V$4000,11,FALSE)","v":32},{"$f":"VLOOKUP($D$2-1,J!$A$3:$V$4000,12,FALSE)","v":33},{"$f":"VLOOKUP($D$2-1,J!$A$3:$V$4000,13,FALSE)","v":36},{"$f":"VLOOKUP($D$2-1,J!$A$3:$V$4000,14,FALSE)","v":41},{"$f":"VLOOKUP($D$2-1,J!$A$3:$V$4000,15,FALSE)","v":43},{"$f":"VLOOKUP($D$2-1,J!$A$3:$V$4000,16,FALSE)","v":48},{"$f":"VLOOKUP($D$2-1,J!$A$3:$V$4000,17,FALSE)","v":49},{"$f":"VLOOKUP($D$2-1,J!$A$3:$V$4000,18,FALSE)","v":65},{"$f":"VLOOKUP($D$2-1,J!$A$3:$V$4000,19,FALSE)","v":75},{"$f":"VLOOKUP($D$2-1,J!$A$3:$V$4000,20,FALSE)","v":83},{"$f":"VLOOKUP($D$2-1,J!$A$3:$V$4000,21,FALSE)","v":95},{"$f":"VLOOKUP($D$2-1,J!$A$3:$V$4000,22,FALSE)","v":96},null,null,null,null,null,null,null,null,null,null,null,null,null,null,null,null,null,null,null,null,null,null,null,null,null,{"$f":"Matrix!AH4","v":21},{"$f":"Matrix!AI4","v":22},{"$f":"Matrix!AJ4","v":"F"},{"$f":"Matrix!AK4","v":24},{"$f":"Matrix!AL4","v":25},{"$f":"Matrix!AM4","v":"X"},{"$f":"Matrix!AN4","v":27},{"$f":"Matrix!AO4","v":28},{"$f":"Matrix!AP4","v":"F"},{"$f":"Matrix!AQ4","v":"F"},null,"A","Veio no antipenultimo",null,null,null,null,null,null,"ByJ",null,"ByJ",null,"ByJ"," ͡͡ ° ͜ ʖ ͡ °   ♣"]
[null,"Quadro das VINDAS.",null,null,null,null,null,null,null,null,null,"&",null,null,null,"10a6",null,{"$f":"Matrix!AV2","v":58},{"$f":"Matrix!AW2","v":59},{"$f":"Matrix!AX2","v":60},{"$f":"Matrix!AY2","v":63},{"$f":"Matrix!AZ2","v":64},{"$f":"Matrix!BA2","v":32},"U",10,{"$f":"IF(AW2=\"F\",B6,\"\")","v":""},"","",4,5,"","","","",10,{"$f":"COUNTIF($AW$2:$BF$11,\"X\")","v":20},"X",{"$f":"IF(AW2=\"X\",B6,\"\")","v":1},2,"","","","",7,"",9,"",null,{"$f":"Matrix!AH5","v":"F"},{"$f":"Matrix!AI5","v":32},{"$f":"Matrix!AJ5","v":"F"},{"$f":"Matrix!AK5","v":"F"},{"$f":"Matrix!AL5","v":35},{"$f":"Matrix!AM5","v":"F"},{"$f":"Matrix!AN5","v":"X"},{"$f":"Matrix!AO5","v":38},{"$f":"Matrix!AP5","v":39},{"$f":"Matrix!AQ5","v":40},null,"A","Veio nos 3 últimos  sorteios",null,null,null,null,null,null,"Nando",null,"Nando",null,"Nando"]
[null,1,2,3,4,5,6,7,8,9,10,null,"A",null,null,"Vieram em",null,{"$f":"Matrix!AV3","v":3},{"$f":"Matrix!AW3","v":6},{"$f":"Matrix!AX3","v":8},{"$f":"Matrix!AY3","v":17},{"$f":"Matrix!AZ3","v":20},{"$f":"Matrix!BA3","v":31},"Z",9,"",12,13,"",15,16,"",18,19,""," = Fixos",null,11,"","",14,"","","","","","",null,{"$f":"Matrix!AH6","v":"X"},{"$f":"Matrix!AI6","v":"F"},{"$f":"Matrix!AJ6","v":"F"},{"$f":"Matrix!AK6","v":"X"},{"$f":"Matrix!AL6","v":"F"},{"$f":"Matrix!AM6","v":"F"},{"$f":"Matrix!AN6","v":"F"},{"$f":"Matrix!AO6","v":48},{"$f":"Matrix!AP6","v":"F"},{"$f":"Matrix!AQ6","v":"F"},null,"A","Veio nos 4 últimos  sorteios"]
[null,11,12,13,14,15,16,17,18,19,20,null,"A",null,null,{"$f":"SUM(\nIF(SUMPRODUCT(COUNTIF($D$3:$W$3,$R$5:$V$5)),1,0)+IF(SUMPRODUCT(COUNTIF($D$3:$W$3,$R$6:$V$6)),1,0)+IF(SUMPRODUCT(COUNTIF($D$3:$W$3,$R$7:$V$7)),1,0)+IF(SUMPRODUCT(COUNTIF($D$3:$W$3,$R$8:$V$8)),1,0)+IF(SUMPRODUCT(COUNTIF($D$3:$W$3,$R$9:$V$9)),1,0)+IF(SUMPRODUCT(COUNTIF($D$3:$W$3,$R$10:$V$10)),1,0)+IF(SUMPRODUCT(COUNTIF($D$3:$W$3,$R$11:$V$11)),1,0)+IF(SUMPRODUCT(COUNTIF($D$3:$W$3,$R$12:$V$12)),1,0)+IF(SUMPRODUCT(COUNTIF($D$3:$W$3,$R$13:$V$13)),1,0)+IF(SUMPRODUCT(COUNTIF($D$3:$W$3,$R$14:$V$14)),1,0)\n)&\"  Linhas\"","v":"5  Linhas"},null,{"$f":"Matrix!AV4","v":70},{"$f":"Matrix!AW4","v":71},{"$f":"Matrix!AX4","v":72},{"$f":"Matrix!AY4","v":73},{"$f":"Matrix!AZ4","v":74},{"$f":"Matrix!BA4","v":29},"Q",8,"","",23,"","","","","",29,30,null,null,"","","","","",26,"","","","",null,{"$f":"Matrix!AH7","v":"X"},{"$f":"Matrix!AI7","v":"X"},{"$f":"Matrix!AJ7","v":53},{"$f":"Matrix!AK7","v":"F"},{"$f":"Matrix!AL7","v":55},{"$f":"Matrix!AM7","v":"X"},{"$f":"Matrix!AN7","v":57},{"$f":"Matrix!AO7","v":58},{"$f":"Matrix!AP7","v":59},{"$f":"Matrix!AQ7","v":60},null,"A","Não veio está em atraso a + de 4 Sorteios"]
[null,21,22,23,24,25,26,27,28,29,30,null,"A",null,null,"Ideal é <= 6",null,{"$f":"Matrix!AV5","v":94},{"$f":"Matrix!AW5","v":95},{"$f":"Matrix!AX5","v":97},{"$f":"Matrix!AY5","v":98},{"$f":"Matrix!AZ5","v":99},{"$f":"Matrix!BA5","v":29},"X",8,31,"",33,34,"",36,"","","","",{"$f":"COUNTIF($AW$2:$BF$11,\"F\")","v":30},"F","","","","","","",37,"","","",null,{"$f":"Matrix!AH8","v":"X"},{"$f":"Matrix!AI8","v":"X"},{"$f":"Matrix!AJ8","v":63},{"$f":"Matrix!AK8","v":64},{"$f":"Matrix!AL8","v":65},{"$f":"Matrix!AM8","v":66},{"$f":"Matrix!AN8","v":67},{"$f":"Matrix!AO8","v":68},{"$f":"Matrix!AP8","v":69},{"$f":"Matrix!AQ8","v":70},null,{"$f":"COUNTIF($R$12:$T$14,\">0\")","v":9},"Quantidade de acertos setorial (MIOLO)",null,null,null,null,null,null,null,null,null,{"$f":"$D$2","v":1870},{"$f":"VLOOKUP($D$2,J!$A$3:$V$4000,3,FALSE)","v":0},{"$f":"VLOOKUP($D$2,J!$A$3:$V$4000,4,FALSE)","v":1},{"$f":"VLOOKUP($D$2,J!$A$3:$V$4000,5,FALSE)","v":3},{"$f":"VLOOKUP($D$2,J!$A$3:$V$4000,6,FALSE)","v":11},{"$f":"VLOOKUP($D$2,J!$A$3:$V$4000,7,FALSE)","v":12},{"$f":"VLOOKUP($D$2,J!$A$3:$V$4000,8,FALSE)","v":18},{"$f":"VLOOKUP($D$2,J!$A$3:$V$4000,9,FALSE)","v":21},{"$f":"VLOOKUP($D$2,J!$A$3:$V$4000,10,FALSE)","v":23},{"$f":"VLOOKUP($D$2,J!$A$3:$V$4000,11,FALSE)","v":25},{"$f":"VLOOKUP($D$2,J!$A$3:$V$4000,12,FALSE)","v":36},{"$f":"VLOOKUP($D$2,J!$A$3:$V$4000,13,FALSE)","v":38},{"$f":"VLOOKUP($D$2,J!$A$3:$V$4000,14,FALSE)","v":39},{"$f":"VLOOKUP($D$2,J!$A$3:$V$4000,15,FALSE)","v":40},{"$f":"VLOOKUP($D$2,J!$A$3:$V$4000,16,FALSE)","v":42},{"$f":"VLOOKUP($D$2,J!$A$3:$V$4000,17,FALSE)","v":44},{"$f":"VLOOKUP($D$2,J!$A$3:$V$4000,18,FALSE)","v":49},{"$f":"VLOOKUP($D$2,J!$A$3:$V$4000,19,FALSE)","v":79},{"$f":"VLOOKUP($D$2,J!$A$3:$V$4000,20,FALSE)","v":80},{"$f":"VLOOKUP($D$2,J!$A$3:$V$4000,21,FALSE)","v":95},{"$f":"VLOOKUP($D$2,J!$A$3:$V$4000,22,FALSE)","v":98}]
[null,31,32,33,34,35,36,37,38,39,40,null,"A",null,null,null,null,{"$f":"Matrix!AV6","v":28},{"$f":"Matrix!AW6","v":32},{"$f":"Matrix!AX6","v":35},{"$f":"Matrix!AY6","v":38},{"$f":"Matrix!AZ6","v":39},{"$f":"Matrix!BA6","v":29},"R",7,"",42,43,"",45,46,47,"",49,50," = Foras",null,41,"","",44,"","","","","","",null,{"$f":"Matrix!AH9","v":71},{"$f":"Matrix!AI9","v":72},{"$f":"Matrix!AJ9","v":73},{"$f":"Matrix!AK9","v":74},{"$f":"Matrix!AL9","v":"X"},{"$f":"Matrix!AM9","v":"X"},{"$f":"Matrix!AN9","v":"F"},{"$f":"Matrix!AO9","v":78},{"$f":"Matrix!AP9","v":"X"},{"$f":"Matrix!AQ9","v":"X"},null,null,null,null,null,null,null,null,null,null,null,null,{"$f":"BS8-1","v":1869},{"$f":"VLOOKUP($BS9,J!$A$3:$V$4000,3,FALSE)","v":12},{"$f":"VLOOKUP($BS9,J!$A$3:$V$4000,4,FALSE)","v":13},{"$f":"VLOOKUP($BS9,J!$A$3:$V$4000,5,FALSE)","v":18},{"$f":"VLOOKUP($BS9,J!$A$3:$V$4000,6,FALSE)","v":20},{"$f":"VLOOKUP($BS9,J!$A$3:$V$4000,7,FALSE)","v":21},{"$f":"VLOOKUP($BS9,J!$A$3:$V$4000,8,FALSE)","v":26},{"$f":"VLOOKUP($BS9,J!$A$3:$V$4000,9,FALSE)","v":27},{"$f":"VLOOKUP($BS9,J!$A$3:$V$4000,10,FALSE)","v":30},{"$f":"VLOOKUP($BS9,J!$A$3:$V$4000,11,FALSE)","v":32},{"$f":"VLOOKUP($BS9,J!$A$3:$V$4000,12,FALSE)","v":33},{"$f":"VLOOKUP($BS9,J!$A$3:$V$4000,13,FALSE)","v":36},{"$f":"VLOOKUP($BS9,J!$A$3:$V$4000,14,FALSE)","v":41},{"$f":"VLOOKUP($BS9,J!$A$3:$V$4000,15,FALSE)","v":43},{"$f":"VLOOKUP($BS9,J!$A$3:$V$4000,16,FALSE)","v":48},{"$f":"VLOOKUP($BS9,J!$A$3:$V$4000,17,FALSE)","v":49},{"$f":"VLOOKUP($BS9,J!$A$3:$V$4000,18,FALSE)","v":65},{"$f":"VLOOKUP($BS9,J!$A$3:$V$4000,19,FALSE)","v":75},{"$f":"VLOOKUP($BS9,J!$A$3:$V$4000,20,FALSE)","v":83},{"$f":"VLOOKUP($BS9,J!$A$3:$V$4000,21,FALSE)","v":95},{"$f":"VLOOKUP($BS9,J!$A$3:$V$4000,22,FALSE)","v":96}]
[null,41,42,43,44,45,46,47,48,49,50,null,"A",null,null,null,null,{"$f":"Matrix!AV7","v":40},{"$f":"Matrix!AW7","v":48},{"$f":"Matrix!AX7","v":53},{"$f":"Matrix!AY7","v":55},{"$f":"Matrix!AZ7","v":57},{"$f":"Matrix!BA7","v":23},"S",7,"","","",54,"","","","","","",null,null,51,52,"","","",56,"","","","",null,{"$f":"Matrix!AH10","v":"F"},{"$f":"Matrix!AI10","v":"X"},{"$f":"Matrix!AJ10","v":"F"},{"$f":"Matrix!AK10","v":84},{"$f":"Matrix!AL10","v":85},{"$f":"Matrix!AM10","v":86},{"$f":"Matrix!AN10","v":87},{"$f":"Matrix!AO10","v":88},{"$f":"Matrix!AP10","v":"F"},{"$f":"Matrix!AQ10","v":90},null,"X","Marcados para ficar FIXADOS (PRESENTES)",null,null,null,null,null,null,null,null,null,{"$f":"BS9-1","v":1868},{"$f":"VLOOKUP($BS10,J!$A$3:$V$4000,3,FALSE)","v":0},{"$f":"VLOOKUP($BS10,J!$A$3:$V$4000,4,FALSE)","v":8},{"$f":"VLOOKUP($BS10,J!$A$3:$V$4000,5,FALSE)","v":12},{"$f":"VLOOKUP($BS10,J!$A$3:$V$4000,6,FALSE)","v":22},{"$f":"VLOOKUP($BS10,J!$A$3:$V$4000,7,FALSE)","v":27},{"$f":"VLOOKUP($BS10,J!$A$3:$V$4000,8,FALSE)","v":29},{"$f":"VLOOKUP($BS10,J!$A$3:$V$4000,9,FALSE)","v":31},{"$f":"VLOOKUP($BS10,J!$A$3:$V$4000,10,FALSE)","v":39},{"$f":"VLOOKUP($BS10,J!$A$3:$V$4000,11,FALSE)","v":40},{"$f":"VLOOKUP($BS10,J!$A$3:$V$4000,12,FALSE)","v":42},{"$f":"VLOOKUP($BS10,J!$A$3:$V$4000,13,FALSE)","v":47},{"$f":"VLOOKUP($BS10,J!$A$3:$V$4000,14,FALSE)","v":48},{"$f":"VLOOKUP($BS10,J!$A$3:$V$4000,15,FALSE)","v":51},{"$f":"VLOOKUP($BS10,J!$A$3:$V$4000,16,FALSE)","v":60},{"$f":"VLOOKUP($BS10,J!$A$3:$V$4000,17,FALSE)","v":61},{"$f":"VLOOKUP($BS10,J!$A$3:$V$4000,18,FALSE)","v":64},{"$f":"VLOOKUP($BS10,J!$A$3:$V$4000,19,FALSE)","v":87},{"$f":"VLOOKUP($BS10,J!$A$3:$V$4000,20,FALSE)","v":89},{"$f":"VLOOKUP($BS10,J!$A$3:$V$4000,21,FALSE)","v":95},{"$f":"VLOOKUP($BS10,J!$A$3:$V$4000,22,FALSE)","v":99}]
[null,51,52,53,54,55,56,57,58,59,60,null,"A",null,null,null,null,{"$f":"Matrix!AV8","v":78},{"$f":"Matrix!AW8","v":84},{"$f":"Matrix!AX8","v":85},{"$f":"Matrix!AY8","v":86},{"$f":"Matrix!AZ8","v":87},{"$f":"Matrix!BA8","v":22},"T",7,"","","","","","","","","","",null,null,61,62,"","","","","","","","",null,{"$f":"Matrix!AH11","v":91},{"$f":"Matrix!AI11","v":92},{"$f":"Matrix!AJ11","v":93},{"$f":"Matrix!AK11","v":94},{"$f":"Matrix!AL11","v":95},{"$f":"Matrix!AM11","v":"F"},{"$f":"Matrix!AN11","v":97},{"$f":"Matrix!AO11","v":98},{"$f":"Matrix!AP11","v":99},{"$f":"Matrix!AQ11","v":"F"},null,"F","Marcados para ficar de fora (AUSENTES)",null,null,null,null,null,null,null,null,null,{"$f":"BS10-1","v":1867},{"$f":"VLOOKUP($BS11,J!$A$3:$V$4000,3,FALSE)","v":3},{"$f":"VLOOKUP($BS11,J!$A$3:$V$4000,4,FALSE)","v":5},{"$f":"VLOOKUP($BS11,J!$A$3:$V$4000,5,FALSE)","v":10},{"$f":"VLOOKUP($BS11,J!$A$3:$V$4000,6,FALSE)","v":15},{"$f":"VLOOKUP($BS11,J!$A$3:$V$4000,7,FALSE)","v":20},{"$f":"VLOOKUP($BS11,J!$A$3:$V$4000,8,FALSE)","v":38},{"$f":"VLOOKUP($BS11,J!$A$3:$V$4000,9,FALSE)","v":39},{"$f":"VLOOKUP($BS11,J!$A$3:$V$4000,10,FALSE)","v":45},{"$f":"VLOOKUP($BS11,J!$A$3:$V$4000,11,FALSE)","v":50},{"$f":"VLOOKUP($BS11,J!$A$3:$V$4000,12,FALSE)","v":53},{"$f":"VLOOKUP($BS11,J!$A$3:$V$4000,13,FALSE)","v":57},{"$f":"VLOOKUP($BS11,J!$A$3:$V$4000,14,FALSE)","v":60},{"$f":"VLOOKUP($BS11,J!$A$3:$V$4000,15,FALSE)","v":64},{"$f":"VLOOKUP($BS11,J!$A$3:$V$4000,16,FALSE)","v":72},{"$f":"VLOOKUP($BS11,J!$A$3:$V$4000,17,FALSE)","v":77},{"$f":"VLOOKUP($BS11,J!$A$3:$V$4000,18,FALSE)","v":79},{"$f":"VLOOKUP($BS11,J!$A$3:$V$4000,19,FALSE)","v":85},{"$f":"VLOOKUP($BS11,J!$A$3:$V$4000,20,FALSE)","v":86},{"$f":"VLOOKUP($BS11,J!$A$3:$V$4000,21,FALSE)","v":96},{"$f":"VLOOKUP($BS11,J!$A$3:$V$4000,22,FALSE)","v":99}]
[null,61,62,63,64,65,66,67,68,69,70,null,null,null,null,null,null,{"$f":"Matrix!AV9","v":21},{"$f":"Matrix!AW9","v":22},{"$f":"Matrix!AX9","v":24},{"$f":"Matrix!AY9","v":25},{"$f":"Matrix!AZ9","v":27},{"$f":"Matrix!BA9","v":22},"Y",6,"","","","","","",77,"","","",null,null,"","","","",75,76,"","",79,80,null,"Sua escolha feita na pasta MATRIX"]
[null,71,72,73,74,75,76,77,78,79,80,null,{"$f":"COUNTIF($R$12:$T$14,\">0\")","v":9},null,null,null,null,{"$f":"Matrix!AV10","v":65},{"$f":"Matrix!AW10","v":66},{"$f":"Matrix!AX10","v":67},{"$f":"Matrix!AY10","v":68},{"$f":"Matrix!AZ10","v":69},{"$f":"Matrix!BA10","v":21},"V",5,81,"",83,"","","","","",89,"",null,null,"",82,"","","","","","","",""]
[null,81,82,83,84,85,86,87,88,89,90,null,null,null,null,null,null,{"$f":"Matrix!AV11","v":88},{"$f":"Matrix!AW11","v":90},{"$f":"Matrix!AX11","v":91},{"$f":"Matrix!AY11","v":92},{"$f":"Matrix!AZ11","v":93},{"$f":"Matrix!BA11","v":19},"W",5,"","","","","",96,"","","",0,null,null,"","","","","","","","","",""]
[null,91,92,93,94,95,96,97,98,99,0,null,null,null,null,null,null,"Da SOBRA números não escolhidos",null,null,null,null,null,null,null,"Dos RETIRADOS pela sua escolha",null,null,null,null,null,null,null,null,null,null,null,"Dos Fixos"]
[null,"ByJ",null," ͡͡ ° ͜ ʖ ͡ °",null,null,null,{"$f":"$D$2","v":1870},null,null,null,"Fixos + Desdobramento"]
[null,"Nando",null,"♣  t  ♣",null,null,null,null,null,{"$f":"SUMPRODUCT(COUNTIF($D$3:$W$3,L17:BI17))","v":11},"1º",{"$f":"IFERROR(SMALL($AL$5:$AU$14,1),\"\")","v":1},{"$f":"IFERROR(SMALL($AL$5:$AU$14,2),\"\")","v":2},{"$f":"IFERROR(SMALL($AL$5:$AU$14,3),\"\")","v":7},{"$f":"IFERROR(SMALL($AL$5:$AU$14,4),\"\")","v":9},{"$f":"IFERROR(SMALL($AL$5:$AU$14,5),\"\")","v":11},{"$f":"IFERROR(SMALL($AL$5:$AU$14,6),\"\")","v":14},{"$f":"IFERROR(SMALL($AL$5:$AU$14,7),\"\")","v":26},{"$f":"IFERROR(SMALL($AL$5:$AU$14,8),\"\")","v":37},{"$f":"IFERROR(SMALL($AL$5:$AU$14,9),\"\")","v":41},{"$f":"IFERROR(SMALL($AL$5:$AU$14,10),\"\")","v":44},{"$f":"IFERROR(SMALL($AL$5:$AU$14,11),\"\")","v":51},{"$f":"IFERROR(SMALL($AL$5:$AU$14,12),\"\")","v":52},{"$f":"IFERROR(SMALL($AL$5:$AU$14,13),\"\")","v":56},{"$f":"IFERROR(SMALL($AL$5:$AU$14,14),\"\")","v":61},{"$f":"IFERROR(SMALL($AL$5:$AU$14,15),\"\")","v":62},{"$f":"IFERROR(SMALL($AL$5:$AU$14,16),\"\")","v":75},{"$f":"IFERROR(SMALL($AL$5:$AU$14,17),\"\")","v":76},{"$f":"IFERROR(SMALL($AL$5:$AU$14,18),\"\")","v":79},{"$f":"IFERROR(SMALL($AL$5:$AU$14,19),\"\")","v":80},{"$f":"IFERROR(SMALL($AL$5:$AU$14,20),\"\")","v":82},{"$f":"$R$7","v":70},{"$f":"$S$7","v":71},{"$f":"$T$7","v":72},{"$f":"$U$7","v":73},{"$f":"$V$7","v":74},{"$f":"$R$9","v":28},{"$f":"$S$9","v":32},{"$f":"$T$9","v":35},{"$f":"$U$9","v":38},{"$f":"$V$9","v":39},{"$f":"$R$10","v":40},{"$f":"$S$10","v":48},{"$f":"$T$10","v":53},{"$f":"$U$10","v":55},{"$f":"$V$10","v":57},{"$f":"$R$5","v":58},{"$f":"$S$5","v":59},{"$f":"$T$5","v":60},{"$f":"$U$5","v":63},{"$f":"$V$5","v":64},{"$f":"$R$8","v":94},{"$f":"$S$8","v":95},{"$f":"$T$8","v":97},{"$f":"$U$8","v":98},{"$f":"$V$8","v":99},{"$f":"$R$6","v":3},{"$f":"$S$6","v":6},{"$f":"$T$6","v":8},{"$f":"$U$6","v":17},{"$f":"$V$6","v":20},null,{"$f":"IFERROR(SMALL($L17:$BI17,1),\"\")","v":1},{"$f":"IFERROR(SMALL($L17:$BI17,2),\"\")","v":2},{"$f":"IFERROR(SMALL($L17:$BI17,3),\"\")","v":3},{"$f":"IFERROR(SMALL($L17:$BI17,4),\"\")","v":6},{"$f":"IFERROR(SMALL($L17:$BI17,5),\"\")","v":7},{"$f":"IFERROR(SMALL($L17:$BI17,6),\"\")","v":8},{"$f":"IFERROR(SMALL($L17:$BI17,7),\"\")","v":9},{"$f":"IFERROR(SMALL($L17:$BI17,8),\"\")","v":11},{"$f":"IFERROR(SMALL($L17:$BI17,9),\"\")","v":14},{"$f":"IFERROR(SMALL($L17:$BI17,10),\"\")","v":17},{"$f":"IFERROR(SMALL($L17:$BI17,11),\"\")","v":20},{"$f":"IFERROR(SMALL($L17:$BI17,12),\"\")","v":26},{"$f":"IFERROR(SMALL($L17:$BI17,13),\"\")","v":28},{"$f":"IFERROR(SMALL($L17:$BI17,14),\"\")","v":32},{"$f":"IFERROR(SMALL($L17:$BI17,15),\"\")","v":35},{"$f":"IFERROR(SMALL($L17:$BI17,16),\"\")","v":37},{"$f":"IFERROR(SMALL($L17:$BI17,17),\"\")","v":38},{"$f":"IFERROR(SMALL($L17:$BI17,18),\"\")","v":39},{"$f":"IFERROR(SMALL($L17:$BI17,19),\"\")","v":40},{"$f":"IFERROR(SMALL($L17:$BI17,20),\"\")","v":41},{"$f":"IFERROR(SMALL($L17:$BI17,21),\"\")","v":44},{"$f":"IFERROR(SMALL($L17:$BI17,22),\"\")","v":48},{"$f":"IFERROR(SMALL($L17:$BI17,23),\"\")","v":51},{"$f":"IFERROR(SMALL($L17:$BI17,24),\"\")","v":52},{"$f":"IFERROR(SMALL($L17:$BI17,25),\"\")","v":53},{"$f":"IFERROR(SMALL($L17:$BI17,26),\"\")","v":55},{"$f":"IFERROR(SMALL($L17:$BI17,27),\"\")","v":56},{"$f":"IFERROR(SMALL($L17:$BI17,28),\"\")","v":57},{"$f":"IFERROR(SMALL($L17:$BI17,29),\"\")","v":58},{"$f":"IFERROR(SMALL($L17:$BI17,30),\"\")","v":59},{"$f":"IFERROR(SMALL($L17:$BI17,31),\"\")","v":60},{"$f":"IFERROR(SMALL($L17:$BI17,32),\"\")","v":61},{"$f":"IFERROR(SMALL($L17:$BI17,33),\"\")","v":62},{"$f":"IFERROR(SMALL($L17:$BI17,34),\"\")","v":63},{"$f":"IFERROR(SMALL($L17:$BI17,35),\"\")","v":64},{"$f":"IFERROR(SMALL($L17:$BI17,36),\"\")","v":70},{"$f":"IFERROR(SMALL($L17:$BI17,37),\"\")","v":71},{"$f":"IFERROR(SMALL($L17:$BI17,38),\"\")","v":72},{"$f":"IFERROR(SMALL($L17:$BI17,39),\"\")","v":73},{"$f":"IFERROR(SMALL($L17:$BI17,40),\"\")","v":74},{"$f":"IFERROR(SMALL($L17:$BI17,41),\"\")","v":75},{"$f":"IFERROR(SMALL($L17:$BI17,42),\"\")","v":76},{"$f":"IFERROR(SMALL($L17:$BI17,43),\"\")","v":79},{"$f":"IFERROR(SMALL($L17:$BI17,44),\"\")","v":80},{"$f":"IFERROR(SMALL($L17:$BI17,45),\"\")","v":82},{"$f":"IFERROR(SMALL($L17:$BI17,46),\"\")","v":94},{"$f":"IFERROR(SMALL($L17:$BI17,47),\"\")","v":95},{"$f":"IFERROR(SMALL($L17:$BI17,48),\"\")","v":97},{"$f":"IFERROR(SMALL($L17:$BI17,49),\"\")","v":98},{"$f":"IFERROR(SMALL($L17:$BI17,50),\"\")","v":99}]
[null,"CONFERIDOR",null,null,null,{"$f":"SUM(F20:G25)+F40","v":0},null,null,null,9,"2º",1,2,7,9,11,14,26,37,41,44,51,52,56,61,62,75,76,79,80,82,70,71,72,73,74,{"$f":"$R$9","v":28},{"$f":"$S$9","v":32},{"$f":"$T$9","v":35},{"$f":"$U$9","v":38},{"$f":"$V$9","v":39},{"$f":"$R$11","v":78},{"$f":"$S$11","v":84},{"$f":"$T$11","v":85},{"$f":"$U$11","v":86},{"$f":"$V$11","v":87},{"$f":"$R$5","v":58},{"$f":"$S$5","v":59},{"$f":"$T$5","v":60},{"$f":"$U$5","v":63},{"$f":"$V$5","v":64},{"$f":"$R$14","v":88},{"$f":"$S$14","v":90},{"$f":"$T$14","v":91},{"$f":"$U$14","v":92},{"$f":"$V$14","v":93},{"$f":"$R$12","v":21},{"$f":"$S$12","v":22},{"$f":"$T$12","v":24},{"$f":"$U$12","v":25},{"$f":"$V$12","v":27},null,{"$f":"IFERROR(SMALL($L18:$BI18,1),\"\")","v":1},{"$f":"IFERROR(SMALL($L18:$BI18,2),\"\")","v":2},{"$f":"IFERROR(SMALL($L18:$BI18,3),\"\")","v":7},{"$f":"IFERROR(SMALL($L18:$BI18,4),\"\")","v":9},{"$f":"IFERROR(SMALL($L18:$BI18,5),\"\")","v":11},{"$f":"IFERROR(SMALL($L18:$BI18,6),\"\")","v":14},{"$f":"IFERROR(SMALL($L18:$BI18,7),\"\")","v":21},{"$f":"IFERROR(SMALL($L18:$BI18,8),\"\")","v":22},{"$f":"IFERROR(SMALL($L18:$BI18,9),\"\")","v":24},{"$f":"IFERROR(SMALL($L18:$BI18,10),\"\")","v":25},{"$f":"IFERROR(SMALL($L18:$BI18,11),\"\")","v":26},{"$f":"IFERROR(SMALL($L18:$BI18,12),\"\")","v":27},{"$f":"IFERROR(SMALL($L18:$BI18,13),\"\")","v":28},{"$f":"IFERROR(SMALL($L18:$BI18,14),\"\")","v":32},{"$f":"IFERROR(SMALL($L18:$BI18,15),\"\")","v":35},{"$f":"IFERROR(SMALL($L18:$BI18,16),\"\")","v":37},{"$f":"IFERROR(SMALL($L18:$BI18,17),\"\")","v":38},{"$f":"IFERROR(SMALL($L18:$BI18,18),\"\")","v":39},{"$f":"IFERROR(SMALL($L18:$BI18,19),\"\")","v":41},{"$f":"IFERROR(SMALL($L18:$BI18,20),\"\")","v":44},{"$f":"IFERROR(SMALL($L18:$BI18,21),\"\")","v":51},{"$f":"IFERROR(SMALL($L18:$BI18,22),\"\")","v":52},{"$f":"IFERROR(SMALL($L18:$BI18,23),\"\")","v":56},{"$f":"IFERROR(SMALL($L18:$BI18,24),\"\")","v":58},{"$f":"IFERROR(SMALL($L18:$BI18,25),\"\")","v":59},{"$f":"IFERROR(SMALL($L18:$BI18,26),\"\")","v":60},{"$f":"IFERROR(SMALL($L18:$BI18,27),\"\")","v":61},{"$f":"IFERROR(SMALL($L18:$BI18,28),\"\")","v":62},{"$f":"IFERROR(SMALL($L18:$BI18,29),\"\")","v":63},{"$f":"IFERROR(SMALL($L18:$BI18,30),\"\")","v":64},{"$f":"IFERROR(SMALL($L18:$BI18,31),\"\")","v":70},{"$f":"IFERROR(SMALL($L18:$BI18,32),\"\")","v":71},{"$f":"IFERROR(SMALL($L18:$BI18,33),\"\")","v":72},{"$f":"IFERROR(SMALL($L18:$BI18,34),\"\")","v":73},{"$f":"IFERROR(SMALL($L18:$BI18,35),\"\")","v":74},{"$f":"IFERROR(SMALL($L18:$BI18,36),\"\")","v":75},{"$f":"IFERROR(SMALL($L18:$BI18,37),\"\")","v":76},{"$f":"IFERROR(SMALL($L18:$BI18,38),\"\")","v":78},{"$f":"IFERROR(SMALL($L18:$BI18,39),\"\")","v":79},{"$f":"IFERROR(SMALL($L18:$BI18,40),\"\")","v":80},{"$f":"IFERROR(SMALL($L18:$BI18,41),\"\")","v":82},{"$f":"IFERROR(SMALL($L18:$BI18,42),\"\")","v":84},{"$f":"IFERROR(SMALL($L18:$BI18,43),\"\")","v":85},{"$f":"IFERROR(SMALL($L18:$BI18,44),\"\")","v":86},{"$f":"IFERROR(SMALL($L18:$BI18,45),\"\")","v":87},{"$f":"IFERROR(SMALL($L18:$BI18,46),\"\")","v":88},{"$f":"IFERROR(SMALL($L18:$BI18,47),\"\")","v":90},{"$f":"IFERROR(SMALL($L18:$BI18,48),\"\")","v":91},{"$f":"IFERROR(SMALL($L18:$BI18,49),\"\")","v":92},{"$f":"IFERROR(SMALL($L18:$BI18,50),\"\")","v":93}]
[null,null,null,null,null,null,null,null,null,10,"3º",1,2,7,9,11,14,26,37,41,44,51,52,56,61,62,75,76,79,80,82,70,71,72,73,74,{"$f":"$R$9","v":28},{"$f":"$S$9","v":32},{"$f":"$T$9","v":35},{"$f":"$U$9","v":38},{"$f":"$V$9","v":39},{"$f":"$R$11","v":78},{"$f":"$S$11","v":84},{"$f":"$T$11","v":85},{"$f":"$U$11","v":86},{"$f":"$V$11","v":87},{"$f":"$R$5","v":58},{"$f":"$S$5","v":59},{"$f":"$T$5","v":60},{"$f":"$U$5","v":63},{"$f":"$V$5","v":64},{"$f":"$R$8","v":94},{"$f":"$S$8","v":95},{"$f":"$T$8","v":97},{"$f":"$U$8","v":98},{"$f":"$V$8","v":99},{"$f":"$R$6","v":3},{"$f":"$S$6","v":6},{"$f":"$T$6","v":8},{"$f":"$U$6","v":17},{"$f":"$V$6","v":20},null,1,2,3,6,7,8,9,11,14,17,20,26,28,32,35,37,38,39,41,44,51,52,56,58,59,60,61,62,63,64,70,71,72,73,74,75,76,78,79,80,82,84,85,86,87,94,95,97,98,99]
[null,"Se 20 = ",null,{"$f":"SUM(COUNTIF($J$17:$J$3843,20))","v":0},null,{"$f":"SUM(D20*750000)","v":0},null,null,null,9,"4º",1,2,7,9,11,14,26,37,41,44,51,52,56,61,62,75,76,79,80,82,70,71,72,73,74,{"$f":"$R$10","v":40},{"$f":"$S$10","v":48},{"$f":"$T$10","v":53},{"$f":"$U$10","v":55},{"$f":"$V$10","v":57},{"$f":"$R$11","v":78},{"$f":"$S$11","v":84},{"$f":"$T$11","v":85},{"$f":"$U$11","v":86},{"$f":"$V$11","v":87},{"$f":"$R$5","v":58},{"$f":"$S$5","v":59},{"$f":"$T$5","v":60},{"$f":"$U$5","v":63},{"$f":"$V$5","v":64},{"$f":"$R$8","v":94},{"$f":"$S$8","v":95},{"$f":"$T$8","v":97},{"$f":"$U$8","v":98},{"$f":"$V$8","v":99},{"$f":"$R$6","v":3},{"$f":"$S$6","v":6},{"$f":"$T$6","v":8},{"$f":"$U$6","v":17},{"$f":"$V$6","v":20},null,1,2,3,6,7,8,9,11,14,17,20,26,37,40,41,44,48,51,52,53,55,56,57,58,59,60,61,62,63,64,70,71,72,73,74,75,76,78,79,80,82,84,85,86,87,94,95,97,98,99]
[null,"Se 19 = ",null,{"$f":"SUM(COUNTIF($J$17:$J$3843,19))","v":0},null,{"$f":"SUM(D21*35000)","v":0},null,null,null,8,"5º",1,2,7,9,11,14,26,37,41,44,51,52,56,61,62,75,76,79,80,82,70,71,72,73,74,40,48,53,55,57,{"$f":"$R$11","v":78},{"$f":"$S$11","v":84},{"$f":"$T$11","v":85},{"$f":"$U$11","v":86},{"$f":"$V$11","v":87},{"$f":"$R$13","v":65},{"$f":"$S$13","v":66},{"$f":"$T$13","v":67},{"$f":"$U$13","v":68},{"$f":"$V$13","v":69},{"$f":"$R$14","v":88},{"$f":"$S$14","v":90},{"$f":"$T$14","v":91},{"$f":"$U$14","v":92},{"$f":"$V$14","v":93},{"$f":"$R$12","v":21},{"$f":"$S$12","v":22},{"$f":"$T$12","v":24},{"$f":"$U$12","v":25},{"$f":"$V$12","v":27},null,1,2,7,9,11,14,21,22,24,25,26,27,37,40,41,44,48,51,52,53,55,56,57,61,62,65,66,67,68,69,70,71,72,73,74,75,76,78,79,80,82,84,85,86,87,88,90,91,92,93]
[null,"Se 18 = ",null,{"$f":"SUM(COUNTIF($J$17:$J$3843,18))","v":0},null,{"$f":"SUM(D22*1700)","v":0},null,null,null,10,"6º",1,2,7,9,11,14,26,37,41,44,51,52,56,61,62,75,76,79,80,82,70,71,72,73,74,40,48,53,55,57,{"$f":"$R$5","v":58},{"$f":"$S$5","v":59},{"$f":"$T$5","v":60},{"$f":"$U$5","v":63},{"$f":"$V$5","v":64},{"$f":"$R$13","v":65},{"$f":"$S$13","v":66},{"$f":"$T$13","v":67},{"$f":"$U$13","v":68},{"$f":"$V$13","v":69},{"$f":"$R$8","v":94},{"$f":"$S$8","v":95},{"$f":"$T$8","v":97},{"$f":"$U$8","v":98},{"$f":"$V$8","v":99},{"$f":"$R$12","v":21},{"$f":"$S$12","v":22},{"$f":"$T$12","v":24},{"$f":"$U$12","v":25},{"$f":"$V$12","v":27},null,1,2,7,9,11,14,21,22,24,25,26,27,37,40,41,44,48,51,52,53,55,56,57,58,59,60,61,62,63,64,65,66,67,68,69,70,71,72,73,74,75,76,79,80,82,94,95,97,98,99]
[null,"Se 17 = ",null,{"$f":"SUM(COUNTIF($J$17:$J$3843,17))","v":0},null,{"$f":"SUM(D23*150)","v":0},null,null,null,9,"7º",1,2,7,9,11,14,26,37,41,44,51,52,56,61,62,75,76,79,80,82,70,71,72,73,74,40,48,53,55,57,58,59,60,63,64,{"$f":"$R$13","v":65},{"$f":"$S$13","v":66},{"$f":"$T$13","v":67},{"$f":"$U$13","v":68},{"$f":"$V$13","v":69},{"$f":"$R$8","v":94},{"$f":"$S$8","v":95},{"$f":"$T$8","v":97},{"$f":"$U$8","v":98},{"$f":"$V$8","v":99},{"$f":"$R$6","v":3},{"$f":"$S$6","v":6},{"$f":"$T$6","v":8},{"$f":"$U$6","v":17},{"$f":"$V$6","v":20},null,1,2,3,6,7,8,9,11,14,17,20,26,37,40,41,44,48,51,52,53,55,56,57,58,59,60,61,62,63,64,65,66,67,68,69,70,71,72,73,74,75,76,79,80,82,94,95,97,98,99]
[null,"Se 16 = ",null,{"$f":"SUM(COUNTIF($J$17:$J$3843,16))","v":0},null,{"$f":"SUM(D24*25)","v":0},null,null,null,11,"8º",1,2,7,9,11,14,26,37,41,44,51,52,56,61,62,75,76,79,80,82,70,71,72,73,74,40,48,53,55,57,58,59,60,63,64,{"$f":"$R$8","v":94},{"$f":"$S$8","v":95},{"$f":"$T$8","v":97},{"$f":"$U$8","v":98},{"$f":"$V$8","v":99},{"$f":"$R$12","v":21},{"$f":"$S$12","v":22},{"$f":"$T$12","v":24},{"$f":"$U$12","v":25},{"$f":"$V$12","v":27},3,6,8,17,20,null,1,2,3,6,7,8,9,11,14,17,20,21,22,24,25,26,27,37,40,41,44,48,51,52,53,55,56,57,58,59,60,61,62,63,64,70,71,72,73,74,75,76,79,80,82,94,95,97,98,99]
[null,"Se 15= ",null,{"$f":"SUM(COUNTIF($J$17:$J$3843,15))","v":0},null,{"$f":"SUM(D25*5)","v":0},null,null,null,11,"9º",1,2,7,9,11,14,26,37,41,44,51,52,56,61,62,75,76,79,80,82,{"$f":"$R$9","v":28},{"$f":"$S$9","v":32},{"$f":"$T$9","v":35},{"$f":"$U$9","v":38},{"$f":"$V$9","v":39},40,48,53,55,57,58,59,60,63,64,{"$f":"$R$13","v":65},{"$f":"$S$13","v":66},{"$f":"$T$13","v":67},{"$f":"$U$13","v":68},{"$f":"$V$13","v":69},{"$f":"$R$8","v":94},{"$f":"$S$8","v":95},{"$f":"$T$8","v":97},{"$f":"$U$8","v":98},{"$f":"$V$8","v":99},3,6,8,17,20,null,1,2,3,6,7,8,9,11,14,17,20,26,28,32,35,37,38,39,40,41,44,48,51,52,53,55,56,57,58,59,60,61,62,63,64,65,66,67,68,69,75,76,79,80,82,94,95,97,98,99]
[null,"Se 14= ",null,{"$f":"SUM(COUNTIF($J$17:$J$3843,14))","v":0},null,{"$f":"COUNT($M$17:$M$28)","v":12},null,null,null,10,"10º",1,2,7,9,11,14,26,37,41,44,51,52,56,61,62,75,76,79,80,82,{"$f":"$R$9","v":28},{"$f":"$S$9","v":32},{"$f":"$T$9","v":35},{"$f":"$U$9","v":38},{"$f":"$V$9","v":39},{"$f":"$R$11","v":78},{"$f":"$S$11","v":84},{"$f":"$T$11","v":85},{"$f":"$U$11","v":86},{"$f":"$V$11","v":87},58,59,60,63,64,{"$f":"$R$14","v":88},{"$f":"$S$14","v":90},{"$f":"$T$14","v":91},{"$f":"$U$14","v":92},{"$f":"$V$14","v":93},{"$f":"$R$8","v":94},{"$f":"$S$8","v":95},{"$f":"$T$8","v":97},{"$f":"$U$8","v":98},{"$f":"$V$8","v":99},3,6,8,17,20,null,1,2,3,6,7,8,9,11,14,17,20,26,28,32,35,37,38,39,41,44,51,52,56,58,59,60,61,62,63,64,75,76,78,79,80,82,84,85,86,87,88,90,91,92,93,94,95,97,98,99]
[null,"Se 13= ",null,{"$f":"SUM(COUNTIF($J$17:$J$3843,13))","v":0},null,{"$f":"SUM(-F26*1.5)","v":-18},null,null,null,10,"11º",1,2,7,9,11,14,26,37,41,44,51,52,56,61,62,75,76,79,80,82,{"$f":"$R$9","v":28},{"$f":"$S$9","v":32},{"$f":"$T$9","v":35},{"$f":"$U$9","v":38},{"$f":"$V$9","v":39},{"$f":"$R$11","v":78},{"$f":"$S$11","v":84},{"$f":"$T$11","v":85},{"$f":"$U$11","v":86},{"$f":"$V$11","v":87},58,59,60,63,64,{"$f":"$R$14","v":88},{"$f":"$S$14","v":90},{"$f":"$T$14","v":91},{"$f":"$U$14","v":92},{"$f":"$V$14","v":93},{"$f":"$R$12","v":21},{"$f":"$S$12","v":22},{"$f":"$T$12","v":24},{"$f":"$U$12","v":25},{"$f":"$V$12","v":27},3,6,8,17,20,null,1,2,3,6,7,8,9,11,14,17,20,21,22,24,25,26,27,28,32,35,37,38,39,41,44,51,52,56,58,59,60,61,62,63,64,75,76,78,79,80,82,84,85,86,87,88,90,91,92,93]
[null,"Se 12= ",null,{"$f":"SUM(COUNTIF($J$17:$J$3843,12))","v":0},null,null,null,null,null,10,"12º",1,2,7,9,11,14,26,37,41,44,51,52,56,61,62,75,76,79,80,82,{"$f":"$R$9","v":28},{"$f":"$S$9","v":32},{"$f":"$T$9","v":35},{"$f":"$U$9","v":38},{"$f":"$V$9","v":39},{"$f":"$R$11","v":78},{"$f":"$S$11","v":84},{"$f":"$T$11","v":85},{"$f":"$U$11","v":86},{"$f":"$V$11","v":87},{"$f":"$R$13","v":65},{"$f":"$S$13","v":66},{"$f":"$T$13","v":67},{"$f":"$U$13","v":68},{"$f":"$V$13","v":69},{"$f":"$R$14","v":88},{"$f":"$S$14","v":90},{"$f":"$T$14","v":91},{"$f":"$U$14","v":92},{"$f":"$V$14","v":93},{"$f":"$R$12","v":21},{"$f":"$S$12","v":22},{"$f":"$T$12","v":24},{"$f":"$U$12","v":25},{"$f":"$V$12","v":27},3,6,8,17,20,null,1,2,3,6,7,8,9,11,14,17,20,21,22,24,25,26,27,28,32,35,37,38,39,41,44,51,52,56,61,62,65,66,67,68,69,75,76,78,79,80,82,84,85,86,87,88,90,91,92,93]
[null,"Se 11= ",null,{"$f":"SUM(COUNTIF($J$17:$J$3843,11))","v":3},null,{"$f":"SUM(F20:G25)+F40","v":0},null,null,null,null,null,1,2,3,4,5,6,7,8,9,10,11,12,13,14,15,16,17,18,19,20,21,22,23,24,25,26,27,28,29,30,31,32,33,34,35,36,37,38,39,40,41,42,43,44,45,46,47,48,49,50]
[null,"de 10 = ",null,{"$f":"SUM(COUNTIF($J$17:$J$3843,10))","v":5},null,"Conferidor baseado na premiação\npaga concurso 1851"]
[null,"de 09 = ",null,{"$f":"SUM(COUNTIF($J$17:$J$3843,9))","v":3}]
[null,"de 08 = ",null,{"$f":"SUM(COUNTIF($J$17:$J$3843,8))","v":1}]
[null,"de 07 = ",null,{"$f":"SUM(COUNTIF($J$17:$J$3843,7))","v":0}]
[null,"de 06 = ",null,{"$f":"SUM(COUNTIF($J$17:$J$3843,6))","v":0}]
[null,"de 05 = ",null,{"$f":"SUM(COUNTIF($J$17:$J$3843,5))","v":0}]
[null,"de 04 = ",null,{"$f":"SUM(COUNTIF($J$17:$J$3843,4))","v":0}]
[null,"de 03 = ",null,{"$f":"SUM(COUNTIF($J$17:$J$3843,3))","v":0}]
[null,"de 02 = ",null,{"$f":"SUM(COUNTIF($J$17:$J$3843,2))","v":0}]
[null,"de 01 = ",null,{"$f":"SUM(COUNTIF($J$17:$J$3843,1))","v":0}]
[null,"de 00 = ",null,{"$f":"SUM(COUNTIF($J$17:$J$3843,0))","v":0},null,{"$f":"IF(D40=1,70000,0)","v":0}]

{"sheet":"Conferidor","index":4,"n_rows":166,"n_cols":65,"rows_kept":166,"cut":false,"hidden":false,"merged":[[1,21,1,22],[1,1,2,2],[1,3,1,4],[1,5,1,16],[1,17,1,18],[1,19,1,20],[3,1,3,2],[16,1,17,4],[16,5,17,6],[16,8,16,9],[18,1,18,2],[18,3,18,4],[18,5,18,6],[19,1,19,2],[19,3,19,4],[19,5,19,6],[20,1,20,2],[20,3,20,4],[20,5,20,6],[21,1,21,2],[21,3,21,4],[21,5,21,6],[22,1,22,2],[22,3,22,4],[22,5,22,6],[27,5,27,6],[23,1,23,2],[23,3,23,4],[23,5,23,6],[24,1,24,2],[24,3,24,4],[24,5,24,6],[25,1,25,2],[25,3,25,4],[25,5,26,6],[26,1,26,2],[26,3,26,4],[1,23,2,26],[33,1,34,4],[32,1,32,2],[32,3,32,4],[32,5,32,6],[28,1,28,2],[28,3,28,4],[28,5,31,6],[29,1,29,2],[29,3,29,4],[30,1,30,2],[30,3,30,4],[31,1,31,2],[31,3,31,4],[27,1,27,2],[27,3,27,4]]}
["\n\n\nByJ\nNando"]
["ByJ","\n\n\n\n\n\n\nByJNando",null,1870,null,"RESULTADO DO SORTEIO",null,null,null,null,null,null,null,null,null,null,null,{"$f":"SUMPRODUCT(COUNTIF($D$3:$W$3,D4:W4))","v":6},null,{"$f":"SUMPRODUCT(N(MOD((D3:W3),2)=0)*(D3:W3>0))","v":9},null,{"$f":"SUM(D3:W3)","v":754},null," ͡͡ ° ͜ ʖ ͡ °   ♣"]
["Nando",null,null,{"$f":"VLOOKUP($D$2,J!$A$3:$V$4000,3,FALSE)","v":0},{"$f":"VLOOKUP($D$2,J!$A$3:$V$4000,4,FALSE)","v":1},{"$f":"VLOOKUP($D$2,J!$A$3:$V$4000,5,FALSE)","v":3},{"$f":"VLOOKUP($D$2,J!$A$3:$V$4000,6,FALSE)","v":11},{"$f":"VLOOKUP($D$2,J!$A$3:$V$4000,7,FALSE)","v":12},{"$f":"VLOOKUP($D$2,J!$A$3:$V$4000,8,FALSE)","v":18},{"$f":"VLOOKUP($D$2,J!$A$3:$V$4000,9,FALSE)","v":21},{"$f":"VLOOKUP($D$2,J!$A$3:$V$4000,10,FALSE)","v":23},{"$f":"VLOOKUP($D$2,J!$A$3:$V$4000,11,FALSE)","v":25},{"$f":"VLOOKUP($D$2,J!$A$3:$V$4000,12,FALSE)","v":36},{"$f":"VLOOKUP($D$2,J!$A$3:$V$4000,13,FALSE)","v":38},{"$f":"VLOOKUP($D$2,J!$A$3:$V$4000,14,FALSE)","v":39},{"$f":"VLOOKUP($D$2,J!$A$3:$V$4000,15,FALSE)","v":40},{"$f":"VLOOKUP($D$2,J!$A$3:$V$4000,16,FALSE)","v":42},{"$f":"VLOOKUP($D$2,J!$A$3:$V$4000,17,FALSE)","v":44},{"$f":"VLOOKUP($D$2,J!$A$3:$V$4000,18,FALSE)","v":49},{"$f":"VLOOKUP($D$2,J!$A$3:$V$4000,19,FALSE)","v":79},{"$f":"VLOOKUP($D$2,J!$A$3:$V$4000,20,FALSE)","v":80},{"$f":"VLOOKUP($D$2,J!$A$3:$V$4000,21,FALSE)","v":95},{"$f":"VLOOKUP($D$2,J!$A$3:$V$4000,22,FALSE)","v":98}]
[null,{"$f":"D2-1","v":1869},null,{"$f":"VLOOKUP($D$2-1,J!$A$3:$V$4000,3,FALSE)","v":12},{"$f":"VLOOKUP($D$2-1,J!$A$3:$V$4000,4,FALSE)","v":13},{"$f":"VLOOKUP($D$2-1,J!$A$3:$V$4000,5,FALSE)","v":18},{"$f":"VLOOKUP($D$2-1,J!$A$3:$V$4000,6,FALSE)","v":20},{"$f":"VLOOKUP($D$2-1,J!$A$3:$V$4000,7,FALSE)","v":21},{"$f":"VLOOKUP($D$2-1,J!$A$3:$V$4000,8,FALSE)","v":26},{"$f":"VLOOKUP($D$2-1,J!$A$3:$V$4000,9,FALSE)","v":27},{"$f":"VLOOKUP($D$2-1,J!$A$3:$V$4000,10,FALSE)","v":30},{"$f":"VLOOKUP($D$2-1,J!$A$3:$V$4000,11,FALSE)","v":32},{"$f":"VLOOKUP($D$2-1,J!$A$3:$V$4000,12,FALSE)","v":33},{"$f":"VLOOKUP($D$2-1,J!$A$3:$V$4000,13,FALSE)","v":36},{"$f":"VLOOKUP($D$2-1,J!$A$3:$V$4000,14,FALSE)","v":41},{"$f":"VLOOKUP($D$2-1,J!$A$3:$V$4000,15,FALSE)","v":43},{"$f":"VLOOKUP($D$2-1,J!$A$3:$V$4000,16,FALSE)","v":48},{"$f":"VLOOKUP($D$2-1,J!$A$3:$V$4000,17,FALSE)","v":49},{"$f":"VLOOKUP($D$2-1,J!$A$3:$V$4000,18,FALSE)","v":65},{"$f":"VLOOKUP($D$2-1,J!$A$3:$V$4000,19,FALSE)","v":75},{"$f":"VLOOKUP($D$2-1,J!$A$3:$V$4000,20,FALSE)","v":83},{"$f":"VLOOKUP($D$2-1,J!$A$3:$V$4000,21,FALSE)","v":95},{"$f":"VLOOKUP($D$2-1,J!$A$3:$V$4000,22,FALSE)","v":96},null,"ByJ","(๏̯͡๏)",null,"ByJ",null,"ByJ",null,"ByJ"]
[null,"Formação ORIGINAL",null,null,null,null,null,null,null,null,null,"&",null,null,null,null,null,null,null,null,null,null,null,null,"Nando",null,null,"Nando",null,"Nando",null,"Nando"]
[null,1,2,3,4,5,6,7,8,9,10,null,{"$f":"SUMPRODUCT(COUNTIF($D$3:$W$3,O6:BL6))","v":9},"1º",1,2,3,4,5,6,7,9,10,11,14,16,17,23,33,34,38,40,45,47,52,53,54,55,56,57,58,59,65,67,75,76,77,78,79,80,82,84,85,86,87,88,89,90,91,92,93,94,97,98]
[null,11,12,13,14,15,16,17,18,19,20,null,9,"2º",1,2,3,4,5,6,7,9,10,11,14,16,17,23,33,34,38,40,45,47,52,53,54,55,56,57,58,59,61,62,63,65,67,68,69,75,76,77,78,79,80,82,84,90,91,92,93,94,97,98]
[null,21,22,23,24,25,26,27,28,29,30,null,11,"3º",1,2,3,4,5,6,7,9,10,11,14,16,17,23,33,34,38,40,42,44,45,46,47,50,51,54,57,59,61,62,63,65,67,68,69,75,76,77,78,79,80,82,84,90,91,92,93,94,97,98]
[null,31,32,33,34,35,36,37,38,39,40,null,11,"4º",1,2,3,4,5,6,7,9,10,11,14,16,17,19,23,24,28,33,34,35,37,38,40,42,44,45,46,47,50,51,54,57,59,65,67,70,71,72,73,74,75,79,80,90,91,92,93,94,97,98]
[null,41,42,43,44,45,46,47,48,49,50,null,9,"5º",1,2,3,4,5,6,7,9,10,11,14,16,17,23,33,34,38,40,45,47,52,53,54,55,56,57,58,59,61,62,63,65,67,68,69,70,71,72,73,74,75,79,80,90,91,92,93,94,97,98]
[null,51,52,53,54,55,56,57,58,59,60,null,11,"6º",1,2,3,4,5,6,7,9,10,11,14,16,17,23,33,34,38,40,42,44,45,46,47,50,51,54,57,59,61,62,63,65,67,68,69,70,71,72,73,74,75,79,80,90,91,92,93,94,97,98]
[null,61,62,63,64,65,66,67,68,69,70,null,10,"7º",1,2,3,4,5,6,7,9,10,11,14,16,17,19,23,24,28,33,34,35,37,38,40,42,44,45,46,47,50,51,54,57,59,65,67,70,71,72,73,74,75,79,80,85,86,87,88,89,91,92]
[null,71,72,73,74,75,76,77,78,79,80,null,10,"8º",1,2,3,4,5,6,7,9,10,11,14,16,17,23,33,34,38,40,42,44,45,46,47,50,51,54,57,59,61,62,63,65,67,68,69,70,71,72,73,74,75,79,80,85,86,87,88,89,91,92]
[null,81,82,83,84,85,86,87,88,89,90,null,10,"9º",1,2,3,4,5,6,7,9,10,11,14,16,17,19,23,24,28,33,34,35,37,38,40,42,44,45,46,47,50,51,52,53,54,55,56,57,58,59,65,67,70,71,72,73,74,75,79,80,91,92]
[null,91,92,93,94,95,96,97,98,99,0,null,8,"10º",1,2,3,4,5,6,7,9,10,11,14,16,17,19,23,24,28,33,34,35,37,38,40,45,47,52,53,54,55,56,57,58,59,61,62,63,65,67,68,69,70,71,72,73,74,75,79,80,91,92]
[null,null,null,null,null,null,null,null,null,null,null,null,10,"11º",1,2,3,4,5,6,7,9,10,11,14,16,17,19,23,24,28,33,34,35,37,38,40,42,44,45,46,47,50,51,54,57,59,61,62,63,65,67,68,69,70,71,72,73,74,75,79,80,91,92]
[null,"CONFERIDOR",null,null,null,{"$f":"SUM(F19:G24)+F33","v":0},null,null,{"$f":"D2","v":1870},null,null,null,10,"12º",1,2,3,4,5,6,7,9,10,11,14,16,17,23,33,34,38,40,42,44,45,46,47,50,51,52,53,54,55,56,57,58,59,61,62,63,65,67,68,69,70,71,72,73,74,75,79,80,91,92]
[null,null,null,null,null,null,null,null,null,null,null,null,8,"13º",1,2,3,4,5,6,7,9,23,33,34,38,40,45,47,52,53,54,55,56,57,58,59,61,62,63,65,67,68,69,70,71,72,73,74,75,76,77,78,79,80,82,84,90,91,92,93,94,97,98]
[null,"Se 20 = ",null,{"$f":"SUM(COUNTIF($M$6:$M$2000,20))","v":0},null,{"$f":"SUM(D19*750000)","v":0},null,null,"\n\n\nByJ\nNando",null,null,null,10,"14º",1,2,3,4,5,6,7,9,23,33,34,38,40,42,44,45,46,47,50,51,54,57,59,61,62,63,65,67,68,69,70,71,72,73,74,75,76,77,78,79,80,82,84,90,91,92,93,94,97,98]
[null,"Se 19 = ",null,{"$f":"SUM(COUNTIF($M$6:$M$2000,19))","v":0},null,{"$f":"SUM(D20*35000)","v":0},null,null,null,null,"ByJ",null,7,"15º",1,2,3,4,5,6,7,9,19,23,24,28,33,34,35,37,38,40,45,47,52,53,54,55,56,57,58,59,65,67,70,71,72,73,74,75,76,77,78,79,80,82,84,85,86,87,88,89,91,92]
[null,"Se 18 = ",null,{"$f":"SUM(COUNTIF($M$6:$M$2000,18))","v":0},null,{"$f":"SUM(D21*1700)","v":0},null,null," ͡͡ ° ͜ ʖ ͡ °   ♣",null,"Nando",null,9,"16º",1,2,3,4,5,6,7,9,19,23,24,28,33,34,35,37,38,40,42,44,45,46,47,50,51,54,57,59,65,67,70,71,72,73,74,75,76,77,78,79,80,82,84,85,86,87,88,89,91,92]
[null,"Se 17 = ",null,{"$f":"SUM(COUNTIF($M$6:$M$2000,17))","v":0},null,{"$f":"SUM(D22*150)","v":0},null,null,null,null,null,null,9,"17º",1,2,3,4,5,6,7,9,23,33,34,38,40,42,44,45,46,47,50,51,52,53,54,55,56,57,58,59,65,67,70,71,72,73,74,75,76,77,78,79,80,82,84,85,86,87,88,89,91,92]
[null,"Se 16 = ",null,{"$f":"SUM(COUNTIF($M$6:$M$2000,16))","v":0},null,{"$f":"SUM(D23*25)","v":0},null,null,null,null,null,null,9,"18º",1,2,3,4,5,6,7,9,23,33,34,38,40,42,44,45,46,47,50,51,54,57,59,61,62,63,65,67,68,69,70,71,72,73,74,75,76,77,78,79,80,82,84,85,86,87,88,89,91,92]
[null,"Se 15= ",null,{"$f":"SUM(COUNTIF($M$6:$M$2000,15))","v":0},null,{"$f":"SUM(D24*5)","v":0},null,null,null,null,null,null,9,"19º",1,2,3,4,5,6,7,9,19,23,24,28,33,34,35,37,38,40,42,44,45,46,47,50,51,52,53,54,55,56,57,58,59,65,67,70,71,72,73,74,75,76,77,78,79,80,82,84,91,92]
[null,"Se 14= ",null,{"$f":"SUM(COUNTIF($M$6:$M$2000,14))","v":0},null,{"$f":"COUNT(O6:O162)","v":122},null,null,null,null,null,null,7,"20º",1,2,3,4,5,6,7,9,19,23,24,28,33,34,35,37,38,40,45,47,52,53,54,55,56,57,58,59,61,62,63,65,67,68,69,70,71,72,73,74,75,76,77,78,79,80,82,84,91,92]
[null,"Se 13= ",null,{"$f":"SUM(COUNTIF($M$6:$M$2000,13))","v":1},null,{"$f":"SUM((F25*1.5)-F17)","v":183},null,null,null,null,null,null,9,"21º",1,2,3,4,5,6,7,9,19,23,24,28,33,34,35,37,38,40,42,44,45,46,47,50,51,54,57,59,61,62,63,65,67,68,69,70,71,72,73,74,75,76,77,78,79,80,82,84,91,92]
[null,"Se 12= ",null,{"$f":"SUM(COUNTIF($M$6:$M$2000,12))","v":2},null,null,null,null,null,null,null,null,9,"22º",1,2,3,4,5,6,7,9,23,33,34,38,40,42,44,45,46,47,50,51,52,53,54,55,56,57,58,59,61,62,63,65,67,68,69,70,71,72,73,74,75,76,77,78,79,80,82,84,91,92]
[null,"Se 11= ",null,{"$f":"SUM(COUNTIF($M$6:$M$2000,11))","v":13},null,{"$f":"SUM(F19:G24)+F33","v":0},null,null,null,null,null,null,10,"23º",1,2,3,4,5,6,7,9,23,33,34,38,40,42,44,45,46,47,50,51,52,53,54,55,56,57,58,59,65,67,75,76,77,78,79,80,82,84,85,86,87,88,89,90,91,92,93,94,97,98]
[null,"de 10 = ",null,{"$f":"SUM(COUNTIF($M$6:$M$2000,10))","v":43},null,"Conferidor baseado no concurso 1851",null,null,null,null,null,null,8,"24º",1,2,3,4,5,6,7,9,23,33,34,38,40,45,47,52,53,54,55,56,57,58,59,61,62,63,65,67,68,69,75,76,77,78,79,80,82,84,85,86,87,88,89,90,91,92,93,94,97,98]
[null,"de 09 = ",null,{"$f":"SUM(COUNTIF($M$6:$M$2000,9))","v":38},null,null,null,null,null,null,null,null,10,"25º",1,2,3,4,5,6,7,9,23,33,34,38,40,42,44,45,46,47,50,51,54,57,59,61,62,63,65,67,68,69,75,76,77,78,79,80,82,84,85,86,87,88,89,90,91,92,93,94,97,98]
[null,"de 08 = ",null,{"$f":"SUM(COUNTIF($M$6:$M$2000,8))","v":17},null,null,null,null,null,null,null,null,10,"26º",1,2,3,4,5,6,7,9,23,33,34,38,40,42,44,45,46,47,50,51,52,53,54,55,56,57,58,59,61,62,63,65,67,68,69,75,76,77,78,79,80,82,84,90,91,92,93,94,97,98]
[null,"de 07 = ",null,{"$f":"SUM(COUNTIF($M$6:$M$2000,7))","v":8},null,null,null,null,null,null,null,null,9,"27º",2,3,5,10,11,14,16,17,19,23,24,28,33,34,35,37,38,40,42,44,45,46,47,50,51,54,57,59,65,67,70,71,72,73,74,75,76,77,78,79,80,82,84,85,86,87,88,89,91,92]
[null,"de 00 = ",null,0,null,{"$f":"IF(D33=1,70000,0)","v":0},null,null,null,null,null,null,9,"28º",2,3,5,10,11,14,16,17,23,33,34,38,40,42,44,45,46,47,50,51,54,57,59,61,62,63,65,67,68,69,70,71,72,73,74,75,76,77,78,79,80,82,84,85,86,87,88,89,91,92]
[null," ͡͡ ° ͜ ʖ ͡ °   ♣",null,null,null,"ByJ",null,null,null,null,null,null,7,"29º",2,3,5,10,11,14,16,17,19,23,24,28,33,34,35,37,38,40,45,47,52,53,54,55,56,57,58,59,61,62,63,65,67,68,69,70,71,72,73,74,75,76,77,78,79,80,82,84,91,92]
[null,null,null,null,null,"Nando",null,null,null,null,null,null,9,"30º",2,3,5,10,11,14,16,17,19,23,24,28,33,34,35,37,38,40,42,44,45,46,47,50,51,54,57,59,61,62,63,65,67,68,69,70,71,72,73,74,75,76,77,78,79,80,82,84,91,92]
[null,null,null,null,null,null,null,null,null,null,null,null,8,"31º",2,3,5,10,11,14,16,17,23,33,34,38,40,45,47,52,53,54,55,56,57,58,59,61,62,63,65,67,68,69,75,76,77,78,79,80,82,84,85,86,87,88,89,90,91,92,93,94,97,98]
[null,null,null,null,null,null,null,null,null,null,null,null,10,"32º",2,3,5,10,11,14,16,17,23,33,34,38,40,42,44,45,46,47,50,51,54,57,59,61,62,63,65,67,68,69,75,76,77,78,79,80,82,84,85,86,87,88,89,90,91,92,93,94,97,98]
[null,null,null,null,null,null,null,null,null,null,null,null,8,"33º",2,3,5,10,11,14,16,17,19,23,24,28,33,34,35,37,38,40,45,47,52,53,54,55,56,57,58,59,61,62,63,65,67,68,69,75,76,77,78,79,80,82,84,90,91,92,93,94,97,98]
[null,null,null,null,null,null,null,null,null,null,null,null,10,"34º",2,3,5,10,11,14,16,17,23,33,34,38,40,42,44,45,46,47,50,51,52,53,54,55,56,57,58,59,61,62,63,65,67,68,69,75,76,77,78,79,80,82,84,90,91,92,93,94,97,98]
[null,null,null,null,null,null,null,null,null,null,null,null,10,"35º",2,3,5,10,11,14,16,17,23,33,34,38,40,42,44,45,46,47,50,51,54,57,59,61,62,63,65,67,68,69,70,71,72,73,74,75,79,80,85,86,87,88,89,90,91,92,93,94,97,98]
[null,null,null,null,null,null,null,null,null,null,null,null,10,"36º",2,3,5,10,11,14,16,17,19,23,24,28,33,34,35,37,38,40,42,44,45,46,47,50,51,52,53,54,55,56,57,58,59,65,67,70,71,72,73,74,75,79,80,90,91,92,93,94,97,98]
[null,null,null,null,null,null,null,null,null,null,null,null,8,"37º",2,3,5,10,11,14,16,17,19,23,24,28,33,34,35,37,38,40,45,47,52,53,54,55,56,57,58,59,61,62,63,65,67,68,69,70,71,72,73,74,75,79,80,90,91,92,93,94,97,98]
[null,null,null,null,null,null,null,null,null,null,null,null,10,"38º",2,3,5,10,11,14,16,17,19,23,24,28,33,34,35,37,38,40,42,44,45,46,47,50,51,54,57,59,61,62,63,65,67,68,69,70,71,72,73,74,75,79,80,90,91,92,93,94,97,98]
[null,null,null,null,null,null,null,null,null,null,null,null,10,"39º",2,3,5,10,11,14,16,17,23,33,34,38,40,42,44,45,46,47,50,51,52,53,54,55,56,57,58,59,61,62,63,65,67,68,69,70,71,72,73,74,75,79,80,90,91,92,93,94,97,98]
[null,null,null,null,null,null,null,null,null,null,null,null,9,"40º",2,3,5,10,11,14,16,17,19,23,24,28,33,34,35,37,38,40,42,44,45,46,47,50,51,54,57,59,61,62,63,65,67,68,69,70,71,72,73,74,75,79,80,85,86,87,88,89,91,92,"____"]
[null,null,null,null,null,null,null,null,null,null,null,null,10,"41º",1,2,3,6,7,8,9,11,14,17,20,21,22,24,25,26,27,37,41,44,51,52,56,58,59,60,61,62,63,64,75,76,78,79,80,82,84,85,86,87,88,90,91,92,93,94,95,97,98,99]
[null,null,null,null,null,null,null,null,null,null,null,null,10,"42º",1,2,3,6,7,8,9,11,14,17,20,21,22,24,25,26,27,37,41,44,51,52,56,58,59,60,61,62,63,64,65,66,67,68,69,75,76,78,79,80,82,84,85,86,87,94,95,97,98,99]
[null,null,null,null,null,null,null,null,null,null,null,null,11,"43º",1,2,3,6,7,8,9,11,14,17,20,21,22,24,25,26,27,37,40,41,44,48,51,52,53,55,56,57,61,62,65,66,67,68,69,75,76,78,79,80,82,84,85,86,87,94,95,97,98,99]
[null,null,null,null,null,null,null,null,null,null,null,null,13,"44º",1,2,3,6,7,8,9,11,14,17,20,21,22,24,25,26,27,28,32,35,37,38,39,40,41,44,48,51,52,53,55,56,57,61,62,70,71,72,73,74,75,76,79,80,82,94,95,97,98,99]
[null,null,null,null,null,null,null,null,null,null,null,null,10,"45º",1,2,3,6,7,8,9,11,14,17,20,21,22,24,25,26,27,37,41,44,51,52,56,58,59,60,61,62,63,64,65,66,67,68,69,70,71,72,73,74,75,76,79,80,82,94,95,97,98,99]
[null,null,null,null,null,null,null,null,null,null,null,null,11,"46º",1,2,3,6,7,8,9,11,14,17,20,21,22,24,25,26,27,37,40,41,44,48,51,52,53,55,56,57,61,62,65,66,67,68,69,70,71,72,73,74,75,76,79,80,82,94,95,97,98,99]
[null,null,null,null,null,null,null,null,null,null,null,null,11,"47º",1,2,3,6,7,8,9,11,14,17,20,21,22,24,25,26,27,28,32,35,37,38,39,40,41,44,48,51,52,53,55,56,57,61,62,70,71,72,73,74,75,76,79,80,82,88,90,91,92,93]
[null,null,null,null,null,null,null,null,null,null,null,null,9,"48º",1,2,3,6,7,8,9,11,14,17,20,21,22,24,25,26,27,37,40,41,44,48,51,52,53,55,56,57,61,62,65,66,67,68,69,70,71,72,73,74,75,76,79,80,82,88,90,91,92,93]
[null,null,null,null,null,null,null,null,null,null,null,null,11,"49º",1,2,3,6,7,8,9,11,14,17,20,21,22,24,25,26,27,28,32,35,37,38,39,40,41,44,48,51,52,53,55,56,57,58,59,60,61,62,63,64,70,71,72,73,74,75,76,79,80,82]
[null,null,null,null,null,null,null,null,null,null,null,null,10,"50º",1,2,3,6,7,8,9,11,14,17,20,21,22,24,25,26,27,28,32,35,37,38,39,41,44,51,52,56,58,59,60,61,62,63,64,65,66,67,68,69,70,71,72,73,74,75,76,79,80,82]
[null,null,null,null,null,null,null,null,null,null,null,null,11,"51º",1,2,3,6,7,8,9,11,14,17,20,21,22,24,25,26,27,28,32,35,37,38,39,40,41,44,48,51,52,53,55,56,57,61,62,65,66,67,68,69,70,71,72,73,74,75,76,79,80,82]
[null,null,null,null,null,null,null,null,null,null,null,null,9,"52º",1,2,3,6,7,8,9,11,14,17,20,21,22,24,25,26,27,37,40,41,44,48,51,52,53,55,56,57,58,59,60,61,62,63,64,65,66,67,68,69,70,71,72,73,74,75,76,79,80,82]
[null,null,null,null,null,null,null,null,null,null,null,null,8,"53º",1,2,3,6,7,8,9,11,14,17,20,26,37,41,44,51,52,56,58,59,60,61,62,63,64,65,66,67,68,69,70,71,72,73,74,75,76,78,79,80,82,84,85,86,87,94,95,97,98,99]
[null,null,null,null,null,null,null,null,null,null,null,null,9,"54º",1,2,3,6,7,8,9,11,14,17,20,26,37,40,41,44,48,51,52,53,55,56,57,61,62,65,66,67,68,69,70,71,72,73,74,75,76,78,79,80,82,84,85,86,87,94,95,97,98,99]
[null,null,null,null,null,null,null,null,null,null,null,null,8,"55º",1,2,3,6,7,8,9,11,14,17,20,26,28,32,35,37,38,39,41,44,51,52,56,58,59,60,61,62,63,64,70,71,72,73,74,75,76,78,79,80,82,84,85,86,87,88,90,91,92,93]
[null,null,null,null,null,null,null,null,null,null,null,null,9,"56º",1,2,3,6,7,8,9,11,14,17,20,26,28,32,35,37,38,39,40,41,44,48,51,52,53,55,56,57,61,62,70,71,72,73,74,75,76,78,79,80,82,84,85,86,87,88,90,91,92,93]
[null,null,null,null,null,null,null,null,null,null,null,null,7,"57º",1,2,3,6,7,8,9,11,14,17,20,26,37,40,41,44,48,51,52,53,55,56,57,58,59,60,61,62,63,64,70,71,72,73,74,75,76,78,79,80,82,84,85,86,87,88,90,91,92,93]
[null,null,null,null,null,null,null,null,null,null,null,null,7,"58º",1,2,3,6,7,8,9,11,14,17,20,26,37,40,41,44,48,51,52,53,55,56,57,61,62,65,66,67,68,69,70,71,72,73,74,75,76,78,79,80,82,84,85,86,87,88,90,91,92,93]
[null,null,null,null,null,null,null,null,null,null,null,null,9,"59º",1,2,3,6,7,8,9,11,14,17,20,26,28,32,35,37,38,39,40,41,44,48,51,52,53,55,56,57,58,59,60,61,62,63,64,70,71,72,73,74,75,76,78,79,80,82,84,85,86,87]
[null,null,null,null,null,null,null,null,null,null,null,null,8,"60º",1,2,3,6,7,8,9,11,14,17,20,26,28,32,35,37,38,39,41,44,51,52,56,58,59,60,61,62,63,64,65,66,67,68,69,70,71,72,73,74,75,76,78,79,80,82,84,85,86,87]
[null,null,null,null,null,null,null,null,null,null,null,null,9,"61º",1,2,3,6,7,8,9,11,14,17,20,26,28,32,35,37,38,39,40,41,44,48,51,52,53,55,56,57,61,62,65,66,67,68,69,70,71,72,73,74,75,76,78,79,80,82,84,85,86,87]
[null,null,null,null,null,null,null,null,null,null,null,null,7,"62º",1,2,3,6,7,8,9,11,14,17,20,26,37,40,41,44,48,51,52,53,55,56,57,58,59,60,61,62,63,64,65,66,67,68,69,70,71,72,73,74,75,76,78,79,80,82,84,85,86,87]
[null,null,null,null,null,null,null,null,null,null,null,null,9,"63º",1,2,3,6,7,8,9,11,14,17,20,26,37,40,41,44,48,51,52,53,55,56,57,58,59,60,61,62,63,64,75,76,78,79,80,82,84,85,86,87,88,90,91,92,93,94,95,97,98,99]
[null,null,null,null,null,null,null,null,null,null,null,null,8,"64º",1,2,3,6,7,8,9,11,14,17,20,26,37,41,44,51,52,56,58,59,60,61,62,63,64,65,66,67,68,69,75,76,78,79,80,82,84,85,86,87,88,90,91,92,93,94,95,97,98,99]
[null,null,null,null,null,null,null,null,null,null,null,null,{"$f":"SUMPRODUCT(COUNTIF($D$3:$W$3,O70:BL70))","v":9},"65º",1,2,3,6,7,8,9,11,14,17,20,26,37,40,41,44,48,51,52,53,55,56,57,61,62,65,66,67,68,69,75,76,78,79,80,82,84,85,86,87,88,90,91,92,93,94,95,97,98,99]
[null,null,null,null,null,null,null,null,null,null,null,null,9,"66º",1,2,3,6,7,8,9,11,14,17,20,26,37,40,41,44,48,51,52,53,55,56,57,58,59,60,61,62,63,64,65,66,67,68,69,75,76,78,79,80,82,84,85,86,87,94,95,97,98,99]
[null,null,null,null,null,null,null,null,null,null,null,null,10,"67º",1,2,7,9,11,14,21,22,24,25,26,27,28,32,35,37,38,39,40,41,44,48,51,52,53,55,56,57,61,62,70,71,72,73,74,75,76,78,79,80,82,84,85,86,87,88,90,91,92,93]
[null,null,null,null,null,null,null,null,null,null,null,null,8,"68º",1,2,7,9,11,14,21,22,24,25,26,27,37,40,41,44,48,51,52,53,55,56,57,61,62,65,66,67,68,69,70,71,72,73,74,75,76,78,79,80,82,84,85,86,87,88,90,91,92,93]
[null,null,null,null,null,null,null,null,null,null,null,null,9,"69º",1,2,7,9,11,14,21,22,24,25,26,27,28,32,35,37,38,39,41,44,51,52,56,58,59,60,61,62,63,64,65,66,67,68,69,70,71,72,73,74,75,76,78,79,80,82,84,85,86,87]
[null,null,null,null,null,null,null,null,null,null,null,null,10,"70º",1,2,7,9,11,14,21,22,24,25,26,27,28,32,35,37,38,39,40,41,44,48,51,52,53,55,56,57,61,62,65,66,67,68,69,70,71,72,73,74,75,76,78,79,80,82,84,85,86,87]
[null,null,null,null,null,null,null,null,null,null,null,null,9,"71º",1,2,7,9,11,14,21,22,24,25,26,27,37,41,44,51,52,56,58,59,60,61,62,63,64,65,66,67,68,69,75,76,78,79,80,82,84,85,86,87,88,90,91,92,93,94,95,97,98,99]
[null,null,null,null,null,null,null,null,null,null,null,null,10,"72º",1,2,7,9,11,14,21,22,24,25,26,27,37,40,41,44,48,51,52,53,55,56,57,61,62,65,66,67,68,69,75,76,78,79,80,82,84,85,86,87,88,90,91,92,93,94,95,97,98,99]
[null,null,null,null,null,null,null,null,null,null,null,null,11,"73º",1,2,7,9,11,14,21,22,24,25,26,27,28,32,35,37,38,39,41,44,51,52,56,58,59,60,61,62,63,64,65,66,67,68,69,75,76,78,79,80,82,84,85,86,87,94,95,97,98,99]
[null,null,null,null,null,null,null,null,null,null,null,null,10,"74º",1,2,7,9,11,14,21,22,24,25,26,27,37,40,41,44,48,51,52,53,55,56,57,58,59,60,61,62,63,64,65,66,67,68,69,75,76,78,79,80,82,84,85,86,87,94,95,97,98,99]
[null,null,null,null,null,null,null,null,null,null,null,null,10,"75º",1,2,7,9,11,14,21,22,24,25,26,27,37,40,41,44,48,51,52,53,55,56,57,61,62,65,66,67,68,69,70,71,72,73,74,75,76,79,80,82,88,90,91,92,93,94,95,97,98,99]
[null,null,null,null,null,null,null,null,null,null,null,null,12,"76º",1,2,7,9,11,14,21,22,24,25,26,27,28,32,35,37,38,39,40,41,44,48,51,52,53,55,56,57,58,59,60,61,62,63,64,70,71,72,73,74,75,76,79,80,82,94,95,97,98,99]
[null,null,null,null,null,null,null,null,null,null,null,null,11,"77º",1,2,7,9,11,14,21,22,24,25,26,27,28,32,35,37,38,39,41,44,51,52,56,58,59,60,61,62,63,64,65,66,67,68,69,70,71,72,73,74,75,76,79,80,82,94,95,97,98,99]
[null,null,null,null,null,null,null,null,null,null,null,null,12,"78º",1,2,7,9,11,14,21,22,24,25,26,27,28,32,35,37,38,39,40,41,44,48,51,52,53,55,56,57,61,62,65,66,67,68,69,70,71,72,73,74,75,76,79,80,82,94,95,97,98,99]
[null,null,null,null,null,null,null,null,null,null,null,null,10,"79º",1,2,7,9,11,14,21,22,24,25,26,27,37,40,41,44,48,51,52,53,55,56,57,58,59,60,61,62,63,64,65,66,67,68,69,70,71,72,73,74,75,76,79,80,82,94,95,97,98,99]
[null,null,null,null,null,null,null,null,null,null,null,null,10,"80º",1,2,7,9,11,14,21,22,24,25,26,27,28,32,35,37,38,39,40,41,44,48,51,52,53,55,56,57,61,62,65,66,67,68,69,70,71,72,73,74,75,76,79,80,82,88,90,91,92,93,"____"]
[null,null,null,null,null,null,null,null,null,null,null,null,10,"81º",3,4,5,6,11,12,13,14,16,17,18,25,34,35,36,37,38,40,44,45,46,47,52,53,54,57,58,59,60,62,64,65,66,67,68,69,70,71,72,73,75,77,78,80,81,82,83,84,86,89]
[null,null,null,null,null,null,null,null,null,null,null,null,7,"82º",1,6,15,25,26,31,32,33,34,35,36,37,39,41,42,43,44,45,46,47,48,50,51,52,54,55,56,57,58,59,60,61,62,63,65,67,68,70,71,72,73,74,83,91,92,93,94,95,96,97]
[null,null,null,null,null,null,null,null,null,null,null,null,8,"83º",1,6,9,10,11,13,14,15,25,26,31,32,33,34,35,36,37,39,41,42,43,44,45,46,47,48,50,51,52,54,55,56,57,58,59,60,61,62,63,65,67,68,70,71,72,73,74,83,94,95]
[null,null,null,null,null,null,null,null,null,null,null,null,9,"84º",1,6,9,10,11,13,14,15,18,24,25,26,27,28,30,31,32,33,34,35,36,37,39,41,42,43,44,45,46,47,48,50,51,52,54,55,56,57,58,59,60,68,70,71,72,73,74,83,94,95]
[null,null,null,null,null,null,null,null,null,null,null,null,10,"85º",1,2,3,4,6,7,8,15,18,24,25,26,27,28,30,31,32,33,34,35,36,37,39,42,43,44,47,50,52,54,55,56,57,58,59,60,68,70,71,72,73,74,76,79,83,85,86,87,94,95]
[null,null,null,null,null,null,null,null,null,null,null,null,9,"86º",1,2,3,4,6,7,8,9,10,11,13,14,15,25,26,31,32,33,34,35,36,37,39,42,43,44,47,50,52,54,55,56,57,58,59,60,61,62,63,65,67,68,70,71,72,73,74,83,94,95]
[null,null,null,null,null,null,null,null,null,null,null,null,10,"87º",1,2,3,4,6,7,8,9,10,11,13,14,15,18,24,25,26,27,28,30,31,32,33,34,35,36,37,39,42,43,44,47,50,52,54,55,56,57,58,59,60,68,70,71,72,73,74,83,94,95]
[null,null,null,null,null,null,null,null,null,null,null,null,10,"88º",1,2,3,4,6,7,8,15,18,24,25,26,27,28,30,31,32,33,34,35,36,37,39,42,43,44,47,50,52,54,55,56,57,58,59,60,72,76,79,83,85,86,87,91,92,93,94,95,96,97]
[null,null,null,null,null,null,null,null,null,null,null,null,10,"89º",1,2,3,4,6,7,8,9,10,11,13,14,15,18,24,25,26,27,28,30,31,32,33,34,35,36,37,39,42,43,44,47,50,52,54,55,56,57,58,59,60,72,83,91,92,93,94,95,96,97]
[null,null,null,null,null,null,null,null,null,null,null,null,10,"90º",1,2,3,4,6,7,8,15,18,24,25,26,27,28,30,31,32,33,34,35,36,37,39,42,43,44,47,50,52,54,55,56,57,58,59,60,61,62,63,65,67,72,76,79,83,85,86,87,94,95]
[null,null,null,null,null,null,null,null,null,null,null,null,10,"91º",1,2,3,4,6,7,8,9,10,11,13,14,15,25,26,31,32,33,34,35,36,37,39,42,43,44,47,50,52,54,55,56,57,58,59,60,61,62,63,65,67,72,76,79,83,85,86,87,94,95]
[null,null,null,null,null,null,null,null,null,null,null,null,11,"92º",1,2,3,4,6,7,8,9,10,11,13,14,15,18,24,25,26,27,28,30,31,32,33,34,35,36,37,39,42,43,44,47,50,52,54,55,56,57,58,59,60,72,76,79,83,85,86,87,94,95]
[null,null,null,null,null,null,null,null,null,null,null,null,10,"93º",1,2,3,4,6,7,8,9,10,11,13,14,15,18,24,25,26,27,28,30,31,32,33,34,35,36,37,39,42,43,44,47,50,52,54,55,56,57,58,59,60,61,62,63,65,67,72,83,94,95]
[null,null,null,null,null,null,null,null,null,null,null,null,9,"94º",1,2,3,4,6,7,8,9,10,11,13,14,15,25,26,31,32,33,34,35,36,37,39,41,42,43,44,45,46,47,48,50,51,55,56,59,61,62,63,65,67,68,70,71,72,73,74,83,94,95]
[null,null,null,null,null,null,null,null,null,null,null,null,10,"95º",1,2,3,4,6,7,8,9,10,11,13,14,15,18,24,25,26,27,28,30,31,32,33,34,35,36,37,39,41,42,43,44,45,46,47,48,50,51,55,56,59,68,70,71,72,73,74,83,94,95]
[null,null,null,null,null,null,null,null,null,null,null,null,9,"96º",1,2,3,4,6,7,8,15,25,26,31,32,33,34,35,36,37,39,41,42,43,44,45,46,47,48,50,51,55,56,59,61,62,63,65,67,72,76,79,83,85,86,87,91,92,93,94,95,96,97]
[null,null,null,null,null,null,null,null,null,null,null,null,10,"97º",1,2,3,4,6,7,8,15,18,24,25,26,27,28,30,31,32,33,34,35,36,37,39,41,42,43,44,45,46,47,48,50,51,55,56,59,72,76,79,83,85,86,87,91,92,93,94,95,96,97]
[null,null,null,null,null,null,null,null,null,null,null,null,9,"98º",1,2,3,4,6,7,8,15,18,24,25,26,27,28,30,31,32,33,34,35,36,37,39,41,42,43,44,45,46,47,48,50,51,55,56,59,61,62,63,65,67,72,83,91,92,93,94,95,96,97]
[null,null,null,null,null,null,null,null,null,null,null,null,10,"99º",1,2,3,4,6,7,8,9,10,11,13,14,15,18,24,25,26,27,28,30,31,32,33,34,35,36,37,39,41,42,43,44,45,46,47,48,50,51,55,56,59,72,83,91,92,93,94,95,96,97]
[null,null,null,null,null,null,null,null,null,null,null,null,10,"100º",1,2,3,4,6,7,8,15,18,24,25,26,27,28,30,31,32,33,34,35,36,37,39,41,42,43,44,45,46,47,48,50,51,55,56,59,61,62,63,65,67,72,76,79,83,85,86,87,94,95]
[null,null,null,null,null,null,null,null,null,null,null,null,10,"101º",1,2,3,4,6,7,8,9,10,11,13,14,15,25,26,31,32,33,34,35,36,37,39,41,42,43,44,45,46,47,48,50,51,55,56,59,61,62,63,65,67,72,76,79,83,85,86,87,94,95]
[null,null,null,null,null,null,null,null,null,null,null,null,11,"102º",1,2,3,4,6,7,8,9,10,11,13,14,15,18,24,25,26,27,28,30,31,32,33,34,35,36,37,39,41,42,43,44,45,46,47,48,50,51,55,56,59,72,76,79,83,85,86,87,94,95]
[null,null,null,null,null,null,null,null,null,null,null,null,10,"103º",1,2,3,4,6,7,8,9,10,11,13,14,15,18,24,25,26,27,28,30,31,32,33,34,35,36,37,39,41,42,43,44,45,46,47,48,50,51,55,56,59,61,62,63,65,67,72,83,94,95]
[null,null,null,null,null,null,null,null,null,null,null,null,8,"104º",1,6,15,18,24,25,26,27,28,30,31,32,33,34,35,36,37,39,41,42,43,44,45,46,47,48,50,51,55,56,59,61,62,63,65,67,68,70,71,72,73,74,83,91,92,93,94,95,96,97]
[null,null,null,null,null,null,null,null,null,null,null,null,8,"105º",1,6,9,10,11,13,14,15,25,26,31,32,33,34,35,36,37,39,41,42,43,44,45,46,47,48,50,51,55,56,59,61,62,63,65,67,68,70,71,72,73,74,83,91,92,93,94,95,96,97]
[null,null,null,null,null,null,null,null,null,null,null,null,9,"106º",1,6,9,10,11,13,14,15,18,24,25,26,27,28,30,31,32,33,34,35,36,37,39,41,42,43,44,45,46,47,48,50,51,55,56,59,68,70,71,72,73,74,83,91,92,93,94,95,96,97]
[null,null,null,null,null,null,null,null,null,null,null,null,9,"107º",1,6,9,10,11,13,14,15,18,24,25,26,27,28,30,31,32,33,34,35,36,37,39,41,42,43,44,45,46,47,48,50,51,55,56,59,61,62,63,65,67,68,70,71,72,73,74,83,94,95]
[null,null,null,null,null,null,null,null,null,null,null,null,9,"108º",1,2,3,4,6,7,8,15,18,24,25,26,27,28,30,34,36,37,41,42,43,44,45,46,47,48,50,51,52,54,55,56,57,58,59,60,72,76,79,83,85,86,87,91,92,93,94,95,96,97]
[null,null,null,null,null,null,null,null,null,null,null,null,9,"109º",1,2,3,4,6,7,8,9,10,11,13,14,15,18,24,25,26,27,28,30,34,36,37,41,42,43,44,45,46,47,48,50,51,52,54,55,56,57,58,59,60,72,83,91,92,93,94,95,96,97]
[null,null,null,null,null,null,null,null,null,null,null,null,9,"110º",1,2,3,4,6,7,8,9,10,11,13,14,15,25,26,34,36,37,41,42,43,44,45,46,47,48,50,51,52,54,55,56,57,58,59,60,61,62,63,65,67,72,76,79,83,85,86,87,94,95]
[null,null,null,null,null,null,null,null,null,null,null,null,10,"111º",1,2,3,4,6,7,8,9,10,11,13,14,15,18,24,25,26,27,28,30,34,36,37,41,42,43,44,45,46,47,48,50,51,52,54,55,56,57,58,59,60,72,76,79,83,85,86,87,94,95]
[null,null,null,null,null,null,null,null,null,null,null,null,7,"112º",1,6,9,10,11,13,14,15,25,26,34,36,37,41,42,43,44,45,46,47,48,50,51,52,54,55,56,57,58,59,60,61,62,63,65,67,68,70,71,72,73,74,83,91,92,93,94,95,96,97]
[null,null,null,null,null,null,null,null,null,null,null,null,8,"113º",1,6,9,10,11,13,14,15,18,24,25,26,27,28,30,34,36,37,41,42,43,44,45,46,47,48,50,51,52,54,55,56,57,58,59,60,68,70,71,72,73,74,83,91,92,93,94,95,96,97]
[null,null,null,null,null,null,null,null,null,null,null,null,8,"114º",1,6,9,10,11,13,14,15,25,26,34,36,37,41,42,43,44,45,46,47,48,50,51,52,54,55,56,57,58,59,60,61,62,63,65,67,68,70,71,72,73,74,76,79,83,85,86,87,94,95]
[null,null,null,null,null,null,null,null,null,null,null,null,8,"115º",1,6,9,10,11,13,14,15,18,24,25,26,27,28,30,34,36,37,41,42,43,44,45,46,47,48,50,51,52,54,55,56,57,58,59,60,61,62,63,65,67,68,70,71,72,73,74,83,94,95]
[null,null,null,null,null,null,null,null,null,null,null,null,9,"116º",1,2,3,4,6,7,8,9,10,11,13,14,15,18,24,25,26,27,28,30,34,36,37,42,43,44,47,50,52,54,55,56,57,58,59,60,68,70,71,72,73,74,83,91,92,93,94,95,96,97]
[null,null,null,null,null,null,null,null,null,null,null,null,9,"117º",1,2,3,4,6,7,8,9,10,11,13,14,15,25,26,34,36,37,42,43,44,47,50,52,54,55,56,57,58,59,60,61,62,63,65,67,68,70,71,72,73,74,76,79,83,85,86,87,94,95]
[null,null,null,null,null,null,null,null,null,null,null,null,10,"118º",1,2,3,4,6,7,8,9,10,11,13,14,15,18,24,25,26,27,28,30,34,36,37,42,43,44,47,50,52,54,55,56,57,58,59,60,68,70,71,72,73,74,76,79,83,85,86,87,94,95]
[null,null,null,null,null,null,null,null,null,null,null,null,9,"119º",1,2,3,4,6,7,8,9,10,11,13,14,15,18,24,25,26,27,28,30,34,36,37,42,43,44,47,50,52,54,55,56,57,58,59,60,61,62,63,65,67,68,70,71,72,73,74,83,94,95]
[null,null,null,null,null,null,null,null,null,null,null,null,10,"120º",1,2,3,4,6,7,8,9,10,11,13,14,15,18,24,25,26,27,28,30,34,36,37,42,43,44,47,50,52,54,55,56,57,58,59,60,72,76,79,83,85,86,87,91,92,93,94,95,96,97]
[null,null,null,null,null,null,null,null,null,null,null,null,50,"121º"]
[null,null,null,null,null,null,null,null,null,null,null,null,50,"122º"]
[null,null,null,null,null,null,null,null,null,null,null,null,50,"123º"]
[null,null,null,null,null,null,null,null,null,null,null,null,50,"124º"]
[null,null,null,null,null,null,null,null,null,null,null,null,50,"125º"]
[null,null,null,null,null,null,null,null,null,null,null,null,50,"126º"]
[null,null,null,null,null,null,null,null,null,null,null,null,50,"127º"]
[null,null,null,null,null,null,null,null,null,null,null,null,9,"128º",1,2,7,8,9,10,11,13,14,15,16,17,18,22,23,24,30,31,32,33,42,45,47,54,59,60,61,62,63,64,67,68,69,70,71,78,79,80,81,86,87,88,89,93,94,95,96,97,99,0]
[null,null,null,null,null,null,null,null,null,null,null,null,{"$f":"SUMPRODUCT(COUNTIF($D$3:$W$3,O134:BL134))","v":11},"129º",3,4,5,6,12,19,20,21,25,26,27,28,29,34,35,36,37,38,39,40,41,43,44,46,48,49,50,51,52,53,55,56,57,58,65,66,72,73,74,75,76,77,82,83,84,85,90,91,92,98]
[null,null,null,null,null,null,null,null,null,null,null,null,50,"130º"]
[null,null,null,null,null,null,null,null,null,null,null,null,50,"131º"]
[null,null,null,null,null,null,null,null,null,null,null,null,50,"132º"]
[null,null,null,null,null,null,null,null,null,null,null,null,50,"133º"]
[null,null,null,null,null,null,null,null,null,null,null,null,50,"134º"]
[null,null,null,null,null,null,null,null,null,null,null,null,50,"135º"]
[null,null,null,null,null,null,null,null,null,null,null,null,50,"136º"]
[null,null,null,null,null,null,null,null,null,null,null,null,50,"137º"]
[null,null,null,null,null,null,null,null,null,null,null,null,50,"138º"]
[null,null,null,null,null,null,null,null,null,null,null,null,50,"139º"]
[null,null,null,null,null,null,null,null,null,null,null,null,50,"140º"]
[null,null,null,null,null,null,null,null,null,null,null,null,50,"141º"]
[null,null,null,null,null,null,null,null,null,null,null,null,50,"142º"]
[null,null,null,null,null,null,null,null,null,null,null,null,50,"143º"]
[null,null,null,null,null,null,null,null,null,null,null,null,50,"144º"]
[null,null,null,null,null,null,null,null,null,null,null,null,50,"145º"]
[null,null,null,null,null,null,null,null,null,null,null,null,50,"146º"]
[null,null,null,null,null,null,null,null,null,null,null,null,50,"147º"]
[null,null,null,null,null,null,null,null,null,null,null,null,50,"148º"]
[null,null,null,null,null,null,null,null,null,null,null,null,50,"149º"]
[null,null,null,null,null,null,null,null,null,null,null,null,{"$f":"SUMPRODUCT(COUNTIF($D$3:$W$3,O155:BL155))","v":50},"150º"]
[null,null,null,null,null,null,null,null,null,null,null,null,50,"151º"]
[null,null,null,null,null,null,null,null,null,null,null,null,50,"152º"]
[null,null,null,null,null,null,null,null,null,null,null,null,50,"153º"]
[null,null,null,null,null,null,null,null,null,null,null,null,{"$f":"SUMPRODUCT(COUNTIF($D$3:$W$3,O159:BL159))","v":50},"154º"]
[null,null,null,null,null,null,null,null,null,null,null,null,{"$f":"SUMPRODUCT(COUNTIF($D$3:$W$3,O160:BL160))","v":50},"155º"]
[null,null,null,null,null,null,null,null,null,null,null,null,{"$f":"SUMPRODUCT(COUNTIF($D$3:$W$3,O161:BL161))","v":50},"156º"]
[null,null,null,null,null,null,null,null,null,null,null,null,50,"157º"]
[null,null,null,null,null,null,null,null,null,null,null,null,50,"158º"]
[null,null,null,null,null,null,null,null,null,null,null,null,50,"159º"]
[null,null,null,null,null,null,null,null,null,null,null,null,{"$f":"SUMPRODUCT(COUNTIF($D$3:$W$3,O165:BL165))","v":50},"160º"]
[null,null,null,null,null,null,null,null,null,null,null,null,null,null,1,2,3,4,5,6,7,8,9,10,11,12,13,14,15,16,17,18,19,20,21,22,23,24,25,26,27,28,29,30,31,32,33,34,35,36,37,38,39,40,41,42,43,44,45,46,47,48,49,50]

{"sheet":"Plan1","index":5,"n_rows":163,"n_cols":52,"rows_kept":163,"cut":false,"hidden":false,"merged":[]}
[]
[]
[]
[null,"1º",1,6,15,25,26,31,32,33,34,35,36,37,39,41,42,43,44,45,46,47,48,50,51,52,54,55,56,57,58,59,60,61,62,63,65,67,68,70,71,72,73,74,83,91,92,93,94,95,96,97]
[null,"2º",1,6,9,10,11,13,14,15,25,26,31,32,33,34,35,36,37,39,41,42,43,44,45,46,47,48,50,51,52,54,55,56,57,58,59,60,61,62,63,65,67,68,70,71,72,73,74,83,94,95]
[null,"3º",1,6,9,10,11,13,14,15,18,24,25,26,27,28,30,31,32,33,34,35,36,37,39,41,42,43,44,45,46,47,48,50,51,52,54,55,56,57,58,59,60,68,70,71,72,73,74,83,94,95]
[null,"4º",1,2,3,4,6,7,8,15,18,24,25,26,27,28,30,31,32,33,34,35,36,37,39,42,43,44,47,50,52,54,55,56,57,58,59,60,68,70,71,72,73,74,76,79,83,85,86,87,94,95]
[null,"5º",1,2,3,4,6,7,8,9,10,11,13,14,15,25,26,31,32,33,34,35,36,37,39,42,43,44,47,50,52,54,55,56,57,58,59,60,61,62,63,65,67,68,70,71,72,73,74,83,94,95]
[null,"6º",1,2,3,4,6,7,8,9,10,11,13,14,15,18,24,25,26,27,28,30,31,32,33,34,35,36,37,39,42,43,44,47,50,52,54,55,56,57,58,59,60,68,70,71,72,73,74,83,94,95]
[null,"7º",1,2,3,4,6,7,8,15,18,24,25,26,27,28,30,31,32,33,34,35,36,37,39,42,43,44,47,50,52,54,55,56,57,58,59,60,72,76,79,83,85,86,87,91,92,93,94,95,96,97]
[null,"8º",1,2,3,4,6,7,8,9,10,11,13,14,15,18,24,25,26,27,28,30,31,32,33,34,35,36,37,39,42,43,44,47,50,52,54,55,56,57,58,59,60,72,83,91,92,93,94,95,96,97]
[null,"9º",1,2,3,4,6,7,8,15,18,24,25,26,27,28,30,31,32,33,34,35,36,37,39,42,43,44,47,50,52,54,55,56,57,58,59,60,61,62,63,65,67,72,76,79,83,85,86,87,94,95]
[null,"10º",1,2,3,4,6,7,8,9,10,11,13,14,15,25,26,31,32,33,34,35,36,37,39,42,43,44,47,50,52,54,55,56,57,58,59,60,61,62,63,65,67,72,76,79,83,85,86,87,94,95]
[null,"11º",1,2,3,4,6,7,8,9,10,11,13,14,15,18,24,25,26,27,28,30,31,32,33,34,35,36,37,39,42,43,44,47,50,52,54,55,56,57,58,59,60,72,76,79,83,85,86,87,94,95]
[null,"12º",1,2,3,4,6,7,8,9,10,11,13,14,15,18,24,25,26,27,28,30,31,32,33,34,35,36,37,39,42,43,44,47,50,52,54,55,56,57,58,59,60,61,62,63,65,67,72,83,94,95]
[null,"13º",1,2,3,4,6,7,8,9,10,11,13,14,15,25,26,31,32,33,34,35,36,37,39,41,42,43,44,45,46,47,48,50,51,55,56,59,61,62,63,65,67,68,70,71,72,73,74,83,94,95]
[null,"14º",1,2,3,4,6,7,8,9,10,11,13,14,15,18,24,25,26,27,28,30,31,32,33,34,35,36,37,39,41,42,43,44,45,46,47,48,50,51,55,56,59,68,70,71,72,73,74,83,94,95]
[null,"15º",1,2,3,4,6,7,8,15,25,26,31,32,33,34,35,36,37,39,41,42,43,44,45,46,47,48,50,51,55,56,59,61,62,63,65,67,72,76,79,83,85,86,87,91,92,93,94,95,96,97]
[null,"16º",1,2,3,4,6,7,8,15,18,24,25,26,27,28,30,31,32,33,34,35,36,37,39,41,42,43,44,45,46,47,48,50,51,55,56,59,72,76,79,83,85,86,87,91,92,93,94,95,96,97]
[null,"17º",1,2,3,4,6,7,8,15,18,24,25,26,27,28,30,31,32,33,34,35,36,37,39,41,42,43,44,45,46,47,48,50,51,55,56,59,61,62,63,65,67,72,83,91,92,93,94,95,96,97]
[null,"18º",1,2,3,4,6,7,8,9,10,11,13,14,15,18,24,25,26,27,28,30,31,32,33,34,35,36,37,39,41,42,43,44,45,46,47,48,50,51,55,56,59,72,83,91,92,93,94,95,96,97]
[null,"19º",1,2,3,4,6,7,8,15,18,24,25,26,27,28,30,31,32,33,34,35,36,37,39,41,42,43,44,45,46,47,48,50,51,55,56,59,61,62,63,65,67,72,76,79,83,85,86,87,94,95]
[null,"20º",1,2,3,4,6,7,8,9,10,11,13,14,15,25,26,31,32,33,34,35,36,37,39,41,42,43,44,45,46,47,48,50,51,55,56,59,61,62,63,65,67,72,76,79,83,85,86,87,94,95]
[null,"21º",1,2,3,4,6,7,8,9,10,11,13,14,15,18,24,25,26,27,28,30,31,32,33,34,35,36,37,39,41,42,43,44,45,46,47,48,50,51,55,56,59,72,76,79,83,85,86,87,94,95]
[null,"22º",1,2,3,4,6,7,8,9,10,11,13,14,15,18,24,25,26,27,28,30,31,32,33,34,35,36,37,39,41,42,43,44,45,46,47,48,50,51,55,56,59,61,62,63,65,67,72,83,94,95]
[null,"23º",1,6,15,18,24,25,26,27,28,30,31,32,33,34,35,36,37,39,41,42,43,44,45,46,47,48,50,51,55,56,59,61,62,63,65,67,68,70,71,72,73,74,83,91,92,93,94,95,96,97]
[null,"24º",1,6,9,10,11,13,14,15,25,26,31,32,33,34,35,36,37,39,41,42,43,44,45,46,47,48,50,51,55,56,59,61,62,63,65,67,68,70,71,72,73,74,83,91,92,93,94,95,96,97]
[null,"25º",1,6,9,10,11,13,14,15,18,24,25,26,27,28,30,31,32,33,34,35,36,37,39,41,42,43,44,45,46,47,48,50,51,55,56,59,68,70,71,72,73,74,83,91,92,93,94,95,96,97]
[null,"26º",1,6,9,10,11,13,14,15,18,24,25,26,27,28,30,31,32,33,34,35,36,37,39,41,42,43,44,45,46,47,48,50,51,55,56,59,61,62,63,65,67,68,70,71,72,73,74,83,94,95]
[null,"27º",1,2,3,4,6,7,8,15,18,24,25,26,27,28,30,34,36,37,41,42,43,44,45,46,47,48,50,51,52,54,55,56,57,58,59,60,72,76,79,83,85,86,87,91,92,93,94,95,96,97]
[null,"28º",1,2,3,4,6,7,8,9,10,11,13,14,15,18,24,25,26,27,28,30,34,36,37,41,42,43,44,45,46,47,48,50,51,52,54,55,56,57,58,59,60,72,83,91,92,93,94,95,96,97]
[null,"29º",1,2,3,4,6,7,8,9,10,11,13,14,15,25,26,34,36,37,41,42,43,44,45,46,47,48,50,51,52,54,55,56,57,58,59,60,61,62,63,65,67,72,76,79,83,85,86,87,94,95]
[null,"30º",1,2,3,4,6,7,8,9,10,11,13,14,15,18,24,25,26,27,28,30,34,36,37,41,42,43,44,45,46,47,48,50,51,52,54,55,56,57,58,59,60,72,76,79,83,85,86,87,94,95]
[null,"31º",1,6,9,10,11,13,14,15,25,26,34,36,37,41,42,43,44,45,46,47,48,50,51,52,54,55,56,57,58,59,60,61,62,63,65,67,68,70,71,72,73,74,83,91,92,93,94,95,96,97]
[null,"32º",1,6,9,10,11,13,14,15,18,24,25,26,27,28,30,34,36,37,41,42,43,44,45,46,47,48,50,51,52,54,55,56,57,58,59,60,68,70,71,72,73,74,83,91,92,93,94,95,96,97]
[null,"33º",1,6,9,10,11,13,14,15,25,26,34,36,37,41,42,43,44,45,46,47,48,50,51,52,54,55,56,57,58,59,60,61,62,63,65,67,68,70,71,72,73,74,76,79,83,85,86,87,94,95]
[null,"34º",1,6,9,10,11,13,14,15,18,24,25,26,27,28,30,34,36,37,41,42,43,44,45,46,47,48,50,51,52,54,55,56,57,58,59,60,61,62,63,65,67,68,70,71,72,73,74,83,94,95]
[null,"35º",1,2,3,4,6,7,8,9,10,11,13,14,15,18,24,25,26,27,28,30,34,36,37,42,43,44,47,50,52,54,55,56,57,58,59,60,68,70,71,72,73,74,83,91,92,93,94,95,96,97]
[null,"36º",1,2,3,4,6,7,8,15,18,24,25,26,27,28,30,34,36,37,42,43,44,47,50,52,54,55,56,57,58,59,60,61,62,63,65,67,68,70,71,72,73,74,76,79,83,85,86,87,94,95]
[null,"37º",1,2,3,4,6,7,8,9,10,11,13,14,15,25,26,34,36,37,42,43,44,47,50,52,54,55,56,57,58,59,60,61,62,63,65,67,68,70,71,72,73,74,76,79,83,85,86,87,94,95]
[null,"38º",1,2,3,4,6,7,8,9,10,11,13,14,15,18,24,25,26,27,28,30,34,36,37,42,43,44,47,50,52,54,55,56,57,58,59,60,68,70,71,72,73,74,76,79,83,85,86,87,94,95]
[null,"39º",1,2,3,4,6,7,8,9,10,11,13,14,15,18,24,25,26,27,28,30,34,36,37,42,43,44,47,50,52,54,55,56,57,58,59,60,61,62,63,65,67,68,70,71,72,73,74,83,94,95]
[null,"40º",1,2,3,4,6,7,8,9,10,11,13,14,15,18,24,25,26,27,28,30,34,36,37,42,43,44,47,50,52,54,55,56,57,58,59,60,72,76,79,83,85,86,87,91,92,93,94,95,96,97]
[null,"41º"]
[null,"42º"]
[null,"43º"]
[null,"44º"]
[null,"45º"]
[null,"46º"]
[null,"47º"]
[null,"48º"]
[null,"49º"]
[null,"50º"]
[null,"51º"]
[null,"52º"]
[null,"53º"]
[null,"54º"]
[null,"55º"]
[null,"56º"]
[null,"57º"]
[null,"58º"]
[null,"59º"]
[null,"60º"]
[null,"61º"]
[null,"62º"]
[null,"63º"]
[null,"64º"]
[null,"65º"]
[null,"66º"]
[null,"67º"]
[null,"68º"]
[null,"69º"]
[null,"70º"]
[null,"71º"]
[null,"72º"]
[null,"73º"]
[null,"74º"]
[null,"75º"]
[null,"76º"]
[null,"77º"]
[null,"78º"]
[null,"79º"]
[null,"80º"]
[null,"81º"]
[null,"82º"]
[null,"83º"]
[null,"84º"]
[null,"85º"]
[null,"86º"]
[null,"87º"]
[null,"88º"]
[null,"89º"]
[null,"90º"]
[null,"91º"]
[null,"92º"]
[null,"93º"]
[null,"94º"]
[null,"95º"]
[null,"96º"]
[null,"97º"]
[null,"98º"]
[null,"99º"]
[null,"100º"]
[null,"101º"]
[null,"102º"]
[null,"103º"]
[null,"104º"]
[null,"105º"]
[null,"106º"]
[null,"107º"]
[null,"108º"]
[null,"109º"]
[null,"110º"]
[null,"111º"]
[null,"112º"]
[null,"113º"]
[null,"114º"]
[null,"115º"]
[null,"116º"]
[null,"117º"]
[null,"118º"]
[null,"119º"]
[null,"120º"]
[null,"121º"]
[null,"122º"]
[null,"123º"]
[null,"124º"]
[null,"125º"]
[null,"126º"]
[null,"127º"]
[null,"128º"]
[null,"129º"]
[null,"130º"]
[null,"131º"]
[null,"132º"]
[null,"133º"]
[null,"134º"]
[null,"135º"]
[null,"136º"]
[null,"137º"]
[null,"138º"]
[null,"139º"]
[null,"140º"]
[null,"141º"]
[null,"142º"]
[null,"143º"]
[null,"144º"]
[null,"145º"]
[null,"146º"]
[null,"147º"]
[null,"148º"]
[null,"149º"]
[null,"150º"]
[null,"151º"]
[null,"152º"]
[null,"153º"]
[null,"154º"]
[null,"155º"]
[null,"156º"]
[null,"157º"]
[null,"158º"]
[null,"159º"]
[null,"160º"]